{"text_format":"1","workbook":"xlsx","n_sheets":4,"sheets":["BD","CONSULTA","SOLICITUDES","LISTAS"],"not_rendered":{"charts":0,"images":2,"macros":1,"external_links":0,"defined_names":2,"comments":0,"pivot_tables":0},"unopened":[],"bounds":{"document_bytes":16777216,"sheet_cells":100000,"rows_first":2000,"rows_last":500,"rows_between":2000,"halvings":0,"cell_chars":16384,"cell_head_chars":4096},"cells_cut":0,"cells_raw":0,"read":"whole","date_system":"1900"}

{"sheet":"BD","index":0,"n_rows":22720,"n_cols":18,"rows_kept":4500,"cut":true,"hidden":false,"merged":[[0,16,0,17],[0,14,0,15],[0,7,1,7],[0,9,1,9],[0,10,1,10],[0,11,1,11],[0,12,0,13],[0,8,1,8],[0,6,1,6],[0,0,1,0],[0,1,1,1],[0,2,1,2],[0,3,1,3],[0,4,1,4],[0,5,1,5]],"bounds":{"rows_first":2000,"rows_last":500,"rows_between":2000,"halvings":0}}
["CODIGO_GIS","CODIGO_SSPD","CÓDIGO","POTENCIA \nNOMINAL\n[kVA]","TENSIÓN \nPRIMARIA\n[V]","TENSIÓN \nSECUNDARIA\n[V]","LONGITUD","LATITUD","CAPACIDAD \nMAXIMA A CONECTAR \n50% POTENCIA NOMINAL\n[KVA]","VALOR DE \nCAPACIDAD \nDISPONIBLE\n(CD)\n[KW]","50 % DEL PROMEDIO ANUAL DE LAS HORAS DE MÍNIMA DEMANDA DIARIA DE ENERGÍA REGISTRADAS PARA EL AÑO ANTERIOR AL DE SOLICITUD DE CONEXIÓN\n(50%PAHMD24H)\n[kWh]","50% DEL PROMEDIO ANUAL DE LAS HORAS DE MÍNIMA DEMANDA DIARIA DE ENERGÍA REGISTRADAS PARA EL AÑO ANTERIOR AL DE SOLICITUD DE CONEXIÓN EN LA FRANJA HORARIA COMPRENDIDA ENTRE 6 A.M. Y 6 P.M.\n(50%PAHMD12H)\n[kWh]","SUMATORIA DE LA POTENCIA MÁXIMA DECLARADA DE LOS GD Y AGPE INSTALADOS EN EL MISMO CIRCUITO O TRANSFORMADOR, DE AUTOGENERACIÓN\n(SPMAXD)\n [kW]",null,"LA CANTIDAD TOTAL DE ENERGÍA EN UNA HORA QUE PUEDEN ENTREGAR TODOS LOS GD Y AGPE A LA RED, CONECTADOS AL MISMO CIRCUITO O TRANSFORMADOR DEL NIVEL DE TENSIÓN 1, CUYO SISTEMA DE PRODUCCIÓN DE ENERGÍA SEA DISTINTO AL COMPUESTO POR UN SISTEMA FOTOVOLTAICO SIN CAPACIDAD DE ALMACENAMIENTO\n(E24H)\n[kWh]",null,"LA CANTIDAD TOTAL DE ENERGÍA EN UNA HORA QUE PUEDEN ENTREGAR TODOS LOS GD Y AGPE A LA RED, CONECTADOS AL  MISMO CIRCUITO O TRANSFORMADOR DEL NIVEL DE TENSIÓN 1, CUYO SISTEMA DE  PRODUCCIÓN DE ENERGÍA SEA EL COMPUESTO POR UN SISTEMA  FOTOVOLTAICO SIN CAPACIDAD DE  ALMACENAMIENTO\n(E12H)\n[kWh]"]
[null,null,null,null,null,null,null,null,null,null,null,null,"VALOR  [kW]","PORCENTAJE","VALOR  [kWh]","PORCENTAJE","VALOR  [kWh]","PORCENTAJE"]
[123,1234,"65031265",75,13200,208,-76.591796728899823,2.5026709571296104,{"$f":"D3*0.5","v":37.5},{"$f":"D3*0.5-M3","v":37.5},{"$f":"0.2*D3","v":15},{"$f":"0.2*D3","v":15},{"$f":"SUMIF(SOLICITUDES!$C$2:$C$1048576,BD!C3,SOLICITUDES!$I$2:$I$1048576)","v":0},{"$f":"M3/D3","v":0},{"$f":"SUMIF(SOLICITUDES!$C$2:$C$1048576,BD!C3,SOLICITUDES!$J$2:$J$1048576)","v":0},{"$f":"O3/(2*K3)","v":0},{"$f":"SUMIF(SOLICITUDES!$C$2:$C$1048576,BD!C3,SOLICITUDES!$K$2:$K$1048576)","v":0},{"$f":"Q3/(2*L3)","v":0}]
[null,null,"TBORRAR",150,13200,208,-76.591797061117717,2.5025885782153252,{"$f":"D4*0.5","v":75},{"$f":"D4*0.5-M4","v":75},{"$f":"0.2*D4","v":30},{"$f":"0.2*D4","v":30},{"$f":"SUMIF(SOLICITUDES!$C$2:$C$1048576,BD!C4,SOLICITUDES!$I$2:$I$1048576)","v":0},0,{"$f":"SUMIF(SOLICITUDES!$C$2:$C$1048576,BD!C4,SOLICITUDES!$J$2:$J$1048576)","v":0},{"$f":"O4/(2*K4)","v":0},{"$f":"SUMIF(SOLICITUDES!$C$2:$C$1048576,BD!C4,SOLICITUDES!$K$2:$K$1048576)","v":0},{"$f":"Q4/(2*L4)","v":0}]
[null,null,"ALPM0001",75,13200,208,-76.591797832864927,2.5025127644466036,37.5,37.5,15,15,{"$f":"SUMIF(SOLICITUDES!$C$2:$C$1048576,BD!C5,SOLICITUDES!$I$2:$I$1048576)","v":0},0,{"$f":"SUMIF(SOLICITUDES!$C$2:$C$1048576,BD!C5,SOLICITUDES!$J$2:$J$1048576)","v":0},0,{"$f":"SUMIF(SOLICITUDES!$C$2:$C$1048576,BD!C5,SOLICITUDES!$K$2:$K$1048576)","v":0},0]
[null,null,"T1000",112.5,13200,208,-76.591798561954278,2.5024537628550898,56.25,56.25,22.5,22.5,{"$f":"SUMIF(SOLICITUDES!$C$2:$C$1048576,BD!C6,SOLICITUDES!$I$2:$I$1048576)","v":0},0,{"$f":"SUMIF(SOLICITUDES!$C$2:$C$1048576,BD!C6,SOLICITUDES!$J$2:$J$1048576)","v":0},0,{"$f":"SUMIF(SOLICITUDES!$C$2:$C$1048576,BD!C6,SOLICITUDES!$K$2:$K$1048576)","v":0},0]
[null,null,"T30625",75,115000,115,-76.594265047055842,2.4999026901699621,37.5,37.5,15,15,{"$f":"SUMIF(SOLICITUDES!$C$2:$C$1048576,BD!C7,SOLICITUDES!$I$2:$I$1048576)","v":0},0,{"$f":"SUMIF(SOLICITUDES!$C$2:$C$1048576,BD!C7,SOLICITUDES!$J$2:$J$1048576)","v":0},0,{"$f":"SUMIF(SOLICITUDES!$C$2:$C$1048576,BD!C7,SOLICITUDES!$K$2:$K$1048576)","v":0},0]
[null,null,"T17010",10,13200,240,-76.614103950451408,2.4933941969331959,5,5,2,2,{"$f":"SUMIF(SOLICITUDES!$C$2:$C$1048576,BD!C8,SOLICITUDES!$I$2:$I$1048576)","v":0},0,{"$f":"SUMIF(SOLICITUDES!$C$2:$C$1048576,BD!C8,SOLICITUDES!$J$2:$J$1048576)","v":0},0,{"$f":"SUMIF(SOLICITUDES!$C$2:$C$1048576,BD!C8,SOLICITUDES!$K$2:$K$1048576)","v":0},0]
[null,null,"T42048",0.5,13200,240,-76.616027351471445,2.5005776701890805,0.25,0.25,0.1,0.1,{"$f":"SUMIF(SOLICITUDES!$C$2:$C$1048576,BD!C9,SOLICITUDES!$I$2:$I$1048576)","v":0},0,{"$f":"SUMIF(SOLICITUDES!$C$2:$C$1048576,BD!C9,SOLICITUDES!$J$2:$J$1048576)","v":0},0,{"$f":"SUMIF(SOLICITUDES!$C$2:$C$1048576,BD!C9,SOLICITUDES!$K$2:$K$1048576)","v":0},0]
[null,null,"T30628",15,13200,240,-76.648571273470438,2.5189646789163582,7.5,7.5,3,3,{"$f":"SUMIF(SOLICITUDES!$C$2:$C$1048576,BD!C10,SOLICITUDES!$I$2:$I$1048576)","v":0},0,{"$f":"SUMIF(SOLICITUDES!$C$2:$C$1048576,BD!C10,SOLICITUDES!$J$2:$J$1048576)","v":0},0,{"$f":"SUMIF(SOLICITUDES!$C$2:$C$1048576,BD!C10,SOLICITUDES!$K$2:$K$1048576)","v":0},0]
[null,null,"T2979",15,13200,208,-76.659534648962165,2.5126200803828862,7.5,7.5,3,3,{"$f":"SUMIF(SOLICITUDES!$C$2:$C$1048576,BD!C11,SOLICITUDES!$I$2:$I$1048576)","v":0},0,{"$f":"SUMIF(SOLICITUDES!$C$2:$C$1048576,BD!C11,SOLICITUDES!$J$2:$J$1048576)","v":0},0,{"$f":"SUMIF(SOLICITUDES!$C$2:$C$1048576,BD!C11,SOLICITUDES!$K$2:$K$1048576)","v":0},0]
[null,null,"T2553",25,13200,240,-76.658831219823426,2.5191490920049433,12.5,12.5,5,5,{"$f":"SUMIF(SOLICITUDES!$C$2:$C$1048576,BD!C12,SOLICITUDES!$I$2:$I$1048576)","v":0},0,{"$f":"SUMIF(SOLICITUDES!$C$2:$C$1048576,BD!C12,SOLICITUDES!$J$2:$J$1048576)","v":0},0,{"$f":"SUMIF(SOLICITUDES!$C$2:$C$1048576,BD!C12,SOLICITUDES!$K$2:$K$1048576)","v":0},0]
[null,null,"T1873",37.5,13200,240,-76.588033294242649,2.4920035871425887,18.75,18.75,7.5,7.5,{"$f":"SUMIF(SOLICITUDES!$C$2:$C$1048576,BD!C13,SOLICITUDES!$I$2:$I$1048576)","v":0},0,{"$f":"SUMIF(SOLICITUDES!$C$2:$C$1048576,BD!C13,SOLICITUDES!$J$2:$J$1048576)","v":0},0,{"$f":"SUMIF(SOLICITUDES!$C$2:$C$1048576,BD!C13,SOLICITUDES!$K$2:$K$1048576)","v":0},0]
[null,null,"T25088",15,13200,240,-76.587395517508597,2.4918742852564608,7.5,7.5,3,3,{"$f":"SUMIF(SOLICITUDES!$C$2:$C$1048576,BD!C14,SOLICITUDES!$I$2:$I$1048576)","v":0},0,{"$f":"SUMIF(SOLICITUDES!$C$2:$C$1048576,BD!C14,SOLICITUDES!$J$2:$J$1048576)","v":0},0,{"$f":"SUMIF(SOLICITUDES!$C$2:$C$1048576,BD!C14,SOLICITUDES!$K$2:$K$1048576)","v":0},0]
[null,null,"T1872",25,13200,240,-76.586235340548214,2.4911980669528,12.5,12.5,5,5,{"$f":"SUMIF(SOLICITUDES!$C$2:$C$1048576,BD!C15,SOLICITUDES!$I$2:$I$1048576)","v":0},0,{"$f":"SUMIF(SOLICITUDES!$C$2:$C$1048576,BD!C15,SOLICITUDES!$J$2:$J$1048576)","v":0},0,{"$f":"SUMIF(SOLICITUDES!$C$2:$C$1048576,BD!C15,SOLICITUDES!$K$2:$K$1048576)","v":0},0]
[null,null,"T1877",75,13200,208,-76.585012615969234,2.4909715285725,37.5,37.5,15,15,{"$f":"SUMIF(SOLICITUDES!$C$2:$C$1048576,BD!C16,SOLICITUDES!$I$2:$I$1048576)","v":0},0,{"$f":"SUMIF(SOLICITUDES!$C$2:$C$1048576,BD!C16,SOLICITUDES!$J$2:$J$1048576)","v":0},0,{"$f":"SUMIF(SOLICITUDES!$C$2:$C$1048576,BD!C16,SOLICITUDES!$K$2:$K$1048576)","v":0},0]
[null,null,"T1874",25,13200,240,-76.591970854648324,2.4936599702572919,12.5,12.5,5,5,{"$f":"SUMIF(SOLICITUDES!$C$2:$C$1048576,BD!C17,SOLICITUDES!$I$2:$I$1048576)","v":0},0,{"$f":"SUMIF(SOLICITUDES!$C$2:$C$1048576,BD!C17,SOLICITUDES!$J$2:$J$1048576)","v":0},0,{"$f":"SUMIF(SOLICITUDES!$C$2:$C$1048576,BD!C17,SOLICITUDES!$K$2:$K$1048576)","v":0},0]
[null,null,"T42787",0.5,13200,240,-76.584639864082519,2.4909796122495989,0.25,0.25,0.1,0.1,{"$f":"SUMIF(SOLICITUDES!$C$2:$C$1048576,BD!C18,SOLICITUDES!$I$2:$I$1048576)","v":0},0,{"$f":"SUMIF(SOLICITUDES!$C$2:$C$1048576,BD!C18,SOLICITUDES!$J$2:$J$1048576)","v":0},0,{"$f":"SUMIF(SOLICITUDES!$C$2:$C$1048576,BD!C18,SOLICITUDES!$K$2:$K$1048576)","v":0},0]
[null,null,"T3014",25,13200,240,-76.584190783885546,2.4913510363117659,12.5,12.5,5,5,{"$f":"SUMIF(SOLICITUDES!$C$2:$C$1048576,BD!C19,SOLICITUDES!$I$2:$I$1048576)","v":0},0,{"$f":"SUMIF(SOLICITUDES!$C$2:$C$1048576,BD!C19,SOLICITUDES!$J$2:$J$1048576)","v":0},0,{"$f":"SUMIF(SOLICITUDES!$C$2:$C$1048576,BD!C19,SOLICITUDES!$K$2:$K$1048576)","v":0},0]
[null,null,"T29425",45,13200,214,-76.58330593305223,2.4903271587670801,22.5,22.5,9,9,{"$f":"SUMIF(SOLICITUDES!$C$2:$C$1048576,BD!C20,SOLICITUDES!$I$2:$I$1048576)","v":0},0,{"$f":"SUMIF(SOLICITUDES!$C$2:$C$1048576,BD!C20,SOLICITUDES!$J$2:$J$1048576)","v":0},0,{"$f":"SUMIF(SOLICITUDES!$C$2:$C$1048576,BD!C20,SOLICITUDES!$K$2:$K$1048576)","v":0},0]
[null,null,"T40145",30,13200,240,-76.594467512315745,2.4948904371562581,15,15,6,6,{"$f":"SUMIF(SOLICITUDES!$C$2:$C$1048576,BD!C21,SOLICITUDES!$I$2:$I$1048576)","v":0},0,{"$f":"SUMIF(SOLICITUDES!$C$2:$C$1048576,BD!C21,SOLICITUDES!$J$2:$J$1048576)","v":0},0,{"$f":"SUMIF(SOLICITUDES!$C$2:$C$1048576,BD!C21,SOLICITUDES!$K$2:$K$1048576)","v":0},0]
[null,null,"T1875",75,13200,208,-76.585372512275441,2.490311511300904,37.5,37.5,15,15,{"$f":"SUMIF(SOLICITUDES!$C$2:$C$1048576,BD!C22,SOLICITUDES!$I$2:$I$1048576)","v":0},0,{"$f":"SUMIF(SOLICITUDES!$C$2:$C$1048576,BD!C22,SOLICITUDES!$J$2:$J$1048576)","v":0},0,{"$f":"SUMIF(SOLICITUDES!$C$2:$C$1048576,BD!C22,SOLICITUDES!$K$2:$K$1048576)","v":0},0]
[null,null,"T1871",75,13200,208,-76.584320475504413,2.4904738873473624,37.5,37.5,15,15,{"$f":"SUMIF(SOLICITUDES!$C$2:$C$1048576,BD!C23,SOLICITUDES!$I$2:$I$1048576)","v":0},0,{"$f":"SUMIF(SOLICITUDES!$C$2:$C$1048576,BD!C23,SOLICITUDES!$J$2:$J$1048576)","v":0},0,{"$f":"SUMIF(SOLICITUDES!$C$2:$C$1048576,BD!C23,SOLICITUDES!$K$2:$K$1048576)","v":0},0]
[null,null,"T1870",10,13200,240,-76.584823039944467,2.4930061678528754,5,5,2,2,{"$f":"SUMIF(SOLICITUDES!$C$2:$C$1048576,BD!C24,SOLICITUDES!$I$2:$I$1048576)","v":0},0,{"$f":"SUMIF(SOLICITUDES!$C$2:$C$1048576,BD!C24,SOLICITUDES!$J$2:$J$1048576)","v":0},0,{"$f":"SUMIF(SOLICITUDES!$C$2:$C$1048576,BD!C24,SOLICITUDES!$K$2:$K$1048576)","v":0},0]
[null,null,"T4355",112.5,13200,220,-76.58426665576458,2.4901392641257649,56.25,56.25,22.5,22.5,{"$f":"SUMIF(SOLICITUDES!$C$2:$C$1048576,BD!C25,SOLICITUDES!$I$2:$I$1048576)","v":0},{"$f":"M25/D25","v":0},{"$f":"SUMIF(SOLICITUDES!$C$2:$C$1048576,BD!C25,SOLICITUDES!$J$2:$J$1048576)","v":0},0,{"$f":"SUMIF(SOLICITUDES!$C$2:$C$1048576,BD!C25,SOLICITUDES!$K$2:$K$1048576)","v":0},0]
[null,null,"T40131",150,13200,214,-76.582405550445799,2.4904825674706998,75,75,30,30,{"$f":"SUMIF(SOLICITUDES!$C$2:$C$1048576,BD!C26,SOLICITUDES!$I$2:$I$1048576)","v":0},0,{"$f":"SUMIF(SOLICITUDES!$C$2:$C$1048576,BD!C26,SOLICITUDES!$J$2:$J$1048576)","v":0},0,{"$f":"SUMIF(SOLICITUDES!$C$2:$C$1048576,BD!C26,SOLICITUDES!$K$2:$K$1048576)","v":0},0]
[null,null,"T3092",10,13200,240,-76.582638534809391,2.4920105868111073,5,5,2,2,{"$f":"SUMIF(SOLICITUDES!$C$2:$C$1048576,BD!C27,SOLICITUDES!$I$2:$I$1048576)","v":0},0,{"$f":"SUMIF(SOLICITUDES!$C$2:$C$1048576,BD!C27,SOLICITUDES!$J$2:$J$1048576)","v":0},0,{"$f":"SUMIF(SOLICITUDES!$C$2:$C$1048576,BD!C27,SOLICITUDES!$K$2:$K$1048576)","v":0},0]
[null,null,"T1876",45,13200,208,-76.585741500174791,2.4893892439350385,22.5,22.5,9,9,{"$f":"SUMIF(SOLICITUDES!$C$2:$C$1048576,BD!C28,SOLICITUDES!$I$2:$I$1048576)","v":0},0,{"$f":"SUMIF(SOLICITUDES!$C$2:$C$1048576,BD!C28,SOLICITUDES!$J$2:$J$1048576)","v":0},0,{"$f":"SUMIF(SOLICITUDES!$C$2:$C$1048576,BD!C28,SOLICITUDES!$K$2:$K$1048576)","v":0},0]
[null,null,"T27971",10,13200,240,-76.58055226907284,2.4927965517062107,5,5,2,2,{"$f":"SUMIF(SOLICITUDES!$C$2:$C$1048576,BD!C29,SOLICITUDES!$I$2:$I$1048576)","v":0},0,{"$f":"SUMIF(SOLICITUDES!$C$2:$C$1048576,BD!C29,SOLICITUDES!$J$2:$J$1048576)","v":0},0,{"$f":"SUMIF(SOLICITUDES!$C$2:$C$1048576,BD!C29,SOLICITUDES!$K$2:$K$1048576)","v":0},0]
[null,null,"T16702",75,13200,214,-76.580652333175919,2.489730945775364,37.5,37.5,15,15,{"$f":"SUMIF(SOLICITUDES!$C$2:$C$1048576,BD!C30,SOLICITUDES!$I$2:$I$1048576)","v":0},0,{"$f":"SUMIF(SOLICITUDES!$C$2:$C$1048576,BD!C30,SOLICITUDES!$J$2:$J$1048576)","v":0},0,{"$f":"SUMIF(SOLICITUDES!$C$2:$C$1048576,BD!C30,SOLICITUDES!$K$2:$K$1048576)","v":0},0]
[null,null,"T29491",30,13200,214,-76.581812701289891,2.4927983849022648,15,15,6,6,{"$f":"SUMIF(SOLICITUDES!$C$2:$C$1048576,BD!C31,SOLICITUDES!$I$2:$I$1048576)","v":0},0,{"$f":"SUMIF(SOLICITUDES!$C$2:$C$1048576,BD!C31,SOLICITUDES!$J$2:$J$1048576)","v":0},0,{"$f":"SUMIF(SOLICITUDES!$C$2:$C$1048576,BD!C31,SOLICITUDES!$K$2:$K$1048576)","v":0},0]
[null,null,"T1985",75,13200,208,-76.58131765621944,2.4898035510679897,37.5,37.5,15,15,{"$f":"SUMIF(SOLICITUDES!$C$2:$C$1048576,BD!C32,SOLICITUDES!$I$2:$I$1048576)","v":0},0,{"$f":"SUMIF(SOLICITUDES!$C$2:$C$1048576,BD!C32,SOLICITUDES!$J$2:$J$1048576)","v":0},0,{"$f":"SUMIF(SOLICITUDES!$C$2:$C$1048576,BD!C32,SOLICITUDES!$K$2:$K$1048576)","v":0},0]
[null,null,"T30634",112.5,13200,240,-76.575376802677042,2.4885105702159263,56.25,56.25,22.5,22.5,{"$f":"SUMIF(SOLICITUDES!$C$2:$C$1048576,BD!C33,SOLICITUDES!$I$2:$I$1048576)","v":0},0,{"$f":"SUMIF(SOLICITUDES!$C$2:$C$1048576,BD!C33,SOLICITUDES!$J$2:$J$1048576)","v":0},0,{"$f":"SUMIF(SOLICITUDES!$C$2:$C$1048576,BD!C33,SOLICITUDES!$K$2:$K$1048576)","v":0},0]
[null,null,"T1979",75,13200,208,-76.574862551463369,2.4882275587560074,37.5,37.5,15,15,{"$f":"SUMIF(SOLICITUDES!$C$2:$C$1048576,BD!C34,SOLICITUDES!$I$2:$I$1048576)","v":0},0,{"$f":"SUMIF(SOLICITUDES!$C$2:$C$1048576,BD!C34,SOLICITUDES!$J$2:$J$1048576)","v":0},0,{"$f":"SUMIF(SOLICITUDES!$C$2:$C$1048576,BD!C34,SOLICITUDES!$K$2:$K$1048576)","v":0},0]
[null,null,"T1962",75,13200,208,-76.575528249992985,2.487305413143448,37.5,37.5,15,15,{"$f":"SUMIF(SOLICITUDES!$C$2:$C$1048576,BD!C35,SOLICITUDES!$I$2:$I$1048576)","v":0},0,{"$f":"SUMIF(SOLICITUDES!$C$2:$C$1048576,BD!C35,SOLICITUDES!$J$2:$J$1048576)","v":0},0,{"$f":"SUMIF(SOLICITUDES!$C$2:$C$1048576,BD!C35,SOLICITUDES!$K$2:$K$1048576)","v":0},0]
[null,null,"T1947",75,13200,208,-76.576705758960699,2.4882011437243654,37.5,37.5,15,15,{"$f":"SUMIF(SOLICITUDES!$C$2:$C$1048576,BD!C36,SOLICITUDES!$I$2:$I$1048576)","v":0},0,{"$f":"SUMIF(SOLICITUDES!$C$2:$C$1048576,BD!C36,SOLICITUDES!$J$2:$J$1048576)","v":0},0,{"$f":"SUMIF(SOLICITUDES!$C$2:$C$1048576,BD!C36,SOLICITUDES!$K$2:$K$1048576)","v":0},0]
[null,null,"T3015",25,13200,240,-76.585468112565565,2.4991467336540016,12.5,12.5,5,5,{"$f":"SUMIF(SOLICITUDES!$C$2:$C$1048576,BD!C37,SOLICITUDES!$I$2:$I$1048576)","v":0},0,{"$f":"SUMIF(SOLICITUDES!$C$2:$C$1048576,BD!C37,SOLICITUDES!$J$2:$J$1048576)","v":0},0,{"$f":"SUMIF(SOLICITUDES!$C$2:$C$1048576,BD!C37,SOLICITUDES!$K$2:$K$1048576)","v":0},0]
[null,null,"T42838",25,13200,214,-76.575299045222309,2.4981286789945791,12.5,12.5,5,5,{"$f":"SUMIF(SOLICITUDES!$C$2:$C$1048576,BD!C38,SOLICITUDES!$I$2:$I$1048576)","v":0},0,{"$f":"SUMIF(SOLICITUDES!$C$2:$C$1048576,BD!C38,SOLICITUDES!$J$2:$J$1048576)","v":0},0,{"$f":"SUMIF(SOLICITUDES!$C$2:$C$1048576,BD!C38,SOLICITUDES!$K$2:$K$1048576)","v":0},0]
[null,null,"T1944",112.5,13200,208,-76.573945020020517,2.489339518025325,56.25,56.25,22.5,22.5,{"$f":"SUMIF(SOLICITUDES!$C$2:$C$1048576,BD!C39,SOLICITUDES!$I$2:$I$1048576)","v":0},0,{"$f":"SUMIF(SOLICITUDES!$C$2:$C$1048576,BD!C39,SOLICITUDES!$J$2:$J$1048576)","v":0},0,{"$f":"SUMIF(SOLICITUDES!$C$2:$C$1048576,BD!C39,SOLICITUDES!$K$2:$K$1048576)","v":0},0]
[null,null,"T1999",45,13200,208,-76.575708065166864,2.4873416614956847,22.5,22.5,9,9,{"$f":"SUMIF(SOLICITUDES!$C$2:$C$1048576,BD!C40,SOLICITUDES!$I$2:$I$1048576)","v":0},0,{"$f":"SUMIF(SOLICITUDES!$C$2:$C$1048576,BD!C40,SOLICITUDES!$J$2:$J$1048576)","v":0},0,{"$f":"SUMIF(SOLICITUDES!$C$2:$C$1048576,BD!C40,SOLICITUDES!$K$2:$K$1048576)","v":0},0]
[null,null,"T2000",50,13200,240,-76.57714517766783,2.49124885956804,25,25,10,10,{"$f":"SUMIF(SOLICITUDES!$C$2:$C$1048576,BD!C41,SOLICITUDES!$I$2:$I$1048576)","v":0},0,{"$f":"SUMIF(SOLICITUDES!$C$2:$C$1048576,BD!C41,SOLICITUDES!$J$2:$J$1048576)","v":0},0,{"$f":"SUMIF(SOLICITUDES!$C$2:$C$1048576,BD!C41,SOLICITUDES!$K$2:$K$1048576)","v":0},0]
[null,null,"T1992",50,13200,240,-76.572830277956939,2.4888959677150257,25,25,10,10,{"$f":"SUMIF(SOLICITUDES!$C$2:$C$1048576,BD!C42,SOLICITUDES!$I$2:$I$1048576)","v":0},0,{"$f":"SUMIF(SOLICITUDES!$C$2:$C$1048576,BD!C42,SOLICITUDES!$J$2:$J$1048576)","v":0},0,{"$f":"SUMIF(SOLICITUDES!$C$2:$C$1048576,BD!C42,SOLICITUDES!$K$2:$K$1048576)","v":0},0]
[null,null,"T1974",75,13200,208,-76.577479012456124,2.4881924003658633,37.5,37.5,15,15,{"$f":"SUMIF(SOLICITUDES!$C$2:$C$1048576,BD!C43,SOLICITUDES!$I$2:$I$1048576)","v":0},0,{"$f":"SUMIF(SOLICITUDES!$C$2:$C$1048576,BD!C43,SOLICITUDES!$J$2:$J$1048576)","v":0},0,{"$f":"SUMIF(SOLICITUDES!$C$2:$C$1048576,BD!C43,SOLICITUDES!$K$2:$K$1048576)","v":0},0]
[null,null,"T1966",75,13200,208,-76.573657606925806,2.4885436086404695,37.5,37.5,15,15,{"$f":"SUMIF(SOLICITUDES!$C$2:$C$1048576,BD!C44,SOLICITUDES!$I$2:$I$1048576)","v":0},0,{"$f":"SUMIF(SOLICITUDES!$C$2:$C$1048576,BD!C44,SOLICITUDES!$J$2:$J$1048576)","v":0},0,{"$f":"SUMIF(SOLICITUDES!$C$2:$C$1048576,BD!C44,SOLICITUDES!$K$2:$K$1048576)","v":0},0]
[null,null,"T1984",75,13200,208,-76.576227908318344,2.4916644907969498,37.5,37.5,15,15,{"$f":"SUMIF(SOLICITUDES!$C$2:$C$1048576,BD!C45,SOLICITUDES!$I$2:$I$1048576)","v":0},0,{"$f":"SUMIF(SOLICITUDES!$C$2:$C$1048576,BD!C45,SOLICITUDES!$J$2:$J$1048576)","v":0},0,{"$f":"SUMIF(SOLICITUDES!$C$2:$C$1048576,BD!C45,SOLICITUDES!$K$2:$K$1048576)","v":0},0]
[null,null,"T3081",15,13200,208,-76.587904584309769,2.4995907746092296,7.5,7.5,3,3,{"$f":"SUMIF(SOLICITUDES!$C$2:$C$1048576,BD!C46,SOLICITUDES!$I$2:$I$1048576)","v":0},0,{"$f":"SUMIF(SOLICITUDES!$C$2:$C$1048576,BD!C46,SOLICITUDES!$J$2:$J$1048576)","v":0},0,{"$f":"SUMIF(SOLICITUDES!$C$2:$C$1048576,BD!C46,SOLICITUDES!$K$2:$K$1048576)","v":0},0]
[null,null,"T1989",112.5,13200,208,-76.575240544437222,2.4872781751954904,56.25,56.25,22.5,22.5,{"$f":"SUMIF(SOLICITUDES!$C$2:$C$1048576,BD!C47,SOLICITUDES!$I$2:$I$1048576)","v":0},0,{"$f":"SUMIF(SOLICITUDES!$C$2:$C$1048576,BD!C47,SOLICITUDES!$J$2:$J$1048576)","v":0},0,{"$f":"SUMIF(SOLICITUDES!$C$2:$C$1048576,BD!C47,SOLICITUDES!$K$2:$K$1048576)","v":0},0]
[null,null,"T29533",10,13200,240,-76.576712359071308,2.5002355142994137,5,5,2,2,{"$f":"SUMIF(SOLICITUDES!$C$2:$C$1048576,BD!C48,SOLICITUDES!$I$2:$I$1048576)","v":0},0,{"$f":"SUMIF(SOLICITUDES!$C$2:$C$1048576,BD!C48,SOLICITUDES!$J$2:$J$1048576)","v":0},0,{"$f":"SUMIF(SOLICITUDES!$C$2:$C$1048576,BD!C48,SOLICITUDES!$K$2:$K$1048576)","v":0},0]
[null,null,"T1986",75,13200,208,-76.573864700313933,2.4877659801331751,37.5,37.5,15,15,{"$f":"SUMIF(SOLICITUDES!$C$2:$C$1048576,BD!C49,SOLICITUDES!$I$2:$I$1048576)","v":0},0,{"$f":"SUMIF(SOLICITUDES!$C$2:$C$1048576,BD!C49,SOLICITUDES!$J$2:$J$1048576)","v":0},0,{"$f":"SUMIF(SOLICITUDES!$C$2:$C$1048576,BD!C49,SOLICITUDES!$K$2:$K$1048576)","v":0},0]
[null,null,"T1958",75,13200,208,-76.574503301548418,2.4871874561197362,37.5,37.5,15,15,{"$f":"SUMIF(SOLICITUDES!$C$2:$C$1048576,BD!C50,SOLICITUDES!$I$2:$I$1048576)","v":0},0,{"$f":"SUMIF(SOLICITUDES!$C$2:$C$1048576,BD!C50,SOLICITUDES!$J$2:$J$1048576)","v":0},0,{"$f":"SUMIF(SOLICITUDES!$C$2:$C$1048576,BD!C50,SOLICITUDES!$K$2:$K$1048576)","v":0},0]
[null,null,"T1954",75,13200,208,-76.573180765288342,2.4893482579867858,37.5,37.5,15,15,{"$f":"SUMIF(SOLICITUDES!$C$2:$C$1048576,BD!C51,SOLICITUDES!$I$2:$I$1048576)","v":0},0,{"$f":"SUMIF(SOLICITUDES!$C$2:$C$1048576,BD!C51,SOLICITUDES!$J$2:$J$1048576)","v":0},0,{"$f":"SUMIF(SOLICITUDES!$C$2:$C$1048576,BD!C51,SOLICITUDES!$K$2:$K$1048576)","v":0},0]
[null,null,"T1987",75,13200,208,-76.577999242924051,2.4915204807486386,37.5,37.5,15,15,{"$f":"SUMIF(SOLICITUDES!$C$2:$C$1048576,BD!C52,SOLICITUDES!$I$2:$I$1048576)","v":0},0,{"$f":"SUMIF(SOLICITUDES!$C$2:$C$1048576,BD!C52,SOLICITUDES!$J$2:$J$1048576)","v":0},0,{"$f":"SUMIF(SOLICITUDES!$C$2:$C$1048576,BD!C52,SOLICITUDES!$K$2:$K$1048576)","v":0},0]
[null,null,"T1971",112.5,13200,208,-76.576013712185443,2.4874774203883327,56.25,56.25,22.5,22.5,{"$f":"SUMIF(SOLICITUDES!$C$2:$C$1048576,BD!C53,SOLICITUDES!$I$2:$I$1048576)","v":0},0,{"$f":"SUMIF(SOLICITUDES!$C$2:$C$1048576,BD!C53,SOLICITUDES!$J$2:$J$1048576)","v":0},0,{"$f":"SUMIF(SOLICITUDES!$C$2:$C$1048576,BD!C53,SOLICITUDES!$K$2:$K$1048576)","v":0},0]
[null,null,"T1988",112.5,13200,208,-76.576355417467482,2.4873871245284991,56.25,56.25,22.5,22.5,{"$f":"SUMIF(SOLICITUDES!$C$2:$C$1048576,BD!C54,SOLICITUDES!$I$2:$I$1048576)","v":0},0,{"$f":"SUMIF(SOLICITUDES!$C$2:$C$1048576,BD!C54,SOLICITUDES!$J$2:$J$1048576)","v":0},0,{"$f":"SUMIF(SOLICITUDES!$C$2:$C$1048576,BD!C54,SOLICITUDES!$K$2:$K$1048576)","v":0},0]
[null,null,"T1994",112.5,13200,208,-76.574062792615678,2.4870335539969135,56.25,56.25,22.5,22.5,{"$f":"SUMIF(SOLICITUDES!$C$2:$C$1048576,BD!C55,SOLICITUDES!$I$2:$I$1048576)","v":0},0,{"$f":"SUMIF(SOLICITUDES!$C$2:$C$1048576,BD!C55,SOLICITUDES!$J$2:$J$1048576)","v":0},0,{"$f":"SUMIF(SOLICITUDES!$C$2:$C$1048576,BD!C55,SOLICITUDES!$K$2:$K$1048576)","v":0},0]
[null,null,"T1972",45,13200,208,-76.576740353201643,2.4918184220222757,22.5,22.5,9,9,{"$f":"SUMIF(SOLICITUDES!$C$2:$C$1048576,BD!C56,SOLICITUDES!$I$2:$I$1048576)","v":0},0,{"$f":"SUMIF(SOLICITUDES!$C$2:$C$1048576,BD!C56,SOLICITUDES!$J$2:$J$1048576)","v":0},0,{"$f":"SUMIF(SOLICITUDES!$C$2:$C$1048576,BD!C56,SOLICITUDES!$K$2:$K$1048576)","v":0},0]
[null,null,"T1964",30,13200,208,-76.572637888656743,2.4891907525399426,15,15,6,6,{"$f":"SUMIF(SOLICITUDES!$C$2:$C$1048576,BD!C57,SOLICITUDES!$I$2:$I$1048576)","v":0},0,{"$f":"SUMIF(SOLICITUDES!$C$2:$C$1048576,BD!C57,SOLICITUDES!$J$2:$J$1048576)","v":0},0,{"$f":"SUMIF(SOLICITUDES!$C$2:$C$1048576,BD!C57,SOLICITUDES!$K$2:$K$1048576)","v":0},0]
[null,null,"T1993",45,13200,208,-76.576326614678081,2.4921890337182937,22.5,22.5,9,9,{"$f":"SUMIF(SOLICITUDES!$C$2:$C$1048576,BD!C58,SOLICITUDES!$I$2:$I$1048576)","v":0},0,{"$f":"SUMIF(SOLICITUDES!$C$2:$C$1048576,BD!C58,SOLICITUDES!$J$2:$J$1048576)","v":0},0,{"$f":"SUMIF(SOLICITUDES!$C$2:$C$1048576,BD!C58,SOLICITUDES!$K$2:$K$1048576)","v":0},0]
[null,null,"T1982",50,13200,240,-76.575681616824937,2.4859670852492961,25,25,10,10,{"$f":"SUMIF(SOLICITUDES!$C$2:$C$1048576,BD!C59,SOLICITUDES!$I$2:$I$1048576)","v":0},0,{"$f":"SUMIF(SOLICITUDES!$C$2:$C$1048576,BD!C59,SOLICITUDES!$J$2:$J$1048576)","v":0},0,{"$f":"SUMIF(SOLICITUDES!$C$2:$C$1048576,BD!C59,SOLICITUDES!$K$2:$K$1048576)","v":0},0]
[null,null,"T16254",37.5,13200,240,-76.483208877660516,2.7127541050832233,18.75,18.75,7.5,7.5,{"$f":"SUMIF(SOLICITUDES!$C$2:$C$1048576,BD!C60,SOLICITUDES!$I$2:$I$1048576)","v":0},0,{"$f":"SUMIF(SOLICITUDES!$C$2:$C$1048576,BD!C60,SOLICITUDES!$J$2:$J$1048576)","v":0},0,{"$f":"SUMIF(SOLICITUDES!$C$2:$C$1048576,BD!C60,SOLICITUDES!$K$2:$K$1048576)","v":0},0]
[null,null,"T23162",5,13200,240,-76.486805525066657,2.7102344697873488,2.5,2.5,1,1,{"$f":"SUMIF(SOLICITUDES!$C$2:$C$1048576,BD!C61,SOLICITUDES!$I$2:$I$1048576)","v":0},0,{"$f":"SUMIF(SOLICITUDES!$C$2:$C$1048576,BD!C61,SOLICITUDES!$J$2:$J$1048576)","v":0},0,{"$f":"SUMIF(SOLICITUDES!$C$2:$C$1048576,BD!C61,SOLICITUDES!$K$2:$K$1048576)","v":0},0]
[null,null,"T23159",5,13200,240,-76.483945956442483,2.717961630590763,2.5,2.5,1,1,{"$f":"SUMIF(SOLICITUDES!$C$2:$C$1048576,BD!C62,SOLICITUDES!$I$2:$I$1048576)","v":0},0,{"$f":"SUMIF(SOLICITUDES!$C$2:$C$1048576,BD!C62,SOLICITUDES!$J$2:$J$1048576)","v":0},0,{"$f":"SUMIF(SOLICITUDES!$C$2:$C$1048576,BD!C62,SOLICITUDES!$K$2:$K$1048576)","v":0},0]
[null,null,"T23155",5,13200,240,-76.482302857316654,2.7202246779664847,2.5,2.5,1,1,{"$f":"SUMIF(SOLICITUDES!$C$2:$C$1048576,BD!C63,SOLICITUDES!$I$2:$I$1048576)","v":0},0,{"$f":"SUMIF(SOLICITUDES!$C$2:$C$1048576,BD!C63,SOLICITUDES!$J$2:$J$1048576)","v":0},0,{"$f":"SUMIF(SOLICITUDES!$C$2:$C$1048576,BD!C63,SOLICITUDES!$K$2:$K$1048576)","v":0},0]
[null,null,"T23145",10,13200,240,-76.482254611958922,2.710158681128723,5,5,2,2,{"$f":"SUMIF(SOLICITUDES!$C$2:$C$1048576,BD!C64,SOLICITUDES!$I$2:$I$1048576)","v":0},0,{"$f":"SUMIF(SOLICITUDES!$C$2:$C$1048576,BD!C64,SOLICITUDES!$J$2:$J$1048576)","v":0},0,{"$f":"SUMIF(SOLICITUDES!$C$2:$C$1048576,BD!C64,SOLICITUDES!$K$2:$K$1048576)","v":0},0]
[null,null,"T23158",10,13200,240,-76.477634472679483,2.7123349395811318,5,5,2,2,{"$f":"SUMIF(SOLICITUDES!$C$2:$C$1048576,BD!C65,SOLICITUDES!$I$2:$I$1048576)","v":0},0,{"$f":"SUMIF(SOLICITUDES!$C$2:$C$1048576,BD!C65,SOLICITUDES!$J$2:$J$1048576)","v":0},0,{"$f":"SUMIF(SOLICITUDES!$C$2:$C$1048576,BD!C65,SOLICITUDES!$K$2:$K$1048576)","v":0},0]
[null,null,"T23156",5,13200,240,-76.477334851485125,2.7247980709024637,2.5,2.5,1,1,{"$f":"SUMIF(SOLICITUDES!$C$2:$C$1048576,BD!C66,SOLICITUDES!$I$2:$I$1048576)","v":0},0,{"$f":"SUMIF(SOLICITUDES!$C$2:$C$1048576,BD!C66,SOLICITUDES!$J$2:$J$1048576)","v":0},0,{"$f":"SUMIF(SOLICITUDES!$C$2:$C$1048576,BD!C66,SOLICITUDES!$K$2:$K$1048576)","v":0},0]
[null,null,"T23163",5,13200,240,-76.487330090162047,2.7199833136078535,2.5,{"$f":"D67*0.5-M67","v":2.5},1,1,{"$f":"SUMIF(SOLICITUDES!$C$2:$C$1048576,BD!C67,SOLICITUDES!$I$2:$I$1048576)","v":0},{"$f":"M67/D67","v":0},{"$f":"SUMIF(SOLICITUDES!$C$2:$C$1048576,BD!C67,SOLICITUDES!$J$2:$J$1048576)","v":0},0,{"$f":"SUMIF(SOLICITUDES!$C$2:$C$1048576,BD!C67,SOLICITUDES!$K$2:$K$1048576)","v":0},0]
[null,null,"T23173",5,13200,240,-76.481971157496716,2.7284551964656361,{"$f":"D68*0.5","v":2.5},2.5,{"$f":"0.2*D68","v":1},{"$f":"0.2*D68","v":1},{"$f":"SUMIF(SOLICITUDES!$C$2:$C$1048576,BD!C68,SOLICITUDES!$I$2:$I$1048576)","v":0},0,{"$f":"SUMIF(SOLICITUDES!$C$2:$C$1048576,BD!C68,SOLICITUDES!$J$2:$J$1048576)","v":0},{"$f":"O68/(2*K68)","v":0},{"$f":"SUMIF(SOLICITUDES!$C$2:$C$1048576,BD!C68,SOLICITUDES!$K$2:$K$1048576)","v":0},{"$f":"Q68/(2*L68)","v":0}]
[null,null,"T23160",5,13200,240,-76.472494060732373,2.7156604290111623,2.5,2.5,1,1,{"$f":"SUMIF(SOLICITUDES!$C$2:$C$1048576,BD!C69,SOLICITUDES!$I$2:$I$1048576)","v":0},0,{"$f":"SUMIF(SOLICITUDES!$C$2:$C$1048576,BD!C69,SOLICITUDES!$J$2:$J$1048576)","v":0},0,{"$f":"SUMIF(SOLICITUDES!$C$2:$C$1048576,BD!C69,SOLICITUDES!$K$2:$K$1048576)","v":0},0]
[null,null,"T23146",5,13200,240,-76.479928064196926,2.7050787648085901,2.5,2.5,1,1,{"$f":"SUMIF(SOLICITUDES!$C$2:$C$1048576,BD!C70,SOLICITUDES!$I$2:$I$1048576)","v":0},0,{"$f":"SUMIF(SOLICITUDES!$C$2:$C$1048576,BD!C70,SOLICITUDES!$J$2:$J$1048576)","v":0},0,{"$f":"SUMIF(SOLICITUDES!$C$2:$C$1048576,BD!C70,SOLICITUDES!$K$2:$K$1048576)","v":0},0]
[null,null,"T23165",5,13200,240,-76.479111598073032,2.7288566741638181,2.5,2.5,1,1,{"$f":"SUMIF(SOLICITUDES!$C$2:$C$1048576,BD!C71,SOLICITUDES!$I$2:$I$1048576)","v":0},0,{"$f":"SUMIF(SOLICITUDES!$C$2:$C$1048576,BD!C71,SOLICITUDES!$J$2:$J$1048576)","v":0},0,{"$f":"SUMIF(SOLICITUDES!$C$2:$C$1048576,BD!C71,SOLICITUDES!$K$2:$K$1048576)","v":0},0]
[null,null,"T23157",5,13200,240,-76.47114968711854,2.7121077350759206,2.5,2.5,1,1,{"$f":"SUMIF(SOLICITUDES!$C$2:$C$1048576,BD!C72,SOLICITUDES!$I$2:$I$1048576)","v":0},0,{"$f":"SUMIF(SOLICITUDES!$C$2:$C$1048576,BD!C72,SOLICITUDES!$J$2:$J$1048576)","v":0},0,{"$f":"SUMIF(SOLICITUDES!$C$2:$C$1048576,BD!C72,SOLICITUDES!$K$2:$K$1048576)","v":0},0]
[null,null,"T23147",5,13200,240,-76.477730988136855,2.7029199177986194,2.5,2.5,1,1,{"$f":"SUMIF(SOLICITUDES!$C$2:$C$1048576,BD!C73,SOLICITUDES!$I$2:$I$1048576)","v":0},0,{"$f":"SUMIF(SOLICITUDES!$C$2:$C$1048576,BD!C73,SOLICITUDES!$J$2:$J$1048576)","v":0},0,{"$f":"SUMIF(SOLICITUDES!$C$2:$C$1048576,BD!C73,SOLICITUDES!$K$2:$K$1048576)","v":0},0]
[null,null,"T23161",10,13200,240,-76.475449714125091,2.7277306826436196,5,5,2,2,{"$f":"SUMIF(SOLICITUDES!$C$2:$C$1048576,BD!C74,SOLICITUDES!$I$2:$I$1048576)","v":0},0,{"$f":"SUMIF(SOLICITUDES!$C$2:$C$1048576,BD!C74,SOLICITUDES!$J$2:$J$1048576)","v":0},0,{"$f":"SUMIF(SOLICITUDES!$C$2:$C$1048576,BD!C74,SOLICITUDES!$K$2:$K$1048576)","v":0},0]
[null,null,"T23164",10,13200,240,-76.491831174202773,2.7160797485867669,5,5,2,2,{"$f":"SUMIF(SOLICITUDES!$C$2:$C$1048576,BD!C75,SOLICITUDES!$I$2:$I$1048576)","v":0},0,{"$f":"SUMIF(SOLICITUDES!$C$2:$C$1048576,BD!C75,SOLICITUDES!$J$2:$J$1048576)","v":0},0,{"$f":"SUMIF(SOLICITUDES!$C$2:$C$1048576,BD!C75,SOLICITUDES!$K$2:$K$1048576)","v":0},0]
[null,null,"T23168",5,13200,240,-76.481853760286683,2.7354011915516208,2.5,2.5,1,1,{"$f":"SUMIF(SOLICITUDES!$C$2:$C$1048576,BD!C76,SOLICITUDES!$I$2:$I$1048576)","v":0},0,{"$f":"SUMIF(SOLICITUDES!$C$2:$C$1048576,BD!C76,SOLICITUDES!$J$2:$J$1048576)","v":0},0,{"$f":"SUMIF(SOLICITUDES!$C$2:$C$1048576,BD!C76,SOLICITUDES!$K$2:$K$1048576)","v":0},0]
[null,null,"T23153",5,13200,240,-76.460507512918582,2.7100224467147176,2.5,2.5,1,1,{"$f":"SUMIF(SOLICITUDES!$C$2:$C$1048576,BD!C77,SOLICITUDES!$I$2:$I$1048576)","v":0},0,{"$f":"SUMIF(SOLICITUDES!$C$2:$C$1048576,BD!C77,SOLICITUDES!$J$2:$J$1048576)","v":0},0,{"$f":"SUMIF(SOLICITUDES!$C$2:$C$1048576,BD!C77,SOLICITUDES!$K$2:$K$1048576)","v":0},0]
[null,null,"T23148",5,13200,240,-76.475541374615318,2.6994858344698205,2.5,2.5,1,1,{"$f":"SUMIF(SOLICITUDES!$C$2:$C$1048576,BD!C78,SOLICITUDES!$I$2:$I$1048576)","v":0},0,{"$f":"SUMIF(SOLICITUDES!$C$2:$C$1048576,BD!C78,SOLICITUDES!$J$2:$J$1048576)","v":0},0,{"$f":"SUMIF(SOLICITUDES!$C$2:$C$1048576,BD!C78,SOLICITUDES!$K$2:$K$1048576)","v":0},0]
[null,null,"T23166",10,13200,240,-76.477164790766111,2.7328384807736308,5,5,2,2,{"$f":"SUMIF(SOLICITUDES!$C$2:$C$1048576,BD!C79,SOLICITUDES!$I$2:$I$1048576)","v":0},0,{"$f":"SUMIF(SOLICITUDES!$C$2:$C$1048576,BD!C79,SOLICITUDES!$J$2:$J$1048576)","v":0},0,{"$f":"SUMIF(SOLICITUDES!$C$2:$C$1048576,BD!C79,SOLICITUDES!$K$2:$K$1048576)","v":0},0]
[null,null,"T23152",5,13200,240,-76.462322013416227,2.7081481050817713,2.5,2.5,1,1,{"$f":"SUMIF(SOLICITUDES!$C$2:$C$1048576,BD!C80,SOLICITUDES!$I$2:$I$1048576)","v":0},0,{"$f":"SUMIF(SOLICITUDES!$C$2:$C$1048576,BD!C80,SOLICITUDES!$J$2:$J$1048576)","v":0},0,{"$f":"SUMIF(SOLICITUDES!$C$2:$C$1048576,BD!C80,SOLICITUDES!$K$2:$K$1048576)","v":0},0]
[null,null,"T23154",5,13200,240,-76.461913433250132,2.7124264879002817,2.5,2.5,1,1,{"$f":"SUMIF(SOLICITUDES!$C$2:$C$1048576,BD!C81,SOLICITUDES!$I$2:$I$1048576)","v":0},0,{"$f":"SUMIF(SOLICITUDES!$C$2:$C$1048576,BD!C81,SOLICITUDES!$J$2:$J$1048576)","v":0},0,{"$f":"SUMIF(SOLICITUDES!$C$2:$C$1048576,BD!C81,SOLICITUDES!$K$2:$K$1048576)","v":0},0]
[null,null,"T23149",5,13200,240,-76.474870819820808,2.6953173183361754,2.5,2.5,1,1,{"$f":"SUMIF(SOLICITUDES!$C$2:$C$1048576,BD!C82,SOLICITUDES!$I$2:$I$1048576)","v":0},0,{"$f":"SUMIF(SOLICITUDES!$C$2:$C$1048576,BD!C82,SOLICITUDES!$J$2:$J$1048576)","v":0},0,{"$f":"SUMIF(SOLICITUDES!$C$2:$C$1048576,BD!C82,SOLICITUDES!$K$2:$K$1048576)","v":0},0]
[null,null,"T23169",5,13200,240,-76.48421918840485,2.7354253848420353,2.5,2.5,1,1,{"$f":"SUMIF(SOLICITUDES!$C$2:$C$1048576,BD!C83,SOLICITUDES!$I$2:$I$1048576)","v":0},0,{"$f":"SUMIF(SOLICITUDES!$C$2:$C$1048576,BD!C83,SOLICITUDES!$J$2:$J$1048576)","v":0},0,{"$f":"SUMIF(SOLICITUDES!$C$2:$C$1048576,BD!C83,SOLICITUDES!$K$2:$K$1048576)","v":0},0]
[null,null,"T23167",5,13200,240,-76.475666688434444,2.7360148111532956,2.5,2.5,1,1,{"$f":"SUMIF(SOLICITUDES!$C$2:$C$1048576,BD!C84,SOLICITUDES!$I$2:$I$1048576)","v":0},0,{"$f":"SUMIF(SOLICITUDES!$C$2:$C$1048576,BD!C84,SOLICITUDES!$J$2:$J$1048576)","v":0},0,{"$f":"SUMIF(SOLICITUDES!$C$2:$C$1048576,BD!C84,SOLICITUDES!$K$2:$K$1048576)","v":0},0]
[null,null,"T23170",10,13200,240,-76.482576884629651,2.7383396168415186,5,5,2,2,{"$f":"SUMIF(SOLICITUDES!$C$2:$C$1048576,BD!C85,SOLICITUDES!$I$2:$I$1048576)","v":0},0,{"$f":"SUMIF(SOLICITUDES!$C$2:$C$1048576,BD!C85,SOLICITUDES!$J$2:$J$1048576)","v":0},0,{"$f":"SUMIF(SOLICITUDES!$C$2:$C$1048576,BD!C85,SOLICITUDES!$K$2:$K$1048576)","v":0},0]
[null,null,"T23150",15,13200,240,-76.474398473405103,2.6914289256325641,7.5,7.5,3,3,{"$f":"SUMIF(SOLICITUDES!$C$2:$C$1048576,BD!C86,SOLICITUDES!$I$2:$I$1048576)","v":0},0,{"$f":"SUMIF(SOLICITUDES!$C$2:$C$1048576,BD!C86,SOLICITUDES!$J$2:$J$1048576)","v":0},0,{"$f":"SUMIF(SOLICITUDES!$C$2:$C$1048576,BD!C86,SOLICITUDES!$K$2:$K$1048576)","v":0},0]
[null,null,"T23151",10,13200,240,-76.467352484767616,2.6913704789599673,5,5,2,2,{"$f":"SUMIF(SOLICITUDES!$C$2:$C$1048576,BD!C87,SOLICITUDES!$I$2:$I$1048576)","v":0},0,{"$f":"SUMIF(SOLICITUDES!$C$2:$C$1048576,BD!C87,SOLICITUDES!$J$2:$J$1048576)","v":0},0,{"$f":"SUMIF(SOLICITUDES!$C$2:$C$1048576,BD!C87,SOLICITUDES!$K$2:$K$1048576)","v":0},0]
[null,null,"T23172",5,13200,240,-76.484893738462461,2.7427321477220081,2.5,2.5,1,1,{"$f":"SUMIF(SOLICITUDES!$C$2:$C$1048576,BD!C88,SOLICITUDES!$I$2:$I$1048576)","v":0},0,{"$f":"SUMIF(SOLICITUDES!$C$2:$C$1048576,BD!C88,SOLICITUDES!$J$2:$J$1048576)","v":0},0,{"$f":"SUMIF(SOLICITUDES!$C$2:$C$1048576,BD!C88,SOLICITUDES!$K$2:$K$1048576)","v":0},0]
[null,null,"T23171",10,13200,240,-76.482618191602754,2.7426716753934928,5,5,2,2,{"$f":"SUMIF(SOLICITUDES!$C$2:$C$1048576,BD!C89,SOLICITUDES!$I$2:$I$1048576)","v":0},0,{"$f":"SUMIF(SOLICITUDES!$C$2:$C$1048576,BD!C89,SOLICITUDES!$J$2:$J$1048576)","v":0},0,{"$f":"SUMIF(SOLICITUDES!$C$2:$C$1048576,BD!C89,SOLICITUDES!$K$2:$K$1048576)","v":0},0]
[null,null,"T21160",30,13200,240,-76.383496025331453,2.6115233002851639,15,15,6,6,{"$f":"SUMIF(SOLICITUDES!$C$2:$C$1048576,BD!C90,SOLICITUDES!$I$2:$I$1048576)","v":0},0,{"$f":"SUMIF(SOLICITUDES!$C$2:$C$1048576,BD!C90,SOLICITUDES!$J$2:$J$1048576)","v":0},0,{"$f":"SUMIF(SOLICITUDES!$C$2:$C$1048576,BD!C90,SOLICITUDES!$K$2:$K$1048576)","v":0},0]
[null,null,"T22583",25,13200,240,-77.047051029525846,2.1748327032513335,12.5,12.5,5,5,{"$f":"SUMIF(SOLICITUDES!$C$2:$C$1048576,BD!C91,SOLICITUDES!$I$2:$I$1048576)","v":0},0,{"$f":"SUMIF(SOLICITUDES!$C$2:$C$1048576,BD!C91,SOLICITUDES!$J$2:$J$1048576)","v":0},0,{"$f":"SUMIF(SOLICITUDES!$C$2:$C$1048576,BD!C91,SOLICITUDES!$K$2:$K$1048576)","v":0},0]
[null,null,"T31881",10,13200,240,-76.995916923028631,2.2215919894231186,5,5,2,2,{"$f":"SUMIF(SOLICITUDES!$C$2:$C$1048576,BD!C92,SOLICITUDES!$I$2:$I$1048576)","v":0},0,{"$f":"SUMIF(SOLICITUDES!$C$2:$C$1048576,BD!C92,SOLICITUDES!$J$2:$J$1048576)","v":0},0,{"$f":"SUMIF(SOLICITUDES!$C$2:$C$1048576,BD!C92,SOLICITUDES!$K$2:$K$1048576)","v":0},0]
[null,null,"T22319",15,13200,240,-77.049305020485818,2.1632707885572691,7.5,7.5,3,3,{"$f":"SUMIF(SOLICITUDES!$C$2:$C$1048576,BD!C93,SOLICITUDES!$I$2:$I$1048576)","v":0},0,{"$f":"SUMIF(SOLICITUDES!$C$2:$C$1048576,BD!C93,SOLICITUDES!$J$2:$J$1048576)","v":0},0,{"$f":"SUMIF(SOLICITUDES!$C$2:$C$1048576,BD!C93,SOLICITUDES!$K$2:$K$1048576)","v":0},0]
[null,null,"T44747",10,13200,240,-77.009378152418321,2.2334248747620111,5,5,2,2,{"$f":"SUMIF(SOLICITUDES!$C$2:$C$1048576,BD!C94,SOLICITUDES!$I$2:$I$1048576)","v":0},0,{"$f":"SUMIF(SOLICITUDES!$C$2:$C$1048576,BD!C94,SOLICITUDES!$J$2:$J$1048576)","v":0},0,{"$f":"SUMIF(SOLICITUDES!$C$2:$C$1048576,BD!C94,SOLICITUDES!$K$2:$K$1048576)","v":0},0]
[null,null,"T29215",10,13200,240,-76.996781356868311,2.2276423813260413,5,5,2,2,{"$f":"SUMIF(SOLICITUDES!$C$2:$C$1048576,BD!C95,SOLICITUDES!$I$2:$I$1048576)","v":0},0,{"$f":"SUMIF(SOLICITUDES!$C$2:$C$1048576,BD!C95,SOLICITUDES!$J$2:$J$1048576)","v":0},0,{"$f":"SUMIF(SOLICITUDES!$C$2:$C$1048576,BD!C95,SOLICITUDES!$K$2:$K$1048576)","v":0},0]
[null,null,"T22320",15,13200,240,-77.050333720462319,2.1617049440974592,7.5,7.5,3,3,{"$f":"SUMIF(SOLICITUDES!$C$2:$C$1048576,BD!C96,SOLICITUDES!$I$2:$I$1048576)","v":0},0,{"$f":"SUMIF(SOLICITUDES!$C$2:$C$1048576,BD!C96,SOLICITUDES!$J$2:$J$1048576)","v":0},0,{"$f":"SUMIF(SOLICITUDES!$C$2:$C$1048576,BD!C96,SOLICITUDES!$K$2:$K$1048576)","v":0},0]
[null,null,"T29213",5,13200,240,-76.997289943944679,2.2181037760608198,2.5,2.5,1,1,{"$f":"SUMIF(SOLICITUDES!$C$2:$C$1048576,BD!C97,SOLICITUDES!$I$2:$I$1048576)","v":0},0,{"$f":"SUMIF(SOLICITUDES!$C$2:$C$1048576,BD!C97,SOLICITUDES!$J$2:$J$1048576)","v":0},0,{"$f":"SUMIF(SOLICITUDES!$C$2:$C$1048576,BD!C97,SOLICITUDES!$K$2:$K$1048576)","v":0},0]
[null,null,"T9549",37.5,34500,240,-77.038624623040207,2.1654328756613657,18.75,18.75,7.5,7.5,{"$f":"SUMIF(SOLICITUDES!$C$2:$C$1048576,BD!C98,SOLICITUDES!$I$2:$I$1048576)","v":0},0,{"$f":"SUMIF(SOLICITUDES!$C$2:$C$1048576,BD!C98,SOLICITUDES!$J$2:$J$1048576)","v":0},0,{"$f":"SUMIF(SOLICITUDES!$C$2:$C$1048576,BD!C98,SOLICITUDES!$K$2:$K$1048576)","v":0},0]
[null,null,"T44748",10,13200,240,-77.017546696421718,2.2403606164217309,5,5,2,2,{"$f":"SUMIF(SOLICITUDES!$C$2:$C$1048576,BD!C99,SOLICITUDES!$I$2:$I$1048576)","v":0},0,{"$f":"SUMIF(SOLICITUDES!$C$2:$C$1048576,BD!C99,SOLICITUDES!$J$2:$J$1048576)","v":0},0,{"$f":"SUMIF(SOLICITUDES!$C$2:$C$1048576,BD!C99,SOLICITUDES!$K$2:$K$1048576)","v":0},0]
[null,null,"T43283",25,13200,240,-76.956108513721261,2.1933873103543493,12.5,12.5,5,5,{"$f":"SUMIF(SOLICITUDES!$C$2:$C$1048576,BD!C100,SOLICITUDES!$I$2:$I$1048576)","v":0},0,{"$f":"SUMIF(SOLICITUDES!$C$2:$C$1048576,BD!C100,SOLICITUDES!$J$2:$J$1048576)","v":0},0,{"$f":"SUMIF(SOLICITUDES!$C$2:$C$1048576,BD!C100,SOLICITUDES!$K$2:$K$1048576)","v":0},0]
[null,null,"T29216",5,13200,240,-76.994393819509128,2.2335702373013451,2.5,2.5,1,1,{"$f":"SUMIF(SOLICITUDES!$C$2:$C$1048576,BD!C101,SOLICITUDES!$I$2:$I$1048576)","v":0},0,{"$f":"SUMIF(SOLICITUDES!$C$2:$C$1048576,BD!C101,SOLICITUDES!$J$2:$J$1048576)","v":0},0,{"$f":"SUMIF(SOLICITUDES!$C$2:$C$1048576,BD!C101,SOLICITUDES!$K$2:$K$1048576)","v":0},0]
[null,null,"T42318",10,13200,240,-77.051281482687884,2.16004103971839,5,5,2,2,{"$f":"SUMIF(SOLICITUDES!$C$2:$C$1048576,BD!C102,SOLICITUDES!$I$2:$I$1048576)","v":0},0,{"$f":"SUMIF(SOLICITUDES!$C$2:$C$1048576,BD!C102,SOLICITUDES!$J$2:$J$1048576)","v":0},0,{"$f":"SUMIF(SOLICITUDES!$C$2:$C$1048576,BD!C102,SOLICITUDES!$K$2:$K$1048576)","v":0},0]
[null,null,"T22314",10,13200,240,-76.960471070880772,2.1954199652650401,5,5,2,2,{"$f":"SUMIF(SOLICITUDES!$C$2:$C$1048576,BD!C103,SOLICITUDES!$I$2:$I$1048576)","v":0},0,{"$f":"SUMIF(SOLICITUDES!$C$2:$C$1048576,BD!C103,SOLICITUDES!$J$2:$J$1048576)","v":0},0,{"$f":"SUMIF(SOLICITUDES!$C$2:$C$1048576,BD!C103,SOLICITUDES!$K$2:$K$1048576)","v":0},0]
[null,null,"T21278",5,13200,240,-76.95546988803909,2.204369518162328,2.5,2.5,1,1,{"$f":"SUMIF(SOLICITUDES!$C$2:$C$1048576,BD!C104,SOLICITUDES!$I$2:$I$1048576)","v":0},0,{"$f":"SUMIF(SOLICITUDES!$C$2:$C$1048576,BD!C104,SOLICITUDES!$J$2:$J$1048576)","v":0},0,{"$f":"SUMIF(SOLICITUDES!$C$2:$C$1048576,BD!C104,SOLICITUDES!$K$2:$K$1048576)","v":0},0]
[null,null,"T44749",10,13200,240,-77.02018791839204,2.2464359741530697,5,5,2,2,{"$f":"SUMIF(SOLICITUDES!$C$2:$C$1048576,BD!C105,SOLICITUDES!$I$2:$I$1048576)","v":0},0,{"$f":"SUMIF(SOLICITUDES!$C$2:$C$1048576,BD!C105,SOLICITUDES!$J$2:$J$1048576)","v":0},0,{"$f":"SUMIF(SOLICITUDES!$C$2:$C$1048576,BD!C105,SOLICITUDES!$K$2:$K$1048576)","v":0},0]
[null,null,"T29217",5,13200,240,-76.991254386717429,2.2378522441095448,2.5,2.5,1,1,{"$f":"SUMIF(SOLICITUDES!$C$2:$C$1048576,BD!C106,SOLICITUDES!$I$2:$I$1048576)","v":0},0,{"$f":"SUMIF(SOLICITUDES!$C$2:$C$1048576,BD!C106,SOLICITUDES!$J$2:$J$1048576)","v":0},0,{"$f":"SUMIF(SOLICITUDES!$C$2:$C$1048576,BD!C106,SOLICITUDES!$K$2:$K$1048576)","v":0},0]
[null,null,"T31880",5,13200,240,-76.995345330858214,2.2382524595100941,2.5,2.5,1,1,{"$f":"SUMIF(SOLICITUDES!$C$2:$C$1048576,BD!C107,SOLICITUDES!$I$2:$I$1048576)","v":0},0,{"$f":"SUMIF(SOLICITUDES!$C$2:$C$1048576,BD!C107,SOLICITUDES!$J$2:$J$1048576)","v":0},0,{"$f":"SUMIF(SOLICITUDES!$C$2:$C$1048576,BD!C107,SOLICITUDES!$K$2:$K$1048576)","v":0},0]
[null,null,"T22321",15,13200,240,-77.05227064921695,2.1583642959944043,7.5,7.5,3,3,{"$f":"SUMIF(SOLICITUDES!$C$2:$C$1048576,BD!C108,SOLICITUDES!$I$2:$I$1048576)","v":0},0,{"$f":"SUMIF(SOLICITUDES!$C$2:$C$1048576,BD!C108,SOLICITUDES!$J$2:$J$1048576)","v":0},0,{"$f":"SUMIF(SOLICITUDES!$C$2:$C$1048576,BD!C108,SOLICITUDES!$K$2:$K$1048576)","v":0},0]
[null,null,"T22316",15,13200,240,-76.989247943798887,2.1910846995434161,7.5,7.5,3,3,{"$f":"SUMIF(SOLICITUDES!$C$2:$C$1048576,BD!C109,SOLICITUDES!$I$2:$I$1048576)","v":0},0,{"$f":"SUMIF(SOLICITUDES!$C$2:$C$1048576,BD!C109,SOLICITUDES!$J$2:$J$1048576)","v":0},0,{"$f":"SUMIF(SOLICITUDES!$C$2:$C$1048576,BD!C109,SOLICITUDES!$K$2:$K$1048576)","v":0},0]
[null,null,"T9552",10,34500,240,-77.038937360517394,2.1707849812005282,5,5,2,2,{"$f":"SUMIF(SOLICITUDES!$C$2:$C$1048576,BD!C110,SOLICITUDES!$I$2:$I$1048576)","v":0},0,{"$f":"SUMIF(SOLICITUDES!$C$2:$C$1048576,BD!C110,SOLICITUDES!$J$2:$J$1048576)","v":0},0,{"$f":"SUMIF(SOLICITUDES!$C$2:$C$1048576,BD!C110,SOLICITUDES!$K$2:$K$1048576)","v":0},0]
[null,null,"T44750",10,13200,240,-77.016855716354286,2.251241965861146,5,5,2,2,{"$f":"SUMIF(SOLICITUDES!$C$2:$C$1048576,BD!C111,SOLICITUDES!$I$2:$I$1048576)","v":0},0,{"$f":"SUMIF(SOLICITUDES!$C$2:$C$1048576,BD!C111,SOLICITUDES!$J$2:$J$1048576)","v":0},0,{"$f":"SUMIF(SOLICITUDES!$C$2:$C$1048576,BD!C111,SOLICITUDES!$K$2:$K$1048576)","v":0},0]
[null,null,"T19770",25,13200,240,-77.018110892983827,2.1860394214509262,12.5,12.5,5,5,{"$f":"SUMIF(SOLICITUDES!$C$2:$C$1048576,BD!C112,SOLICITUDES!$I$2:$I$1048576)","v":0},0,{"$f":"SUMIF(SOLICITUDES!$C$2:$C$1048576,BD!C112,SOLICITUDES!$J$2:$J$1048576)","v":0},0,{"$f":"SUMIF(SOLICITUDES!$C$2:$C$1048576,BD!C112,SOLICITUDES!$K$2:$K$1048576)","v":0},0]
[null,null,"T31861",10,13200,240,-76.991879655247189,2.2441363940790167,5,5,2,2,{"$f":"SUMIF(SOLICITUDES!$C$2:$C$1048576,BD!C113,SOLICITUDES!$I$2:$I$1048576)","v":0},0,{"$f":"SUMIF(SOLICITUDES!$C$2:$C$1048576,BD!C113,SOLICITUDES!$J$2:$J$1048576)","v":0},0,{"$f":"SUMIF(SOLICITUDES!$C$2:$C$1048576,BD!C113,SOLICITUDES!$K$2:$K$1048576)","v":0},0]
[null,null,"T21280",5,13200,240,-76.951207911982863,2.2119246069488261,2.5,2.5,1,1,{"$f":"SUMIF(SOLICITUDES!$C$2:$C$1048576,BD!C114,SOLICITUDES!$I$2:$I$1048576)","v":0},0,{"$f":"SUMIF(SOLICITUDES!$C$2:$C$1048576,BD!C114,SOLICITUDES!$J$2:$J$1048576)","v":0},0,{"$f":"SUMIF(SOLICITUDES!$C$2:$C$1048576,BD!C114,SOLICITUDES!$K$2:$K$1048576)","v":0},0]
[null,null,"T31862",10,13200,240,-77.004137830027616,2.245864382796833,5,5,2,2,{"$f":"SUMIF(SOLICITUDES!$C$2:$C$1048576,BD!C115,SOLICITUDES!$I$2:$I$1048576)","v":0},0,{"$f":"SUMIF(SOLICITUDES!$C$2:$C$1048576,BD!C115,SOLICITUDES!$J$2:$J$1048576)","v":0},0,{"$f":"SUMIF(SOLICITUDES!$C$2:$C$1048576,BD!C115,SOLICITUDES!$K$2:$K$1048576)","v":0},0]
[null,null,"T31863",10,13200,240,-76.989757897097334,2.2496414083478595,5,5,2,2,{"$f":"SUMIF(SOLICITUDES!$C$2:$C$1048576,BD!C116,SOLICITUDES!$I$2:$I$1048576)","v":0},0,{"$f":"SUMIF(SOLICITUDES!$C$2:$C$1048576,BD!C116,SOLICITUDES!$J$2:$J$1048576)","v":0},0,{"$f":"SUMIF(SOLICITUDES!$C$2:$C$1048576,BD!C116,SOLICITUDES!$K$2:$K$1048576)","v":0},0]
[null,null,"T44755",10,13200,240,-76.999923093974829,2.2489872429966806,5,5,2,2,{"$f":"SUMIF(SOLICITUDES!$C$2:$C$1048576,BD!C117,SOLICITUDES!$I$2:$I$1048576)","v":0},0,{"$f":"SUMIF(SOLICITUDES!$C$2:$C$1048576,BD!C117,SOLICITUDES!$J$2:$J$1048576)","v":0},0,{"$f":"SUMIF(SOLICITUDES!$C$2:$C$1048576,BD!C117,SOLICITUDES!$K$2:$K$1048576)","v":0},0]
[null,null,"T21279",10,13200,240,-76.944133474102813,2.2044472118055451,5,5,2,2,{"$f":"SUMIF(SOLICITUDES!$C$2:$C$1048576,BD!C118,SOLICITUDES!$I$2:$I$1048576)","v":0},0,{"$f":"SUMIF(SOLICITUDES!$C$2:$C$1048576,BD!C118,SOLICITUDES!$J$2:$J$1048576)","v":0},0,{"$f":"SUMIF(SOLICITUDES!$C$2:$C$1048576,BD!C118,SOLICITUDES!$K$2:$K$1048576)","v":0},0]
[null,null,"T22323",25,13200,240,-77.070052087753069,2.1089196251372333,12.5,12.5,5,5,{"$f":"SUMIF(SOLICITUDES!$C$2:$C$1048576,BD!C119,SOLICITUDES!$I$2:$I$1048576)","v":0},0,{"$f":"SUMIF(SOLICITUDES!$C$2:$C$1048576,BD!C119,SOLICITUDES!$J$2:$J$1048576)","v":0},0,{"$f":"SUMIF(SOLICITUDES!$C$2:$C$1048576,BD!C119,SOLICITUDES!$K$2:$K$1048576)","v":0},0]
[null,null,"T28728",0.5,13200,240,-76.56514349590033,2.4910874584991891,0.25,0.25,0.1,0.1,{"$f":"SUMIF(SOLICITUDES!$C$2:$C$1048576,BD!C120,SOLICITUDES!$I$2:$I$1048576)","v":0},0,{"$f":"SUMIF(SOLICITUDES!$C$2:$C$1048576,BD!C120,SOLICITUDES!$J$2:$J$1048576)","v":0},0,{"$f":"SUMIF(SOLICITUDES!$C$2:$C$1048576,BD!C120,SOLICITUDES!$K$2:$K$1048576)","v":0},0]
[null,null,"T2157",75,13200,208,-76.566877918758834,2.4893367676500153,37.5,37.5,15,15,{"$f":"SUMIF(SOLICITUDES!$C$2:$C$1048576,BD!C121,SOLICITUDES!$I$2:$I$1048576)","v":0},0,{"$f":"SUMIF(SOLICITUDES!$C$2:$C$1048576,BD!C121,SOLICITUDES!$J$2:$J$1048576)","v":0},0,{"$f":"SUMIF(SOLICITUDES!$C$2:$C$1048576,BD!C121,SOLICITUDES!$K$2:$K$1048576)","v":0},0]
[null,null,"T35894",37.5,13200,240,-76.569017876098343,2.489229084335669,18.75,18.75,7.5,7.5,{"$f":"SUMIF(SOLICITUDES!$C$2:$C$1048576,BD!C122,SOLICITUDES!$I$2:$I$1048576)","v":0},0,{"$f":"SUMIF(SOLICITUDES!$C$2:$C$1048576,BD!C122,SOLICITUDES!$J$2:$J$1048576)","v":0},0,{"$f":"SUMIF(SOLICITUDES!$C$2:$C$1048576,BD!C122,SOLICITUDES!$K$2:$K$1048576)","v":0},0]
[null,null,"T2134",112.5,13200,208,-76.569189712581021,2.4866156810734426,56.25,56.25,22.5,22.5,{"$f":"SUMIF(SOLICITUDES!$C$2:$C$1048576,BD!C123,SOLICITUDES!$I$2:$I$1048576)","v":0},0,{"$f":"SUMIF(SOLICITUDES!$C$2:$C$1048576,BD!C123,SOLICITUDES!$J$2:$J$1048576)","v":0},0,{"$f":"SUMIF(SOLICITUDES!$C$2:$C$1048576,BD!C123,SOLICITUDES!$K$2:$K$1048576)","v":0},0]
[null,null,"T2113",37.5,13200,240,-76.568551898229387,2.4851685220590545,18.75,18.75,7.5,7.5,{"$f":"SUMIF(SOLICITUDES!$C$2:$C$1048576,BD!C124,SOLICITUDES!$I$2:$I$1048576)","v":0},0,{"$f":"SUMIF(SOLICITUDES!$C$2:$C$1048576,BD!C124,SOLICITUDES!$J$2:$J$1048576)","v":0},0,{"$f":"SUMIF(SOLICITUDES!$C$2:$C$1048576,BD!C124,SOLICITUDES!$K$2:$K$1048576)","v":0},0]
[null,null,"T30253",37.5,13200,240,-76.568954571388474,2.4901543076062445,18.75,18.75,7.5,7.5,{"$f":"SUMIF(SOLICITUDES!$C$2:$C$1048576,BD!C125,SOLICITUDES!$I$2:$I$1048576)","v":0},0,{"$f":"SUMIF(SOLICITUDES!$C$2:$C$1048576,BD!C125,SOLICITUDES!$J$2:$J$1048576)","v":0},0,{"$f":"SUMIF(SOLICITUDES!$C$2:$C$1048576,BD!C125,SOLICITUDES!$K$2:$K$1048576)","v":0},0]
[null,null,"T2283",25,13200,240,-76.564701497705343,2.4907556824998274,12.5,12.5,5,5,{"$f":"SUMIF(SOLICITUDES!$C$2:$C$1048576,BD!C126,SOLICITUDES!$I$2:$I$1048576)","v":0},0,{"$f":"SUMIF(SOLICITUDES!$C$2:$C$1048576,BD!C126,SOLICITUDES!$J$2:$J$1048576)","v":0},0,{"$f":"SUMIF(SOLICITUDES!$C$2:$C$1048576,BD!C126,SOLICITUDES!$K$2:$K$1048576)","v":0},0]
[null,null,"T2149",45,13200,208,-76.566779357643853,2.4884595421834015,22.5,22.5,9,9,{"$f":"SUMIF(SOLICITUDES!$C$2:$C$1048576,BD!C127,SOLICITUDES!$I$2:$I$1048576)","v":0},0,{"$f":"SUMIF(SOLICITUDES!$C$2:$C$1048576,BD!C127,SOLICITUDES!$J$2:$J$1048576)","v":0},0,{"$f":"SUMIF(SOLICITUDES!$C$2:$C$1048576,BD!C127,SOLICITUDES!$K$2:$K$1048576)","v":0},0]
[null,null,"T2156",45,13200,208,-76.569963269850916,2.4858201824772954,22.5,22.5,9,9,{"$f":"SUMIF(SOLICITUDES!$C$2:$C$1048576,BD!C128,SOLICITUDES!$I$2:$I$1048576)","v":0},0,{"$f":"SUMIF(SOLICITUDES!$C$2:$C$1048576,BD!C128,SOLICITUDES!$J$2:$J$1048576)","v":0},0,{"$f":"SUMIF(SOLICITUDES!$C$2:$C$1048576,BD!C128,SOLICITUDES!$K$2:$K$1048576)","v":0},0]
[null,null,"T2148",75,13200,208,-76.568588319403304,2.4839838839152684,37.5,37.5,15,15,{"$f":"SUMIF(SOLICITUDES!$C$2:$C$1048576,BD!C129,SOLICITUDES!$I$2:$I$1048576)","v":0},0,{"$f":"SUMIF(SOLICITUDES!$C$2:$C$1048576,BD!C129,SOLICITUDES!$J$2:$J$1048576)","v":0},0,{"$f":"SUMIF(SOLICITUDES!$C$2:$C$1048576,BD!C129,SOLICITUDES!$K$2:$K$1048576)","v":0},0]
[null,null,"T2136",75,13200,208,-76.566060115489023,2.4883326490264648,37.5,37.5,15,15,{"$f":"SUMIF(SOLICITUDES!$C$2:$C$1048576,BD!C130,SOLICITUDES!$I$2:$I$1048576)","v":0},0,{"$f":"SUMIF(SOLICITUDES!$C$2:$C$1048576,BD!C130,SOLICITUDES!$J$2:$J$1048576)","v":0},0,{"$f":"SUMIF(SOLICITUDES!$C$2:$C$1048576,BD!C130,SOLICITUDES!$K$2:$K$1048576)","v":0},0]
[null,null,"T2109",15,13200,240,-76.568633509157337,2.4833870514790002,7.5,{"$f":"D131*0.5-M131","v":7.5},3,3,{"$f":"SUMIF(SOLICITUDES!$C$2:$C$1048576,BD!C131,SOLICITUDES!$I$2:$I$1048576)","v":0},{"$f":"M131/D131","v":0},{"$f":"SUMIF(SOLICITUDES!$C$2:$C$1048576,BD!C131,SOLICITUDES!$J$2:$J$1048576)","v":0},0,{"$f":"SUMIF(SOLICITUDES!$C$2:$C$1048576,BD!C131,SOLICITUDES!$K$2:$K$1048576)","v":0},0]
[null,null,"T2118",45,13200,208,-76.568432779695783,2.4909470553813149,{"$f":"D132*0.5","v":22.5},22.5,{"$f":"0.2*D132","v":9},{"$f":"0.2*D132","v":9},{"$f":"SUMIF(SOLICITUDES!$C$2:$C$1048576,BD!C132,SOLICITUDES!$I$2:$I$1048576)","v":0},0,{"$f":"SUMIF(SOLICITUDES!$C$2:$C$1048576,BD!C132,SOLICITUDES!$J$2:$J$1048576)","v":0},{"$f":"O132/(2*K132)","v":0},{"$f":"SUMIF(SOLICITUDES!$C$2:$C$1048576,BD!C132,SOLICITUDES!$K$2:$K$1048576)","v":0},{"$f":"Q132/(2*L132)","v":0}]
[null,null,"T2126",75,13200,208,-76.567713414541259,2.4911276425535793,37.5,37.5,15,15,{"$f":"SUMIF(SOLICITUDES!$C$2:$C$1048576,BD!C133,SOLICITUDES!$I$2:$I$1048576)","v":0},0,{"$f":"SUMIF(SOLICITUDES!$C$2:$C$1048576,BD!C133,SOLICITUDES!$J$2:$J$1048576)","v":0},0,{"$f":"SUMIF(SOLICITUDES!$C$2:$C$1048576,BD!C133,SOLICITUDES!$K$2:$K$1048576)","v":0},0]
[null,null,"T2103",30,13200,208,-76.570331597945781,2.4869061659328842,15,15,6,6,{"$f":"SUMIF(SOLICITUDES!$C$2:$C$1048576,BD!C134,SOLICITUDES!$I$2:$I$1048576)","v":0},0,{"$f":"SUMIF(SOLICITUDES!$C$2:$C$1048576,BD!C134,SOLICITUDES!$J$2:$J$1048576)","v":0},0,{"$f":"SUMIF(SOLICITUDES!$C$2:$C$1048576,BD!C134,SOLICITUDES!$K$2:$K$1048576)","v":0},0]
[null,null,"T2152",45,13200,208,-76.569352264257347,2.4847799784584952,22.5,22.5,9,9,{"$f":"SUMIF(SOLICITUDES!$C$2:$C$1048576,BD!C135,SOLICITUDES!$I$2:$I$1048576)","v":0},0,{"$f":"SUMIF(SOLICITUDES!$C$2:$C$1048576,BD!C135,SOLICITUDES!$J$2:$J$1048576)","v":0},0,{"$f":"SUMIF(SOLICITUDES!$C$2:$C$1048576,BD!C135,SOLICITUDES!$K$2:$K$1048576)","v":0},0]
[null,null,"T2133",45,13200,208,-76.569954507879842,2.4852233244160638,22.5,22.5,9,9,{"$f":"SUMIF(SOLICITUDES!$C$2:$C$1048576,BD!C136,SOLICITUDES!$I$2:$I$1048576)","v":0},0,{"$f":"SUMIF(SOLICITUDES!$C$2:$C$1048576,BD!C136,SOLICITUDES!$J$2:$J$1048576)","v":0},0,{"$f":"SUMIF(SOLICITUDES!$C$2:$C$1048576,BD!C136,SOLICITUDES!$K$2:$K$1048576)","v":0},0]
[null,null,"T21318",30,13200,214,-76.565603720967999,2.4915488546525015,15,15,6,6,{"$f":"SUMIF(SOLICITUDES!$C$2:$C$1048576,BD!C137,SOLICITUDES!$I$2:$I$1048576)","v":0},0,{"$f":"SUMIF(SOLICITUDES!$C$2:$C$1048576,BD!C137,SOLICITUDES!$J$2:$J$1048576)","v":0},0,{"$f":"SUMIF(SOLICITUDES!$C$2:$C$1048576,BD!C137,SOLICITUDES!$K$2:$K$1048576)","v":0},0]
[null,null,"T2127",75,13200,208,-76.565727844617797,2.487283517922882,37.5,37.5,15,15,{"$f":"SUMIF(SOLICITUDES!$C$2:$C$1048576,BD!C138,SOLICITUDES!$I$2:$I$1048576)","v":0},0,{"$f":"SUMIF(SOLICITUDES!$C$2:$C$1048576,BD!C138,SOLICITUDES!$J$2:$J$1048576)","v":0},0,{"$f":"SUMIF(SOLICITUDES!$C$2:$C$1048576,BD!C138,SOLICITUDES!$K$2:$K$1048576)","v":0},0]
[null,null,"T2137",75,13200,208,-76.570843914286684,2.4871046506657333,37.5,37.5,15,15,{"$f":"SUMIF(SOLICITUDES!$C$2:$C$1048576,BD!C139,SOLICITUDES!$I$2:$I$1048576)","v":0},0,{"$f":"SUMIF(SOLICITUDES!$C$2:$C$1048576,BD!C139,SOLICITUDES!$J$2:$J$1048576)","v":0},0,{"$f":"SUMIF(SOLICITUDES!$C$2:$C$1048576,BD!C139,SOLICITUDES!$K$2:$K$1048576)","v":0},0]
[null,null,"T2282",45,13200,208,-76.564422951424262,2.4902853325518342,22.5,22.5,9,9,{"$f":"SUMIF(SOLICITUDES!$C$2:$C$1048576,BD!C140,SOLICITUDES!$I$2:$I$1048576)","v":0},0,{"$f":"SUMIF(SOLICITUDES!$C$2:$C$1048576,BD!C140,SOLICITUDES!$J$2:$J$1048576)","v":0},0,{"$f":"SUMIF(SOLICITUDES!$C$2:$C$1048576,BD!C140,SOLICITUDES!$K$2:$K$1048576)","v":0},0]
[null,null,"T2150",75,13200,240,-76.570302032326694,2.4895727736666791,37.5,37.5,15,15,{"$f":"SUMIF(SOLICITUDES!$C$2:$C$1048576,BD!C141,SOLICITUDES!$I$2:$I$1048576)","v":0},0,{"$f":"SUMIF(SOLICITUDES!$C$2:$C$1048576,BD!C141,SOLICITUDES!$J$2:$J$1048576)","v":0},0,{"$f":"SUMIF(SOLICITUDES!$C$2:$C$1048576,BD!C141,SOLICITUDES!$K$2:$K$1048576)","v":0},0]
[null,null,"T2130",37.5,13200,240,-76.569244524308871,2.4843910816483028,18.75,18.75,7.5,7.5,{"$f":"SUMIF(SOLICITUDES!$C$2:$C$1048576,BD!C142,SOLICITUDES!$I$2:$I$1048576)","v":0},0,{"$f":"SUMIF(SOLICITUDES!$C$2:$C$1048576,BD!C142,SOLICITUDES!$J$2:$J$1048576)","v":0},0,{"$f":"SUMIF(SOLICITUDES!$C$2:$C$1048576,BD!C142,SOLICITUDES!$K$2:$K$1048576)","v":0},0]
[null,null,"T2143",75,13200,208,-76.565395624996682,2.4861168174916348,37.5,37.5,15,15,{"$f":"SUMIF(SOLICITUDES!$C$2:$C$1048576,BD!C143,SOLICITUDES!$I$2:$I$1048576)","v":0},0,{"$f":"SUMIF(SOLICITUDES!$C$2:$C$1048576,BD!C143,SOLICITUDES!$J$2:$J$1048576)","v":0},0,{"$f":"SUMIF(SOLICITUDES!$C$2:$C$1048576,BD!C143,SOLICITUDES!$K$2:$K$1048576)","v":0},0]
[null,null,"T2285",150,13200,208,-76.563613211427764,2.4916505233398394,75,75,30,30,{"$f":"SUMIF(SOLICITUDES!$C$2:$C$1048576,BD!C144,SOLICITUDES!$I$2:$I$1048576)","v":0},0,{"$f":"SUMIF(SOLICITUDES!$C$2:$C$1048576,BD!C144,SOLICITUDES!$J$2:$J$1048576)","v":0},0,{"$f":"SUMIF(SOLICITUDES!$C$2:$C$1048576,BD!C144,SOLICITUDES!$K$2:$K$1048576)","v":0},0]
[null,null,"T2105",75,13200,220,-76.57072802934249,2.4844820886058336,37.5,37.5,15,15,{"$f":"SUMIF(SOLICITUDES!$C$2:$C$1048576,BD!C145,SOLICITUDES!$I$2:$I$1048576)","v":0},0,{"$f":"SUMIF(SOLICITUDES!$C$2:$C$1048576,BD!C145,SOLICITUDES!$J$2:$J$1048576)","v":0},0,{"$f":"SUMIF(SOLICITUDES!$C$2:$C$1048576,BD!C145,SOLICITUDES!$K$2:$K$1048576)","v":0},0]
[null,null,"T16721",30,13200,214,-76.567101399258135,2.4931529895301869,15,15,6,6,{"$f":"SUMIF(SOLICITUDES!$C$2:$C$1048576,BD!C146,SOLICITUDES!$I$2:$I$1048576)","v":0},0,{"$f":"SUMIF(SOLICITUDES!$C$2:$C$1048576,BD!C146,SOLICITUDES!$J$2:$J$1048576)","v":0},0,{"$f":"SUMIF(SOLICITUDES!$C$2:$C$1048576,BD!C146,SOLICITUDES!$K$2:$K$1048576)","v":0},0]
[null,null,"T2211",45,13200,208,-76.567472951701788,2.4935564927315208,22.5,22.5,9,9,{"$f":"SUMIF(SOLICITUDES!$C$2:$C$1048576,BD!C147,SOLICITUDES!$I$2:$I$1048576)","v":0},0,{"$f":"SUMIF(SOLICITUDES!$C$2:$C$1048576,BD!C147,SOLICITUDES!$J$2:$J$1048576)","v":0},0,{"$f":"SUMIF(SOLICITUDES!$C$2:$C$1048576,BD!C147,SOLICITUDES!$K$2:$K$1048576)","v":0},0]
[null,null,"T28564",75,13200,214,-76.568586375125449,2.4823203982415802,37.5,37.5,15,15,{"$f":"SUMIF(SOLICITUDES!$C$2:$C$1048576,BD!C148,SOLICITUDES!$I$2:$I$1048576)","v":0},0,{"$f":"SUMIF(SOLICITUDES!$C$2:$C$1048576,BD!C148,SOLICITUDES!$J$2:$J$1048576)","v":0},0,{"$f":"SUMIF(SOLICITUDES!$C$2:$C$1048576,BD!C148,SOLICITUDES!$K$2:$K$1048576)","v":0},0]
[null,null,"T30937",15,13200,208,-76.571386626601921,2.4844332064936423,7.5,7.5,3,3,{"$f":"SUMIF(SOLICITUDES!$C$2:$C$1048576,BD!C149,SOLICITUDES!$I$2:$I$1048576)","v":0},0,{"$f":"SUMIF(SOLICITUDES!$C$2:$C$1048576,BD!C149,SOLICITUDES!$J$2:$J$1048576)","v":0},0,{"$f":"SUMIF(SOLICITUDES!$C$2:$C$1048576,BD!C149,SOLICITUDES!$K$2:$K$1048576)","v":0},0]
[null,null,"T2288",10,13200,240,-76.563343761155835,2.4909179201442249,5,5,2,2,{"$f":"SUMIF(SOLICITUDES!$C$2:$C$1048576,BD!C150,SOLICITUDES!$I$2:$I$1048576)","v":0},0,{"$f":"SUMIF(SOLICITUDES!$C$2:$C$1048576,BD!C150,SOLICITUDES!$J$2:$J$1048576)","v":0},0,{"$f":"SUMIF(SOLICITUDES!$C$2:$C$1048576,BD!C150,SOLICITUDES!$K$2:$K$1048576)","v":0},0]
[null,null,"T2273",112.5,13200,208,-76.562345644171415,2.491134569273334,56.25,56.25,22.5,22.5,{"$f":"SUMIF(SOLICITUDES!$C$2:$C$1048576,BD!C151,SOLICITUDES!$I$2:$I$1048576)","v":0},0,{"$f":"SUMIF(SOLICITUDES!$C$2:$C$1048576,BD!C151,SOLICITUDES!$J$2:$J$1048576)","v":0},0,{"$f":"SUMIF(SOLICITUDES!$C$2:$C$1048576,BD!C151,SOLICITUDES!$K$2:$K$1048576)","v":0},0]
[null,null,"T2272",75,13200,208,-76.563325824338961,2.4907822760276437,37.5,37.5,15,15,{"$f":"SUMIF(SOLICITUDES!$C$2:$C$1048576,BD!C152,SOLICITUDES!$I$2:$I$1048576)","v":0},0,{"$f":"SUMIF(SOLICITUDES!$C$2:$C$1048576,BD!C152,SOLICITUDES!$J$2:$J$1048576)","v":0},0,{"$f":"SUMIF(SOLICITUDES!$C$2:$C$1048576,BD!C152,SOLICITUDES!$K$2:$K$1048576)","v":0},0]
[null,null,"T2139",37.5,13200,240,-76.57185191044168,2.4845367884528007,18.75,18.75,7.5,7.5,{"$f":"SUMIF(SOLICITUDES!$C$2:$C$1048576,BD!C153,SOLICITUDES!$I$2:$I$1048576)","v":0},0,{"$f":"SUMIF(SOLICITUDES!$C$2:$C$1048576,BD!C153,SOLICITUDES!$J$2:$J$1048576)","v":0},0,{"$f":"SUMIF(SOLICITUDES!$C$2:$C$1048576,BD!C153,SOLICITUDES!$K$2:$K$1048576)","v":0},0]
[null,null,"T10425",30,13200,214,-76.568588091922024,2.481892817063807,15,15,6,6,{"$f":"SUMIF(SOLICITUDES!$C$2:$C$1048576,BD!C154,SOLICITUDES!$I$2:$I$1048576)","v":0},0,{"$f":"SUMIF(SOLICITUDES!$C$2:$C$1048576,BD!C154,SOLICITUDES!$J$2:$J$1048576)","v":0},0,{"$f":"SUMIF(SOLICITUDES!$C$2:$C$1048576,BD!C154,SOLICITUDES!$K$2:$K$1048576)","v":0},0]
[null,null,"T2304",75,13200,208,-76.563721316887055,2.4910989327696762,37.5,37.5,15,15,{"$f":"SUMIF(SOLICITUDES!$C$2:$C$1048576,BD!C155,SOLICITUDES!$I$2:$I$1048576)","v":0},0,{"$f":"SUMIF(SOLICITUDES!$C$2:$C$1048576,BD!C155,SOLICITUDES!$J$2:$J$1048576)","v":0},0,{"$f":"SUMIF(SOLICITUDES!$C$2:$C$1048576,BD!C155,SOLICITUDES!$K$2:$K$1048576)","v":0},0]
[null,null,"T40021",25,13200,240,-76.568596184074025,2.4948086460191221,12.5,12.5,5,5,{"$f":"SUMIF(SOLICITUDES!$C$2:$C$1048576,BD!C156,SOLICITUDES!$I$2:$I$1048576)","v":0},0,{"$f":"SUMIF(SOLICITUDES!$C$2:$C$1048576,BD!C156,SOLICITUDES!$J$2:$J$1048576)","v":0},0,{"$f":"SUMIF(SOLICITUDES!$C$2:$C$1048576,BD!C156,SOLICITUDES!$K$2:$K$1048576)","v":0},0]
[null,null,"T40052",112.5,13200,226,-76.567851796156674,2.4941341242517634,56.25,56.25,22.5,22.5,{"$f":"SUMIF(SOLICITUDES!$C$2:$C$1048576,BD!C157,SOLICITUDES!$I$2:$I$1048576)","v":0},0,{"$f":"SUMIF(SOLICITUDES!$C$2:$C$1048576,BD!C157,SOLICITUDES!$J$2:$J$1048576)","v":0},0,{"$f":"SUMIF(SOLICITUDES!$C$2:$C$1048576,BD!C157,SOLICITUDES!$K$2:$K$1048576)","v":0},0]
[null,null,"T2231",75,13200,208,-76.569060206044952,2.4960205114163756,37.5,37.5,15,15,{"$f":"SUMIF(SOLICITUDES!$C$2:$C$1048576,BD!C158,SOLICITUDES!$I$2:$I$1048576)","v":0},0,{"$f":"SUMIF(SOLICITUDES!$C$2:$C$1048576,BD!C158,SOLICITUDES!$J$2:$J$1048576)","v":0},0,{"$f":"SUMIF(SOLICITUDES!$C$2:$C$1048576,BD!C158,SOLICITUDES!$K$2:$K$1048576)","v":0},0]
[null,null,"T2308",112.5,13200,208,-76.563028548280087,2.4922561856721175,56.25,56.25,22.5,22.5,{"$f":"SUMIF(SOLICITUDES!$C$2:$C$1048576,BD!C159,SOLICITUDES!$I$2:$I$1048576)","v":0},0,{"$f":"SUMIF(SOLICITUDES!$C$2:$C$1048576,BD!C159,SOLICITUDES!$J$2:$J$1048576)","v":0},0,{"$f":"SUMIF(SOLICITUDES!$C$2:$C$1048576,BD!C159,SOLICITUDES!$K$2:$K$1048576)","v":0},0]
[null,null,"T41506",800,13200,452,-76.568773894418584,2.4815318586529869,400,400,160,160,{"$f":"SUMIF(SOLICITUDES!$C$2:$C$1048576,BD!C160,SOLICITUDES!$I$2:$I$1048576)","v":0},0,{"$f":"SUMIF(SOLICITUDES!$C$2:$C$1048576,BD!C160,SOLICITUDES!$J$2:$J$1048576)","v":0},0,{"$f":"SUMIF(SOLICITUDES!$C$2:$C$1048576,BD!C160,SOLICITUDES!$K$2:$K$1048576)","v":0},0]
[null,null,"T19571",30,13200,208,-76.571964111278376,2.4851311617610676,15,15,6,6,{"$f":"SUMIF(SOLICITUDES!$C$2:$C$1048576,BD!C161,SOLICITUDES!$I$2:$I$1048576)","v":0},0,{"$f":"SUMIF(SOLICITUDES!$C$2:$C$1048576,BD!C161,SOLICITUDES!$J$2:$J$1048576)","v":0},0,{"$f":"SUMIF(SOLICITUDES!$C$2:$C$1048576,BD!C161,SOLICITUDES!$K$2:$K$1048576)","v":0},0]
[null,null,"T19572",30,13200,220,-76.572871751780568,2.4846026904045773,15,15,6,6,{"$f":"SUMIF(SOLICITUDES!$C$2:$C$1048576,BD!C162,SOLICITUDES!$I$2:$I$1048576)","v":0},0,{"$f":"SUMIF(SOLICITUDES!$C$2:$C$1048576,BD!C162,SOLICITUDES!$J$2:$J$1048576)","v":0},0,{"$f":"SUMIF(SOLICITUDES!$C$2:$C$1048576,BD!C162,SOLICITUDES!$K$2:$K$1048576)","v":0},0]
[null,null,"T2212",75,13200,208,-76.577337904679268,2.5045694957119271,37.5,37.5,15,15,{"$f":"SUMIF(SOLICITUDES!$C$2:$C$1048576,BD!C163,SOLICITUDES!$I$2:$I$1048576)","v":0},0,{"$f":"SUMIF(SOLICITUDES!$C$2:$C$1048576,BD!C163,SOLICITUDES!$J$2:$J$1048576)","v":0},0,{"$f":"SUMIF(SOLICITUDES!$C$2:$C$1048576,BD!C163,SOLICITUDES!$K$2:$K$1048576)","v":0},0]
[null,null,"T3020",10,13200,240,-76.571591765886879,2.5063216596947839,5,5,2,2,{"$f":"SUMIF(SOLICITUDES!$C$2:$C$1048576,BD!C164,SOLICITUDES!$I$2:$I$1048576)","v":0},0,{"$f":"SUMIF(SOLICITUDES!$C$2:$C$1048576,BD!C164,SOLICITUDES!$J$2:$J$1048576)","v":0},0,{"$f":"SUMIF(SOLICITUDES!$C$2:$C$1048576,BD!C164,SOLICITUDES!$K$2:$K$1048576)","v":0},0]
[null,null,"T3019",10,13200,240,-76.571420446545133,2.5075605043957419,5,5,2,2,{"$f":"SUMIF(SOLICITUDES!$C$2:$C$1048576,BD!C165,SOLICITUDES!$I$2:$I$1048576)","v":0},0,{"$f":"SUMIF(SOLICITUDES!$C$2:$C$1048576,BD!C165,SOLICITUDES!$J$2:$J$1048576)","v":0},0,{"$f":"SUMIF(SOLICITUDES!$C$2:$C$1048576,BD!C165,SOLICITUDES!$K$2:$K$1048576)","v":0},0]
[null,null,"T2223",25,13200,240,-76.581949245032305,2.5077544271232122,12.5,12.5,5,5,{"$f":"SUMIF(SOLICITUDES!$C$2:$C$1048576,BD!C166,SOLICITUDES!$I$2:$I$1048576)","v":0},0,{"$f":"SUMIF(SOLICITUDES!$C$2:$C$1048576,BD!C166,SOLICITUDES!$J$2:$J$1048576)","v":0},0,{"$f":"SUMIF(SOLICITUDES!$C$2:$C$1048576,BD!C166,SOLICITUDES!$K$2:$K$1048576)","v":0},0]
[null,null,"T2289",10,13200,240,-76.558062057291593,2.5006733766236482,5,5,2,2,{"$f":"SUMIF(SOLICITUDES!$C$2:$C$1048576,BD!C167,SOLICITUDES!$I$2:$I$1048576)","v":0},0,{"$f":"SUMIF(SOLICITUDES!$C$2:$C$1048576,BD!C167,SOLICITUDES!$J$2:$J$1048576)","v":0},0,{"$f":"SUMIF(SOLICITUDES!$C$2:$C$1048576,BD!C167,SOLICITUDES!$K$2:$K$1048576)","v":0},0]
[null,null,"T3078",75,13200,220,-76.558610448821511,2.5008725443435651,37.5,37.5,15,15,{"$f":"SUMIF(SOLICITUDES!$C$2:$C$1048576,BD!C168,SOLICITUDES!$I$2:$I$1048576)","v":0},0,{"$f":"SUMIF(SOLICITUDES!$C$2:$C$1048576,BD!C168,SOLICITUDES!$J$2:$J$1048576)","v":0},0,{"$f":"SUMIF(SOLICITUDES!$C$2:$C$1048576,BD!C168,SOLICITUDES!$K$2:$K$1048576)","v":0},0]
[null,null,"T2300",75,13200,208,-76.557945031578129,2.5010350507188144,37.5,37.5,15,15,{"$f":"SUMIF(SOLICITUDES!$C$2:$C$1048576,BD!C169,SOLICITUDES!$I$2:$I$1048576)","v":0},0,{"$f":"SUMIF(SOLICITUDES!$C$2:$C$1048576,BD!C169,SOLICITUDES!$J$2:$J$1048576)","v":0},0,{"$f":"SUMIF(SOLICITUDES!$C$2:$C$1048576,BD!C169,SOLICITUDES!$K$2:$K$1048576)","v":0},0]
[null,null,"T3495",10,13200,240,-76.577857618973141,2.5092179160678643,5,5,2,2,{"$f":"SUMIF(SOLICITUDES!$C$2:$C$1048576,BD!C170,SOLICITUDES!$I$2:$I$1048576)","v":0},0,{"$f":"SUMIF(SOLICITUDES!$C$2:$C$1048576,BD!C170,SOLICITUDES!$J$2:$J$1048576)","v":0},0,{"$f":"SUMIF(SOLICITUDES!$C$2:$C$1048576,BD!C170,SOLICITUDES!$K$2:$K$1048576)","v":0},0]
[null,null,"T2259",75,13200,208,-76.557899997627317,2.501215898817867,37.5,37.5,15,15,{"$f":"SUMIF(SOLICITUDES!$C$2:$C$1048576,BD!C171,SOLICITUDES!$I$2:$I$1048576)","v":0},0,{"$f":"SUMIF(SOLICITUDES!$C$2:$C$1048576,BD!C171,SOLICITUDES!$J$2:$J$1048576)","v":0},0,{"$f":"SUMIF(SOLICITUDES!$C$2:$C$1048576,BD!C171,SOLICITUDES!$K$2:$K$1048576)","v":0},0]
[null,null,"T14426",10,13200,240,-76.582959569851894,2.511863821332911,5,5,2,2,{"$f":"SUMIF(SOLICITUDES!$C$2:$C$1048576,BD!C172,SOLICITUDES!$I$2:$I$1048576)","v":0},0,{"$f":"SUMIF(SOLICITUDES!$C$2:$C$1048576,BD!C172,SOLICITUDES!$J$2:$J$1048576)","v":0},0,{"$f":"SUMIF(SOLICITUDES!$C$2:$C$1048576,BD!C172,SOLICITUDES!$K$2:$K$1048576)","v":0},0]
[null,null,"T30191",0.5,13200,240,-76.586929489134832,2.5104512434393809,0.25,0.25,0.1,0.1,{"$f":"SUMIF(SOLICITUDES!$C$2:$C$1048576,BD!C173,SOLICITUDES!$I$2:$I$1048576)","v":0},0,{"$f":"SUMIF(SOLICITUDES!$C$2:$C$1048576,BD!C173,SOLICITUDES!$J$2:$J$1048576)","v":0},0,{"$f":"SUMIF(SOLICITUDES!$C$2:$C$1048576,BD!C173,SOLICITUDES!$K$2:$K$1048576)","v":0},0]
[null,null,"T2217",5,13200,240,-76.585473495785195,2.5088590735088352,2.5,2.5,1,1,{"$f":"SUMIF(SOLICITUDES!$C$2:$C$1048576,BD!C174,SOLICITUDES!$I$2:$I$1048576)","v":0},0,{"$f":"SUMIF(SOLICITUDES!$C$2:$C$1048576,BD!C174,SOLICITUDES!$J$2:$J$1048576)","v":0},0,{"$f":"SUMIF(SOLICITUDES!$C$2:$C$1048576,BD!C174,SOLICITUDES!$K$2:$K$1048576)","v":0},0]
[null,null,"T41503",112.5,13200,228,-76.558778568361205,2.5011066227767511,56.25,56.25,22.5,22.5,{"$f":"SUMIF(SOLICITUDES!$C$2:$C$1048576,BD!C175,SOLICITUDES!$I$2:$I$1048576)","v":0},0,{"$f":"SUMIF(SOLICITUDES!$C$2:$C$1048576,BD!C175,SOLICITUDES!$J$2:$J$1048576)","v":0},0,{"$f":"SUMIF(SOLICITUDES!$C$2:$C$1048576,BD!C175,SOLICITUDES!$K$2:$K$1048576)","v":0},0]
[null,null,"T3036",25,13200,240,-76.574459079878721,2.5087101776108542,12.5,12.5,5,5,{"$f":"SUMIF(SOLICITUDES!$C$2:$C$1048576,BD!C176,SOLICITUDES!$I$2:$I$1048576)","v":0},0,{"$f":"SUMIF(SOLICITUDES!$C$2:$C$1048576,BD!C176,SOLICITUDES!$J$2:$J$1048576)","v":0},0,{"$f":"SUMIF(SOLICITUDES!$C$2:$C$1048576,BD!C176,SOLICITUDES!$K$2:$K$1048576)","v":0},0]
[null,null,"T30281",75,13200,241,-76.558951925579777,2.501351963445718,37.5,37.5,15,15,{"$f":"SUMIF(SOLICITUDES!$C$2:$C$1048576,BD!C177,SOLICITUDES!$I$2:$I$1048576)","v":0},0,{"$f":"SUMIF(SOLICITUDES!$C$2:$C$1048576,BD!C177,SOLICITUDES!$J$2:$J$1048576)","v":0},0,{"$f":"SUMIF(SOLICITUDES!$C$2:$C$1048576,BD!C177,SOLICITUDES!$K$2:$K$1048576)","v":0},0]
[null,null,"T2668",10,13200,240,-76.557882010173088,2.5012128454027103,5,5,2,2,{"$f":"SUMIF(SOLICITUDES!$C$2:$C$1048576,BD!C178,SOLICITUDES!$I$2:$I$1048576)","v":0},0,{"$f":"SUMIF(SOLICITUDES!$C$2:$C$1048576,BD!C178,SOLICITUDES!$J$2:$J$1048576)","v":0},0,{"$f":"SUMIF(SOLICITUDES!$C$2:$C$1048576,BD!C178,SOLICITUDES!$K$2:$K$1048576)","v":0},0]
[null,null,"T10438",30,13200,208,-76.577839634039876,2.5092169611622759,15,15,6,6,{"$f":"SUMIF(SOLICITUDES!$C$2:$C$1048576,BD!C179,SOLICITUDES!$I$2:$I$1048576)","v":0},0,{"$f":"SUMIF(SOLICITUDES!$C$2:$C$1048576,BD!C179,SOLICITUDES!$J$2:$J$1048576)","v":0},0,{"$f":"SUMIF(SOLICITUDES!$C$2:$C$1048576,BD!C179,SOLICITUDES!$K$2:$K$1048576)","v":0},0]
[null,null,"T15113",10,13200,240,-76.55891019655472,2.5009428635315718,5,5,2,2,{"$f":"SUMIF(SOLICITUDES!$C$2:$C$1048576,BD!C180,SOLICITUDES!$I$2:$I$1048576)","v":0},0,{"$f":"SUMIF(SOLICITUDES!$C$2:$C$1048576,BD!C180,SOLICITUDES!$J$2:$J$1048576)","v":0},0,{"$f":"SUMIF(SOLICITUDES!$C$2:$C$1048576,BD!C180,SOLICITUDES!$K$2:$K$1048576)","v":0},0]
[null,null,"T2226",5,13200,240,-76.597386044807109,2.5358936745533196,2.5,2.5,1,1,{"$f":"SUMIF(SOLICITUDES!$C$2:$C$1048576,BD!C181,SOLICITUDES!$I$2:$I$1048576)","v":0},0,{"$f":"SUMIF(SOLICITUDES!$C$2:$C$1048576,BD!C181,SOLICITUDES!$J$2:$J$1048576)","v":0},0,{"$f":"SUMIF(SOLICITUDES!$C$2:$C$1048576,BD!C181,SOLICITUDES!$K$2:$K$1048576)","v":0},0]
[null,null,"T3033",5,13200,240,-76.563560488287379,2.5114369094381406,2.5,2.5,1,1,{"$f":"SUMIF(SOLICITUDES!$C$2:$C$1048576,BD!C182,SOLICITUDES!$I$2:$I$1048576)","v":0},0,{"$f":"SUMIF(SOLICITUDES!$C$2:$C$1048576,BD!C182,SOLICITUDES!$J$2:$J$1048576)","v":0},0,{"$f":"SUMIF(SOLICITUDES!$C$2:$C$1048576,BD!C182,SOLICITUDES!$K$2:$K$1048576)","v":0},0]
[null,null,"T3012",15,13200,240,-76.564450414956369,2.5119889005058855,7.5,7.5,3,3,{"$f":"SUMIF(SOLICITUDES!$C$2:$C$1048576,BD!C183,SOLICITUDES!$I$2:$I$1048576)","v":0},0,{"$f":"SUMIF(SOLICITUDES!$C$2:$C$1048576,BD!C183,SOLICITUDES!$J$2:$J$1048576)","v":0},0,{"$f":"SUMIF(SOLICITUDES!$C$2:$C$1048576,BD!C183,SOLICITUDES!$K$2:$K$1048576)","v":0},0]
[null,null,"T3089",15,13200,240,-76.565484349361995,2.5121792200887945,7.5,7.5,3,3,{"$f":"SUMIF(SOLICITUDES!$C$2:$C$1048576,BD!C184,SOLICITUDES!$I$2:$I$1048576)","v":0},0,{"$f":"SUMIF(SOLICITUDES!$C$2:$C$1048576,BD!C184,SOLICITUDES!$J$2:$J$1048576)","v":0},0,{"$f":"SUMIF(SOLICITUDES!$C$2:$C$1048576,BD!C184,SOLICITUDES!$K$2:$K$1048576)","v":0},0]
[null,null,"T2621",25,13200,240,-76.610083506261759,2.5322539220224356,12.5,12.5,5,5,{"$f":"SUMIF(SOLICITUDES!$C$2:$C$1048576,BD!C185,SOLICITUDES!$I$2:$I$1048576)","v":0},0,{"$f":"SUMIF(SOLICITUDES!$C$2:$C$1048576,BD!C185,SOLICITUDES!$J$2:$J$1048576)","v":0},0,{"$f":"SUMIF(SOLICITUDES!$C$2:$C$1048576,BD!C185,SOLICITUDES!$K$2:$K$1048576)","v":0},0]
[null,null,"T2228",15,13200,240,-76.592508359712411,2.5233127000609197,7.5,7.5,3,3,{"$f":"SUMIF(SOLICITUDES!$C$2:$C$1048576,BD!C186,SOLICITUDES!$I$2:$I$1048576)","v":0},0,{"$f":"SUMIF(SOLICITUDES!$C$2:$C$1048576,BD!C186,SOLICITUDES!$J$2:$J$1048576)","v":0},0,{"$f":"SUMIF(SOLICITUDES!$C$2:$C$1048576,BD!C186,SOLICITUDES!$K$2:$K$1048576)","v":0},0]
[null,null,"T42349",112.5,13200,226,-76.559746615864583,2.5004481914878713,56.25,56.25,22.5,22.5,{"$f":"SUMIF(SOLICITUDES!$C$2:$C$1048576,BD!C187,SOLICITUDES!$I$2:$I$1048576)","v":0},0,{"$f":"SUMIF(SOLICITUDES!$C$2:$C$1048576,BD!C187,SOLICITUDES!$J$2:$J$1048576)","v":0},0,{"$f":"SUMIF(SOLICITUDES!$C$2:$C$1048576,BD!C187,SOLICITUDES!$K$2:$K$1048576)","v":0},0]
[null,null,"T2996",25,13200,240,-76.567650877312516,2.5131929077236608,12.5,12.5,5,5,{"$f":"SUMIF(SOLICITUDES!$C$2:$C$1048576,BD!C188,SOLICITUDES!$I$2:$I$1048576)","v":0},0,{"$f":"SUMIF(SOLICITUDES!$C$2:$C$1048576,BD!C188,SOLICITUDES!$J$2:$J$1048576)","v":0},0,{"$f":"SUMIF(SOLICITUDES!$C$2:$C$1048576,BD!C188,SOLICITUDES!$K$2:$K$1048576)","v":0},0]
[null,null,"T3059",37.5,13200,240,-76.56493530159382,2.5136530368063146,18.75,18.75,7.5,7.5,{"$f":"SUMIF(SOLICITUDES!$C$2:$C$1048576,BD!C189,SOLICITUDES!$I$2:$I$1048576)","v":0},0,{"$f":"SUMIF(SOLICITUDES!$C$2:$C$1048576,BD!C189,SOLICITUDES!$J$2:$J$1048576)","v":0},0,{"$f":"SUMIF(SOLICITUDES!$C$2:$C$1048576,BD!C189,SOLICITUDES!$K$2:$K$1048576)","v":0},0]
[null,null,"T27143",5,13200,240,-76.591451838580994,2.5307204680645063,2.5,2.5,1,1,{"$f":"SUMIF(SOLICITUDES!$C$2:$C$1048576,BD!C190,SOLICITUDES!$I$2:$I$1048576)","v":0},0,{"$f":"SUMIF(SOLICITUDES!$C$2:$C$1048576,BD!C190,SOLICITUDES!$J$2:$J$1048576)","v":0},0,{"$f":"SUMIF(SOLICITUDES!$C$2:$C$1048576,BD!C190,SOLICITUDES!$K$2:$K$1048576)","v":0},0]
[null,null,"T30699",150,13200,452,-76.560766178006887,2.5060991057119049,75,75,30,30,{"$f":"SUMIF(SOLICITUDES!$C$2:$C$1048576,BD!C191,SOLICITUDES!$I$2:$I$1048576)","v":0},0,{"$f":"SUMIF(SOLICITUDES!$C$2:$C$1048576,BD!C191,SOLICITUDES!$J$2:$J$1048576)","v":0},0,{"$f":"SUMIF(SOLICITUDES!$C$2:$C$1048576,BD!C191,SOLICITUDES!$K$2:$K$1048576)","v":0},0]
[null,null,"T15110",225,13200,208,-76.560954180792976,2.5084425922534379,112.5,112.5,45,45,{"$f":"SUMIF(SOLICITUDES!$C$2:$C$1048576,BD!C192,SOLICITUDES!$I$2:$I$1048576)","v":0},0,{"$f":"SUMIF(SOLICITUDES!$C$2:$C$1048576,BD!C192,SOLICITUDES!$J$2:$J$1048576)","v":0},0,{"$f":"SUMIF(SOLICITUDES!$C$2:$C$1048576,BD!C192,SOLICITUDES!$K$2:$K$1048576)","v":0},0]
[null,null,"T31007",30,13200,240,-76.567740105441473,2.5149563569813163,15,0,6,6,{"$f":"SUMIF(SOLICITUDES!$C$2:$C$1048576,BD!C193,SOLICITUDES!$I$2:$I$1048576)","v":15},0.5,{"$f":"SUMIF(SOLICITUDES!$C$2:$C$1048576,BD!C193,SOLICITUDES!$J$2:$J$1048576)","v":0},0,{"$f":"SUMIF(SOLICITUDES!$C$2:$C$1048576,BD!C193,SOLICITUDES!$K$2:$K$1048576)","v":15},1.25]
[null,null,"T3031",15,13200,220,-76.573260555965589,2.5156277209821165,7.5,7.5,3,3,{"$f":"SUMIF(SOLICITUDES!$C$2:$C$1048576,BD!C194,SOLICITUDES!$I$2:$I$1048576)","v":0},0,{"$f":"SUMIF(SOLICITUDES!$C$2:$C$1048576,BD!C194,SOLICITUDES!$J$2:$J$1048576)","v":0},0,{"$f":"SUMIF(SOLICITUDES!$C$2:$C$1048576,BD!C194,SOLICITUDES!$K$2:$K$1048576)","v":0},0]
[null,null,"T30128",10,13200,240,-76.570260887352745,2.5149935633921445,5,{"$f":"D195*0.5-M195","v":5},2,2,{"$f":"SUMIF(SOLICITUDES!$C$2:$C$1048576,BD!C195,SOLICITUDES!$I$2:$I$1048576)","v":0},{"$f":"M195/D195","v":0},{"$f":"SUMIF(SOLICITUDES!$C$2:$C$1048576,BD!C195,SOLICITUDES!$J$2:$J$1048576)","v":0},0,{"$f":"SUMIF(SOLICITUDES!$C$2:$C$1048576,BD!C195,SOLICITUDES!$K$2:$K$1048576)","v":0},0]
[null,null,"T3057",25,13200,240,-76.571587267743908,2.5147555188408872,{"$f":"D196*0.5","v":12.5},12.5,{"$f":"0.2*D196","v":5},{"$f":"0.2*D196","v":5},{"$f":"SUMIF(SOLICITUDES!$C$2:$C$1048576,BD!C196,SOLICITUDES!$I$2:$I$1048576)","v":0},0,{"$f":"SUMIF(SOLICITUDES!$C$2:$C$1048576,BD!C196,SOLICITUDES!$J$2:$J$1048576)","v":0},{"$f":"O196/(2*K196)","v":0},{"$f":"SUMIF(SOLICITUDES!$C$2:$C$1048576,BD!C196,SOLICITUDES!$K$2:$K$1048576)","v":0},{"$f":"Q196/(2*L196)","v":0}]
[null,null,"T2626",5,13200,240,-76.617222578188034,2.5330162169725301,2.5,2.5,1,1,{"$f":"SUMIF(SOLICITUDES!$C$2:$C$1048576,BD!C197,SOLICITUDES!$I$2:$I$1048576)","v":0},0,{"$f":"SUMIF(SOLICITUDES!$C$2:$C$1048576,BD!C197,SOLICITUDES!$J$2:$J$1048576)","v":0},0,{"$f":"SUMIF(SOLICITUDES!$C$2:$C$1048576,BD!C197,SOLICITUDES!$K$2:$K$1048576)","v":0},0]
[null,null,"T2615",25,13200,240,-76.615297609478091,2.5350592135905234,12.5,12.5,5,5,{"$f":"SUMIF(SOLICITUDES!$C$2:$C$1048576,BD!C198,SOLICITUDES!$I$2:$I$1048576)","v":0},0,{"$f":"SUMIF(SOLICITUDES!$C$2:$C$1048576,BD!C198,SOLICITUDES!$J$2:$J$1048576)","v":0},0,{"$f":"SUMIF(SOLICITUDES!$C$2:$C$1048576,BD!C198,SOLICITUDES!$K$2:$K$1048576)","v":0},0]
[null,null,"T2616",25,13200,240,-76.61333523074515,2.5411627166633242,12.5,12.5,5,5,{"$f":"SUMIF(SOLICITUDES!$C$2:$C$1048576,BD!C199,SOLICITUDES!$I$2:$I$1048576)","v":0},0,{"$f":"SUMIF(SOLICITUDES!$C$2:$C$1048576,BD!C199,SOLICITUDES!$J$2:$J$1048576)","v":0},0,{"$f":"SUMIF(SOLICITUDES!$C$2:$C$1048576,BD!C199,SOLICITUDES!$K$2:$K$1048576)","v":0},0]
[null,null,"T2620",30,13200,208,-76.618579981201094,2.5338758172924121,15,15,6,6,{"$f":"SUMIF(SOLICITUDES!$C$2:$C$1048576,BD!C200,SOLICITUDES!$I$2:$I$1048576)","v":0},0,{"$f":"SUMIF(SOLICITUDES!$C$2:$C$1048576,BD!C200,SOLICITUDES!$J$2:$J$1048576)","v":0},0,{"$f":"SUMIF(SOLICITUDES!$C$2:$C$1048576,BD!C200,SOLICITUDES!$K$2:$K$1048576)","v":0},0]
[null,null,"T21973",10,13200,240,-76.620011018407425,2.5313119016679915,5,5,2,2,{"$f":"SUMIF(SOLICITUDES!$C$2:$C$1048576,BD!C201,SOLICITUDES!$I$2:$I$1048576)","v":0},0,{"$f":"SUMIF(SOLICITUDES!$C$2:$C$1048576,BD!C201,SOLICITUDES!$J$2:$J$1048576)","v":0},0,{"$f":"SUMIF(SOLICITUDES!$C$2:$C$1048576,BD!C201,SOLICITUDES!$K$2:$K$1048576)","v":0},0]
[null,null,"T2622",15,13200,240,-76.608852031021442,2.5433097185073272,7.5,7.5,3,3,{"$f":"SUMIF(SOLICITUDES!$C$2:$C$1048576,BD!C202,SOLICITUDES!$I$2:$I$1048576)","v":0},0,{"$f":"SUMIF(SOLICITUDES!$C$2:$C$1048576,BD!C202,SOLICITUDES!$J$2:$J$1048576)","v":0},0,{"$f":"SUMIF(SOLICITUDES!$C$2:$C$1048576,BD!C202,SOLICITUDES!$K$2:$K$1048576)","v":0},0]
[null,null,"T29420",25,13200,240,-76.575340917732234,2.5182647030153364,12.5,12.5,5,5,{"$f":"SUMIF(SOLICITUDES!$C$2:$C$1048576,BD!C203,SOLICITUDES!$I$2:$I$1048576)","v":0},0,{"$f":"SUMIF(SOLICITUDES!$C$2:$C$1048576,BD!C203,SOLICITUDES!$J$2:$J$1048576)","v":0},0,{"$f":"SUMIF(SOLICITUDES!$C$2:$C$1048576,BD!C203,SOLICITUDES!$K$2:$K$1048576)","v":0},0]
[null,null,"T21974",5,13200,240,-76.623992482380487,2.5318662247065551,2.5,2.5,1,1,{"$f":"SUMIF(SOLICITUDES!$C$2:$C$1048576,BD!C204,SOLICITUDES!$I$2:$I$1048576)","v":0},0,{"$f":"SUMIF(SOLICITUDES!$C$2:$C$1048576,BD!C204,SOLICITUDES!$J$2:$J$1048576)","v":0},0,{"$f":"SUMIF(SOLICITUDES!$C$2:$C$1048576,BD!C204,SOLICITUDES!$K$2:$K$1048576)","v":0},0]
[null,null,"T2619",15,13200,240,-76.604936037221904,2.538486771415188,7.5,7.5,3,3,{"$f":"SUMIF(SOLICITUDES!$C$2:$C$1048576,BD!C205,SOLICITUDES!$I$2:$I$1048576)","v":0},0,{"$f":"SUMIF(SOLICITUDES!$C$2:$C$1048576,BD!C205,SOLICITUDES!$J$2:$J$1048576)","v":0},0,{"$f":"SUMIF(SOLICITUDES!$C$2:$C$1048576,BD!C205,SOLICITUDES!$K$2:$K$1048576)","v":0},0]
[null,null,"T30635",25,13200,240,-76.577250548353632,2.5218041471597155,12.5,12.5,5,5,{"$f":"SUMIF(SOLICITUDES!$C$2:$C$1048576,BD!C206,SOLICITUDES!$I$2:$I$1048576)","v":0},0,{"$f":"SUMIF(SOLICITUDES!$C$2:$C$1048576,BD!C206,SOLICITUDES!$J$2:$J$1048576)","v":0},0,{"$f":"SUMIF(SOLICITUDES!$C$2:$C$1048576,BD!C206,SOLICITUDES!$K$2:$K$1048576)","v":0},0]
[null,null,"T30636",5,13200,240,-76.575719859025142,2.5208837160736586,2.5,2.5,1,1,{"$f":"SUMIF(SOLICITUDES!$C$2:$C$1048576,BD!C207,SOLICITUDES!$I$2:$I$1048576)","v":0},0,{"$f":"SUMIF(SOLICITUDES!$C$2:$C$1048576,BD!C207,SOLICITUDES!$J$2:$J$1048576)","v":0},0,{"$f":"SUMIF(SOLICITUDES!$C$2:$C$1048576,BD!C207,SOLICITUDES!$K$2:$K$1048576)","v":0},0]
[null,null,"T16686",50,13200,240,-76.656031277694112,2.3879573929461411,25,25,10,10,{"$f":"SUMIF(SOLICITUDES!$C$2:$C$1048576,BD!C208,SOLICITUDES!$I$2:$I$1048576)","v":0},0,{"$f":"SUMIF(SOLICITUDES!$C$2:$C$1048576,BD!C208,SOLICITUDES!$J$2:$J$1048576)","v":0},0,{"$f":"SUMIF(SOLICITUDES!$C$2:$C$1048576,BD!C208,SOLICITUDES!$K$2:$K$1048576)","v":0},0]
[null,null,"T2514",30,13200,208,-76.615094355252111,2.4481629132986122,15,15,6,6,{"$f":"SUMIF(SOLICITUDES!$C$2:$C$1048576,BD!C209,SOLICITUDES!$I$2:$I$1048576)","v":0},0,{"$f":"SUMIF(SOLICITUDES!$C$2:$C$1048576,BD!C209,SOLICITUDES!$J$2:$J$1048576)","v":0},0,{"$f":"SUMIF(SOLICITUDES!$C$2:$C$1048576,BD!C209,SOLICITUDES!$K$2:$K$1048576)","v":0},0]
[null,null,"T14591",15,13200,240,-76.612315867776516,2.4489396540010908,7.5,7.5,3,3,{"$f":"SUMIF(SOLICITUDES!$C$2:$C$1048576,BD!C210,SOLICITUDES!$I$2:$I$1048576)","v":0},0,{"$f":"SUMIF(SOLICITUDES!$C$2:$C$1048576,BD!C210,SOLICITUDES!$J$2:$J$1048576)","v":0},0,{"$f":"SUMIF(SOLICITUDES!$C$2:$C$1048576,BD!C210,SOLICITUDES!$K$2:$K$1048576)","v":0},0]
[null,null,"T14585",112.5,13200,208,-76.612279736477703,2.4494098902298718,56.25,56.25,22.5,22.5,{"$f":"SUMIF(SOLICITUDES!$C$2:$C$1048576,BD!C211,SOLICITUDES!$I$2:$I$1048576)","v":0},0,{"$f":"SUMIF(SOLICITUDES!$C$2:$C$1048576,BD!C211,SOLICITUDES!$J$2:$J$1048576)","v":0},0,{"$f":"SUMIF(SOLICITUDES!$C$2:$C$1048576,BD!C211,SOLICITUDES!$K$2:$K$1048576)","v":0},0]
[null,null,"T2510",75,13200,208,-76.6157598509932,2.4476928919229239,37.5,37.5,15,15,{"$f":"SUMIF(SOLICITUDES!$C$2:$C$1048576,BD!C212,SOLICITUDES!$I$2:$I$1048576)","v":0},0,{"$f":"SUMIF(SOLICITUDES!$C$2:$C$1048576,BD!C212,SOLICITUDES!$J$2:$J$1048576)","v":0},0,{"$f":"SUMIF(SOLICITUDES!$C$2:$C$1048576,BD!C212,SOLICITUDES!$K$2:$K$1048576)","v":0},0]
[null,null,"T2512",45,13200,208,-76.614959759183876,2.4473851416964161,22.5,22.5,9,9,{"$f":"SUMIF(SOLICITUDES!$C$2:$C$1048576,BD!C213,SOLICITUDES!$I$2:$I$1048576)","v":0},0,{"$f":"SUMIF(SOLICITUDES!$C$2:$C$1048576,BD!C213,SOLICITUDES!$J$2:$J$1048576)","v":0},0,{"$f":"SUMIF(SOLICITUDES!$C$2:$C$1048576,BD!C213,SOLICITUDES!$K$2:$K$1048576)","v":0},0]
[null,null,"T14581",45,13200,208,-76.611299712306959,2.4494366688891493,22.5,22.5,9,9,{"$f":"SUMIF(SOLICITUDES!$C$2:$C$1048576,BD!C214,SOLICITUDES!$I$2:$I$1048576)","v":0},0,{"$f":"SUMIF(SOLICITUDES!$C$2:$C$1048576,BD!C214,SOLICITUDES!$J$2:$J$1048576)","v":0},0,{"$f":"SUMIF(SOLICITUDES!$C$2:$C$1048576,BD!C214,SOLICITUDES!$K$2:$K$1048576)","v":0},0]
[null,null,"T2542",112.5,13200,208,-76.614195627416038,2.4470954976250558,56.25,56.25,22.5,22.5,{"$f":"SUMIF(SOLICITUDES!$C$2:$C$1048576,BD!C215,SOLICITUDES!$I$2:$I$1048576)","v":0},0,{"$f":"SUMIF(SOLICITUDES!$C$2:$C$1048576,BD!C215,SOLICITUDES!$J$2:$J$1048576)","v":0},0,{"$f":"SUMIF(SOLICITUDES!$C$2:$C$1048576,BD!C215,SOLICITUDES!$K$2:$K$1048576)","v":0},0]
[null,null,"T2064",37.5,13200,240,-76.615153206550687,2.4467084685301055,18.75,18.75,7.5,7.5,{"$f":"SUMIF(SOLICITUDES!$C$2:$C$1048576,BD!C216,SOLICITUDES!$I$2:$I$1048576)","v":0},0,{"$f":"SUMIF(SOLICITUDES!$C$2:$C$1048576,BD!C216,SOLICITUDES!$J$2:$J$1048576)","v":0},0,{"$f":"SUMIF(SOLICITUDES!$C$2:$C$1048576,BD!C216,SOLICITUDES!$K$2:$K$1048576)","v":0},0]
[null,null,"T40015",75,13200,225,-76.611217597665089,2.4493491541708829,37.5,37.5,15,15,{"$f":"SUMIF(SOLICITUDES!$C$2:$C$1048576,BD!C217,SOLICITUDES!$I$2:$I$1048576)","v":0},0,{"$f":"SUMIF(SOLICITUDES!$C$2:$C$1048576,BD!C217,SOLICITUDES!$J$2:$J$1048576)","v":0},0,{"$f":"SUMIF(SOLICITUDES!$C$2:$C$1048576,BD!C217,SOLICITUDES!$K$2:$K$1048576)","v":0},0]
[null,null,"T2054",25,13200,240,-76.610648754279552,2.4496075381418407,12.5,12.5,5,5,{"$f":"SUMIF(SOLICITUDES!$C$2:$C$1048576,BD!C218,SOLICITUDES!$I$2:$I$1048576)","v":0},0,{"$f":"SUMIF(SOLICITUDES!$C$2:$C$1048576,BD!C218,SOLICITUDES!$J$2:$J$1048576)","v":0},0,{"$f":"SUMIF(SOLICITUDES!$C$2:$C$1048576,BD!C218,SOLICITUDES!$K$2:$K$1048576)","v":0},0]
[null,null,"T2506",75,13200,208,-76.616832904656491,2.4474484829838095,37.5,37.5,15,15,{"$f":"SUMIF(SOLICITUDES!$C$2:$C$1048576,BD!C219,SOLICITUDES!$I$2:$I$1048576)","v":0},0,{"$f":"SUMIF(SOLICITUDES!$C$2:$C$1048576,BD!C219,SOLICITUDES!$J$2:$J$1048576)","v":0},0,{"$f":"SUMIF(SOLICITUDES!$C$2:$C$1048576,BD!C219,SOLICITUDES!$K$2:$K$1048576)","v":0},0]
[null,null,"T2747",45,13200,208,-76.609851974237799,2.4499516229760814,22.5,22.5,9,9,{"$f":"SUMIF(SOLICITUDES!$C$2:$C$1048576,BD!C220,SOLICITUDES!$I$2:$I$1048576)","v":0},0,{"$f":"SUMIF(SOLICITUDES!$C$2:$C$1048576,BD!C220,SOLICITUDES!$J$2:$J$1048576)","v":0},0,{"$f":"SUMIF(SOLICITUDES!$C$2:$C$1048576,BD!C220,SOLICITUDES!$K$2:$K$1048576)","v":0},0]
[null,null,"T14583",150,13200,214,-76.613610041954189,2.4504774536077449,75,75,30,30,{"$f":"SUMIF(SOLICITUDES!$C$2:$C$1048576,BD!C221,SOLICITUDES!$I$2:$I$1048576)","v":0},0,{"$f":"SUMIF(SOLICITUDES!$C$2:$C$1048576,BD!C221,SOLICITUDES!$J$2:$J$1048576)","v":0},0,{"$f":"SUMIF(SOLICITUDES!$C$2:$C$1048576,BD!C221,SOLICITUDES!$K$2:$K$1048576)","v":0},0]
[null,null,"T2061",100,13200,208,-76.610049664139979,2.4502953379883956,50,50,20,20,{"$f":"SUMIF(SOLICITUDES!$C$2:$C$1048576,BD!C222,SOLICITUDES!$I$2:$I$1048576)","v":0},0,{"$f":"SUMIF(SOLICITUDES!$C$2:$C$1048576,BD!C222,SOLICITUDES!$J$2:$J$1048576)","v":0},0,{"$f":"SUMIF(SOLICITUDES!$C$2:$C$1048576,BD!C222,SOLICITUDES!$K$2:$K$1048576)","v":0},0]
[null,null,"T2055",75,13200,208,-76.609771324539608,2.4492010049454276,37.5,37.5,15,15,{"$f":"SUMIF(SOLICITUDES!$C$2:$C$1048576,BD!C223,SOLICITUDES!$I$2:$I$1048576)","v":0},0,{"$f":"SUMIF(SOLICITUDES!$C$2:$C$1048576,BD!C223,SOLICITUDES!$J$2:$J$1048576)","v":0},0,{"$f":"SUMIF(SOLICITUDES!$C$2:$C$1048576,BD!C223,SOLICITUDES!$K$2:$K$1048576)","v":0},0]
[null,null,"T14588",30,13200,208,-76.612171519539544,2.450359386492138,15,15,6,6,{"$f":"SUMIF(SOLICITUDES!$C$2:$C$1048576,BD!C224,SOLICITUDES!$I$2:$I$1048576)","v":0},0,{"$f":"SUMIF(SOLICITUDES!$C$2:$C$1048576,BD!C224,SOLICITUDES!$J$2:$J$1048576)","v":0},0,{"$f":"SUMIF(SOLICITUDES!$C$2:$C$1048576,BD!C224,SOLICITUDES!$K$2:$K$1048576)","v":0},0]
[null,null,"T27492",37.5,13200,240,-76.617876548619861,2.4479178154888572,18.75,18.75,7.5,7.5,{"$f":"SUMIF(SOLICITUDES!$C$2:$C$1048576,BD!C225,SOLICITUDES!$I$2:$I$1048576)","v":0},0,{"$f":"SUMIF(SOLICITUDES!$C$2:$C$1048576,BD!C225,SOLICITUDES!$J$2:$J$1048576)","v":0},0,{"$f":"SUMIF(SOLICITUDES!$C$2:$C$1048576,BD!C225,SOLICITUDES!$K$2:$K$1048576)","v":0},0]
[null,null,"T2041",75,13200,240,-76.60953725526727,2.4500690722108924,37.5,37.5,15,15,{"$f":"SUMIF(SOLICITUDES!$C$2:$C$1048576,BD!C226,SOLICITUDES!$I$2:$I$1048576)","v":0},0,{"$f":"SUMIF(SOLICITUDES!$C$2:$C$1048576,BD!C226,SOLICITUDES!$J$2:$J$1048576)","v":0},0,{"$f":"SUMIF(SOLICITUDES!$C$2:$C$1048576,BD!C226,SOLICITUDES!$K$2:$K$1048576)","v":0},0]
[null,null,"T27486",45,13200,208,-76.617208185643008,2.4483725212363412,22.5,22.5,9,9,{"$f":"SUMIF(SOLICITUDES!$C$2:$C$1048576,BD!C227,SOLICITUDES!$I$2:$I$1048576)","v":0},0,{"$f":"SUMIF(SOLICITUDES!$C$2:$C$1048576,BD!C227,SOLICITUDES!$J$2:$J$1048576)","v":0},0,{"$f":"SUMIF(SOLICITUDES!$C$2:$C$1048576,BD!C227,SOLICITUDES!$K$2:$K$1048576)","v":0},0]
[null,null,"T2036",45,13200,208,-76.608467389271951,2.4498787853421575,22.5,22.5,9,9,{"$f":"SUMIF(SOLICITUDES!$C$2:$C$1048576,BD!C228,SOLICITUDES!$I$2:$I$1048576)","v":0},0,{"$f":"SUMIF(SOLICITUDES!$C$2:$C$1048576,BD!C228,SOLICITUDES!$J$2:$J$1048576)","v":0},0,{"$f":"SUMIF(SOLICITUDES!$C$2:$C$1048576,BD!C228,SOLICITUDES!$K$2:$K$1048576)","v":0},0]
[null,null,"T27495",25,13200,240,-76.616237115165148,2.4483502128240127,12.5,12.5,5,5,{"$f":"SUMIF(SOLICITUDES!$C$2:$C$1048576,BD!C229,SOLICITUDES!$I$2:$I$1048576)","v":0},0,{"$f":"SUMIF(SOLICITUDES!$C$2:$C$1048576,BD!C229,SOLICITUDES!$J$2:$J$1048576)","v":0},0,{"$f":"SUMIF(SOLICITUDES!$C$2:$C$1048576,BD!C229,SOLICITUDES!$K$2:$K$1048576)","v":0},0]
[null,null,"T27494",37.5,13200,240,-76.618081146960463,2.4483985021114893,18.75,18.75,7.5,7.5,{"$f":"SUMIF(SOLICITUDES!$C$2:$C$1048576,BD!C230,SOLICITUDES!$I$2:$I$1048576)","v":0},0,{"$f":"SUMIF(SOLICITUDES!$C$2:$C$1048576,BD!C230,SOLICITUDES!$J$2:$J$1048576)","v":0},0,{"$f":"SUMIF(SOLICITUDES!$C$2:$C$1048576,BD!C230,SOLICITUDES!$K$2:$K$1048576)","v":0},0]
[null,null,"T27490",37.5,13200,240,-76.618587536259199,2.4483527059132424,18.75,18.75,7.5,7.5,{"$f":"SUMIF(SOLICITUDES!$C$2:$C$1048576,BD!C231,SOLICITUDES!$I$2:$I$1048576)","v":0},0,{"$f":"SUMIF(SOLICITUDES!$C$2:$C$1048576,BD!C231,SOLICITUDES!$J$2:$J$1048576)","v":0},0,{"$f":"SUMIF(SOLICITUDES!$C$2:$C$1048576,BD!C231,SOLICITUDES!$K$2:$K$1048576)","v":0},0]
[null,null,"T2515",45,13200,208,-76.60911435659051,2.4509732436371179,22.5,22.5,9,9,{"$f":"SUMIF(SOLICITUDES!$C$2:$C$1048576,BD!C232,SOLICITUDES!$I$2:$I$1048576)","v":0},0,{"$f":"SUMIF(SOLICITUDES!$C$2:$C$1048576,BD!C232,SOLICITUDES!$J$2:$J$1048576)","v":0},0,{"$f":"SUMIF(SOLICITUDES!$C$2:$C$1048576,BD!C232,SOLICITUDES!$K$2:$K$1048576)","v":0},0]
[null,null,"T25776",37.5,13200,240,-76.618490113410033,2.4475941445761471,18.75,18.75,7.5,7.5,{"$f":"SUMIF(SOLICITUDES!$C$2:$C$1048576,BD!C233,SOLICITUDES!$I$2:$I$1048576)","v":0},0,{"$f":"SUMIF(SOLICITUDES!$C$2:$C$1048576,BD!C233,SOLICITUDES!$J$2:$J$1048576)","v":0},0,{"$f":"SUMIF(SOLICITUDES!$C$2:$C$1048576,BD!C233,SOLICITUDES!$K$2:$K$1048576)","v":0},0]
[null,null,"T2529",112.5,13200,208,-76.617782218981205,2.4494751174031721,56.25,56.25,22.5,22.5,{"$f":"SUMIF(SOLICITUDES!$C$2:$C$1048576,BD!C234,SOLICITUDES!$I$2:$I$1048576)","v":0},0,{"$f":"SUMIF(SOLICITUDES!$C$2:$C$1048576,BD!C234,SOLICITUDES!$J$2:$J$1048576)","v":0},0,{"$f":"SUMIF(SOLICITUDES!$C$2:$C$1048576,BD!C234,SOLICITUDES!$K$2:$K$1048576)","v":0},0]
[null,null,"T2058",225,13200,208,-76.608323030068917,2.4513075637388382,112.5,112.5,45,45,{"$f":"SUMIF(SOLICITUDES!$C$2:$C$1048576,BD!C235,SOLICITUDES!$I$2:$I$1048576)","v":0},0,{"$f":"SUMIF(SOLICITUDES!$C$2:$C$1048576,BD!C235,SOLICITUDES!$J$2:$J$1048576)","v":0},0,{"$f":"SUMIF(SOLICITUDES!$C$2:$C$1048576,BD!C235,SOLICITUDES!$K$2:$K$1048576)","v":0},0]
[null,null,"T27489",37.5,13200,240,-76.617783214225511,2.4474115904897147,18.75,18.75,7.5,7.5,{"$f":"SUMIF(SOLICITUDES!$C$2:$C$1048576,BD!C236,SOLICITUDES!$I$2:$I$1048576)","v":0},0,{"$f":"SUMIF(SOLICITUDES!$C$2:$C$1048576,BD!C236,SOLICITUDES!$J$2:$J$1048576)","v":0},0,{"$f":"SUMIF(SOLICITUDES!$C$2:$C$1048576,BD!C236,SOLICITUDES!$K$2:$K$1048576)","v":0},0]
[null,null,"T21621",225,13200,208,-76.608146686015814,2.4498792538753977,112.5,112.5,45,45,{"$f":"SUMIF(SOLICITUDES!$C$2:$C$1048576,BD!C237,SOLICITUDES!$I$2:$I$1048576)","v":0},0,{"$f":"SUMIF(SOLICITUDES!$C$2:$C$1048576,BD!C237,SOLICITUDES!$J$2:$J$1048576)","v":0},0,{"$f":"SUMIF(SOLICITUDES!$C$2:$C$1048576,BD!C237,SOLICITUDES!$K$2:$K$1048576)","v":0},0]
[null,null,"T2948",25,13200,240,-76.620900246633624,2.4284958922272337,12.5,12.5,5,5,{"$f":"SUMIF(SOLICITUDES!$C$2:$C$1048576,BD!C238,SOLICITUDES!$I$2:$I$1048576)","v":0},0,{"$f":"SUMIF(SOLICITUDES!$C$2:$C$1048576,BD!C238,SOLICITUDES!$J$2:$J$1048576)","v":0},0,{"$f":"SUMIF(SOLICITUDES!$C$2:$C$1048576,BD!C238,SOLICITUDES!$K$2:$K$1048576)","v":0},0]
[null,null,"T2379",45,13200,208,-76.617071024056642,2.4302113249341684,22.5,22.5,9,9,{"$f":"SUMIF(SOLICITUDES!$C$2:$C$1048576,BD!C239,SOLICITUDES!$I$2:$I$1048576)","v":0},0,{"$f":"SUMIF(SOLICITUDES!$C$2:$C$1048576,BD!C239,SOLICITUDES!$J$2:$J$1048576)","v":0},0,{"$f":"SUMIF(SOLICITUDES!$C$2:$C$1048576,BD!C239,SOLICITUDES!$K$2:$K$1048576)","v":0},0]
[null,null,"T2373",37.5,13200,240,-76.61725940340969,2.4323900293847123,18.75,18.75,7.5,7.5,{"$f":"SUMIF(SOLICITUDES!$C$2:$C$1048576,BD!C240,SOLICITUDES!$I$2:$I$1048576)","v":0},0,{"$f":"SUMIF(SOLICITUDES!$C$2:$C$1048576,BD!C240,SOLICITUDES!$J$2:$J$1048576)","v":0},0,{"$f":"SUMIF(SOLICITUDES!$C$2:$C$1048576,BD!C240,SOLICITUDES!$K$2:$K$1048576)","v":0},0]
[null,null,"T2381",75,13200,208,-76.621529273569919,2.4294727737474346,37.5,37.5,15,15,{"$f":"SUMIF(SOLICITUDES!$C$2:$C$1048576,BD!C241,SOLICITUDES!$I$2:$I$1048576)","v":0},0,{"$f":"SUMIF(SOLICITUDES!$C$2:$C$1048576,BD!C241,SOLICITUDES!$J$2:$J$1048576)","v":0},0,{"$f":"SUMIF(SOLICITUDES!$C$2:$C$1048576,BD!C241,SOLICITUDES!$K$2:$K$1048576)","v":0},0]
[null,null,"T31302",15,13200,240,-76.621283567035576,2.4300037257989309,7.5,7.5,3,3,{"$f":"SUMIF(SOLICITUDES!$C$2:$C$1048576,BD!C242,SOLICITUDES!$I$2:$I$1048576)","v":0},0,{"$f":"SUMIF(SOLICITUDES!$C$2:$C$1048576,BD!C242,SOLICITUDES!$J$2:$J$1048576)","v":0},0,{"$f":"SUMIF(SOLICITUDES!$C$2:$C$1048576,BD!C242,SOLICITUDES!$K$2:$K$1048576)","v":0},0]
[null,null,"T2352",225,13200,208,-76.621931299415891,2.4255549996126664,112.5,112.5,45,45,{"$f":"SUMIF(SOLICITUDES!$C$2:$C$1048576,BD!C243,SOLICITUDES!$I$2:$I$1048576)","v":0},0,{"$f":"SUMIF(SOLICITUDES!$C$2:$C$1048576,BD!C243,SOLICITUDES!$J$2:$J$1048576)","v":0},0,{"$f":"SUMIF(SOLICITUDES!$C$2:$C$1048576,BD!C243,SOLICITUDES!$K$2:$K$1048576)","v":0},0]
[null,null,"T2369",45,13200,208,-76.615800564066561,2.4339019859213886,22.5,22.5,9,9,{"$f":"SUMIF(SOLICITUDES!$C$2:$C$1048576,BD!C244,SOLICITUDES!$I$2:$I$1048576)","v":0},0,{"$f":"SUMIF(SOLICITUDES!$C$2:$C$1048576,BD!C244,SOLICITUDES!$J$2:$J$1048576)","v":0},0,{"$f":"SUMIF(SOLICITUDES!$C$2:$C$1048576,BD!C244,SOLICITUDES!$K$2:$K$1048576)","v":0},0]
[null,null,"T2402",75,13200,208,-76.621781249285704,2.4287855784410124,37.5,37.5,15,15,{"$f":"SUMIF(SOLICITUDES!$C$2:$C$1048576,BD!C245,SOLICITUDES!$I$2:$I$1048576)","v":0},0,{"$f":"SUMIF(SOLICITUDES!$C$2:$C$1048576,BD!C245,SOLICITUDES!$J$2:$J$1048576)","v":0},0,{"$f":"SUMIF(SOLICITUDES!$C$2:$C$1048576,BD!C245,SOLICITUDES!$K$2:$K$1048576)","v":0},0]
[null,null,"T31289",15,13200,240,-76.621129658758861,2.4303902144808509,7.5,7.5,3,3,{"$f":"SUMIF(SOLICITUDES!$C$2:$C$1048576,BD!C246,SOLICITUDES!$I$2:$I$1048576)","v":0},0,{"$f":"SUMIF(SOLICITUDES!$C$2:$C$1048576,BD!C246,SOLICITUDES!$J$2:$J$1048576)","v":0},0,{"$f":"SUMIF(SOLICITUDES!$C$2:$C$1048576,BD!C246,SOLICITUDES!$K$2:$K$1048576)","v":0},0]
[null,null,"T28706",0.5,13200,240,-76.6159379132922,2.4305324141044324,0.25,0.25,0.1,0.1,{"$f":"SUMIF(SOLICITUDES!$C$2:$C$1048576,BD!C247,SOLICITUDES!$I$2:$I$1048576)","v":0},0,{"$f":"SUMIF(SOLICITUDES!$C$2:$C$1048576,BD!C247,SOLICITUDES!$J$2:$J$1048576)","v":0},0,{"$f":"SUMIF(SOLICITUDES!$C$2:$C$1048576,BD!C247,SOLICITUDES!$K$2:$K$1048576)","v":0},0]
[null,null,"T2342",30,13200,208,-76.615476856356764,2.4340103919931764,15,15,6,6,{"$f":"SUMIF(SOLICITUDES!$C$2:$C$1048576,BD!C248,SOLICITUDES!$I$2:$I$1048576)","v":0},0,{"$f":"SUMIF(SOLICITUDES!$C$2:$C$1048576,BD!C248,SOLICITUDES!$J$2:$J$1048576)","v":0},0,{"$f":"SUMIF(SOLICITUDES!$C$2:$C$1048576,BD!C248,SOLICITUDES!$K$2:$K$1048576)","v":0},0]
[null,null,"T2359",50,13200,240,-76.620802620884589,2.4247067389530899,25,25,10,10,{"$f":"SUMIF(SOLICITUDES!$C$2:$C$1048576,BD!C249,SOLICITUDES!$I$2:$I$1048576)","v":0},0,{"$f":"SUMIF(SOLICITUDES!$C$2:$C$1048576,BD!C249,SOLICITUDES!$J$2:$J$1048576)","v":0},0,{"$f":"SUMIF(SOLICITUDES!$C$2:$C$1048576,BD!C249,SOLICITUDES!$K$2:$K$1048576)","v":0},0]
[null,null,"T2408",50,13200,240,-76.620262711321331,2.4260811271302347,25,25,10,10,{"$f":"SUMIF(SOLICITUDES!$C$2:$C$1048576,BD!C250,SOLICITUDES!$I$2:$I$1048576)","v":0},0,{"$f":"SUMIF(SOLICITUDES!$C$2:$C$1048576,BD!C250,SOLICITUDES!$J$2:$J$1048576)","v":0},0,{"$f":"SUMIF(SOLICITUDES!$C$2:$C$1048576,BD!C250,SOLICITUDES!$K$2:$K$1048576)","v":0},0]
[null,null,"T2405",30,13200,208,-76.622829732349828,2.4249839852936437,15,15,6,6,{"$f":"SUMIF(SOLICITUDES!$C$2:$C$1048576,BD!C251,SOLICITUDES!$I$2:$I$1048576)","v":0},0,{"$f":"SUMIF(SOLICITUDES!$C$2:$C$1048576,BD!C251,SOLICITUDES!$J$2:$J$1048576)","v":0},0,{"$f":"SUMIF(SOLICITUDES!$C$2:$C$1048576,BD!C251,SOLICITUDES!$K$2:$K$1048576)","v":0},0]
[null,null,"T2366",15,13200,240,-76.615135334674648,2.433603328407338,7.5,7.5,3,3,{"$f":"SUMIF(SOLICITUDES!$C$2:$C$1048576,BD!C252,SOLICITUDES!$I$2:$I$1048576)","v":0},0,{"$f":"SUMIF(SOLICITUDES!$C$2:$C$1048576,BD!C252,SOLICITUDES!$J$2:$J$1048576)","v":0},0,{"$f":"SUMIF(SOLICITUDES!$C$2:$C$1048576,BD!C252,SOLICITUDES!$K$2:$K$1048576)","v":0},0]
[null,null,"T2375",37.5,13200,240,-76.619474234478218,2.4253422256483299,18.75,18.75,7.5,7.5,{"$f":"SUMIF(SOLICITUDES!$C$2:$C$1048576,BD!C253,SOLICITUDES!$I$2:$I$1048576)","v":0},0,{"$f":"SUMIF(SOLICITUDES!$C$2:$C$1048576,BD!C253,SOLICITUDES!$J$2:$J$1048576)","v":0},0,{"$f":"SUMIF(SOLICITUDES!$C$2:$C$1048576,BD!C253,SOLICITUDES!$K$2:$K$1048576)","v":0},0]
[null,null,"T2403",50,13200,240,-76.618582444821129,2.4278496676127741,25,25,10,10,{"$f":"SUMIF(SOLICITUDES!$C$2:$C$1048576,BD!C254,SOLICITUDES!$I$2:$I$1048576)","v":0},0,{"$f":"SUMIF(SOLICITUDES!$C$2:$C$1048576,BD!C254,SOLICITUDES!$J$2:$J$1048576)","v":0},0,{"$f":"SUMIF(SOLICITUDES!$C$2:$C$1048576,BD!C254,SOLICITUDES!$K$2:$K$1048576)","v":0},0]
[null,null,"T2358",37.5,13200,240,-76.618861457765675,2.4221920617930515,18.75,18.75,7.5,7.5,{"$f":"SUMIF(SOLICITUDES!$C$2:$C$1048576,BD!C255,SOLICITUDES!$I$2:$I$1048576)","v":0},0,{"$f":"SUMIF(SOLICITUDES!$C$2:$C$1048576,BD!C255,SOLICITUDES!$J$2:$J$1048576)","v":0},0,{"$f":"SUMIF(SOLICITUDES!$C$2:$C$1048576,BD!C255,SOLICITUDES!$K$2:$K$1048576)","v":0},0]
[null,null,"T44260",15,13200,240,-76.618886777714707,2.4288539919387291,7.5,7.5,3,3,{"$f":"SUMIF(SOLICITUDES!$C$2:$C$1048576,BD!C256,SOLICITUDES!$I$2:$I$1048576)","v":0},0,{"$f":"SUMIF(SOLICITUDES!$C$2:$C$1048576,BD!C256,SOLICITUDES!$J$2:$J$1048576)","v":0},0,{"$f":"SUMIF(SOLICITUDES!$C$2:$C$1048576,BD!C256,SOLICITUDES!$K$2:$K$1048576)","v":0},0]
[null,null,"T2400",15,13200,240,-76.627701174535417,2.4240737539595298,7.5,7.5,3,3,{"$f":"SUMIF(SOLICITUDES!$C$2:$C$1048576,BD!C257,SOLICITUDES!$I$2:$I$1048576)","v":0},0,{"$f":"SUMIF(SOLICITUDES!$C$2:$C$1048576,BD!C257,SOLICITUDES!$J$2:$J$1048576)","v":0},0,{"$f":"SUMIF(SOLICITUDES!$C$2:$C$1048576,BD!C257,SOLICITUDES!$K$2:$K$1048576)","v":0},0]
[null,null,"T42833",25,13200,220,-76.615994878939929,2.4303790665790967,12.5,12.5,5,5,{"$f":"SUMIF(SOLICITUDES!$C$2:$C$1048576,BD!C258,SOLICITUDES!$I$2:$I$1048576)","v":0},0,{"$f":"SUMIF(SOLICITUDES!$C$2:$C$1048576,BD!C258,SOLICITUDES!$J$2:$J$1048576)","v":0},0,{"$f":"SUMIF(SOLICITUDES!$C$2:$C$1048576,BD!C258,SOLICITUDES!$K$2:$K$1048576)","v":0},0]
[null,null,"T42832",15,13200,220,-76.615968497051625,2.43087649308056,7.5,{"$f":"D259*0.5-M259","v":7.5},3,3,{"$f":"SUMIF(SOLICITUDES!$C$2:$C$1048576,BD!C259,SOLICITUDES!$I$2:$I$1048576)","v":0},{"$f":"M259/D259","v":0},{"$f":"SUMIF(SOLICITUDES!$C$2:$C$1048576,BD!C259,SOLICITUDES!$J$2:$J$1048576)","v":0},0,{"$f":"SUMIF(SOLICITUDES!$C$2:$C$1048576,BD!C259,SOLICITUDES!$K$2:$K$1048576)","v":0},0]
[null,null,"T2401",75,13200,208,-76.615837977064956,2.4296788149806297,{"$f":"D260*0.5","v":37.5},37.5,{"$f":"0.2*D260","v":15},{"$f":"0.2*D260","v":15},{"$f":"SUMIF(SOLICITUDES!$C$2:$C$1048576,BD!C260,SOLICITUDES!$I$2:$I$1048576)","v":0},0,{"$f":"SUMIF(SOLICITUDES!$C$2:$C$1048576,BD!C260,SOLICITUDES!$J$2:$J$1048576)","v":0},{"$f":"O260/(2*K260)","v":0},{"$f":"SUMIF(SOLICITUDES!$C$2:$C$1048576,BD!C260,SOLICITUDES!$K$2:$K$1048576)","v":0},{"$f":"Q260/(2*L260)","v":0}]
[null,null,"T2380",15,13200,240,-76.624410601762833,2.4168041819307637,7.5,7.5,3,3,{"$f":"SUMIF(SOLICITUDES!$C$2:$C$1048576,BD!C261,SOLICITUDES!$I$2:$I$1048576)","v":0},0,{"$f":"SUMIF(SOLICITUDES!$C$2:$C$1048576,BD!C261,SOLICITUDES!$J$2:$J$1048576)","v":0},0,{"$f":"SUMIF(SOLICITUDES!$C$2:$C$1048576,BD!C261,SOLICITUDES!$K$2:$K$1048576)","v":0},0]
[null,null,"T2354",30,13200,208,-76.622907279534772,2.4223562183306258,15,15,6,6,{"$f":"SUMIF(SOLICITUDES!$C$2:$C$1048576,BD!C262,SOLICITUDES!$I$2:$I$1048576)","v":0},0,{"$f":"SUMIF(SOLICITUDES!$C$2:$C$1048576,BD!C262,SOLICITUDES!$J$2:$J$1048576)","v":0},0,{"$f":"SUMIF(SOLICITUDES!$C$2:$C$1048576,BD!C262,SOLICITUDES!$K$2:$K$1048576)","v":0},0]
[null,null,"T2365",15,13200,240,-76.624410909653307,2.4158908146887388,7.5,7.5,3,3,{"$f":"SUMIF(SOLICITUDES!$C$2:$C$1048576,BD!C263,SOLICITUDES!$I$2:$I$1048576)","v":0},0,{"$f":"SUMIF(SOLICITUDES!$C$2:$C$1048576,BD!C263,SOLICITUDES!$J$2:$J$1048576)","v":0},0,{"$f":"SUMIF(SOLICITUDES!$C$2:$C$1048576,BD!C263,SOLICITUDES!$K$2:$K$1048576)","v":0},0]
[null,null,"T2410",37.5,13200,214,-76.623888222445231,2.4195350630451631,18.75,18.75,7.5,7.5,{"$f":"SUMIF(SOLICITUDES!$C$2:$C$1048576,BD!C264,SOLICITUDES!$I$2:$I$1048576)","v":0},0,{"$f":"SUMIF(SOLICITUDES!$C$2:$C$1048576,BD!C264,SOLICITUDES!$J$2:$J$1048576)","v":0},0,{"$f":"SUMIF(SOLICITUDES!$C$2:$C$1048576,BD!C264,SOLICITUDES!$K$2:$K$1048576)","v":0},0]
[null,null,"T2371",45,13200,208,-76.615316728108027,2.4290184763530149,22.5,22.5,9,9,{"$f":"SUMIF(SOLICITUDES!$C$2:$C$1048576,BD!C265,SOLICITUDES!$I$2:$I$1048576)","v":0},0,{"$f":"SUMIF(SOLICITUDES!$C$2:$C$1048576,BD!C265,SOLICITUDES!$J$2:$J$1048576)","v":0},0,{"$f":"SUMIF(SOLICITUDES!$C$2:$C$1048576,BD!C265,SOLICITUDES!$K$2:$K$1048576)","v":0},0]
[null,null,"T42781",0.5,13200,240,-76.615317080322598,2.4280056351541326,0.25,0.25,0.1,0.1,{"$f":"SUMIF(SOLICITUDES!$C$2:$C$1048576,BD!C266,SOLICITUDES!$I$2:$I$1048576)","v":0},0,{"$f":"SUMIF(SOLICITUDES!$C$2:$C$1048576,BD!C266,SOLICITUDES!$J$2:$J$1048576)","v":0},0,{"$f":"SUMIF(SOLICITUDES!$C$2:$C$1048576,BD!C266,SOLICITUDES!$K$2:$K$1048576)","v":0},0]
[null,null,"T2377",75,13200,208,-76.614174436322074,2.4303383894714892,37.5,37.5,15,15,{"$f":"SUMIF(SOLICITUDES!$C$2:$C$1048576,BD!C267,SOLICITUDES!$I$2:$I$1048576)","v":0},0,{"$f":"SUMIF(SOLICITUDES!$C$2:$C$1048576,BD!C267,SOLICITUDES!$J$2:$J$1048576)","v":0},0,{"$f":"SUMIF(SOLICITUDES!$C$2:$C$1048576,BD!C267,SOLICITUDES!$K$2:$K$1048576)","v":0},0]
[null,null,"T4510",15,13200,220,-76.624294194375636,2.4156013729282142,7.5,7.5,3,3,{"$f":"SUMIF(SOLICITUDES!$C$2:$C$1048576,BD!C268,SOLICITUDES!$I$2:$I$1048576)","v":0},0,{"$f":"SUMIF(SOLICITUDES!$C$2:$C$1048576,BD!C268,SOLICITUDES!$J$2:$J$1048576)","v":0},0,{"$f":"SUMIF(SOLICITUDES!$C$2:$C$1048576,BD!C268,SOLICITUDES!$K$2:$K$1048576)","v":0},0]
[null,null,"T2345",112.5,13200,208,-76.614210726315832,2.4293707765491663,56.25,56.25,22.5,22.5,{"$f":"SUMIF(SOLICITUDES!$C$2:$C$1048576,BD!C269,SOLICITUDES!$I$2:$I$1048576)","v":0},0,{"$f":"SUMIF(SOLICITUDES!$C$2:$C$1048576,BD!C269,SOLICITUDES!$J$2:$J$1048576)","v":0},0,{"$f":"SUMIF(SOLICITUDES!$C$2:$C$1048576,BD!C269,SOLICITUDES!$K$2:$K$1048576)","v":0},0]
[null,null,"T2363",75,13200,240,-76.61351848749247,2.4291987134516009,37.5,37.5,15,15,{"$f":"SUMIF(SOLICITUDES!$C$2:$C$1048576,BD!C270,SOLICITUDES!$I$2:$I$1048576)","v":0},0,{"$f":"SUMIF(SOLICITUDES!$C$2:$C$1048576,BD!C270,SOLICITUDES!$J$2:$J$1048576)","v":0},0,{"$f":"SUMIF(SOLICITUDES!$C$2:$C$1048576,BD!C270,SOLICITUDES!$K$2:$K$1048576)","v":0},0]
[null,null,"T36411",45,13200,240,-76.615317552582809,2.4278657761746323,22.5,22.5,9,9,{"$f":"SUMIF(SOLICITUDES!$C$2:$C$1048576,BD!C271,SOLICITUDES!$I$2:$I$1048576)","v":0},0,{"$f":"SUMIF(SOLICITUDES!$C$2:$C$1048576,BD!C271,SOLICITUDES!$J$2:$J$1048576)","v":0},0,{"$f":"SUMIF(SOLICITUDES!$C$2:$C$1048576,BD!C271,SOLICITUDES!$K$2:$K$1048576)","v":0},0]
[null,null,"T2344",75,13200,208,-76.613778567451845,2.4311069249442023,37.5,37.5,15,15,{"$f":"SUMIF(SOLICITUDES!$C$2:$C$1048576,BD!C272,SOLICITUDES!$I$2:$I$1048576)","v":0},0,{"$f":"SUMIF(SOLICITUDES!$C$2:$C$1048576,BD!C272,SOLICITUDES!$J$2:$J$1048576)","v":0},0,{"$f":"SUMIF(SOLICITUDES!$C$2:$C$1048576,BD!C272,SOLICITUDES!$K$2:$K$1048576)","v":0},0]
[null,null,"T2370",75,13200,208,-76.615407484104566,2.4265497058590637,37.5,37.5,15,15,{"$f":"SUMIF(SOLICITUDES!$C$2:$C$1048576,BD!C273,SOLICITUDES!$I$2:$I$1048576)","v":0},0,{"$f":"SUMIF(SOLICITUDES!$C$2:$C$1048576,BD!C273,SOLICITUDES!$J$2:$J$1048576)","v":0},0,{"$f":"SUMIF(SOLICITUDES!$C$2:$C$1048576,BD!C273,SOLICITUDES!$K$2:$K$1048576)","v":0},0]
[null,null,"T4497",50,13200,220,-76.625966027752639,2.4168408535018355,25,25,10,10,{"$f":"SUMIF(SOLICITUDES!$C$2:$C$1048576,BD!C274,SOLICITUDES!$I$2:$I$1048576)","v":0},0,{"$f":"SUMIF(SOLICITUDES!$C$2:$C$1048576,BD!C274,SOLICITUDES!$J$2:$J$1048576)","v":0},0,{"$f":"SUMIF(SOLICITUDES!$C$2:$C$1048576,BD!C274,SOLICITUDES!$K$2:$K$1048576)","v":0},0]
[null,null,"T2348",112.5,13200,208,-76.614553022849705,2.4275170348571491,56.25,56.25,22.5,22.5,{"$f":"SUMIF(SOLICITUDES!$C$2:$C$1048576,BD!C275,SOLICITUDES!$I$2:$I$1048576)","v":0},0,{"$f":"SUMIF(SOLICITUDES!$C$2:$C$1048576,BD!C275,SOLICITUDES!$J$2:$J$1048576)","v":0},0,{"$f":"SUMIF(SOLICITUDES!$C$2:$C$1048576,BD!C275,SOLICITUDES!$K$2:$K$1048576)","v":0},0]
[null,null,"T29282",25,13200,240,-76.627577110074938,2.4174232398491897,12.5,12.5,5,5,{"$f":"SUMIF(SOLICITUDES!$C$2:$C$1048576,BD!C276,SOLICITUDES!$I$2:$I$1048576)","v":0},0,{"$f":"SUMIF(SOLICITUDES!$C$2:$C$1048576,BD!C276,SOLICITUDES!$J$2:$J$1048576)","v":0},0,{"$f":"SUMIF(SOLICITUDES!$C$2:$C$1048576,BD!C276,SOLICITUDES!$K$2:$K$1048576)","v":0},0]
[null,null,"T2417",75,13200,225,-76.614840351548537,2.4286204094142345,37.5,37.5,15,15,{"$f":"SUMIF(SOLICITUDES!$C$2:$C$1048576,BD!C277,SOLICITUDES!$I$2:$I$1048576)","v":0},0,{"$f":"SUMIF(SOLICITUDES!$C$2:$C$1048576,BD!C277,SOLICITUDES!$J$2:$J$1048576)","v":0},0,{"$f":"SUMIF(SOLICITUDES!$C$2:$C$1048576,BD!C277,SOLICITUDES!$K$2:$K$1048576)","v":0},0]
[null,null,"T2394",75,13200,220,-76.613050556297651,2.4304012992980493,37.5,37.5,15,15,{"$f":"SUMIF(SOLICITUDES!$C$2:$C$1048576,BD!C278,SOLICITUDES!$I$2:$I$1048576)","v":0},0,{"$f":"SUMIF(SOLICITUDES!$C$2:$C$1048576,BD!C278,SOLICITUDES!$J$2:$J$1048576)","v":0},0,{"$f":"SUMIF(SOLICITUDES!$C$2:$C$1048576,BD!C278,SOLICITUDES!$K$2:$K$1048576)","v":0},0]
[null,null,"T25456",112.5,13200,228,-76.615125337333325,2.4400310755343844,56.25,56.25,22.5,22.5,{"$f":"SUMIF(SOLICITUDES!$C$2:$C$1048576,BD!C279,SOLICITUDES!$I$2:$I$1048576)","v":0},0,{"$f":"SUMIF(SOLICITUDES!$C$2:$C$1048576,BD!C279,SOLICITUDES!$J$2:$J$1048576)","v":0},0,{"$f":"SUMIF(SOLICITUDES!$C$2:$C$1048576,BD!C279,SOLICITUDES!$K$2:$K$1048576)","v":0},0]
[null,null,"T2663",75,13200,208,-76.615079058204444,2.4403766852209556,37.5,37.5,15,15,{"$f":"SUMIF(SOLICITUDES!$C$2:$C$1048576,BD!C280,SOLICITUDES!$I$2:$I$1048576)","v":0},0,{"$f":"SUMIF(SOLICITUDES!$C$2:$C$1048576,BD!C280,SOLICITUDES!$J$2:$J$1048576)","v":0},0,{"$f":"SUMIF(SOLICITUDES!$C$2:$C$1048576,BD!C280,SOLICITUDES!$K$2:$K$1048576)","v":0},0]
[null,null,"T2665",75,13200,208,-76.614907981728891,2.4411000859618608,37.5,37.5,15,15,{"$f":"SUMIF(SOLICITUDES!$C$2:$C$1048576,BD!C281,SOLICITUDES!$I$2:$I$1048576)","v":0},0,{"$f":"SUMIF(SOLICITUDES!$C$2:$C$1048576,BD!C281,SOLICITUDES!$J$2:$J$1048576)","v":0},0,{"$f":"SUMIF(SOLICITUDES!$C$2:$C$1048576,BD!C281,SOLICITUDES!$K$2:$K$1048576)","v":0},0]
[null,null,"T12817",30,13200,214,-76.627990063661485,2.4510857736437792,15,15,6,6,{"$f":"SUMIF(SOLICITUDES!$C$2:$C$1048576,BD!C282,SOLICITUDES!$I$2:$I$1048576)","v":0},0,{"$f":"SUMIF(SOLICITUDES!$C$2:$C$1048576,BD!C282,SOLICITUDES!$J$2:$J$1048576)","v":0},0,{"$f":"SUMIF(SOLICITUDES!$C$2:$C$1048576,BD!C282,SOLICITUDES!$K$2:$K$1048576)","v":0},0]
[null,null,"T28718",0.5,13200,240,-76.628118888575742,2.4511509553152333,0.25,0.25,0.1,0.1,{"$f":"SUMIF(SOLICITUDES!$C$2:$C$1048576,BD!C283,SOLICITUDES!$I$2:$I$1048576)","v":0},0,{"$f":"SUMIF(SOLICITUDES!$C$2:$C$1048576,BD!C283,SOLICITUDES!$J$2:$J$1048576)","v":0},0,{"$f":"SUMIF(SOLICITUDES!$C$2:$C$1048576,BD!C283,SOLICITUDES!$K$2:$K$1048576)","v":0},0]
[null,null,"T2725",75,13200,208,-76.609439588891334,2.4431154007436326,37.5,37.5,15,15,{"$f":"SUMIF(SOLICITUDES!$C$2:$C$1048576,BD!C284,SOLICITUDES!$I$2:$I$1048576)","v":0},0,{"$f":"SUMIF(SOLICITUDES!$C$2:$C$1048576,BD!C284,SOLICITUDES!$J$2:$J$1048576)","v":0},0,{"$f":"SUMIF(SOLICITUDES!$C$2:$C$1048576,BD!C284,SOLICITUDES!$K$2:$K$1048576)","v":0},0]
[null,null,"T3889",112.5,13200,214,-76.613695816536151,2.4392096749671204,56.25,56.25,22.5,22.5,{"$f":"SUMIF(SOLICITUDES!$C$2:$C$1048576,BD!C285,SOLICITUDES!$I$2:$I$1048576)","v":0},0,{"$f":"SUMIF(SOLICITUDES!$C$2:$C$1048576,BD!C285,SOLICITUDES!$J$2:$J$1048576)","v":0},0,{"$f":"SUMIF(SOLICITUDES!$C$2:$C$1048576,BD!C285,SOLICITUDES!$K$2:$K$1048576)","v":0},0]
[null,null,"T3919",75,13200,208,-76.612030563655068,2.4420034011640217,37.5,37.5,15,15,{"$f":"SUMIF(SOLICITUDES!$C$2:$C$1048576,BD!C286,SOLICITUDES!$I$2:$I$1048576)","v":0},0,{"$f":"SUMIF(SOLICITUDES!$C$2:$C$1048576,BD!C286,SOLICITUDES!$J$2:$J$1048576)","v":0},0,{"$f":"SUMIF(SOLICITUDES!$C$2:$C$1048576,BD!C286,SOLICITUDES!$K$2:$K$1048576)","v":0},0]
[null,null,"T3940",25,13200,240,-76.609628510636981,2.4391757677947825,12.5,12.5,5,5,{"$f":"SUMIF(SOLICITUDES!$C$2:$C$1048576,BD!C287,SOLICITUDES!$I$2:$I$1048576)","v":0},0,{"$f":"SUMIF(SOLICITUDES!$C$2:$C$1048576,BD!C287,SOLICITUDES!$J$2:$J$1048576)","v":0},0,{"$f":"SUMIF(SOLICITUDES!$C$2:$C$1048576,BD!C287,SOLICITUDES!$K$2:$K$1048576)","v":0},0]
[null,null,"T3934",112.5,13200,208,-76.610708725170497,2.442500310699931,56.25,56.25,22.5,22.5,{"$f":"SUMIF(SOLICITUDES!$C$2:$C$1048576,BD!C288,SOLICITUDES!$I$2:$I$1048576)","v":0},0,{"$f":"SUMIF(SOLICITUDES!$C$2:$C$1048576,BD!C288,SOLICITUDES!$J$2:$J$1048576)","v":0},0,{"$f":"SUMIF(SOLICITUDES!$C$2:$C$1048576,BD!C288,SOLICITUDES!$K$2:$K$1048576)","v":0},0]
[null,null,"T3912",75,13200,208,-76.613017195315692,2.4381182851700185,37.5,37.5,15,15,{"$f":"SUMIF(SOLICITUDES!$C$2:$C$1048576,BD!C289,SOLICITUDES!$I$2:$I$1048576)","v":0},0,{"$f":"SUMIF(SOLICITUDES!$C$2:$C$1048576,BD!C289,SOLICITUDES!$J$2:$J$1048576)","v":0},0,{"$f":"SUMIF(SOLICITUDES!$C$2:$C$1048576,BD!C289,SOLICITUDES!$K$2:$K$1048576)","v":0},0]
[null,null,"T3883",75,13200,208,-76.611760543494725,2.4428533691076759,37.5,37.5,15,15,{"$f":"SUMIF(SOLICITUDES!$C$2:$C$1048576,BD!C290,SOLICITUDES!$I$2:$I$1048576)","v":0},0,{"$f":"SUMIF(SOLICITUDES!$C$2:$C$1048576,BD!C290,SOLICITUDES!$J$2:$J$1048576)","v":0},0,{"$f":"SUMIF(SOLICITUDES!$C$2:$C$1048576,BD!C290,SOLICITUDES!$K$2:$K$1048576)","v":0},0]
[null,null,"T6142",30,13200,214,-76.609605037480776,2.4391556740906593,15,15,6,6,{"$f":"SUMIF(SOLICITUDES!$C$2:$C$1048576,BD!C291,SOLICITUDES!$I$2:$I$1048576)","v":0},0,{"$f":"SUMIF(SOLICITUDES!$C$2:$C$1048576,BD!C291,SOLICITUDES!$J$2:$J$1048576)","v":0},0,{"$f":"SUMIF(SOLICITUDES!$C$2:$C$1048576,BD!C291,SOLICITUDES!$K$2:$K$1048576)","v":0},0]
[null,null,"T41521",75,13200,225,-76.610873168209991,2.4428860917178534,37.5,37.5,15,15,{"$f":"SUMIF(SOLICITUDES!$C$2:$C$1048576,BD!C292,SOLICITUDES!$I$2:$I$1048576)","v":0},0,{"$f":"SUMIF(SOLICITUDES!$C$2:$C$1048576,BD!C292,SOLICITUDES!$J$2:$J$1048576)","v":0},0,{"$f":"SUMIF(SOLICITUDES!$C$2:$C$1048576,BD!C292,SOLICITUDES!$K$2:$K$1048576)","v":0},0]
[null,null,"T3908",45,13200,208,-76.612668999521048,2.4417775459831987,22.5,22.5,9,9,{"$f":"SUMIF(SOLICITUDES!$C$2:$C$1048576,BD!C293,SOLICITUDES!$I$2:$I$1048576)","v":0},0,{"$f":"SUMIF(SOLICITUDES!$C$2:$C$1048576,BD!C293,SOLICITUDES!$J$2:$J$1048576)","v":0},0,{"$f":"SUMIF(SOLICITUDES!$C$2:$C$1048576,BD!C293,SOLICITUDES!$K$2:$K$1048576)","v":0},0]
[null,null,"T3952",112.5,13200,208,-76.61110456403803,2.4430107223832063,56.25,56.25,22.5,22.5,{"$f":"SUMIF(SOLICITUDES!$C$2:$C$1048576,BD!C294,SOLICITUDES!$I$2:$I$1048576)","v":0},0,{"$f":"SUMIF(SOLICITUDES!$C$2:$C$1048576,BD!C294,SOLICITUDES!$J$2:$J$1048576)","v":0},0,{"$f":"SUMIF(SOLICITUDES!$C$2:$C$1048576,BD!C294,SOLICITUDES!$K$2:$K$1048576)","v":0},0]
[null,null,"T3956",30,13200,208,-76.61247098758075,2.4423833684466554,15,15,6,6,{"$f":"SUMIF(SOLICITUDES!$C$2:$C$1048576,BD!C295,SOLICITUDES!$I$2:$I$1048576)","v":0},0,{"$f":"SUMIF(SOLICITUDES!$C$2:$C$1048576,BD!C295,SOLICITUDES!$J$2:$J$1048576)","v":0},0,{"$f":"SUMIF(SOLICITUDES!$C$2:$C$1048576,BD!C295,SOLICITUDES!$K$2:$K$1048576)","v":0},0]
[null,null,"T40373",75,13200,213,-76.612385723095912,2.4426471633160185,37.5,37.5,15,15,{"$f":"SUMIF(SOLICITUDES!$C$2:$C$1048576,BD!C296,SOLICITUDES!$I$2:$I$1048576)","v":0},0,{"$f":"SUMIF(SOLICITUDES!$C$2:$C$1048576,BD!C296,SOLICITUDES!$J$2:$J$1048576)","v":0},0,{"$f":"SUMIF(SOLICITUDES!$C$2:$C$1048576,BD!C296,SOLICITUDES!$K$2:$K$1048576)","v":0},0]
[null,null,"T10045",45,13200,208,-76.611507546996165,2.4431706419852328,22.5,22.5,9,9,{"$f":"SUMIF(SOLICITUDES!$C$2:$C$1048576,BD!C297,SOLICITUDES!$I$2:$I$1048576)","v":0},0,{"$f":"SUMIF(SOLICITUDES!$C$2:$C$1048576,BD!C297,SOLICITUDES!$J$2:$J$1048576)","v":0},0,{"$f":"SUMIF(SOLICITUDES!$C$2:$C$1048576,BD!C297,SOLICITUDES!$K$2:$K$1048576)","v":0},0]
[null,null,"T5251",15,13200,240,-76.612109957669517,2.4463893941611237,7.5,7.5,3,3,{"$f":"SUMIF(SOLICITUDES!$C$2:$C$1048576,BD!C298,SOLICITUDES!$I$2:$I$1048576)","v":0},0,{"$f":"SUMIF(SOLICITUDES!$C$2:$C$1048576,BD!C298,SOLICITUDES!$J$2:$J$1048576)","v":0},0,{"$f":"SUMIF(SOLICITUDES!$C$2:$C$1048576,BD!C298,SOLICITUDES!$K$2:$K$1048576)","v":0},0]
[null,null,"T5277",112.5,13200,208,-76.611489475620104,2.4467056825630529,56.25,56.25,22.5,22.5,{"$f":"SUMIF(SOLICITUDES!$C$2:$C$1048576,BD!C299,SOLICITUDES!$I$2:$I$1048576)","v":0},0,{"$f":"SUMIF(SOLICITUDES!$C$2:$C$1048576,BD!C299,SOLICITUDES!$J$2:$J$1048576)","v":0},0,{"$f":"SUMIF(SOLICITUDES!$C$2:$C$1048576,BD!C299,SOLICITUDES!$K$2:$K$1048576)","v":0},0]
[null,null,"T5250",112.5,13200,208,-76.611408657731047,2.4464162777647718,56.25,56.25,22.5,22.5,{"$f":"SUMIF(SOLICITUDES!$C$2:$C$1048576,BD!C300,SOLICITUDES!$I$2:$I$1048576)","v":0},0,{"$f":"SUMIF(SOLICITUDES!$C$2:$C$1048576,BD!C300,SOLICITUDES!$J$2:$J$1048576)","v":0},0,{"$f":"SUMIF(SOLICITUDES!$C$2:$C$1048576,BD!C300,SOLICITUDES!$K$2:$K$1048576)","v":0},0]
[null,null,"T30694",75,13200,214,-76.609986086535599,2.4426146059331675,37.5,37.5,15,15,{"$f":"SUMIF(SOLICITUDES!$C$2:$C$1048576,BD!C301,SOLICITUDES!$I$2:$I$1048576)","v":0},0,{"$f":"SUMIF(SOLICITUDES!$C$2:$C$1048576,BD!C301,SOLICITUDES!$J$2:$J$1048576)","v":0},0,{"$f":"SUMIF(SOLICITUDES!$C$2:$C$1048576,BD!C301,SOLICITUDES!$K$2:$K$1048576)","v":0},0]
[null,null,"T5271",75,13200,208,-76.610239775930424,2.4465515066383214,37.5,37.5,15,15,{"$f":"SUMIF(SOLICITUDES!$C$2:$C$1048576,BD!C302,SOLICITUDES!$I$2:$I$1048576)","v":0},0,{"$f":"SUMIF(SOLICITUDES!$C$2:$C$1048576,BD!C302,SOLICITUDES!$J$2:$J$1048576)","v":0},0,{"$f":"SUMIF(SOLICITUDES!$C$2:$C$1048576,BD!C302,SOLICITUDES!$K$2:$K$1048576)","v":0},0]
[null,null,"T5263",75,13200,208,-76.610563550066843,2.4471813345936169,37.5,37.5,15,15,{"$f":"SUMIF(SOLICITUDES!$C$2:$C$1048576,BD!C303,SOLICITUDES!$I$2:$I$1048576)","v":0},0,{"$f":"SUMIF(SOLICITUDES!$C$2:$C$1048576,BD!C303,SOLICITUDES!$J$2:$J$1048576)","v":0},0,{"$f":"SUMIF(SOLICITUDES!$C$2:$C$1048576,BD!C303,SOLICITUDES!$K$2:$K$1048576)","v":0},0]
[null,null,"T5237",75,13200,208,-76.61201323277858,2.4453383060774327,37.5,37.5,15,15,{"$f":"SUMIF(SOLICITUDES!$C$2:$C$1048576,BD!C304,SOLICITUDES!$I$2:$I$1048576)","v":0},0,{"$f":"SUMIF(SOLICITUDES!$C$2:$C$1048576,BD!C304,SOLICITUDES!$J$2:$J$1048576)","v":0},0,{"$f":"SUMIF(SOLICITUDES!$C$2:$C$1048576,BD!C304,SOLICITUDES!$K$2:$K$1048576)","v":0},0]
[null,null,"T5245",112.5,13200,208,-76.612128094445936,2.4459462832089041,56.25,56.25,22.5,22.5,{"$f":"SUMIF(SOLICITUDES!$C$2:$C$1048576,BD!C305,SOLICITUDES!$I$2:$I$1048576)","v":0},0,{"$f":"SUMIF(SOLICITUDES!$C$2:$C$1048576,BD!C305,SOLICITUDES!$J$2:$J$1048576)","v":0},0,{"$f":"SUMIF(SOLICITUDES!$C$2:$C$1048576,BD!C305,SOLICITUDES!$K$2:$K$1048576)","v":0},0]
[null,null,"T5244",45,13200,208,-76.612235488937927,2.4473932308945909,22.5,22.5,9,9,{"$f":"SUMIF(SOLICITUDES!$C$2:$C$1048576,BD!C306,SOLICITUDES!$I$2:$I$1048576)","v":0},0,{"$f":"SUMIF(SOLICITUDES!$C$2:$C$1048576,BD!C306,SOLICITUDES!$J$2:$J$1048576)","v":0},0,{"$f":"SUMIF(SOLICITUDES!$C$2:$C$1048576,BD!C306,SOLICITUDES!$K$2:$K$1048576)","v":0},0]
[null,null,"T5281",75,13200,208,-76.612137420507764,2.4450443399880797,37.5,37.5,15,15,{"$f":"SUMIF(SOLICITUDES!$C$2:$C$1048576,BD!C307,SOLICITUDES!$I$2:$I$1048576)","v":0},0,{"$f":"SUMIF(SOLICITUDES!$C$2:$C$1048576,BD!C307,SOLICITUDES!$J$2:$J$1048576)","v":0},0,{"$f":"SUMIF(SOLICITUDES!$C$2:$C$1048576,BD!C307,SOLICITUDES!$K$2:$K$1048576)","v":0},0]
[null,null,"T2888",112.5,13200,208,-76.622647186303354,2.4470441670600094,56.25,56.25,22.5,22.5,{"$f":"SUMIF(SOLICITUDES!$C$2:$C$1048576,BD!C308,SOLICITUDES!$I$2:$I$1048576)","v":0},0,{"$f":"SUMIF(SOLICITUDES!$C$2:$C$1048576,BD!C308,SOLICITUDES!$J$2:$J$1048576)","v":0},0,{"$f":"SUMIF(SOLICITUDES!$C$2:$C$1048576,BD!C308,SOLICITUDES!$K$2:$K$1048576)","v":0},0]
[null,null,"T12302",75,13200,452,-76.622224059284605,2.4486537212829798,37.5,37.5,15,15,{"$f":"SUMIF(SOLICITUDES!$C$2:$C$1048576,BD!C309,SOLICITUDES!$I$2:$I$1048576)","v":0},0,{"$f":"SUMIF(SOLICITUDES!$C$2:$C$1048576,BD!C309,SOLICITUDES!$J$2:$J$1048576)","v":0},0,{"$f":"SUMIF(SOLICITUDES!$C$2:$C$1048576,BD!C309,SOLICITUDES!$K$2:$K$1048576)","v":0},0]
[null,null,"T2889",30,13200,208,-76.622755146237822,2.446836206847868,15,15,6,6,{"$f":"SUMIF(SOLICITUDES!$C$2:$C$1048576,BD!C310,SOLICITUDES!$I$2:$I$1048576)","v":0},0,{"$f":"SUMIF(SOLICITUDES!$C$2:$C$1048576,BD!C310,SOLICITUDES!$J$2:$J$1048576)","v":0},0,{"$f":"SUMIF(SOLICITUDES!$C$2:$C$1048576,BD!C310,SOLICITUDES!$K$2:$K$1048576)","v":0},0]
[null,null,"T2893",30,13200,208,-76.622682475067876,2.4490156090512247,15,15,6,6,{"$f":"SUMIF(SOLICITUDES!$C$2:$C$1048576,BD!C311,SOLICITUDES!$I$2:$I$1048576)","v":0},0,{"$f":"SUMIF(SOLICITUDES!$C$2:$C$1048576,BD!C311,SOLICITUDES!$J$2:$J$1048576)","v":0},0,{"$f":"SUMIF(SOLICITUDES!$C$2:$C$1048576,BD!C311,SOLICITUDES!$K$2:$K$1048576)","v":0},0]
[null,null,"T2896",30,13200,208,-76.623227799339716,2.449645033198645,15,15,6,6,{"$f":"SUMIF(SOLICITUDES!$C$2:$C$1048576,BD!C312,SOLICITUDES!$I$2:$I$1048576)","v":0},0,{"$f":"SUMIF(SOLICITUDES!$C$2:$C$1048576,BD!C312,SOLICITUDES!$J$2:$J$1048576)","v":0},0,{"$f":"SUMIF(SOLICITUDES!$C$2:$C$1048576,BD!C312,SOLICITUDES!$K$2:$K$1048576)","v":0},0]
[null,null,"T2910",75,13200,208,-76.62302436375569,2.4483465248686893,37.5,37.5,15,15,{"$f":"SUMIF(SOLICITUDES!$C$2:$C$1048576,BD!C313,SOLICITUDES!$I$2:$I$1048576)","v":0},0,{"$f":"SUMIF(SOLICITUDES!$C$2:$C$1048576,BD!C313,SOLICITUDES!$J$2:$J$1048576)","v":0},0,{"$f":"SUMIF(SOLICITUDES!$C$2:$C$1048576,BD!C313,SOLICITUDES!$K$2:$K$1048576)","v":0},0]
[null,null,"T2894",112.5,13200,208,-76.623653512772322,2.4489978496861333,56.25,56.25,22.5,22.5,{"$f":"SUMIF(SOLICITUDES!$C$2:$C$1048576,BD!C314,SOLICITUDES!$I$2:$I$1048576)","v":0},0,{"$f":"SUMIF(SOLICITUDES!$C$2:$C$1048576,BD!C314,SOLICITUDES!$J$2:$J$1048576)","v":0},0,{"$f":"SUMIF(SOLICITUDES!$C$2:$C$1048576,BD!C314,SOLICITUDES!$K$2:$K$1048576)","v":0},0]
[null,null,"T19573",75,13200,208,-76.622135492294774,2.4493165466070934,37.5,37.5,15,15,{"$f":"SUMIF(SOLICITUDES!$C$2:$C$1048576,BD!C315,SOLICITUDES!$I$2:$I$1048576)","v":0},0,{"$f":"SUMIF(SOLICITUDES!$C$2:$C$1048576,BD!C315,SOLICITUDES!$J$2:$J$1048576)","v":0},0,{"$f":"SUMIF(SOLICITUDES!$C$2:$C$1048576,BD!C315,SOLICITUDES!$K$2:$K$1048576)","v":0},0]
[null,null,"T10064",30,13200,208,-76.624015122235789,2.450130550943844,15,15,6,6,{"$f":"SUMIF(SOLICITUDES!$C$2:$C$1048576,BD!C316,SOLICITUDES!$I$2:$I$1048576)","v":0},0,{"$f":"SUMIF(SOLICITUDES!$C$2:$C$1048576,BD!C316,SOLICITUDES!$J$2:$J$1048576)","v":0},0,{"$f":"SUMIF(SOLICITUDES!$C$2:$C$1048576,BD!C316,SOLICITUDES!$K$2:$K$1048576)","v":0},0]
[null,null,"T2897",15,13200,240,-76.624282442010156,2.4503093406196581,7.5,7.5,3,3,{"$f":"SUMIF(SOLICITUDES!$C$2:$C$1048576,BD!C317,SOLICITUDES!$I$2:$I$1048576)","v":0},0,{"$f":"SUMIF(SOLICITUDES!$C$2:$C$1048576,BD!C317,SOLICITUDES!$J$2:$J$1048576)","v":0},0,{"$f":"SUMIF(SOLICITUDES!$C$2:$C$1048576,BD!C317,SOLICITUDES!$K$2:$K$1048576)","v":0},0]
[null,null,"T2895",45,13200,208,-76.62443559257342,2.4494231530542088,22.5,22.5,9,9,{"$f":"SUMIF(SOLICITUDES!$C$2:$C$1048576,BD!C318,SOLICITUDES!$I$2:$I$1048576)","v":0},0,{"$f":"SUMIF(SOLICITUDES!$C$2:$C$1048576,BD!C318,SOLICITUDES!$J$2:$J$1048576)","v":0},0,{"$f":"SUMIF(SOLICITUDES!$C$2:$C$1048576,BD!C318,SOLICITUDES!$K$2:$K$1048576)","v":0},0]
[null,null,"T2912",112.5,13200,208,-76.623321468769987,2.4471710047388346,56.25,56.25,22.5,22.5,{"$f":"SUMIF(SOLICITUDES!$C$2:$C$1048576,BD!C319,SOLICITUDES!$I$2:$I$1048576)","v":0},0,{"$f":"SUMIF(SOLICITUDES!$C$2:$C$1048576,BD!C319,SOLICITUDES!$J$2:$J$1048576)","v":0},0,{"$f":"SUMIF(SOLICITUDES!$C$2:$C$1048576,BD!C319,SOLICITUDES!$K$2:$K$1048576)","v":0},0]
[null,null,"T2913",75,13200,208,-76.623636397119114,2.4464386130041049,37.5,37.5,15,15,{"$f":"SUMIF(SOLICITUDES!$C$2:$C$1048576,BD!C320,SOLICITUDES!$I$2:$I$1048576)","v":0},0,{"$f":"SUMIF(SOLICITUDES!$C$2:$C$1048576,BD!C320,SOLICITUDES!$J$2:$J$1048576)","v":0},0,{"$f":"SUMIF(SOLICITUDES!$C$2:$C$1048576,BD!C320,SOLICITUDES!$K$2:$K$1048576)","v":0},0]
[null,null,"T2914",112.5,13200,208,-76.624265658283292,2.4467734242896522,56.25,56.25,22.5,22.5,{"$f":"SUMIF(SOLICITUDES!$C$2:$C$1048576,BD!C321,SOLICITUDES!$I$2:$I$1048576)","v":0},0,{"$f":"SUMIF(SOLICITUDES!$C$2:$C$1048576,BD!C321,SOLICITUDES!$J$2:$J$1048576)","v":0},0,{"$f":"SUMIF(SOLICITUDES!$C$2:$C$1048576,BD!C321,SOLICITUDES!$K$2:$K$1048576)","v":0},0]
[null,null,"T2898",45,13200,214,-76.623868525067934,2.4512768218489938,22.5,22.5,9,9,{"$f":"SUMIF(SOLICITUDES!$C$2:$C$1048576,BD!C322,SOLICITUDES!$I$2:$I$1048576)","v":0},0,{"$f":"SUMIF(SOLICITUDES!$C$2:$C$1048576,BD!C322,SOLICITUDES!$J$2:$J$1048576)","v":0},0,{"$f":"SUMIF(SOLICITUDES!$C$2:$C$1048576,BD!C322,SOLICITUDES!$K$2:$K$1048576)","v":0},0]
[null,null,"T2915",75,13200,208,-76.624175989915742,2.4460499357167849,37.5,{"$f":"D323*0.5-M323","v":37.5},15,15,{"$f":"SUMIF(SOLICITUDES!$C$2:$C$1048576,BD!C323,SOLICITUDES!$I$2:$I$1048576)","v":0},{"$f":"M323/D323","v":0},{"$f":"SUMIF(SOLICITUDES!$C$2:$C$1048576,BD!C323,SOLICITUDES!$J$2:$J$1048576)","v":0},0,{"$f":"SUMIF(SOLICITUDES!$C$2:$C$1048576,BD!C323,SOLICITUDES!$K$2:$K$1048576)","v":0},0]
[null,null,"T1038",125,13200,208,-76.625501494706171,2.4500151156189403,{"$f":"D324*0.5","v":62.5},62.5,{"$f":"0.2*D324","v":25},{"$f":"0.2*D324","v":25},{"$f":"SUMIF(SOLICITUDES!$C$2:$C$1048576,BD!C324,SOLICITUDES!$I$2:$I$1048576)","v":0},0,{"$f":"SUMIF(SOLICITUDES!$C$2:$C$1048576,BD!C324,SOLICITUDES!$J$2:$J$1048576)","v":0},{"$f":"O324/(2*K324)","v":0},{"$f":"SUMIF(SOLICITUDES!$C$2:$C$1048576,BD!C324,SOLICITUDES!$K$2:$K$1048576)","v":0},{"$f":"Q324/(2*L324)","v":0}]
[null,null,"T2917",45,13200,208,-76.624822999840646,2.447072040161665,22.5,22.5,9,9,{"$f":"SUMIF(SOLICITUDES!$C$2:$C$1048576,BD!C325,SOLICITUDES!$I$2:$I$1048576)","v":0},0,{"$f":"SUMIF(SOLICITUDES!$C$2:$C$1048576,BD!C325,SOLICITUDES!$J$2:$J$1048576)","v":0},0,{"$f":"SUMIF(SOLICITUDES!$C$2:$C$1048576,BD!C325,SOLICITUDES!$K$2:$K$1048576)","v":0},0]
[null,null,"T2918",75,13200,208,-76.62547023488753,2.4474068647557075,37.5,37.5,15,15,{"$f":"SUMIF(SOLICITUDES!$C$2:$C$1048576,BD!C326,SOLICITUDES!$I$2:$I$1048576)","v":0},0,{"$f":"SUMIF(SOLICITUDES!$C$2:$C$1048576,BD!C326,SOLICITUDES!$J$2:$J$1048576)","v":0},0,{"$f":"SUMIF(SOLICITUDES!$C$2:$C$1048576,BD!C326,SOLICITUDES!$K$2:$K$1048576)","v":0},0]
[null,null,"T28721",0.5,13200,240,-76.625277544911526,2.4503101254584356,0.25,0.25,0.1,0.1,{"$f":"SUMIF(SOLICITUDES!$C$2:$C$1048576,BD!C327,SOLICITUDES!$I$2:$I$1048576)","v":0},0,{"$f":"SUMIF(SOLICITUDES!$C$2:$C$1048576,BD!C327,SOLICITUDES!$J$2:$J$1048576)","v":0},0,{"$f":"SUMIF(SOLICITUDES!$C$2:$C$1048576,BD!C327,SOLICITUDES!$K$2:$K$1048576)","v":0},0]
[null,null,"T2916",112.5,13200,208,-76.625263649938987,2.4468008947295488,56.25,56.25,22.5,22.5,{"$f":"SUMIF(SOLICITUDES!$C$2:$C$1048576,BD!C328,SOLICITUDES!$I$2:$I$1048576)","v":0},0,{"$f":"SUMIF(SOLICITUDES!$C$2:$C$1048576,BD!C328,SOLICITUDES!$J$2:$J$1048576)","v":0},0,{"$f":"SUMIF(SOLICITUDES!$C$2:$C$1048576,BD!C328,SOLICITUDES!$K$2:$K$1048576)","v":0},0]
[null,null,"T2919",30,13200,208,-76.625712952028948,2.4475245141695519,15,15,6,6,{"$f":"SUMIF(SOLICITUDES!$C$2:$C$1048576,BD!C329,SOLICITUDES!$I$2:$I$1048576)","v":0},0,{"$f":"SUMIF(SOLICITUDES!$C$2:$C$1048576,BD!C329,SOLICITUDES!$J$2:$J$1048576)","v":0},0,{"$f":"SUMIF(SOLICITUDES!$C$2:$C$1048576,BD!C329,SOLICITUDES!$K$2:$K$1048576)","v":0},0]
[null,null,"T5441",45,13200,208,-76.624679732287049,2.4460556619703695,22.5,22.5,9,9,{"$f":"SUMIF(SOLICITUDES!$C$2:$C$1048576,BD!C330,SOLICITUDES!$I$2:$I$1048576)","v":0},0,{"$f":"SUMIF(SOLICITUDES!$C$2:$C$1048576,BD!C330,SOLICITUDES!$J$2:$J$1048576)","v":0},0,{"$f":"SUMIF(SOLICITUDES!$C$2:$C$1048576,BD!C330,SOLICITUDES!$K$2:$K$1048576)","v":0},0]
[null,null,"T5450",112.5,13200,220,-76.624121494712242,2.4476867403462936,56.25,56.25,22.5,22.5,{"$f":"SUMIF(SOLICITUDES!$C$2:$C$1048576,BD!C331,SOLICITUDES!$I$2:$I$1048576)","v":0},0,{"$f":"SUMIF(SOLICITUDES!$C$2:$C$1048576,BD!C331,SOLICITUDES!$J$2:$J$1048576)","v":0},0,{"$f":"SUMIF(SOLICITUDES!$C$2:$C$1048576,BD!C331,SOLICITUDES!$K$2:$K$1048576)","v":0},0]
[null,null,"T2920",45,13200,208,-76.624732949670502,2.4474879971021632,22.5,22.5,9,9,{"$f":"SUMIF(SOLICITUDES!$C$2:$C$1048576,BD!C332,SOLICITUDES!$I$2:$I$1048576)","v":0},0,{"$f":"SUMIF(SOLICITUDES!$C$2:$C$1048576,BD!C332,SOLICITUDES!$J$2:$J$1048576)","v":0},0,{"$f":"SUMIF(SOLICITUDES!$C$2:$C$1048576,BD!C332,SOLICITUDES!$K$2:$K$1048576)","v":0},0]
[null,null,"T2899",112.5,13200,208,-76.622411846192037,2.4516742239494604,56.25,56.25,22.5,22.5,{"$f":"SUMIF(SOLICITUDES!$C$2:$C$1048576,BD!C333,SOLICITUDES!$I$2:$I$1048576)","v":0},0,{"$f":"SUMIF(SOLICITUDES!$C$2:$C$1048576,BD!C333,SOLICITUDES!$J$2:$J$1048576)","v":0},0,{"$f":"SUMIF(SOLICITUDES!$C$2:$C$1048576,BD!C333,SOLICITUDES!$K$2:$K$1048576)","v":0},0]
[null,null,"T2906",30,13200,208,-76.622969112624915,2.4528629286762742,15,15,6,6,{"$f":"SUMIF(SOLICITUDES!$C$2:$C$1048576,BD!C334,SOLICITUDES!$I$2:$I$1048576)","v":0},0,{"$f":"SUMIF(SOLICITUDES!$C$2:$C$1048576,BD!C334,SOLICITUDES!$J$2:$J$1048576)","v":0},0,{"$f":"SUMIF(SOLICITUDES!$C$2:$C$1048576,BD!C334,SOLICITUDES!$K$2:$K$1048576)","v":0},0]
[null,null,"T2903",75,13200,208,-76.623632972961119,2.4526282809488689,37.5,37.5,15,15,{"$f":"SUMIF(SOLICITUDES!$C$2:$C$1048576,BD!C335,SOLICITUDES!$I$2:$I$1048576)","v":0},0,{"$f":"SUMIF(SOLICITUDES!$C$2:$C$1048576,BD!C335,SOLICITUDES!$J$2:$J$1048576)","v":0},0,{"$f":"SUMIF(SOLICITUDES!$C$2:$C$1048576,BD!C335,SOLICITUDES!$K$2:$K$1048576)","v":0},0]
[null,null,"T2900",75,13200,208,-76.622609873946814,2.4510050885295818,37.5,37.5,15,15,{"$f":"SUMIF(SOLICITUDES!$C$2:$C$1048576,BD!C336,SOLICITUDES!$I$2:$I$1048576)","v":0},0,{"$f":"SUMIF(SOLICITUDES!$C$2:$C$1048576,BD!C336,SOLICITUDES!$J$2:$J$1048576)","v":0},0,{"$f":"SUMIF(SOLICITUDES!$C$2:$C$1048576,BD!C336,SOLICITUDES!$K$2:$K$1048576)","v":0},0]
[null,null,"T2909",75,13200,208,-76.623269100247384,2.4537065479147637,37.5,37.5,15,15,{"$f":"SUMIF(SOLICITUDES!$C$2:$C$1048576,BD!C337,SOLICITUDES!$I$2:$I$1048576)","v":0},0,{"$f":"SUMIF(SOLICITUDES!$C$2:$C$1048576,BD!C337,SOLICITUDES!$J$2:$J$1048576)","v":0},0,{"$f":"SUMIF(SOLICITUDES!$C$2:$C$1048576,BD!C337,SOLICITUDES!$K$2:$K$1048576)","v":0},0]
[null,null,"T2908",75,13200,208,-76.624704100948406,2.4539785427276435,37.5,37.5,15,15,{"$f":"SUMIF(SOLICITUDES!$C$2:$C$1048576,BD!C338,SOLICITUDES!$I$2:$I$1048576)","v":0},0,{"$f":"SUMIF(SOLICITUDES!$C$2:$C$1048576,BD!C338,SOLICITUDES!$J$2:$J$1048576)","v":0},0,{"$f":"SUMIF(SOLICITUDES!$C$2:$C$1048576,BD!C338,SOLICITUDES!$K$2:$K$1048576)","v":0},0]
[null,null,"T2901",112.5,13200,208,-76.622403204730773,2.4506432924641852,56.25,56.25,22.5,22.5,{"$f":"SUMIF(SOLICITUDES!$C$2:$C$1048576,BD!C339,SOLICITUDES!$I$2:$I$1048576)","v":0},0,{"$f":"SUMIF(SOLICITUDES!$C$2:$C$1048576,BD!C339,SOLICITUDES!$J$2:$J$1048576)","v":0},0,{"$f":"SUMIF(SOLICITUDES!$C$2:$C$1048576,BD!C339,SOLICITUDES!$K$2:$K$1048576)","v":0},0]
[null,null,"T2902",112.5,13200,208,-76.622504342873398,2.4501910842304708,56.25,56.25,22.5,22.5,{"$f":"SUMIF(SOLICITUDES!$C$2:$C$1048576,BD!C340,SOLICITUDES!$I$2:$I$1048576)","v":0},0,{"$f":"SUMIF(SOLICITUDES!$C$2:$C$1048576,BD!C340,SOLICITUDES!$J$2:$J$1048576)","v":0},0,{"$f":"SUMIF(SOLICITUDES!$C$2:$C$1048576,BD!C340,SOLICITUDES!$K$2:$K$1048576)","v":0},0]
[null,null,"T2907",45,13200,208,-76.625966135659581,2.4538936014423935,22.5,22.5,9,9,{"$f":"SUMIF(SOLICITUDES!$C$2:$C$1048576,BD!C341,SOLICITUDES!$I$2:$I$1048576)","v":0},0,{"$f":"SUMIF(SOLICITUDES!$C$2:$C$1048576,BD!C341,SOLICITUDES!$J$2:$J$1048576)","v":0},0,{"$f":"SUMIF(SOLICITUDES!$C$2:$C$1048576,BD!C341,SOLICITUDES!$K$2:$K$1048576)","v":0},0]
[null,null,"T10006",75,13200,208,-76.62349721634871,2.4382506836433158,37.5,37.5,15,15,{"$f":"SUMIF(SOLICITUDES!$C$2:$C$1048576,BD!C342,SOLICITUDES!$I$2:$I$1048576)","v":0},0,{"$f":"SUMIF(SOLICITUDES!$C$2:$C$1048576,BD!C342,SOLICITUDES!$J$2:$J$1048576)","v":0},0,{"$f":"SUMIF(SOLICITUDES!$C$2:$C$1048576,BD!C342,SOLICITUDES!$K$2:$K$1048576)","v":0},0]
[null,null,"T3325",45,13200,208,-76.621329222474259,2.4361285280518912,22.5,22.5,9,9,{"$f":"SUMIF(SOLICITUDES!$C$2:$C$1048576,BD!C343,SOLICITUDES!$I$2:$I$1048576)","v":0},0,{"$f":"SUMIF(SOLICITUDES!$C$2:$C$1048576,BD!C343,SOLICITUDES!$J$2:$J$1048576)","v":0},0,{"$f":"SUMIF(SOLICITUDES!$C$2:$C$1048576,BD!C343,SOLICITUDES!$K$2:$K$1048576)","v":0},0]
[null,null,"T10007",112.5,13200,208,-76.624695948724053,2.4395369152910473,56.25,56.25,22.5,22.5,{"$f":"SUMIF(SOLICITUDES!$C$2:$C$1048576,BD!C344,SOLICITUDES!$I$2:$I$1048576)","v":0},0,{"$f":"SUMIF(SOLICITUDES!$C$2:$C$1048576,BD!C344,SOLICITUDES!$J$2:$J$1048576)","v":0},0,{"$f":"SUMIF(SOLICITUDES!$C$2:$C$1048576,BD!C344,SOLICITUDES!$K$2:$K$1048576)","v":0},0]
[null,null,"T3324",75,13200,208,-76.621275105928348,2.4366258874714219,37.5,37.5,15,15,{"$f":"SUMIF(SOLICITUDES!$C$2:$C$1048576,BD!C345,SOLICITUDES!$I$2:$I$1048576)","v":0},0,{"$f":"SUMIF(SOLICITUDES!$C$2:$C$1048576,BD!C345,SOLICITUDES!$J$2:$J$1048576)","v":0},0,{"$f":"SUMIF(SOLICITUDES!$C$2:$C$1048576,BD!C345,SOLICITUDES!$K$2:$K$1048576)","v":0},0]
[null,null,"T30188",0.5,13200,208,-76.620731200774216,2.4364533170621478,0.25,0.25,0.1,0.1,{"$f":"SUMIF(SOLICITUDES!$C$2:$C$1048576,BD!C346,SOLICITUDES!$I$2:$I$1048576)","v":0},0,{"$f":"SUMIF(SOLICITUDES!$C$2:$C$1048576,BD!C346,SOLICITUDES!$J$2:$J$1048576)","v":0},0,{"$f":"SUMIF(SOLICITUDES!$C$2:$C$1048576,BD!C346,SOLICITUDES!$K$2:$K$1048576)","v":0},0]
[null,null,"T42000",0.5,13200,240,-76.624715875792091,2.4395764744954933,0.25,0.25,0.1,0.1,{"$f":"SUMIF(SOLICITUDES!$C$2:$C$1048576,BD!C347,SOLICITUDES!$I$2:$I$1048576)","v":0},0,{"$f":"SUMIF(SOLICITUDES!$C$2:$C$1048576,BD!C347,SOLICITUDES!$J$2:$J$1048576)","v":0},0,{"$f":"SUMIF(SOLICITUDES!$C$2:$C$1048576,BD!C347,SOLICITUDES!$K$2:$K$1048576)","v":0},0]
[null,null,"T3288",75,13200,208,-76.620250187464308,2.4364898921405715,37.5,37.5,15,15,{"$f":"SUMIF(SOLICITUDES!$C$2:$C$1048576,BD!C348,SOLICITUDES!$I$2:$I$1048576)","v":0},0,{"$f":"SUMIF(SOLICITUDES!$C$2:$C$1048576,BD!C348,SOLICITUDES!$J$2:$J$1048576)","v":0},0,{"$f":"SUMIF(SOLICITUDES!$C$2:$C$1048576,BD!C348,SOLICITUDES!$K$2:$K$1048576)","v":0},0]
[null,null,"T1913",45,13200,208,-76.620932184632679,2.4372151711541874,22.5,22.5,9,9,{"$f":"SUMIF(SOLICITUDES!$C$2:$C$1048576,BD!C349,SOLICITUDES!$I$2:$I$1048576)","v":0},0,{"$f":"SUMIF(SOLICITUDES!$C$2:$C$1048576,BD!C349,SOLICITUDES!$J$2:$J$1048576)","v":0},0,{"$f":"SUMIF(SOLICITUDES!$C$2:$C$1048576,BD!C349,SOLICITUDES!$K$2:$K$1048576)","v":0},0]
[null,null,"T2201",75,13200,208,-76.617650991830672,2.438858315050116,37.5,37.5,15,15,{"$f":"SUMIF(SOLICITUDES!$C$2:$C$1048576,BD!C350,SOLICITUDES!$I$2:$I$1048576)","v":0},0,{"$f":"SUMIF(SOLICITUDES!$C$2:$C$1048576,BD!C350,SOLICITUDES!$J$2:$J$1048576)","v":0},0,{"$f":"SUMIF(SOLICITUDES!$C$2:$C$1048576,BD!C350,SOLICITUDES!$K$2:$K$1048576)","v":0},0]
[null,null,"T2203",75,13200,208,-76.617596622420166,2.4401153051959086,37.5,37.5,15,15,{"$f":"SUMIF(SOLICITUDES!$C$2:$C$1048576,BD!C351,SOLICITUDES!$I$2:$I$1048576)","v":0},0,{"$f":"SUMIF(SOLICITUDES!$C$2:$C$1048576,BD!C351,SOLICITUDES!$J$2:$J$1048576)","v":0},0,{"$f":"SUMIF(SOLICITUDES!$C$2:$C$1048576,BD!C351,SOLICITUDES!$K$2:$K$1048576)","v":0},0]
[null,null,"T2866",112.5,13200,208,-76.624195261051113,2.4418638829388466,56.25,56.25,22.5,22.5,{"$f":"SUMIF(SOLICITUDES!$C$2:$C$1048576,BD!C352,SOLICITUDES!$I$2:$I$1048576)","v":0},0,{"$f":"SUMIF(SOLICITUDES!$C$2:$C$1048576,BD!C352,SOLICITUDES!$J$2:$J$1048576)","v":0},0,{"$f":"SUMIF(SOLICITUDES!$C$2:$C$1048576,BD!C352,SOLICITUDES!$K$2:$K$1048576)","v":0},0]
[null,null,"T2480",75,13200,208,-76.622028797155934,2.4432597481692766,37.5,37.5,15,15,{"$f":"SUMIF(SOLICITUDES!$C$2:$C$1048576,BD!C353,SOLICITUDES!$I$2:$I$1048576)","v":0},0,{"$f":"SUMIF(SOLICITUDES!$C$2:$C$1048576,BD!C353,SOLICITUDES!$J$2:$J$1048576)","v":0},0,{"$f":"SUMIF(SOLICITUDES!$C$2:$C$1048576,BD!C353,SOLICITUDES!$K$2:$K$1048576)","v":0},0]
[null,null,"T42001",0.5,13200,240,-76.624968591393184,2.4419264916987551,0.25,0.25,0.1,0.1,{"$f":"SUMIF(SOLICITUDES!$C$2:$C$1048576,BD!C354,SOLICITUDES!$I$2:$I$1048576)","v":0},0,{"$f":"SUMIF(SOLICITUDES!$C$2:$C$1048576,BD!C354,SOLICITUDES!$J$2:$J$1048576)","v":0},0,{"$f":"SUMIF(SOLICITUDES!$C$2:$C$1048576,BD!C354,SOLICITUDES!$K$2:$K$1048576)","v":0},0]
[null,null,"T2205",112.5,13200,208,-76.618594715546834,2.4398081823913982,56.25,56.25,22.5,22.5,{"$f":"SUMIF(SOLICITUDES!$C$2:$C$1048576,BD!C355,SOLICITUDES!$I$2:$I$1048576)","v":0},0,{"$f":"SUMIF(SOLICITUDES!$C$2:$C$1048576,BD!C355,SOLICITUDES!$J$2:$J$1048576)","v":0},0,{"$f":"SUMIF(SOLICITUDES!$C$2:$C$1048576,BD!C355,SOLICITUDES!$K$2:$K$1048576)","v":0},0]
[null,null,"T2207",75,13200,208,-76.616796532935723,2.4397894752917426,37.5,37.5,15,15,{"$f":"SUMIF(SOLICITUDES!$C$2:$C$1048576,BD!C356,SOLICITUDES!$I$2:$I$1048576)","v":0},0,{"$f":"SUMIF(SOLICITUDES!$C$2:$C$1048576,BD!C356,SOLICITUDES!$J$2:$J$1048576)","v":0},0,{"$f":"SUMIF(SOLICITUDES!$C$2:$C$1048576,BD!C356,SOLICITUDES!$K$2:$K$1048576)","v":0},0]
[null,null,"T2208",112.5,13200,208,-76.61708475108648,2.438324571659646,56.25,56.25,22.5,22.5,{"$f":"SUMIF(SOLICITUDES!$C$2:$C$1048576,BD!C357,SOLICITUDES!$I$2:$I$1048576)","v":0},0,{"$f":"SUMIF(SOLICITUDES!$C$2:$C$1048576,BD!C357,SOLICITUDES!$J$2:$J$1048576)","v":0},0,{"$f":"SUMIF(SOLICITUDES!$C$2:$C$1048576,BD!C357,SOLICITUDES!$K$2:$K$1048576)","v":0},0]
[null,null,"T2743",75,13200,208,-76.616754407916218,2.4387572788649354,37.5,37.5,15,15,{"$f":"SUMIF(SOLICITUDES!$C$2:$C$1048576,BD!C358,SOLICITUDES!$I$2:$I$1048576)","v":0},0,{"$f":"SUMIF(SOLICITUDES!$C$2:$C$1048576,BD!C358,SOLICITUDES!$J$2:$J$1048576)","v":0},0,{"$f":"SUMIF(SOLICITUDES!$C$2:$C$1048576,BD!C358,SOLICITUDES!$K$2:$K$1048576)","v":0},0]
[null,null,"T1085",112.5,13200,208,-76.629162321111977,2.4495848497135211,56.25,56.25,22.5,22.5,{"$f":"SUMIF(SOLICITUDES!$C$2:$C$1048576,BD!C359,SOLICITUDES!$I$2:$I$1048576)","v":0},0,{"$f":"SUMIF(SOLICITUDES!$C$2:$C$1048576,BD!C359,SOLICITUDES!$J$2:$J$1048576)","v":0},0,{"$f":"SUMIF(SOLICITUDES!$C$2:$C$1048576,BD!C359,SOLICITUDES!$K$2:$K$1048576)","v":0},0]
[null,null,"T2202",75,13200,208,-76.6172198457391,2.4376554220299185,37.5,37.5,15,15,{"$f":"SUMIF(SOLICITUDES!$C$2:$C$1048576,BD!C360,SOLICITUDES!$I$2:$I$1048576)","v":0},0,{"$f":"SUMIF(SOLICITUDES!$C$2:$C$1048576,BD!C360,SOLICITUDES!$J$2:$J$1048576)","v":0},0,{"$f":"SUMIF(SOLICITUDES!$C$2:$C$1048576,BD!C360,SOLICITUDES!$K$2:$K$1048576)","v":0},0]
[null,null,"T42090",0.5,13200,240,-76.615798984326844,2.4385049874558482,0.25,0.25,0.1,0.1,{"$f":"SUMIF(SOLICITUDES!$C$2:$C$1048576,BD!C361,SOLICITUDES!$I$2:$I$1048576)","v":0},0,{"$f":"SUMIF(SOLICITUDES!$C$2:$C$1048576,BD!C361,SOLICITUDES!$J$2:$J$1048576)","v":0},0,{"$f":"SUMIF(SOLICITUDES!$C$2:$C$1048576,BD!C361,SOLICITUDES!$K$2:$K$1048576)","v":0},0]
[null,null,"T2210",112.5,13200,208,-76.616968125044366,2.4375558582735399,56.25,56.25,22.5,22.5,{"$f":"SUMIF(SOLICITUDES!$C$2:$C$1048576,BD!C362,SOLICITUDES!$I$2:$I$1048576)","v":0},0,{"$f":"SUMIF(SOLICITUDES!$C$2:$C$1048576,BD!C362,SOLICITUDES!$J$2:$J$1048576)","v":0},0,{"$f":"SUMIF(SOLICITUDES!$C$2:$C$1048576,BD!C362,SOLICITUDES!$K$2:$K$1048576)","v":0},0]
[null,null,"T2508",75,13200,208,-76.616086727787831,2.4383965697716188,37.5,37.5,15,15,{"$f":"SUMIF(SOLICITUDES!$C$2:$C$1048576,BD!C363,SOLICITUDES!$I$2:$I$1048576)","v":0},0,{"$f":"SUMIF(SOLICITUDES!$C$2:$C$1048576,BD!C363,SOLICITUDES!$J$2:$J$1048576)","v":0},0,{"$f":"SUMIF(SOLICITUDES!$C$2:$C$1048576,BD!C363,SOLICITUDES!$K$2:$K$1048576)","v":0},0]
[null,null,"T2511",75,13200,208,-76.616779328694236,2.437519613663536,37.5,37.5,15,15,{"$f":"SUMIF(SOLICITUDES!$C$2:$C$1048576,BD!C364,SOLICITUDES!$I$2:$I$1048576)","v":0},0,{"$f":"SUMIF(SOLICITUDES!$C$2:$C$1048576,BD!C364,SOLICITUDES!$J$2:$J$1048576)","v":0},0,{"$f":"SUMIF(SOLICITUDES!$C$2:$C$1048576,BD!C364,SOLICITUDES!$K$2:$K$1048576)","v":0},0]
[null,null,"T11538",75,13200,208,-76.628644998997459,2.4506705823778367,37.5,37.5,15,15,{"$f":"SUMIF(SOLICITUDES!$C$2:$C$1048576,BD!C365,SOLICITUDES!$I$2:$I$1048576)","v":0},0,{"$f":"SUMIF(SOLICITUDES!$C$2:$C$1048576,BD!C365,SOLICITUDES!$J$2:$J$1048576)","v":0},0,{"$f":"SUMIF(SOLICITUDES!$C$2:$C$1048576,BD!C365,SOLICITUDES!$K$2:$K$1048576)","v":0},0]
[null,null,"T11539",30,13200,208,-76.629236398007535,2.4506094576693709,15,15,6,6,{"$f":"SUMIF(SOLICITUDES!$C$2:$C$1048576,BD!C366,SOLICITUDES!$I$2:$I$1048576)","v":0},0,{"$f":"SUMIF(SOLICITUDES!$C$2:$C$1048576,BD!C366,SOLICITUDES!$J$2:$J$1048576)","v":0},0,{"$f":"SUMIF(SOLICITUDES!$C$2:$C$1048576,BD!C366,SOLICITUDES!$K$2:$K$1048576)","v":0},0]
[null,null,"T28715",0.5,13200,240,-76.628532902856563,2.4509144684229782,0.25,0.25,0.1,0.1,{"$f":"SUMIF(SOLICITUDES!$C$2:$C$1048576,BD!C367,SOLICITUDES!$I$2:$I$1048576)","v":0},0,{"$f":"SUMIF(SOLICITUDES!$C$2:$C$1048576,BD!C367,SOLICITUDES!$J$2:$J$1048576)","v":0},0,{"$f":"SUMIF(SOLICITUDES!$C$2:$C$1048576,BD!C367,SOLICITUDES!$K$2:$K$1048576)","v":0},0]
[null,null,"12TR3",75,34500,216,-76.621556984799611,2.4331254525601493,37.5,37.5,15,15,{"$f":"SUMIF(SOLICITUDES!$C$2:$C$1048576,BD!C368,SOLICITUDES!$I$2:$I$1048576)","v":0},0,{"$f":"SUMIF(SOLICITUDES!$C$2:$C$1048576,BD!C368,SOLICITUDES!$J$2:$J$1048576)","v":0},0,{"$f":"SUMIF(SOLICITUDES!$C$2:$C$1048576,BD!C368,SOLICITUDES!$K$2:$K$1048576)","v":0},0]
[null,null,"T14094",300,13200,480,-76.62132412646956,2.4330238497617285,150,150,60,60,{"$f":"SUMIF(SOLICITUDES!$C$2:$C$1048576,BD!C369,SOLICITUDES!$I$2:$I$1048576)","v":0},0,{"$f":"SUMIF(SOLICITUDES!$C$2:$C$1048576,BD!C369,SOLICITUDES!$J$2:$J$1048576)","v":0},0,{"$f":"SUMIF(SOLICITUDES!$C$2:$C$1048576,BD!C369,SOLICITUDES!$K$2:$K$1048576)","v":0},0]
[null,null,"T42016",0.5,34500,240,-76.484736912726603,3.0212572294755917,0.25,0.25,0.1,0.1,{"$f":"SUMIF(SOLICITUDES!$C$2:$C$1048576,BD!C370,SOLICITUDES!$I$2:$I$1048576)","v":0},0,{"$f":"SUMIF(SOLICITUDES!$C$2:$C$1048576,BD!C370,SOLICITUDES!$J$2:$J$1048576)","v":0},0,{"$f":"SUMIF(SOLICITUDES!$C$2:$C$1048576,BD!C370,SOLICITUDES!$K$2:$K$1048576)","v":0},0]
[null,null,"T7298",25,34500,240,-76.465514481734118,3.1047746550028021,12.5,12.5,5,5,{"$f":"SUMIF(SOLICITUDES!$C$2:$C$1048576,BD!C371,SOLICITUDES!$I$2:$I$1048576)","v":0},0,{"$f":"SUMIF(SOLICITUDES!$C$2:$C$1048576,BD!C371,SOLICITUDES!$J$2:$J$1048576)","v":0},0,{"$f":"SUMIF(SOLICITUDES!$C$2:$C$1048576,BD!C371,SOLICITUDES!$K$2:$K$1048576)","v":0},0]
[null,null,"T7297",25,34500,240,-76.465885153799604,3.1069394460306383,12.5,12.5,5,5,{"$f":"SUMIF(SOLICITUDES!$C$2:$C$1048576,BD!C372,SOLICITUDES!$I$2:$I$1048576)","v":0},0,{"$f":"SUMIF(SOLICITUDES!$C$2:$C$1048576,BD!C372,SOLICITUDES!$J$2:$J$1048576)","v":0},0,{"$f":"SUMIF(SOLICITUDES!$C$2:$C$1048576,BD!C372,SOLICITUDES!$K$2:$K$1048576)","v":0},0]
[null,null,"T8489",25,34500,240,-76.466308747340221,3.1157531535924088,12.5,12.5,5,5,{"$f":"SUMIF(SOLICITUDES!$C$2:$C$1048576,BD!C373,SOLICITUDES!$I$2:$I$1048576)","v":0},0,{"$f":"SUMIF(SOLICITUDES!$C$2:$C$1048576,BD!C373,SOLICITUDES!$J$2:$J$1048576)","v":0},0,{"$f":"SUMIF(SOLICITUDES!$C$2:$C$1048576,BD!C373,SOLICITUDES!$K$2:$K$1048576)","v":0},0]
[null,null,"T7584",15,34500,240,-76.464111734056672,3.1192243608640302,7.5,7.5,3,3,{"$f":"SUMIF(SOLICITUDES!$C$2:$C$1048576,BD!C374,SOLICITUDES!$I$2:$I$1048576)","v":0},0,{"$f":"SUMIF(SOLICITUDES!$C$2:$C$1048576,BD!C374,SOLICITUDES!$J$2:$J$1048576)","v":0},0,{"$f":"SUMIF(SOLICITUDES!$C$2:$C$1048576,BD!C374,SOLICITUDES!$K$2:$K$1048576)","v":0},0]
[null,null,"T42021",0.5,34500,240,-76.465293531791943,3.1211530772577323,0.25,0.25,0.1,0.1,{"$f":"SUMIF(SOLICITUDES!$C$2:$C$1048576,BD!C375,SOLICITUDES!$I$2:$I$1048576)","v":0},0,{"$f":"SUMIF(SOLICITUDES!$C$2:$C$1048576,BD!C375,SOLICITUDES!$J$2:$J$1048576)","v":0},0,{"$f":"SUMIF(SOLICITUDES!$C$2:$C$1048576,BD!C375,SOLICITUDES!$K$2:$K$1048576)","v":0},0]
[null,null,"T17273",2000,34500,208,-76.463909162078863,3.1272633016701201,1000,1000,400,400,{"$f":"SUMIF(SOLICITUDES!$C$2:$C$1048576,BD!C376,SOLICITUDES!$I$2:$I$1048576)","v":0},0,{"$f":"SUMIF(SOLICITUDES!$C$2:$C$1048576,BD!C376,SOLICITUDES!$J$2:$J$1048576)","v":0},0,{"$f":"SUMIF(SOLICITUDES!$C$2:$C$1048576,BD!C376,SOLICITUDES!$K$2:$K$1048576)","v":0},0]
[null,null,"T7576",20,34500,440,-76.464720260106773,3.1248041631558965,10,10,4,4,{"$f":"SUMIF(SOLICITUDES!$C$2:$C$1048576,BD!C377,SOLICITUDES!$I$2:$I$1048576)","v":0},0,{"$f":"SUMIF(SOLICITUDES!$C$2:$C$1048576,BD!C377,SOLICITUDES!$J$2:$J$1048576)","v":0},0,{"$f":"SUMIF(SOLICITUDES!$C$2:$C$1048576,BD!C377,SOLICITUDES!$K$2:$K$1048576)","v":0},0]
[null,null,"T18617",75,34500,208,-76.463503765573179,3.1281945427579929,37.5,37.5,15,15,{"$f":"SUMIF(SOLICITUDES!$C$2:$C$1048576,BD!C378,SOLICITUDES!$I$2:$I$1048576)","v":0},0,{"$f":"SUMIF(SOLICITUDES!$C$2:$C$1048576,BD!C378,SOLICITUDES!$J$2:$J$1048576)","v":0},0,{"$f":"SUMIF(SOLICITUDES!$C$2:$C$1048576,BD!C378,SOLICITUDES!$K$2:$K$1048576)","v":0},0]
[null,null,"T18635",75,34500,208,-76.462317084907468,3.126873587720552,37.5,37.5,15,15,{"$f":"SUMIF(SOLICITUDES!$C$2:$C$1048576,BD!C379,SOLICITUDES!$I$2:$I$1048576)","v":0},0,{"$f":"SUMIF(SOLICITUDES!$C$2:$C$1048576,BD!C379,SOLICITUDES!$J$2:$J$1048576)","v":0},0,{"$f":"SUMIF(SOLICITUDES!$C$2:$C$1048576,BD!C379,SOLICITUDES!$K$2:$K$1048576)","v":0},0]
[null,null,"T8492",75,34500,208,-76.460474999352698,3.1234542107730539,37.5,37.5,15,15,{"$f":"SUMIF(SOLICITUDES!$C$2:$C$1048576,BD!C380,SOLICITUDES!$I$2:$I$1048576)","v":0},0,{"$f":"SUMIF(SOLICITUDES!$C$2:$C$1048576,BD!C380,SOLICITUDES!$J$2:$J$1048576)","v":0},0,{"$f":"SUMIF(SOLICITUDES!$C$2:$C$1048576,BD!C380,SOLICITUDES!$K$2:$K$1048576)","v":0},0]
[null,null,"T8490",75,34500,208,-76.463249270712424,3.1326796468124529,37.5,37.5,15,15,{"$f":"SUMIF(SOLICITUDES!$C$2:$C$1048576,BD!C381,SOLICITUDES!$I$2:$I$1048576)","v":0},0,{"$f":"SUMIF(SOLICITUDES!$C$2:$C$1048576,BD!C381,SOLICITUDES!$J$2:$J$1048576)","v":0},0,{"$f":"SUMIF(SOLICITUDES!$C$2:$C$1048576,BD!C381,SOLICITUDES!$K$2:$K$1048576)","v":0},0]
[null,null,"T28747",0.5,13200,240,-76.462971937233888,3.1308613234204166,0.25,0.25,0.1,0.1,{"$f":"SUMIF(SOLICITUDES!$C$2:$C$1048576,BD!C382,SOLICITUDES!$I$2:$I$1048576)","v":0},0,{"$f":"SUMIF(SOLICITUDES!$C$2:$C$1048576,BD!C382,SOLICITUDES!$J$2:$J$1048576)","v":0},0,{"$f":"SUMIF(SOLICITUDES!$C$2:$C$1048576,BD!C382,SOLICITUDES!$K$2:$K$1048576)","v":0},0]
[null,null,"T40359",75,34500,225,-76.46275870688909,3.1225514393654352,37.5,37.5,15,15,{"$f":"SUMIF(SOLICITUDES!$C$2:$C$1048576,BD!C383,SOLICITUDES!$I$2:$I$1048576)","v":0},0,{"$f":"SUMIF(SOLICITUDES!$C$2:$C$1048576,BD!C383,SOLICITUDES!$J$2:$J$1048576)","v":0},0,{"$f":"SUMIF(SOLICITUDES!$C$2:$C$1048576,BD!C383,SOLICITUDES!$K$2:$K$1048576)","v":0},0]
[null,null,"T31286",75,13200,220,-76.463336807578301,3.1245021287199677,37.5,37.5,15,15,{"$f":"SUMIF(SOLICITUDES!$C$2:$C$1048576,BD!C384,SOLICITUDES!$I$2:$I$1048576)","v":0},0,{"$f":"SUMIF(SOLICITUDES!$C$2:$C$1048576,BD!C384,SOLICITUDES!$J$2:$J$1048576)","v":0},0,{"$f":"SUMIF(SOLICITUDES!$C$2:$C$1048576,BD!C384,SOLICITUDES!$K$2:$K$1048576)","v":0},0]
[null,null,"T7581",150,34500,208,-76.46340693815084,3.1245592706094656,75,75,30,30,{"$f":"SUMIF(SOLICITUDES!$C$2:$C$1048576,BD!C385,SOLICITUDES!$I$2:$I$1048576)","v":0},0,{"$f":"SUMIF(SOLICITUDES!$C$2:$C$1048576,BD!C385,SOLICITUDES!$J$2:$J$1048576)","v":0},0,{"$f":"SUMIF(SOLICITUDES!$C$2:$C$1048576,BD!C385,SOLICITUDES!$K$2:$K$1048576)","v":0},0]
[null,null,"T28748",0.5,13200,240,-76.46263095257838,3.1367369705468091,0.25,0.25,0.1,0.1,{"$f":"SUMIF(SOLICITUDES!$C$2:$C$1048576,BD!C386,SOLICITUDES!$I$2:$I$1048576)","v":0},0,{"$f":"SUMIF(SOLICITUDES!$C$2:$C$1048576,BD!C386,SOLICITUDES!$J$2:$J$1048576)","v":0},0,{"$f":"SUMIF(SOLICITUDES!$C$2:$C$1048576,BD!C386,SOLICITUDES!$K$2:$K$1048576)","v":0},0]
[null,null,"T8491",37.5,34500,240,-76.458774970491135,3.1231096513569705,18.75,{"$f":"D387*0.5-M387","v":18.75},7.5,7.5,{"$f":"SUMIF(SOLICITUDES!$C$2:$C$1048576,BD!C387,SOLICITUDES!$I$2:$I$1048576)","v":0},{"$f":"M387/D387","v":0},{"$f":"SUMIF(SOLICITUDES!$C$2:$C$1048576,BD!C387,SOLICITUDES!$J$2:$J$1048576)","v":0},0,{"$f":"SUMIF(SOLICITUDES!$C$2:$C$1048576,BD!C387,SOLICITUDES!$K$2:$K$1048576)","v":0},0]
[null,null,"T7588",75,34500,208,-76.458840986803523,3.1178286492678233,{"$f":"D388*0.5","v":37.5},37.5,{"$f":"0.2*D388","v":15},{"$f":"0.2*D388","v":15},{"$f":"SUMIF(SOLICITUDES!$C$2:$C$1048576,BD!C388,SOLICITUDES!$I$2:$I$1048576)","v":0},0,{"$f":"SUMIF(SOLICITUDES!$C$2:$C$1048576,BD!C388,SOLICITUDES!$J$2:$J$1048576)","v":0},{"$f":"O388/(2*K388)","v":0},{"$f":"SUMIF(SOLICITUDES!$C$2:$C$1048576,BD!C388,SOLICITUDES!$K$2:$K$1048576)","v":0},{"$f":"Q388/(2*L388)","v":0}]
[null,null,"T21186",2500,34500,480,-76.459852975661875,3.1352921477040812,1250,1250,500,500,{"$f":"SUMIF(SOLICITUDES!$C$2:$C$1048576,BD!C389,SOLICITUDES!$I$2:$I$1048576)","v":0},0,{"$f":"SUMIF(SOLICITUDES!$C$2:$C$1048576,BD!C389,SOLICITUDES!$J$2:$J$1048576)","v":0},0,{"$f":"SUMIF(SOLICITUDES!$C$2:$C$1048576,BD!C389,SOLICITUDES!$K$2:$K$1048576)","v":0},0]
[null,null,"T15377",1000,34500,456,-76.432634362747464,3.0539676782322349,500,355,200,200,{"$f":"SUMIF(SOLICITUDES!$C$2:$C$1048576,BD!C390,SOLICITUDES!$I$2:$I$1048576)","v":145},0.14499999999999999,{"$f":"SUMIF(SOLICITUDES!$C$2:$C$1048576,BD!C390,SOLICITUDES!$J$2:$J$1048576)","v":0},0,{"$f":"SUMIF(SOLICITUDES!$C$2:$C$1048576,BD!C390,SOLICITUDES!$K$2:$K$1048576)","v":145},0.36249999999999999]
[null,null,"T15378",300,34500,208,-76.431883474524241,3.0536261245798677,150,-171.32,60,60,{"$f":"SUMIF(SOLICITUDES!$C$2:$C$1048576,BD!C391,SOLICITUDES!$I$2:$I$1048576)","v":321.32},1.0710666666666666,{"$f":"SUMIF(SOLICITUDES!$C$2:$C$1048576,BD!C391,SOLICITUDES!$J$2:$J$1048576)","v":0},0,{"$f":"SUMIF(SOLICITUDES!$C$2:$C$1048576,BD!C391,SOLICITUDES!$K$2:$K$1048576)","v":321.32},2.6776666666666666]
[null,null,"T8979",15,34500,240,-76.496065111345501,2.9992330342115738,7.5,7.5,3,3,{"$f":"SUMIF(SOLICITUDES!$C$2:$C$1048576,BD!C392,SOLICITUDES!$I$2:$I$1048576)","v":0},0,{"$f":"SUMIF(SOLICITUDES!$C$2:$C$1048576,BD!C392,SOLICITUDES!$J$2:$J$1048576)","v":0},0,{"$f":"SUMIF(SOLICITUDES!$C$2:$C$1048576,BD!C392,SOLICITUDES!$K$2:$K$1048576)","v":0},0]
[null,null,"T9690",25,34500,240,-76.488476015639478,3.0316935987480544,12.5,12.5,5,5,{"$f":"SUMIF(SOLICITUDES!$C$2:$C$1048576,BD!C393,SOLICITUDES!$I$2:$I$1048576)","v":0},0,{"$f":"SUMIF(SOLICITUDES!$C$2:$C$1048576,BD!C393,SOLICITUDES!$J$2:$J$1048576)","v":0},0,{"$f":"SUMIF(SOLICITUDES!$C$2:$C$1048576,BD!C393,SOLICITUDES!$K$2:$K$1048576)","v":0},0]
[null,null,"T13001",112.5,34500,208,-76.487811567483689,3.0295953122153674,56.25,56.25,22.5,22.5,{"$f":"SUMIF(SOLICITUDES!$C$2:$C$1048576,BD!C394,SOLICITUDES!$I$2:$I$1048576)","v":0},0,{"$f":"SUMIF(SOLICITUDES!$C$2:$C$1048576,BD!C394,SOLICITUDES!$J$2:$J$1048576)","v":0},0,{"$f":"SUMIF(SOLICITUDES!$C$2:$C$1048576,BD!C394,SOLICITUDES!$K$2:$K$1048576)","v":0},0]
[null,null,"T13005",400,34500,208,-76.489527446816851,3.0335660621885192,200,200,80,80,{"$f":"SUMIF(SOLICITUDES!$C$2:$C$1048576,BD!C395,SOLICITUDES!$I$2:$I$1048576)","v":0},0,{"$f":"SUMIF(SOLICITUDES!$C$2:$C$1048576,BD!C395,SOLICITUDES!$J$2:$J$1048576)","v":0},0,{"$f":"SUMIF(SOLICITUDES!$C$2:$C$1048576,BD!C395,SOLICITUDES!$K$2:$K$1048576)","v":0},0]
[null,null,"T13006",75,34500,208,-76.487730693267267,3.0293329667400744,37.5,37.5,15,15,{"$f":"SUMIF(SOLICITUDES!$C$2:$C$1048576,BD!C396,SOLICITUDES!$I$2:$I$1048576)","v":0},0,{"$f":"SUMIF(SOLICITUDES!$C$2:$C$1048576,BD!C396,SOLICITUDES!$J$2:$J$1048576)","v":0},0,{"$f":"SUMIF(SOLICITUDES!$C$2:$C$1048576,BD!C396,SOLICITUDES!$K$2:$K$1048576)","v":0},0]
[null,null,"T13013",225,34500,208,-76.487452335194888,3.0284646738086947,112.5,112.5,45,45,{"$f":"SUMIF(SOLICITUDES!$C$2:$C$1048576,BD!C397,SOLICITUDES!$I$2:$I$1048576)","v":0},0,{"$f":"SUMIF(SOLICITUDES!$C$2:$C$1048576,BD!C397,SOLICITUDES!$J$2:$J$1048576)","v":0},0,{"$f":"SUMIF(SOLICITUDES!$C$2:$C$1048576,BD!C397,SOLICITUDES!$K$2:$K$1048576)","v":0},0]
[null,null,"T9688",75,34500,208,-76.48902375412051,3.0334391480333758,37.5,37.5,15,15,{"$f":"SUMIF(SOLICITUDES!$C$2:$C$1048576,BD!C398,SOLICITUDES!$I$2:$I$1048576)","v":0},0,{"$f":"SUMIF(SOLICITUDES!$C$2:$C$1048576,BD!C398,SOLICITUDES!$J$2:$J$1048576)","v":0},0,{"$f":"SUMIF(SOLICITUDES!$C$2:$C$1048576,BD!C398,SOLICITUDES!$K$2:$K$1048576)","v":0},0]
[null,null,"T13025",30,34500,220,-76.487353587263001,3.0281572232612368,15,15,6,6,{"$f":"SUMIF(SOLICITUDES!$C$2:$C$1048576,BD!C399,SOLICITUDES!$I$2:$I$1048576)","v":0},0,{"$f":"SUMIF(SOLICITUDES!$C$2:$C$1048576,BD!C399,SOLICITUDES!$J$2:$J$1048576)","v":0},0,{"$f":"SUMIF(SOLICITUDES!$C$2:$C$1048576,BD!C399,SOLICITUDES!$K$2:$K$1048576)","v":0},0]
[null,null,"T13017",630,34500,208,-76.487416608392152,3.0279944346457328,315,315,126,126,{"$f":"SUMIF(SOLICITUDES!$C$2:$C$1048576,BD!C400,SOLICITUDES!$I$2:$I$1048576)","v":0},0,{"$f":"SUMIF(SOLICITUDES!$C$2:$C$1048576,BD!C400,SOLICITUDES!$J$2:$J$1048576)","v":0},0,{"$f":"SUMIF(SOLICITUDES!$C$2:$C$1048576,BD!C400,SOLICITUDES!$K$2:$K$1048576)","v":0},0]
[null,null,"T13002",1000,34500,456,-76.488784330298557,3.0284915596876809,500,500,200,200,{"$f":"SUMIF(SOLICITUDES!$C$2:$C$1048576,BD!C401,SOLICITUDES!$I$2:$I$1048576)","v":0},0,{"$f":"SUMIF(SOLICITUDES!$C$2:$C$1048576,BD!C401,SOLICITUDES!$J$2:$J$1048576)","v":0},0,{"$f":"SUMIF(SOLICITUDES!$C$2:$C$1048576,BD!C401,SOLICITUDES!$K$2:$K$1048576)","v":0},0]
[null,null,"T42017",0.5,34500,240,-76.494008818012446,3.0303492401219696,0.25,0.25,0.1,0.1,{"$f":"SUMIF(SOLICITUDES!$C$2:$C$1048576,BD!C402,SOLICITUDES!$I$2:$I$1048576)","v":0},0,{"$f":"SUMIF(SOLICITUDES!$C$2:$C$1048576,BD!C402,SOLICITUDES!$J$2:$J$1048576)","v":0},0,{"$f":"SUMIF(SOLICITUDES!$C$2:$C$1048576,BD!C402,SOLICITUDES!$K$2:$K$1048576)","v":0},0]
[null,null,"T42774",800,13200,440,-76.488506180963583,3.0325233895946577,400,400,160,160,{"$f":"SUMIF(SOLICITUDES!$C$2:$C$1048576,BD!C403,SOLICITUDES!$I$2:$I$1048576)","v":0},0,{"$f":"SUMIF(SOLICITUDES!$C$2:$C$1048576,BD!C403,SOLICITUDES!$J$2:$J$1048576)","v":0},0,{"$f":"SUMIF(SOLICITUDES!$C$2:$C$1048576,BD!C403,SOLICITUDES!$K$2:$K$1048576)","v":0},0]
[null,null,"T13018",25,34500,240,-76.486014719822847,3.0255430875011502,12.5,12.5,5,5,{"$f":"SUMIF(SOLICITUDES!$C$2:$C$1048576,BD!C404,SOLICITUDES!$I$2:$I$1048576)","v":0},0,{"$f":"SUMIF(SOLICITUDES!$C$2:$C$1048576,BD!C404,SOLICITUDES!$J$2:$J$1048576)","v":0},0,{"$f":"SUMIF(SOLICITUDES!$C$2:$C$1048576,BD!C404,SOLICITUDES!$K$2:$K$1048576)","v":0},0]
[null,null,"T13009",25,34500,240,-76.490595644532462,3.0376902731571223,12.5,12.5,5,5,{"$f":"SUMIF(SOLICITUDES!$C$2:$C$1048576,BD!C405,SOLICITUDES!$I$2:$I$1048576)","v":0},0,{"$f":"SUMIF(SOLICITUDES!$C$2:$C$1048576,BD!C405,SOLICITUDES!$J$2:$J$1048576)","v":0},0,{"$f":"SUMIF(SOLICITUDES!$C$2:$C$1048576,BD!C405,SOLICITUDES!$K$2:$K$1048576)","v":0},0]
[null,null,"T13024",225,34500,208,-76.495105410889892,3.0317604791014103,112.5,112.5,45,45,{"$f":"SUMIF(SOLICITUDES!$C$2:$C$1048576,BD!C406,SOLICITUDES!$I$2:$I$1048576)","v":0},0,{"$f":"SUMIF(SOLICITUDES!$C$2:$C$1048576,BD!C406,SOLICITUDES!$J$2:$J$1048576)","v":0},0,{"$f":"SUMIF(SOLICITUDES!$C$2:$C$1048576,BD!C406,SOLICITUDES!$K$2:$K$1048576)","v":0},0]
[null,null,"T13023",400,34500,208,-76.495717279229069,3.0315257526324499,200,200,80,80,{"$f":"SUMIF(SOLICITUDES!$C$2:$C$1048576,BD!C407,SOLICITUDES!$I$2:$I$1048576)","v":0},0,{"$f":"SUMIF(SOLICITUDES!$C$2:$C$1048576,BD!C407,SOLICITUDES!$J$2:$J$1048576)","v":0},0,{"$f":"SUMIF(SOLICITUDES!$C$2:$C$1048576,BD!C407,SOLICITUDES!$K$2:$K$1048576)","v":0},0]
[null,null,"T13003",300,34500,208,-76.495687884910936,3.0314968075021578,150,150,60,60,{"$f":"SUMIF(SOLICITUDES!$C$2:$C$1048576,BD!C408,SOLICITUDES!$I$2:$I$1048576)","v":0},0,{"$f":"SUMIF(SOLICITUDES!$C$2:$C$1048576,BD!C408,SOLICITUDES!$J$2:$J$1048576)","v":0},0,{"$f":"SUMIF(SOLICITUDES!$C$2:$C$1048576,BD!C408,SOLICITUDES!$K$2:$K$1048576)","v":0},0]
[null,null,"T13463",400,34500,208,-76.496990506756063,3.0333817782226213,200,200,80,80,{"$f":"SUMIF(SOLICITUDES!$C$2:$C$1048576,BD!C409,SOLICITUDES!$I$2:$I$1048576)","v":0},0,{"$f":"SUMIF(SOLICITUDES!$C$2:$C$1048576,BD!C409,SOLICITUDES!$J$2:$J$1048576)","v":0},0,{"$f":"SUMIF(SOLICITUDES!$C$2:$C$1048576,BD!C409,SOLICITUDES!$K$2:$K$1048576)","v":0},0]
[null,null,"T13021",250,34500,208,-76.487782312310074,3.033664612804563,125,125,50,50,{"$f":"SUMIF(SOLICITUDES!$C$2:$C$1048576,BD!C410,SOLICITUDES!$I$2:$I$1048576)","v":0},0,{"$f":"SUMIF(SOLICITUDES!$C$2:$C$1048576,BD!C410,SOLICITUDES!$J$2:$J$1048576)","v":0},0,{"$f":"SUMIF(SOLICITUDES!$C$2:$C$1048576,BD!C410,SOLICITUDES!$K$2:$K$1048576)","v":0},0]
[null,null,"T13014",75,34500,208,-76.487440648661732,3.0334112195851168,37.5,37.5,15,15,{"$f":"SUMIF(SOLICITUDES!$C$2:$C$1048576,BD!C411,SOLICITUDES!$I$2:$I$1048576)","v":0},0,{"$f":"SUMIF(SOLICITUDES!$C$2:$C$1048576,BD!C411,SOLICITUDES!$J$2:$J$1048576)","v":0},0,{"$f":"SUMIF(SOLICITUDES!$C$2:$C$1048576,BD!C411,SOLICITUDES!$K$2:$K$1048576)","v":0},0]
[null,null,"T13004",75,34500,208,-76.487575270272046,3.0338995908614144,37.5,37.5,15,15,{"$f":"SUMIF(SOLICITUDES!$C$2:$C$1048576,BD!C412,SOLICITUDES!$I$2:$I$1048576)","v":0},0,{"$f":"SUMIF(SOLICITUDES!$C$2:$C$1048576,BD!C412,SOLICITUDES!$J$2:$J$1048576)","v":0},0,{"$f":"SUMIF(SOLICITUDES!$C$2:$C$1048576,BD!C412,SOLICITUDES!$K$2:$K$1048576)","v":0},0]
[null,null,"T13026",75,34500,208,-76.487781799049117,3.034605009253577,37.5,37.5,15,15,{"$f":"SUMIF(SOLICITUDES!$C$2:$C$1048576,BD!C413,SOLICITUDES!$I$2:$I$1048576)","v":0},0,{"$f":"SUMIF(SOLICITUDES!$C$2:$C$1048576,BD!C413,SOLICITUDES!$J$2:$J$1048576)","v":0},0,{"$f":"SUMIF(SOLICITUDES!$C$2:$C$1048576,BD!C413,SOLICITUDES!$K$2:$K$1048576)","v":0},0]
[null,null,"T40140",800,34500,466,-76.487910540425034,3.0338654476724027,400,400,160,160,{"$f":"SUMIF(SOLICITUDES!$C$2:$C$1048576,BD!C414,SOLICITUDES!$I$2:$I$1048576)","v":0},0,{"$f":"SUMIF(SOLICITUDES!$C$2:$C$1048576,BD!C414,SOLICITUDES!$J$2:$J$1048576)","v":0},0,{"$f":"SUMIF(SOLICITUDES!$C$2:$C$1048576,BD!C414,SOLICITUDES!$K$2:$K$1048576)","v":0},0]
[null,null,"T13019",75,34500,208,-76.487932466153126,3.0386653783242261,37.5,37.5,15,15,{"$f":"SUMIF(SOLICITUDES!$C$2:$C$1048576,BD!C415,SOLICITUDES!$I$2:$I$1048576)","v":0},0,{"$f":"SUMIF(SOLICITUDES!$C$2:$C$1048576,BD!C415,SOLICITUDES!$J$2:$J$1048576)","v":0},0,{"$f":"SUMIF(SOLICITUDES!$C$2:$C$1048576,BD!C415,SOLICITUDES!$K$2:$K$1048576)","v":0},0]
[null,null,"T13015",112.5,34500,208,-76.489281200202186,3.0397241907007602,56.25,56.25,22.5,22.5,{"$f":"SUMIF(SOLICITUDES!$C$2:$C$1048576,BD!C416,SOLICITUDES!$I$2:$I$1048576)","v":0},0,{"$f":"SUMIF(SOLICITUDES!$C$2:$C$1048576,BD!C416,SOLICITUDES!$J$2:$J$1048576)","v":0},0,{"$f":"SUMIF(SOLICITUDES!$C$2:$C$1048576,BD!C416,SOLICITUDES!$K$2:$K$1048576)","v":0},0]
[null,null,"T18259",15,13200,240,-76.484643544590824,3.0013451517139824,7.5,7.5,3,3,{"$f":"SUMIF(SOLICITUDES!$C$2:$C$1048576,BD!C417,SOLICITUDES!$I$2:$I$1048576)","v":0},0,{"$f":"SUMIF(SOLICITUDES!$C$2:$C$1048576,BD!C417,SOLICITUDES!$J$2:$J$1048576)","v":0},0,{"$f":"SUMIF(SOLICITUDES!$C$2:$C$1048576,BD!C417,SOLICITUDES!$K$2:$K$1048576)","v":0},0]
[null,null,"T29207",15,13200,226,-76.484154779521106,3.0051862825064068,7.5,7.5,3,3,{"$f":"SUMIF(SOLICITUDES!$C$2:$C$1048576,BD!C418,SOLICITUDES!$I$2:$I$1048576)","v":0},0,{"$f":"SUMIF(SOLICITUDES!$C$2:$C$1048576,BD!C418,SOLICITUDES!$J$2:$J$1048576)","v":0},0,{"$f":"SUMIF(SOLICITUDES!$C$2:$C$1048576,BD!C418,SOLICITUDES!$K$2:$K$1048576)","v":0},0]
[null,null,"T7102",25,13200,240,-76.484177700704322,2.9961705330723416,12.5,12.5,5,5,{"$f":"SUMIF(SOLICITUDES!$C$2:$C$1048576,BD!C419,SOLICITUDES!$I$2:$I$1048576)","v":0},0,{"$f":"SUMIF(SOLICITUDES!$C$2:$C$1048576,BD!C419,SOLICITUDES!$J$2:$J$1048576)","v":0},0,{"$f":"SUMIF(SOLICITUDES!$C$2:$C$1048576,BD!C419,SOLICITUDES!$K$2:$K$1048576)","v":0},0]
[null,null,"T30277",25,13200,240,-76.483354305648476,2.9975829204267024,12.5,12.5,5,5,{"$f":"SUMIF(SOLICITUDES!$C$2:$C$1048576,BD!C420,SOLICITUDES!$I$2:$I$1048576)","v":0},0,{"$f":"SUMIF(SOLICITUDES!$C$2:$C$1048576,BD!C420,SOLICITUDES!$J$2:$J$1048576)","v":0},0,{"$f":"SUMIF(SOLICITUDES!$C$2:$C$1048576,BD!C420,SOLICITUDES!$K$2:$K$1048576)","v":0},0]
[null,null,"T7073",45,13200,208,-76.486053888818972,3.0031617164313795,22.5,22.5,9,9,{"$f":"SUMIF(SOLICITUDES!$C$2:$C$1048576,BD!C421,SOLICITUDES!$I$2:$I$1048576)","v":0},0,{"$f":"SUMIF(SOLICITUDES!$C$2:$C$1048576,BD!C421,SOLICITUDES!$J$2:$J$1048576)","v":0},0,{"$f":"SUMIF(SOLICITUDES!$C$2:$C$1048576,BD!C421,SOLICITUDES!$K$2:$K$1048576)","v":0},0]
[null,null,"T7538",112.5,13200,208,-76.483983776189064,3.0053941668482538,56.25,56.25,22.5,22.5,{"$f":"SUMIF(SOLICITUDES!$C$2:$C$1048576,BD!C422,SOLICITUDES!$I$2:$I$1048576)","v":0},0,{"$f":"SUMIF(SOLICITUDES!$C$2:$C$1048576,BD!C422,SOLICITUDES!$J$2:$J$1048576)","v":0},0,{"$f":"SUMIF(SOLICITUDES!$C$2:$C$1048576,BD!C422,SOLICITUDES!$K$2:$K$1048576)","v":0},0]
[null,null,"T7119",15,13200,240,-76.484449108863743,2.9932316691071188,7.5,7.5,3,3,{"$f":"SUMIF(SOLICITUDES!$C$2:$C$1048576,BD!C423,SOLICITUDES!$I$2:$I$1048576)","v":0},0,{"$f":"SUMIF(SOLICITUDES!$C$2:$C$1048576,BD!C423,SOLICITUDES!$J$2:$J$1048576)","v":0},0,{"$f":"SUMIF(SOLICITUDES!$C$2:$C$1048576,BD!C423,SOLICITUDES!$K$2:$K$1048576)","v":0},0]
[null,null,"T7041",30,13200,208,-76.485446256255244,2.9956647818602566,15,15,6,6,{"$f":"SUMIF(SOLICITUDES!$C$2:$C$1048576,BD!C424,SOLICITUDES!$I$2:$I$1048576)","v":0},0,{"$f":"SUMIF(SOLICITUDES!$C$2:$C$1048576,BD!C424,SOLICITUDES!$J$2:$J$1048576)","v":0},0,{"$f":"SUMIF(SOLICITUDES!$C$2:$C$1048576,BD!C424,SOLICITUDES!$K$2:$K$1048576)","v":0},0]
[null,null,"T7057",30,13200,208,-76.483651145447183,3.0051589336552524,15,15,6,6,{"$f":"SUMIF(SOLICITUDES!$C$2:$C$1048576,BD!C425,SOLICITUDES!$I$2:$I$1048576)","v":0},0,{"$f":"SUMIF(SOLICITUDES!$C$2:$C$1048576,BD!C425,SOLICITUDES!$J$2:$J$1048576)","v":0},0,{"$f":"SUMIF(SOLICITUDES!$C$2:$C$1048576,BD!C425,SOLICITUDES!$K$2:$K$1048576)","v":0},0]
[null,null,"T19124",50,13200,240,-76.48203896714935,2.9981488410673629,25,25,10,10,{"$f":"SUMIF(SOLICITUDES!$C$2:$C$1048576,BD!C426,SOLICITUDES!$I$2:$I$1048576)","v":0},0,{"$f":"SUMIF(SOLICITUDES!$C$2:$C$1048576,BD!C426,SOLICITUDES!$J$2:$J$1048576)","v":0},0,{"$f":"SUMIF(SOLICITUDES!$C$2:$C$1048576,BD!C426,SOLICITUDES!$K$2:$K$1048576)","v":0},0]
[null,null,"T7099",45,13200,208,-76.484735575247811,3.0059611136780324,22.5,22.5,9,9,{"$f":"SUMIF(SOLICITUDES!$C$2:$C$1048576,BD!C427,SOLICITUDES!$I$2:$I$1048576)","v":0},0,{"$f":"SUMIF(SOLICITUDES!$C$2:$C$1048576,BD!C427,SOLICITUDES!$J$2:$J$1048576)","v":0},0,{"$f":"SUMIF(SOLICITUDES!$C$2:$C$1048576,BD!C427,SOLICITUDES!$K$2:$K$1048576)","v":0},0]
[null,null,"T7028",75,13200,208,-76.483695337037489,3.0065063429278469,37.5,37.5,15,15,{"$f":"SUMIF(SOLICITUDES!$C$2:$C$1048576,BD!C428,SOLICITUDES!$I$2:$I$1048576)","v":0},0,{"$f":"SUMIF(SOLICITUDES!$C$2:$C$1048576,BD!C428,SOLICITUDES!$J$2:$J$1048576)","v":0},0,{"$f":"SUMIF(SOLICITUDES!$C$2:$C$1048576,BD!C428,SOLICITUDES!$K$2:$K$1048576)","v":0},0]
[null,null,"T7044",75,13200,213,-76.484766055570461,3.0059824068769903,37.5,37.5,15,15,{"$f":"SUMIF(SOLICITUDES!$C$2:$C$1048576,BD!C429,SOLICITUDES!$I$2:$I$1048576)","v":0},0,{"$f":"SUMIF(SOLICITUDES!$C$2:$C$1048576,BD!C429,SOLICITUDES!$J$2:$J$1048576)","v":0},0,{"$f":"SUMIF(SOLICITUDES!$C$2:$C$1048576,BD!C429,SOLICITUDES!$K$2:$K$1048576)","v":0},0]
[null,null,"T7069",37.5,13200,240,-76.480957194194644,2.9967384472015404,18.75,18.75,7.5,7.5,{"$f":"SUMIF(SOLICITUDES!$C$2:$C$1048576,BD!C430,SOLICITUDES!$I$2:$I$1048576)","v":0},0,{"$f":"SUMIF(SOLICITUDES!$C$2:$C$1048576,BD!C430,SOLICITUDES!$J$2:$J$1048576)","v":0},0,{"$f":"SUMIF(SOLICITUDES!$C$2:$C$1048576,BD!C430,SOLICITUDES!$K$2:$K$1048576)","v":0},0]
[null,null,"T7030",75,13200,208,-76.485081753508894,3.0064018893428508,37.5,37.5,15,15,{"$f":"SUMIF(SOLICITUDES!$C$2:$C$1048576,BD!C431,SOLICITUDES!$I$2:$I$1048576)","v":0},0,{"$f":"SUMIF(SOLICITUDES!$C$2:$C$1048576,BD!C431,SOLICITUDES!$J$2:$J$1048576)","v":0},0,{"$f":"SUMIF(SOLICITUDES!$C$2:$C$1048576,BD!C431,SOLICITUDES!$K$2:$K$1048576)","v":0},0]
[null,null,"T29691",112.5,13200,208,-76.48360684774461,3.0067294894930257,56.25,56.25,22.5,22.5,{"$f":"SUMIF(SOLICITUDES!$C$2:$C$1048576,BD!C432,SOLICITUDES!$I$2:$I$1048576)","v":0},0,{"$f":"SUMIF(SOLICITUDES!$C$2:$C$1048576,BD!C432,SOLICITUDES!$J$2:$J$1048576)","v":0},0,{"$f":"SUMIF(SOLICITUDES!$C$2:$C$1048576,BD!C432,SOLICITUDES!$K$2:$K$1048576)","v":0},0]
[null,null,"T44775",0.5,13200,240,-76.482635007024896,3.0045976911048475,0.25,0.25,0.1,0.1,{"$f":"SUMIF(SOLICITUDES!$C$2:$C$1048576,BD!C433,SOLICITUDES!$I$2:$I$1048576)","v":0},0,{"$f":"SUMIF(SOLICITUDES!$C$2:$C$1048576,BD!C433,SOLICITUDES!$J$2:$J$1048576)","v":0},0,{"$f":"SUMIF(SOLICITUDES!$C$2:$C$1048576,BD!C433,SOLICITUDES!$K$2:$K$1048576)","v":0},0]
[null,null,"T7100",15,13200,240,-76.481344477632078,2.9958071989141173,7.5,7.5,3,3,{"$f":"SUMIF(SOLICITUDES!$C$2:$C$1048576,BD!C434,SOLICITUDES!$I$2:$I$1048576)","v":0},0,{"$f":"SUMIF(SOLICITUDES!$C$2:$C$1048576,BD!C434,SOLICITUDES!$J$2:$J$1048576)","v":0},0,{"$f":"SUMIF(SOLICITUDES!$C$2:$C$1048576,BD!C434,SOLICITUDES!$K$2:$K$1048576)","v":0},0]
[null,null,"T7086",75,13200,208,-76.483560255444829,3.0068679267473595,37.5,37.5,15,15,{"$f":"SUMIF(SOLICITUDES!$C$2:$C$1048576,BD!C435,SOLICITUDES!$I$2:$I$1048576)","v":0},0,{"$f":"SUMIF(SOLICITUDES!$C$2:$C$1048576,BD!C435,SOLICITUDES!$J$2:$J$1048576)","v":0},0,{"$f":"SUMIF(SOLICITUDES!$C$2:$C$1048576,BD!C435,SOLICITUDES!$K$2:$K$1048576)","v":0},0]
[null,null,"T7083",75,13200,208,-76.482302216501623,3.0044437633068397,37.5,37.5,15,15,{"$f":"SUMIF(SOLICITUDES!$C$2:$C$1048576,BD!C436,SOLICITUDES!$I$2:$I$1048576)","v":0},0,{"$f":"SUMIF(SOLICITUDES!$C$2:$C$1048576,BD!C436,SOLICITUDES!$J$2:$J$1048576)","v":0},0,{"$f":"SUMIF(SOLICITUDES!$C$2:$C$1048576,BD!C436,SOLICITUDES!$K$2:$K$1048576)","v":0},0]
[null,null,"T28734",0.5,13200,240,-76.483352995748618,3.0074737074957683,0.25,0.25,0.1,0.1,{"$f":"SUMIF(SOLICITUDES!$C$2:$C$1048576,BD!C437,SOLICITUDES!$I$2:$I$1048576)","v":0},0,{"$f":"SUMIF(SOLICITUDES!$C$2:$C$1048576,BD!C437,SOLICITUDES!$J$2:$J$1048576)","v":0},0,{"$f":"SUMIF(SOLICITUDES!$C$2:$C$1048576,BD!C437,SOLICITUDES!$K$2:$K$1048576)","v":0},0]
[null,null,"T7103",75,13200,208,-76.485611238053195,3.0066520465106734,37.5,37.5,15,15,{"$f":"SUMIF(SOLICITUDES!$C$2:$C$1048576,BD!C438,SOLICITUDES!$I$2:$I$1048576)","v":0},0,{"$f":"SUMIF(SOLICITUDES!$C$2:$C$1048576,BD!C438,SOLICITUDES!$J$2:$J$1048576)","v":0},0,{"$f":"SUMIF(SOLICITUDES!$C$2:$C$1048576,BD!C438,SOLICITUDES!$K$2:$K$1048576)","v":0},0]
[null,null,"T41758",37.5,13200,240,-76.481356418609735,2.9989999089776869,18.75,18.75,7.5,7.5,{"$f":"SUMIF(SOLICITUDES!$C$2:$C$1048576,BD!C439,SOLICITUDES!$I$2:$I$1048576)","v":0},0,{"$f":"SUMIF(SOLICITUDES!$C$2:$C$1048576,BD!C439,SOLICITUDES!$J$2:$J$1048576)","v":0},0,{"$f":"SUMIF(SOLICITUDES!$C$2:$C$1048576,BD!C439,SOLICITUDES!$K$2:$K$1048576)","v":0},0]
[null,null,"T7035",75,13200,208,-76.485943840898102,3.0069325892301384,37.5,37.5,15,15,{"$f":"SUMIF(SOLICITUDES!$C$2:$C$1048576,BD!C440,SOLICITUDES!$I$2:$I$1048576)","v":0},0,{"$f":"SUMIF(SOLICITUDES!$C$2:$C$1048576,BD!C440,SOLICITUDES!$J$2:$J$1048576)","v":0},0,{"$f":"SUMIF(SOLICITUDES!$C$2:$C$1048576,BD!C440,SOLICITUDES!$K$2:$K$1048576)","v":0},0]
[null,null,"T7039",50,13200,240,-76.480434054745416,2.9993967495644966,25,25,10,10,{"$f":"SUMIF(SOLICITUDES!$C$2:$C$1048576,BD!C441,SOLICITUDES!$I$2:$I$1048576)","v":0},0,{"$f":"SUMIF(SOLICITUDES!$C$2:$C$1048576,BD!C441,SOLICITUDES!$J$2:$J$1048576)","v":0},0,{"$f":"SUMIF(SOLICITUDES!$C$2:$C$1048576,BD!C441,SOLICITUDES!$K$2:$K$1048576)","v":0},0]
[null,null,"T7130",75,13200,208,-76.483012000318226,3.0061080725033102,37.5,37.5,15,15,{"$f":"SUMIF(SOLICITUDES!$C$2:$C$1048576,BD!C442,SOLICITUDES!$I$2:$I$1048576)","v":0},0,{"$f":"SUMIF(SOLICITUDES!$C$2:$C$1048576,BD!C442,SOLICITUDES!$J$2:$J$1048576)","v":0},0,{"$f":"SUMIF(SOLICITUDES!$C$2:$C$1048576,BD!C442,SOLICITUDES!$K$2:$K$1048576)","v":0},0]
[null,null,"T40147",25,13200,240,-76.47882518750923,2.9964981476587562,12.5,12.5,5,5,{"$f":"SUMIF(SOLICITUDES!$C$2:$C$1048576,BD!C443,SOLICITUDES!$I$2:$I$1048576)","v":0},0,{"$f":"SUMIF(SOLICITUDES!$C$2:$C$1048576,BD!C443,SOLICITUDES!$J$2:$J$1048576)","v":0},0,{"$f":"SUMIF(SOLICITUDES!$C$2:$C$1048576,BD!C443,SOLICITUDES!$K$2:$K$1048576)","v":0},0]
[null,null,"T7060",112.5,13200,208,-76.482688279888166,3.0058095186423786,56.25,56.25,22.5,22.5,{"$f":"SUMIF(SOLICITUDES!$C$2:$C$1048576,BD!C444,SOLICITUDES!$I$2:$I$1048576)","v":0},0,{"$f":"SUMIF(SOLICITUDES!$C$2:$C$1048576,BD!C444,SOLICITUDES!$J$2:$J$1048576)","v":0},0,{"$f":"SUMIF(SOLICITUDES!$C$2:$C$1048576,BD!C444,SOLICITUDES!$K$2:$K$1048576)","v":0},0]
[null,null,"T7095",75,13200,208,-76.485557574985819,3.0060190385394598,37.5,37.5,15,15,{"$f":"SUMIF(SOLICITUDES!$C$2:$C$1048576,BD!C445,SOLICITUDES!$I$2:$I$1048576)","v":0},0,{"$f":"SUMIF(SOLICITUDES!$C$2:$C$1048576,BD!C445,SOLICITUDES!$J$2:$J$1048576)","v":0},0,{"$f":"SUMIF(SOLICITUDES!$C$2:$C$1048576,BD!C445,SOLICITUDES!$K$2:$K$1048576)","v":0},0]
[null,null,"T7088",15,13200,240,-76.482876939703374,3.0063521743445234,7.5,7.5,3,3,{"$f":"SUMIF(SOLICITUDES!$C$2:$C$1048576,BD!C446,SOLICITUDES!$I$2:$I$1048576)","v":0},0,{"$f":"SUMIF(SOLICITUDES!$C$2:$C$1048576,BD!C446,SOLICITUDES!$J$2:$J$1048576)","v":0},0,{"$f":"SUMIF(SOLICITUDES!$C$2:$C$1048576,BD!C446,SOLICITUDES!$K$2:$K$1048576)","v":0},0]
[null,null,"T41530",75,13200,208,-76.480993575409229,3.0034500695842503,37.5,37.5,15,15,{"$f":"SUMIF(SOLICITUDES!$C$2:$C$1048576,BD!C447,SOLICITUDES!$I$2:$I$1048576)","v":0},0,{"$f":"SUMIF(SOLICITUDES!$C$2:$C$1048576,BD!C447,SOLICITUDES!$J$2:$J$1048576)","v":0},0,{"$f":"SUMIF(SOLICITUDES!$C$2:$C$1048576,BD!C447,SOLICITUDES!$K$2:$K$1048576)","v":0},0]
[null,null,"T7038",112.5,13200,208,-76.48339108377624,3.0037028382726532,56.25,56.25,22.5,22.5,{"$f":"SUMIF(SOLICITUDES!$C$2:$C$1048576,BD!C448,SOLICITUDES!$I$2:$I$1048576)","v":0},0,{"$f":"SUMIF(SOLICITUDES!$C$2:$C$1048576,BD!C448,SOLICITUDES!$J$2:$J$1048576)","v":0},0,{"$f":"SUMIF(SOLICITUDES!$C$2:$C$1048576,BD!C448,SOLICITUDES!$K$2:$K$1048576)","v":0},0]
[null,null,"T14086",75,13200,214,-76.482007680144136,3.0032847739417257,37.5,37.5,15,15,{"$f":"SUMIF(SOLICITUDES!$C$2:$C$1048576,BD!C449,SOLICITUDES!$I$2:$I$1048576)","v":0},0,{"$f":"SUMIF(SOLICITUDES!$C$2:$C$1048576,BD!C449,SOLICITUDES!$J$2:$J$1048576)","v":0},0,{"$f":"SUMIF(SOLICITUDES!$C$2:$C$1048576,BD!C449,SOLICITUDES!$K$2:$K$1048576)","v":0},0]
[null,null,"T40121",25,13200,240,-76.477952318412321,2.9966731492103547,12.5,12.5,5,5,{"$f":"SUMIF(SOLICITUDES!$C$2:$C$1048576,BD!C450,SOLICITUDES!$I$2:$I$1048576)","v":0},0,{"$f":"SUMIF(SOLICITUDES!$C$2:$C$1048576,BD!C450,SOLICITUDES!$J$2:$J$1048576)","v":0},0,{"$f":"SUMIF(SOLICITUDES!$C$2:$C$1048576,BD!C450,SOLICITUDES!$K$2:$K$1048576)","v":0},0]
[null,null,"T51628",75,13200,214,-76.48314787917532,3.0036180385740647,37.5,{"$f":"D451*0.5-M451","v":37.5},15,15,{"$f":"SUMIF(SOLICITUDES!$C$2:$C$1048576,BD!C451,SOLICITUDES!$I$2:$I$1048576)","v":0},{"$f":"M451/D451","v":0},{"$f":"SUMIF(SOLICITUDES!$C$2:$C$1048576,BD!C451,SOLICITUDES!$J$2:$J$1048576)","v":0},0,{"$f":"SUMIF(SOLICITUDES!$C$2:$C$1048576,BD!C451,SOLICITUDES!$K$2:$K$1048576)","v":0},0]
[null,null,"T7033",75,13200,208,-76.480611644036074,3.0037465106534267,{"$f":"D452*0.5","v":37.5},37.5,{"$f":"0.2*D452","v":15},{"$f":"0.2*D452","v":15},{"$f":"SUMIF(SOLICITUDES!$C$2:$C$1048576,BD!C452,SOLICITUDES!$I$2:$I$1048576)","v":0},0,{"$f":"SUMIF(SOLICITUDES!$C$2:$C$1048576,BD!C452,SOLICITUDES!$J$2:$J$1048576)","v":0},{"$f":"O452/(2*K452)","v":0},{"$f":"SUMIF(SOLICITUDES!$C$2:$C$1048576,BD!C452,SOLICITUDES!$K$2:$K$1048576)","v":0},{"$f":"Q452/(2*L452)","v":0}]
[null,null,"T7097",75,13200,208,-76.48347122489001,3.0051588174887365,37.5,37.5,15,15,{"$f":"SUMIF(SOLICITUDES!$C$2:$C$1048576,BD!C453,SOLICITUDES!$I$2:$I$1048576)","v":0},0,{"$f":"SUMIF(SOLICITUDES!$C$2:$C$1048576,BD!C453,SOLICITUDES!$J$2:$J$1048576)","v":0},0,{"$f":"SUMIF(SOLICITUDES!$C$2:$C$1048576,BD!C453,SOLICITUDES!$K$2:$K$1048576)","v":0},0]
[null,null,"T7107",75,13200,208,-76.481691332286431,3.0030689078371866,37.5,37.5,15,15,{"$f":"SUMIF(SOLICITUDES!$C$2:$C$1048576,BD!C454,SOLICITUDES!$I$2:$I$1048576)","v":0},0,{"$f":"SUMIF(SOLICITUDES!$C$2:$C$1048576,BD!C454,SOLICITUDES!$J$2:$J$1048576)","v":0},0,{"$f":"SUMIF(SOLICITUDES!$C$2:$C$1048576,BD!C454,SOLICITUDES!$K$2:$K$1048576)","v":0},0]
[null,null,"T30197",75,13200,440,-76.482864864620126,3.0035379598093614,37.5,37.5,15,15,{"$f":"SUMIF(SOLICITUDES!$C$2:$C$1048576,BD!C455,SOLICITUDES!$I$2:$I$1048576)","v":0},0,{"$f":"SUMIF(SOLICITUDES!$C$2:$C$1048576,BD!C455,SOLICITUDES!$J$2:$J$1048576)","v":0},0,{"$f":"SUMIF(SOLICITUDES!$C$2:$C$1048576,BD!C455,SOLICITUDES!$K$2:$K$1048576)","v":0},0]
[null,null,"T7034",75,13200,208,-76.482981300025514,3.0031579517492535,37.5,37.5,15,15,{"$f":"SUMIF(SOLICITUDES!$C$2:$C$1048576,BD!C456,SOLICITUDES!$I$2:$I$1048576)","v":0},0,{"$f":"SUMIF(SOLICITUDES!$C$2:$C$1048576,BD!C456,SOLICITUDES!$J$2:$J$1048576)","v":0},0,{"$f":"SUMIF(SOLICITUDES!$C$2:$C$1048576,BD!C456,SOLICITUDES!$K$2:$K$1048576)","v":0},0]
[null,null,"T7042",75,13200,208,-76.483145818106479,3.0080071359676852,37.5,37.5,15,15,{"$f":"SUMIF(SOLICITUDES!$C$2:$C$1048576,BD!C457,SOLICITUDES!$I$2:$I$1048576)","v":0},0,{"$f":"SUMIF(SOLICITUDES!$C$2:$C$1048576,BD!C457,SOLICITUDES!$J$2:$J$1048576)","v":0},0,{"$f":"SUMIF(SOLICITUDES!$C$2:$C$1048576,BD!C457,SOLICITUDES!$K$2:$K$1048576)","v":0},0]
[null,null,"T7066",112.5,13200,208,-76.484036324876683,3.0079985935782885,56.25,56.25,22.5,22.5,{"$f":"SUMIF(SOLICITUDES!$C$2:$C$1048576,BD!C458,SOLICITUDES!$I$2:$I$1048576)","v":0},0,{"$f":"SUMIF(SOLICITUDES!$C$2:$C$1048576,BD!C458,SOLICITUDES!$J$2:$J$1048576)","v":0},0,{"$f":"SUMIF(SOLICITUDES!$C$2:$C$1048576,BD!C458,SOLICITUDES!$K$2:$K$1048576)","v":0},0]
[null,null,"T7098",37.5,13200,240,-76.483346770901505,3.0024639571956389,18.75,18.75,7.5,7.5,{"$f":"SUMIF(SOLICITUDES!$C$2:$C$1048576,BD!C459,SOLICITUDES!$I$2:$I$1048576)","v":0},0,{"$f":"SUMIF(SOLICITUDES!$C$2:$C$1048576,BD!C459,SOLICITUDES!$J$2:$J$1048576)","v":0},0,{"$f":"SUMIF(SOLICITUDES!$C$2:$C$1048576,BD!C459,SOLICITUDES!$K$2:$K$1048576)","v":0},0]
[null,null,"T7081",30,13200,208,-76.4830918163847,3.0081879998728698,15,15,6,6,{"$f":"SUMIF(SOLICITUDES!$C$2:$C$1048576,BD!C460,SOLICITUDES!$I$2:$I$1048576)","v":0},0,{"$f":"SUMIF(SOLICITUDES!$C$2:$C$1048576,BD!C460,SOLICITUDES!$J$2:$J$1048576)","v":0},0,{"$f":"SUMIF(SOLICITUDES!$C$2:$C$1048576,BD!C460,SOLICITUDES!$K$2:$K$1048576)","v":0},0]
[null,null,"T29490",112.5,13200,214,-76.481429320866837,3.0053023278428346,56.25,56.25,22.5,22.5,{"$f":"SUMIF(SOLICITUDES!$C$2:$C$1048576,BD!C461,SOLICITUDES!$I$2:$I$1048576)","v":0},0,{"$f":"SUMIF(SOLICITUDES!$C$2:$C$1048576,BD!C461,SOLICITUDES!$J$2:$J$1048576)","v":0},0,{"$f":"SUMIF(SOLICITUDES!$C$2:$C$1048576,BD!C461,SOLICITUDES!$K$2:$K$1048576)","v":0},0]
[null,null,"T7113",30,13200,208,-76.484566976472451,3.0081797434924615,15,15,6,6,{"$f":"SUMIF(SOLICITUDES!$C$2:$C$1048576,BD!C462,SOLICITUDES!$I$2:$I$1048576)","v":0},0,{"$f":"SUMIF(SOLICITUDES!$C$2:$C$1048576,BD!C462,SOLICITUDES!$J$2:$J$1048576)","v":0},0,{"$f":"SUMIF(SOLICITUDES!$C$2:$C$1048576,BD!C462,SOLICITUDES!$K$2:$K$1048576)","v":0},0]
[null,null,"T7063",30,13200,208,-76.483019679221371,3.0083959302044243,15,15,6,6,{"$f":"SUMIF(SOLICITUDES!$C$2:$C$1048576,BD!C463,SOLICITUDES!$I$2:$I$1048576)","v":0},0,{"$f":"SUMIF(SOLICITUDES!$C$2:$C$1048576,BD!C463,SOLICITUDES!$J$2:$J$1048576)","v":0},0,{"$f":"SUMIF(SOLICITUDES!$C$2:$C$1048576,BD!C463,SOLICITUDES!$K$2:$K$1048576)","v":0},0]
[null,null,"T7074",75,13200,208,-76.482501363439553,3.0074906974387203,37.5,37.5,15,15,{"$f":"SUMIF(SOLICITUDES!$C$2:$C$1048576,BD!C464,SOLICITUDES!$I$2:$I$1048576)","v":0},0,{"$f":"SUMIF(SOLICITUDES!$C$2:$C$1048576,BD!C464,SOLICITUDES!$J$2:$J$1048576)","v":0},0,{"$f":"SUMIF(SOLICITUDES!$C$2:$C$1048576,BD!C464,SOLICITUDES!$K$2:$K$1048576)","v":0},0]
[null,null,"T7068",75,13200,208,-76.482345577165361,3.0075093599167775,37.5,29.5,15,15,{"$f":"SUMIF(SOLICITUDES!$C$2:$C$1048576,BD!C465,SOLICITUDES!$I$2:$I$1048576)","v":8},0.10666666666666667,{"$f":"SUMIF(SOLICITUDES!$C$2:$C$1048576,BD!C465,SOLICITUDES!$J$2:$J$1048576)","v":0},0,{"$f":"SUMIF(SOLICITUDES!$C$2:$C$1048576,BD!C465,SOLICITUDES!$K$2:$K$1048576)","v":8},0.26666666666666666]
[null,null,"T7120",75,13200,214,-76.480020436484224,3.0022847129539465,37.5,37.5,15,15,{"$f":"SUMIF(SOLICITUDES!$C$2:$C$1048576,BD!C466,SOLICITUDES!$I$2:$I$1048576)","v":0},0,{"$f":"SUMIF(SOLICITUDES!$C$2:$C$1048576,BD!C466,SOLICITUDES!$J$2:$J$1048576)","v":0},0,{"$f":"SUMIF(SOLICITUDES!$C$2:$C$1048576,BD!C466,SOLICITUDES!$K$2:$K$1048576)","v":0},0]
[null,null,"T7076",30,13200,208,-76.482363494772358,3.0076540399764471,15,15,6,6,{"$f":"SUMIF(SOLICITUDES!$C$2:$C$1048576,BD!C467,SOLICITUDES!$I$2:$I$1048576)","v":0},0,{"$f":"SUMIF(SOLICITUDES!$C$2:$C$1048576,BD!C467,SOLICITUDES!$J$2:$J$1048576)","v":0},0,{"$f":"SUMIF(SOLICITUDES!$C$2:$C$1048576,BD!C467,SOLICITUDES!$K$2:$K$1048576)","v":0},0]
[null,null,"T7093",30,13200,208,-76.481762067592953,3.0053568619518285,15,15,6,6,{"$f":"SUMIF(SOLICITUDES!$C$2:$C$1048576,BD!C468,SOLICITUDES!$I$2:$I$1048576)","v":0},0,{"$f":"SUMIF(SOLICITUDES!$C$2:$C$1048576,BD!C468,SOLICITUDES!$J$2:$J$1048576)","v":0},0,{"$f":"SUMIF(SOLICITUDES!$C$2:$C$1048576,BD!C468,SOLICITUDES!$K$2:$K$1048576)","v":0},0]
[null,null,"T7045",45,13200,208,-76.482902606250647,3.0087033158146688,22.5,22.5,9,9,{"$f":"SUMIF(SOLICITUDES!$C$2:$C$1048576,BD!C469,SOLICITUDES!$I$2:$I$1048576)","v":0},0,{"$f":"SUMIF(SOLICITUDES!$C$2:$C$1048576,BD!C469,SOLICITUDES!$J$2:$J$1048576)","v":0},0,{"$f":"SUMIF(SOLICITUDES!$C$2:$C$1048576,BD!C469,SOLICITUDES!$K$2:$K$1048576)","v":0},0]
[null,null,"T7062",112.5,13200,208,-76.484459514410176,3.0072120894456167,56.25,56.25,22.5,22.5,{"$f":"SUMIF(SOLICITUDES!$C$2:$C$1048576,BD!C470,SOLICITUDES!$I$2:$I$1048576)","v":0},0,{"$f":"SUMIF(SOLICITUDES!$C$2:$C$1048576,BD!C470,SOLICITUDES!$J$2:$J$1048576)","v":0},0,{"$f":"SUMIF(SOLICITUDES!$C$2:$C$1048576,BD!C470,SOLICITUDES!$K$2:$K$1048576)","v":0},0]
[null,null,"T7085",45,13200,208,-76.483927984686616,3.0087762565406435,22.5,22.5,9,9,{"$f":"SUMIF(SOLICITUDES!$C$2:$C$1048576,BD!C471,SOLICITUDES!$I$2:$I$1048576)","v":0},0,{"$f":"SUMIF(SOLICITUDES!$C$2:$C$1048576,BD!C471,SOLICITUDES!$J$2:$J$1048576)","v":0},0,{"$f":"SUMIF(SOLICITUDES!$C$2:$C$1048576,BD!C471,SOLICITUDES!$K$2:$K$1048576)","v":0},0]
[null,null,"T7046",112.5,13200,208,-76.483532170390475,3.0087850276082988,56.25,56.25,22.5,22.5,{"$f":"SUMIF(SOLICITUDES!$C$2:$C$1048576,BD!C472,SOLICITUDES!$I$2:$I$1048576)","v":0},0,{"$f":"SUMIF(SOLICITUDES!$C$2:$C$1048576,BD!C472,SOLICITUDES!$J$2:$J$1048576)","v":0},0,{"$f":"SUMIF(SOLICITUDES!$C$2:$C$1048576,BD!C472,SOLICITUDES!$K$2:$K$1048576)","v":0},0]
[null,null,"T7084",112.5,13200,208,-76.482821521917458,3.0089474345094138,56.25,56.25,22.5,22.5,{"$f":"SUMIF(SOLICITUDES!$C$2:$C$1048576,BD!C473,SOLICITUDES!$I$2:$I$1048576)","v":0},0,{"$f":"SUMIF(SOLICITUDES!$C$2:$C$1048576,BD!C473,SOLICITUDES!$J$2:$J$1048576)","v":0},0,{"$f":"SUMIF(SOLICITUDES!$C$2:$C$1048576,BD!C473,SOLICITUDES!$K$2:$K$1048576)","v":0},0]
[null,null,"T7072",150,13200,208,-76.482050272829966,3.0046696650205167,75,75,30,30,{"$f":"SUMIF(SOLICITUDES!$C$2:$C$1048576,BD!C474,SOLICITUDES!$I$2:$I$1048576)","v":0},0,{"$f":"SUMIF(SOLICITUDES!$C$2:$C$1048576,BD!C474,SOLICITUDES!$J$2:$J$1048576)","v":0},0,{"$f":"SUMIF(SOLICITUDES!$C$2:$C$1048576,BD!C474,SOLICITUDES!$K$2:$K$1048576)","v":0},0]
[null,null,"T11630",45,13200,214,-76.482228538214528,3.0075023929661513,22.5,22.5,9,9,{"$f":"SUMIF(SOLICITUDES!$C$2:$C$1048576,BD!C475,SOLICITUDES!$I$2:$I$1048576)","v":0},0,{"$f":"SUMIF(SOLICITUDES!$C$2:$C$1048576,BD!C475,SOLICITUDES!$J$2:$J$1048576)","v":0},0,{"$f":"SUMIF(SOLICITUDES!$C$2:$C$1048576,BD!C475,SOLICITUDES!$K$2:$K$1048576)","v":0},0]
[null,null,"T29208",45,13200,214,-76.482471576389599,3.0072833584495147,22.5,22.5,9,9,{"$f":"SUMIF(SOLICITUDES!$C$2:$C$1048576,BD!C476,SOLICITUDES!$I$2:$I$1048576)","v":0},0,{"$f":"SUMIF(SOLICITUDES!$C$2:$C$1048576,BD!C476,SOLICITUDES!$J$2:$J$1048576)","v":0},0,{"$f":"SUMIF(SOLICITUDES!$C$2:$C$1048576,BD!C476,SOLICITUDES!$K$2:$K$1048576)","v":0},0]
[null,null,"T35052",45,13200,213,-76.482358160103672,3.0076806728895722,22.5,22.5,9,9,{"$f":"SUMIF(SOLICITUDES!$C$2:$C$1048576,BD!C477,SOLICITUDES!$I$2:$I$1048576)","v":0},0,{"$f":"SUMIF(SOLICITUDES!$C$2:$C$1048576,BD!C477,SOLICITUDES!$J$2:$J$1048576)","v":0},0,{"$f":"SUMIF(SOLICITUDES!$C$2:$C$1048576,BD!C477,SOLICITUDES!$K$2:$K$1048576)","v":0},0]
[null,null,"T7077",75,13200,208,-76.48458561526472,3.0069951318492141,37.5,37.5,15,15,{"$f":"SUMIF(SOLICITUDES!$C$2:$C$1048576,BD!C478,SOLICITUDES!$I$2:$I$1048576)","v":0},0,{"$f":"SUMIF(SOLICITUDES!$C$2:$C$1048576,BD!C478,SOLICITUDES!$J$2:$J$1048576)","v":0},0,{"$f":"SUMIF(SOLICITUDES!$C$2:$C$1048576,BD!C478,SOLICITUDES!$K$2:$K$1048576)","v":0},0]
[null,null,"T7129",112.5,13200,214,-76.480556961801454,3.004958305613405,56.25,56.25,22.5,22.5,{"$f":"SUMIF(SOLICITUDES!$C$2:$C$1048576,BD!C479,SOLICITUDES!$I$2:$I$1048576)","v":0},0,{"$f":"SUMIF(SOLICITUDES!$C$2:$C$1048576,BD!C479,SOLICITUDES!$J$2:$J$1048576)","v":0},0,{"$f":"SUMIF(SOLICITUDES!$C$2:$C$1048576,BD!C479,SOLICITUDES!$K$2:$K$1048576)","v":0},0]
[null,null,"T26896",75,13200,208,-76.478984624923868,3.001674834507063,37.5,37.5,15,15,{"$f":"SUMIF(SOLICITUDES!$C$2:$C$1048576,BD!C480,SOLICITUDES!$I$2:$I$1048576)","v":0},0,{"$f":"SUMIF(SOLICITUDES!$C$2:$C$1048576,BD!C480,SOLICITUDES!$J$2:$J$1048576)","v":0},0,{"$f":"SUMIF(SOLICITUDES!$C$2:$C$1048576,BD!C480,SOLICITUDES!$K$2:$K$1048576)","v":0},0]
[null,null,"T21722",75,13200,452,-76.482065527325148,3.0046276075524969,37.5,37.5,15,15,{"$f":"SUMIF(SOLICITUDES!$C$2:$C$1048576,BD!C481,SOLICITUDES!$I$2:$I$1048576)","v":0},0,{"$f":"SUMIF(SOLICITUDES!$C$2:$C$1048576,BD!C481,SOLICITUDES!$J$2:$J$1048576)","v":0},0,{"$f":"SUMIF(SOLICITUDES!$C$2:$C$1048576,BD!C481,SOLICITUDES!$K$2:$K$1048576)","v":0},0]
[null,null,"T26454",30,13200,214,-76.482895593287438,3.0090257179288322,15,15,6,6,{"$f":"SUMIF(SOLICITUDES!$C$2:$C$1048576,BD!C482,SOLICITUDES!$I$2:$I$1048576)","v":0},0,{"$f":"SUMIF(SOLICITUDES!$C$2:$C$1048576,BD!C482,SOLICITUDES!$J$2:$J$1048576)","v":0},0,{"$f":"SUMIF(SOLICITUDES!$C$2:$C$1048576,BD!C482,SOLICITUDES!$K$2:$K$1048576)","v":0},0]
[null,null,"T7117",112.5,13200,208,-76.482506127223516,3.009951029273223,56.25,56.25,22.5,22.5,{"$f":"SUMIF(SOLICITUDES!$C$2:$C$1048576,BD!C483,SOLICITUDES!$I$2:$I$1048576)","v":0},0,{"$f":"SUMIF(SOLICITUDES!$C$2:$C$1048576,BD!C483,SOLICITUDES!$J$2:$J$1048576)","v":0},0,{"$f":"SUMIF(SOLICITUDES!$C$2:$C$1048576,BD!C483,SOLICITUDES!$K$2:$K$1048576)","v":0},0]
[null,null,"T30732",112.5,13200,494,-76.481993863190468,3.0047329597276242,56.25,56.25,22.5,22.5,{"$f":"SUMIF(SOLICITUDES!$C$2:$C$1048576,BD!C484,SOLICITUDES!$I$2:$I$1048576)","v":0},0,{"$f":"SUMIF(SOLICITUDES!$C$2:$C$1048576,BD!C484,SOLICITUDES!$J$2:$J$1048576)","v":0},0,{"$f":"SUMIF(SOLICITUDES!$C$2:$C$1048576,BD!C484,SOLICITUDES!$K$2:$K$1048576)","v":0},0]
[null,null,"T26897",75,13200,208,-76.478391145513527,3.001330881856378,37.5,37.5,15,15,{"$f":"SUMIF(SOLICITUDES!$C$2:$C$1048576,BD!C485,SOLICITUDES!$I$2:$I$1048576)","v":0},0,{"$f":"SUMIF(SOLICITUDES!$C$2:$C$1048576,BD!C485,SOLICITUDES!$J$2:$J$1048576)","v":0},0,{"$f":"SUMIF(SOLICITUDES!$C$2:$C$1048576,BD!C485,SOLICITUDES!$K$2:$K$1048576)","v":0},0]
[null,null,"T7124",30,13200,208,-76.481446170007132,3.007255726263339,15,15,6,6,{"$f":"SUMIF(SOLICITUDES!$C$2:$C$1048576,BD!C486,SOLICITUDES!$I$2:$I$1048576)","v":0},0,{"$f":"SUMIF(SOLICITUDES!$C$2:$C$1048576,BD!C486,SOLICITUDES!$J$2:$J$1048576)","v":0},0,{"$f":"SUMIF(SOLICITUDES!$C$2:$C$1048576,BD!C486,SOLICITUDES!$K$2:$K$1048576)","v":0},0]
[null,null,"T7067",75,13200,208,-76.48219172206548,3.009290701744662,37.5,37.5,15,15,{"$f":"SUMIF(SOLICITUDES!$C$2:$C$1048576,BD!C487,SOLICITUDES!$I$2:$I$1048576)","v":0},0,{"$f":"SUMIF(SOLICITUDES!$C$2:$C$1048576,BD!C487,SOLICITUDES!$J$2:$J$1048576)","v":0},0,{"$f":"SUMIF(SOLICITUDES!$C$2:$C$1048576,BD!C487,SOLICITUDES!$K$2:$K$1048576)","v":0},0]
[null,null,"T42828",0.5,13200,240,-76.481724025543897,3.009163909893446,0.25,0.25,0.1,0.1,{"$f":"SUMIF(SOLICITUDES!$C$2:$C$1048576,BD!C488,SOLICITUDES!$I$2:$I$1048576)","v":0},0,{"$f":"SUMIF(SOLICITUDES!$C$2:$C$1048576,BD!C488,SOLICITUDES!$J$2:$J$1048576)","v":0},0,{"$f":"SUMIF(SOLICITUDES!$C$2:$C$1048576,BD!C488,SOLICITUDES!$K$2:$K$1048576)","v":0},0]
[null,null,"T29709",112.5,13200,208,-76.481689195808713,3.0070207020334432,56.25,56.25,22.5,22.5,{"$f":"SUMIF(SOLICITUDES!$C$2:$C$1048576,BD!C489,SOLICITUDES!$I$2:$I$1048576)","v":0},0,{"$f":"SUMIF(SOLICITUDES!$C$2:$C$1048576,BD!C489,SOLICITUDES!$J$2:$J$1048576)","v":0},0,{"$f":"SUMIF(SOLICITUDES!$C$2:$C$1048576,BD!C489,SOLICITUDES!$K$2:$K$1048576)","v":0},0]
[null,null,"T7064",75,13200,208,-76.483108505885852,3.0104848891133327,37.5,37.5,15,15,{"$f":"SUMIF(SOLICITUDES!$C$2:$C$1048576,BD!C490,SOLICITUDES!$I$2:$I$1048576)","v":0},0,{"$f":"SUMIF(SOLICITUDES!$C$2:$C$1048576,BD!C490,SOLICITUDES!$J$2:$J$1048576)","v":0},0,{"$f":"SUMIF(SOLICITUDES!$C$2:$C$1048576,BD!C490,SOLICITUDES!$K$2:$K$1048576)","v":0},0]
[null,null,"T7116",112.5,13200,208,-76.480941524312499,3.0089463834365482,56.25,56.25,22.5,22.5,{"$f":"SUMIF(SOLICITUDES!$C$2:$C$1048576,BD!C491,SOLICITUDES!$I$2:$I$1048576)","v":0},0,{"$f":"SUMIF(SOLICITUDES!$C$2:$C$1048576,BD!C491,SOLICITUDES!$J$2:$J$1048576)","v":0},0,{"$f":"SUMIF(SOLICITUDES!$C$2:$C$1048576,BD!C491,SOLICITUDES!$K$2:$K$1048576)","v":0},0]
[null,null,"T7115",75,13200,208,-76.481860368898779,3.0066048046926381,37.5,37.5,15,15,{"$f":"SUMIF(SOLICITUDES!$C$2:$C$1048576,BD!C492,SOLICITUDES!$I$2:$I$1048576)","v":0},0,{"$f":"SUMIF(SOLICITUDES!$C$2:$C$1048576,BD!C492,SOLICITUDES!$J$2:$J$1048576)","v":0},0,{"$f":"SUMIF(SOLICITUDES!$C$2:$C$1048576,BD!C492,SOLICITUDES!$K$2:$K$1048576)","v":0},0]
[null,null,"T7082",45,13200,208,-76.476194901985636,3.0006258039676426,22.5,22.5,9,9,{"$f":"SUMIF(SOLICITUDES!$C$2:$C$1048576,BD!C493,SOLICITUDES!$I$2:$I$1048576)","v":0},0,{"$f":"SUMIF(SOLICITUDES!$C$2:$C$1048576,BD!C493,SOLICITUDES!$J$2:$J$1048576)","v":0},0,{"$f":"SUMIF(SOLICITUDES!$C$2:$C$1048576,BD!C493,SOLICITUDES!$K$2:$K$1048576)","v":0},0]
[null,null,"T42109",0.5,13200,240,-76.482289944405522,3.0106110867504077,0.25,0.25,0.1,0.1,{"$f":"SUMIF(SOLICITUDES!$C$2:$C$1048576,BD!C494,SOLICITUDES!$I$2:$I$1048576)","v":0},0,{"$f":"SUMIF(SOLICITUDES!$C$2:$C$1048576,BD!C494,SOLICITUDES!$J$2:$J$1048576)","v":0},0,{"$f":"SUMIF(SOLICITUDES!$C$2:$C$1048576,BD!C494,SOLICITUDES!$K$2:$K$1048576)","v":0},0]
[null,null,"T44902",225,13200,220,-76.482112589396124,3.0047038388559213,112.5,112.5,45,45,{"$f":"SUMIF(SOLICITUDES!$C$2:$C$1048576,BD!C495,SOLICITUDES!$I$2:$I$1048576)","v":0},0,{"$f":"SUMIF(SOLICITUDES!$C$2:$C$1048576,BD!C495,SOLICITUDES!$J$2:$J$1048576)","v":0},0,{"$f":"SUMIF(SOLICITUDES!$C$2:$C$1048576,BD!C495,SOLICITUDES!$K$2:$K$1048576)","v":0},0]
[null,null,"T24818",200,13200,240,-76.480596115658571,3.0075159609765576,100,100,40,40,{"$f":"SUMIF(SOLICITUDES!$C$2:$C$1048576,BD!C496,SOLICITUDES!$I$2:$I$1048576)","v":0},0,{"$f":"SUMIF(SOLICITUDES!$C$2:$C$1048576,BD!C496,SOLICITUDES!$J$2:$J$1048576)","v":0},0,{"$f":"SUMIF(SOLICITUDES!$C$2:$C$1048576,BD!C496,SOLICITUDES!$K$2:$K$1048576)","v":0},0]
[null,null,"T7121",45,13200,208,-76.476964307213734,3.0002128396832415,22.5,22.5,9,9,{"$f":"SUMIF(SOLICITUDES!$C$2:$C$1048576,BD!C497,SOLICITUDES!$I$2:$I$1048576)","v":0},0,{"$f":"SUMIF(SOLICITUDES!$C$2:$C$1048576,BD!C497,SOLICITUDES!$J$2:$J$1048576)","v":0},0,{"$f":"SUMIF(SOLICITUDES!$C$2:$C$1048576,BD!C497,SOLICITUDES!$K$2:$K$1048576)","v":0},0]
[null,null,"T7080",30,13200,214,-76.481995355234105,3.0065054074962578,15,15,6,6,{"$f":"SUMIF(SOLICITUDES!$C$2:$C$1048576,BD!C498,SOLICITUDES!$I$2:$I$1048576)","v":0},0,{"$f":"SUMIF(SOLICITUDES!$C$2:$C$1048576,BD!C498,SOLICITUDES!$J$2:$J$1048576)","v":0},0,{"$f":"SUMIF(SOLICITUDES!$C$2:$C$1048576,BD!C498,SOLICITUDES!$K$2:$K$1048576)","v":0},0]
[null,null,"T7132",75,13200,208,-76.476835196694523,3.0011310407828287,37.5,37.5,15,15,{"$f":"SUMIF(SOLICITUDES!$C$2:$C$1048576,BD!C499,SOLICITUDES!$I$2:$I$1048576)","v":0},0,{"$f":"SUMIF(SOLICITUDES!$C$2:$C$1048576,BD!C499,SOLICITUDES!$J$2:$J$1048576)","v":0},0,{"$f":"SUMIF(SOLICITUDES!$C$2:$C$1048576,BD!C499,SOLICITUDES!$K$2:$K$1048576)","v":0},0]
[null,null,"T7032",75,13200,208,-76.474865729200047,2.9998185871152407,37.5,37.5,15,15,{"$f":"SUMIF(SOLICITUDES!$C$2:$C$1048576,BD!C500,SOLICITUDES!$I$2:$I$1048576)","v":0},0,{"$f":"SUMIF(SOLICITUDES!$C$2:$C$1048576,BD!C500,SOLICITUDES!$J$2:$J$1048576)","v":0},0,{"$f":"SUMIF(SOLICITUDES!$C$2:$C$1048576,BD!C500,SOLICITUDES!$K$2:$K$1048576)","v":0},0]
[null,null,"T7051",75,13200,214,-76.480473380057063,3.0096876384473212,37.5,37.5,15,15,{"$f":"SUMIF(SOLICITUDES!$C$2:$C$1048576,BD!C501,SOLICITUDES!$I$2:$I$1048576)","v":0},0,{"$f":"SUMIF(SOLICITUDES!$C$2:$C$1048576,BD!C501,SOLICITUDES!$J$2:$J$1048576)","v":0},0,{"$f":"SUMIF(SOLICITUDES!$C$2:$C$1048576,BD!C501,SOLICITUDES!$K$2:$K$1048576)","v":0},0]
[null,null,"T7114",112.5,13200,214,-76.483020505205715,3.0068767129848921,56.25,56.25,22.5,22.5,{"$f":"SUMIF(SOLICITUDES!$C$2:$C$1048576,BD!C502,SOLICITUDES!$I$2:$I$1048576)","v":0},0,{"$f":"SUMIF(SOLICITUDES!$C$2:$C$1048576,BD!C502,SOLICITUDES!$J$2:$J$1048576)","v":0},0,{"$f":"SUMIF(SOLICITUDES!$C$2:$C$1048576,BD!C502,SOLICITUDES!$K$2:$K$1048576)","v":0},0]
[null,null,"T7127",25,13200,240,-76.479916675412966,3.0079330396411441,12.5,12.5,5,5,{"$f":"SUMIF(SOLICITUDES!$C$2:$C$1048576,BD!C503,SOLICITUDES!$I$2:$I$1048576)","v":0},0,{"$f":"SUMIF(SOLICITUDES!$C$2:$C$1048576,BD!C503,SOLICITUDES!$J$2:$J$1048576)","v":0},0,{"$f":"SUMIF(SOLICITUDES!$C$2:$C$1048576,BD!C503,SOLICITUDES!$K$2:$K$1048576)","v":0},0]
[null,null,"T29501",45,13200,226,-76.481502064131931,3.0063303275727735,22.5,22.5,9,9,{"$f":"SUMIF(SOLICITUDES!$C$2:$C$1048576,BD!C504,SOLICITUDES!$I$2:$I$1048576)","v":0},0,{"$f":"SUMIF(SOLICITUDES!$C$2:$C$1048576,BD!C504,SOLICITUDES!$J$2:$J$1048576)","v":0},0,{"$f":"SUMIF(SOLICITUDES!$C$2:$C$1048576,BD!C504,SOLICITUDES!$K$2:$K$1048576)","v":0},0]
[null,null,"T7104",30,13200,208,-76.483209352149103,3.0069582131580086,15,15,6,6,{"$f":"SUMIF(SOLICITUDES!$C$2:$C$1048576,BD!C505,SOLICITUDES!$I$2:$I$1048576)","v":0},0,{"$f":"SUMIF(SOLICITUDES!$C$2:$C$1048576,BD!C505,SOLICITUDES!$J$2:$J$1048576)","v":0},0,{"$f":"SUMIF(SOLICITUDES!$C$2:$C$1048576,BD!C505,SOLICITUDES!$K$2:$K$1048576)","v":0},0]
[null,null,"T7096",75,13200,208,-76.479493390073216,3.0089184223990628,37.5,37.5,15,15,{"$f":"SUMIF(SOLICITUDES!$C$2:$C$1048576,BD!C506,SOLICITUDES!$I$2:$I$1048576)","v":0},0,{"$f":"SUMIF(SOLICITUDES!$C$2:$C$1048576,BD!C506,SOLICITUDES!$J$2:$J$1048576)","v":0},0,{"$f":"SUMIF(SOLICITUDES!$C$2:$C$1048576,BD!C506,SOLICITUDES!$K$2:$K$1048576)","v":0},0]
[null,null,"T7536",45,13200,208,-76.479353422249403,3.0079924125694721,22.5,22.5,9,9,{"$f":"SUMIF(SOLICITUDES!$C$2:$C$1048576,BD!C507,SOLICITUDES!$I$2:$I$1048576)","v":0},0,{"$f":"SUMIF(SOLICITUDES!$C$2:$C$1048576,BD!C507,SOLICITUDES!$J$2:$J$1048576)","v":0},0,{"$f":"SUMIF(SOLICITUDES!$C$2:$C$1048576,BD!C507,SOLICITUDES!$K$2:$K$1048576)","v":0},0]
[null,null,"T7058",45,13200,208,-76.478787097972798,3.0083097256329641,22.5,22.5,9,9,{"$f":"SUMIF(SOLICITUDES!$C$2:$C$1048576,BD!C508,SOLICITUDES!$I$2:$I$1048576)","v":0},0,{"$f":"SUMIF(SOLICITUDES!$C$2:$C$1048576,BD!C508,SOLICITUDES!$J$2:$J$1048576)","v":0},0,{"$f":"SUMIF(SOLICITUDES!$C$2:$C$1048576,BD!C508,SOLICITUDES!$K$2:$K$1048576)","v":0},0]
[null,null,"T7128",75,13200,208,-76.478890639264833,3.0091080834482598,37.5,37.5,15,15,{"$f":"SUMIF(SOLICITUDES!$C$2:$C$1048576,BD!C509,SOLICITUDES!$I$2:$I$1048576)","v":0},0,{"$f":"SUMIF(SOLICITUDES!$C$2:$C$1048576,BD!C509,SOLICITUDES!$J$2:$J$1048576)","v":0},0,{"$f":"SUMIF(SOLICITUDES!$C$2:$C$1048576,BD!C509,SOLICITUDES!$K$2:$K$1048576)","v":0},0]
[null,null,"T7059",15,13200,240,-76.478792373147328,3.0077515198789566,7.5,7.5,3,3,{"$f":"SUMIF(SOLICITUDES!$C$2:$C$1048576,BD!C510,SOLICITUDES!$I$2:$I$1048576)","v":0},0,{"$f":"SUMIF(SOLICITUDES!$C$2:$C$1048576,BD!C510,SOLICITUDES!$J$2:$J$1048576)","v":0},0,{"$f":"SUMIF(SOLICITUDES!$C$2:$C$1048576,BD!C510,SOLICITUDES!$K$2:$K$1048576)","v":0},0]
[null,null,"T7049",112.5,13200,208,-76.47440667933337,3.0008312669548447,56.25,56.25,22.5,22.5,{"$f":"SUMIF(SOLICITUDES!$C$2:$C$1048576,BD!C511,SOLICITUDES!$I$2:$I$1048576)","v":0},0,{"$f":"SUMIF(SOLICITUDES!$C$2:$C$1048576,BD!C511,SOLICITUDES!$J$2:$J$1048576)","v":0},0,{"$f":"SUMIF(SOLICITUDES!$C$2:$C$1048576,BD!C511,SOLICITUDES!$K$2:$K$1048576)","v":0},0]
[null,null,"T7079",15,13200,240,-76.473777111156807,3.0006771947223507,7.5,7.5,3,3,{"$f":"SUMIF(SOLICITUDES!$C$2:$C$1048576,BD!C512,SOLICITUDES!$I$2:$I$1048576)","v":0},0,{"$f":"SUMIF(SOLICITUDES!$C$2:$C$1048576,BD!C512,SOLICITUDES!$J$2:$J$1048576)","v":0},0,{"$f":"SUMIF(SOLICITUDES!$C$2:$C$1048576,BD!C512,SOLICITUDES!$K$2:$K$1048576)","v":0},0]
[null,null,"T7101",75,13200,208,-76.478377998553498,3.0090083024226959,37.5,37.5,15,15,{"$f":"SUMIF(SOLICITUDES!$C$2:$C$1048576,BD!C513,SOLICITUDES!$I$2:$I$1048576)","v":0},0,{"$f":"SUMIF(SOLICITUDES!$C$2:$C$1048576,BD!C513,SOLICITUDES!$J$2:$J$1048576)","v":0},0,{"$f":"SUMIF(SOLICITUDES!$C$2:$C$1048576,BD!C513,SOLICITUDES!$K$2:$K$1048576)","v":0},0]
[null,null,"T13133",225,13200,214,-76.482129634404274,3.0076946322606233,112.5,112.5,45,45,{"$f":"SUMIF(SOLICITUDES!$C$2:$C$1048576,BD!C514,SOLICITUDES!$I$2:$I$1048576)","v":0},0,{"$f":"SUMIF(SOLICITUDES!$C$2:$C$1048576,BD!C514,SOLICITUDES!$J$2:$J$1048576)","v":0},0,{"$f":"SUMIF(SOLICITUDES!$C$2:$C$1048576,BD!C514,SOLICITUDES!$K$2:$K$1048576)","v":0},0]
[null,null,"T7031",75,13200,208,-76.477946298213084,3.008890503688773,37.5,{"$f":"D515*0.5-M515","v":37.5},15,15,{"$f":"SUMIF(SOLICITUDES!$C$2:$C$1048576,BD!C515,SOLICITUDES!$I$2:$I$1048576)","v":0},{"$f":"M515/D515","v":0},{"$f":"SUMIF(SOLICITUDES!$C$2:$C$1048576,BD!C515,SOLICITUDES!$J$2:$J$1048576)","v":0},0,{"$f":"SUMIF(SOLICITUDES!$C$2:$C$1048576,BD!C515,SOLICITUDES!$K$2:$K$1048576)","v":0},0]
[null,null,"T7090",112.5,13200,208,-76.477857511884807,3.0067563190568989,{"$f":"D516*0.5","v":56.25},56.25,{"$f":"0.2*D516","v":22.5},{"$f":"0.2*D516","v":22.5},{"$f":"SUMIF(SOLICITUDES!$C$2:$C$1048576,BD!C516,SOLICITUDES!$I$2:$I$1048576)","v":0},0,{"$f":"SUMIF(SOLICITUDES!$C$2:$C$1048576,BD!C516,SOLICITUDES!$J$2:$J$1048576)","v":0},{"$f":"O516/(2*K516)","v":0},{"$f":"SUMIF(SOLICITUDES!$C$2:$C$1048576,BD!C516,SOLICITUDES!$K$2:$K$1048576)","v":0},{"$f":"Q516/(2*L516)","v":0}]
[null,null,"T7078",45,13200,208,-76.479971552514243,3.0063324407104703,22.5,22.5,9,9,{"$f":"SUMIF(SOLICITUDES!$C$2:$C$1048576,BD!C517,SOLICITUDES!$I$2:$I$1048576)","v":0},0,{"$f":"SUMIF(SOLICITUDES!$C$2:$C$1048576,BD!C517,SOLICITUDES!$J$2:$J$1048576)","v":0},0,{"$f":"SUMIF(SOLICITUDES!$C$2:$C$1048576,BD!C517,SOLICITUDES!$K$2:$K$1048576)","v":0},0]
[null,null,"T7036",45,13200,208,-76.475359864885249,3.0014105136419023,22.5,22.5,9,9,{"$f":"SUMIF(SOLICITUDES!$C$2:$C$1048576,BD!C518,SOLICITUDES!$I$2:$I$1048576)","v":0},0,{"$f":"SUMIF(SOLICITUDES!$C$2:$C$1048576,BD!C518,SOLICITUDES!$J$2:$J$1048576)","v":0},0,{"$f":"SUMIF(SOLICITUDES!$C$2:$C$1048576,BD!C518,SOLICITUDES!$K$2:$K$1048576)","v":0},0]
[null,null,"T7125",45,13200,208,-76.479521849265311,3.0062056226408105,22.5,22.5,9,9,{"$f":"SUMIF(SOLICITUDES!$C$2:$C$1048576,BD!C519,SOLICITUDES!$I$2:$I$1048576)","v":0},0,{"$f":"SUMIF(SOLICITUDES!$C$2:$C$1048576,BD!C519,SOLICITUDES!$J$2:$J$1048576)","v":0},0,{"$f":"SUMIF(SOLICITUDES!$C$2:$C$1048576,BD!C519,SOLICITUDES!$K$2:$K$1048576)","v":0},0]
[null,null,"T7029",112.5,13200,214,-76.475135581841016,3.0022732595133244,56.25,56.25,22.5,22.5,{"$f":"SUMIF(SOLICITUDES!$C$2:$C$1048576,BD!C520,SOLICITUDES!$I$2:$I$1048576)","v":0},0,{"$f":"SUMIF(SOLICITUDES!$C$2:$C$1048576,BD!C520,SOLICITUDES!$J$2:$J$1048576)","v":0},0,{"$f":"SUMIF(SOLICITUDES!$C$2:$C$1048576,BD!C520,SOLICITUDES!$K$2:$K$1048576)","v":0},0]
[null,null,"T7047",75,13200,208,-76.477658087106363,3.0094419501018881,37.5,37.5,15,15,{"$f":"SUMIF(SOLICITUDES!$C$2:$C$1048576,BD!C521,SOLICITUDES!$I$2:$I$1048576)","v":0},0,{"$f":"SUMIF(SOLICITUDES!$C$2:$C$1048576,BD!C521,SOLICITUDES!$J$2:$J$1048576)","v":0},0,{"$f":"SUMIF(SOLICITUDES!$C$2:$C$1048576,BD!C521,SOLICITUDES!$K$2:$K$1048576)","v":0},0]
[null,null,"T7050",75,13200,208,-76.477654314144786,3.008844866973543,37.5,37.5,15,15,{"$f":"SUMIF(SOLICITUDES!$C$2:$C$1048576,BD!C522,SOLICITUDES!$I$2:$I$1048576)","v":0},0,{"$f":"SUMIF(SOLICITUDES!$C$2:$C$1048576,BD!C522,SOLICITUDES!$J$2:$J$1048576)","v":0},0,{"$f":"SUMIF(SOLICITUDES!$C$2:$C$1048576,BD!C522,SOLICITUDES!$K$2:$K$1048576)","v":0},0]
[null,null,"T7106",112.5,13200,208,-76.478955703711947,3.0053190820525235,56.25,56.25,22.5,22.5,{"$f":"SUMIF(SOLICITUDES!$C$2:$C$1048576,BD!C523,SOLICITUDES!$I$2:$I$1048576)","v":0},0,{"$f":"SUMIF(SOLICITUDES!$C$2:$C$1048576,BD!C523,SOLICITUDES!$J$2:$J$1048576)","v":0},0,{"$f":"SUMIF(SOLICITUDES!$C$2:$C$1048576,BD!C523,SOLICITUDES!$K$2:$K$1048576)","v":0},0]
[null,null,"T7110",75,13200,208,-76.477154662622738,3.0089714402273073,37.5,37.5,15,15,{"$f":"SUMIF(SOLICITUDES!$C$2:$C$1048576,BD!C524,SOLICITUDES!$I$2:$I$1048576)","v":0},0,{"$f":"SUMIF(SOLICITUDES!$C$2:$C$1048576,BD!C524,SOLICITUDES!$J$2:$J$1048576)","v":0},0,{"$f":"SUMIF(SOLICITUDES!$C$2:$C$1048576,BD!C524,SOLICITUDES!$K$2:$K$1048576)","v":0},0]
[null,null,"T7061",45,13200,208,-76.476579233327072,3.0084737147891221,22.5,22.5,9,9,{"$f":"SUMIF(SOLICITUDES!$C$2:$C$1048576,BD!C525,SOLICITUDES!$I$2:$I$1048576)","v":0},0,{"$f":"SUMIF(SOLICITUDES!$C$2:$C$1048576,BD!C525,SOLICITUDES!$J$2:$J$1048576)","v":0},0,{"$f":"SUMIF(SOLICITUDES!$C$2:$C$1048576,BD!C525,SOLICITUDES!$K$2:$K$1048576)","v":0},0]
[null,null,"T7056",75,13200,208,-76.476825320749313,3.0026863604563405,37.5,37.5,15,15,{"$f":"SUMIF(SOLICITUDES!$C$2:$C$1048576,BD!C526,SOLICITUDES!$I$2:$I$1048576)","v":0},0,{"$f":"SUMIF(SOLICITUDES!$C$2:$C$1048576,BD!C526,SOLICITUDES!$J$2:$J$1048576)","v":0},0,{"$f":"SUMIF(SOLICITUDES!$C$2:$C$1048576,BD!C526,SOLICITUDES!$K$2:$K$1048576)","v":0},0]
[null,null,"T13134",112.5,13200,214,-76.481924238865332,3.0079294515094199,56.25,56.25,22.5,22.5,{"$f":"SUMIF(SOLICITUDES!$C$2:$C$1048576,BD!C527,SOLICITUDES!$I$2:$I$1048576)","v":0},0,{"$f":"SUMIF(SOLICITUDES!$C$2:$C$1048576,BD!C527,SOLICITUDES!$J$2:$J$1048576)","v":0},0,{"$f":"SUMIF(SOLICITUDES!$C$2:$C$1048576,BD!C527,SOLICITUDES!$K$2:$K$1048576)","v":0},0]
[null,null,"T7075",75,13200,208,-76.477074218944693,3.0080219240522719,37.5,37.5,15,15,{"$f":"SUMIF(SOLICITUDES!$C$2:$C$1048576,BD!C528,SOLICITUDES!$I$2:$I$1048576)","v":0},0,{"$f":"SUMIF(SOLICITUDES!$C$2:$C$1048576,BD!C528,SOLICITUDES!$J$2:$J$1048576)","v":0},0,{"$f":"SUMIF(SOLICITUDES!$C$2:$C$1048576,BD!C528,SOLICITUDES!$K$2:$K$1048576)","v":0},0]
[null,null,"T7071",45,13200,208,-76.477306593994129,3.0106987379473398,22.5,22.5,9,9,{"$f":"SUMIF(SOLICITUDES!$C$2:$C$1048576,BD!C529,SOLICITUDES!$I$2:$I$1048576)","v":0},0,{"$f":"SUMIF(SOLICITUDES!$C$2:$C$1048576,BD!C529,SOLICITUDES!$J$2:$J$1048576)","v":0},0,{"$f":"SUMIF(SOLICITUDES!$C$2:$C$1048576,BD!C529,SOLICITUDES!$K$2:$K$1048576)","v":0},0]
[null,null,"T30031",45,13200,214,-76.476519841873568,3.0078925069503928,22.5,22.5,9,9,{"$f":"SUMIF(SOLICITUDES!$C$2:$C$1048576,BD!C530,SOLICITUDES!$I$2:$I$1048576)","v":0},0,{"$f":"SUMIF(SOLICITUDES!$C$2:$C$1048576,BD!C530,SOLICITUDES!$J$2:$J$1048576)","v":0},0,{"$f":"SUMIF(SOLICITUDES!$C$2:$C$1048576,BD!C530,SOLICITUDES!$K$2:$K$1048576)","v":0},0]
[null,null,"T30306",75,13200,213,-76.477117453908377,3.0112683186411058,37.5,37.5,15,15,{"$f":"SUMIF(SOLICITUDES!$C$2:$C$1048576,BD!C531,SOLICITUDES!$I$2:$I$1048576)","v":0},0,{"$f":"SUMIF(SOLICITUDES!$C$2:$C$1048576,BD!C531,SOLICITUDES!$J$2:$J$1048576)","v":0},0,{"$f":"SUMIF(SOLICITUDES!$C$2:$C$1048576,BD!C531,SOLICITUDES!$K$2:$K$1048576)","v":0},0]
[null,null,"T7054",112.5,13200,208,-76.478322942209516,3.0109434420071879,56.25,56.25,22.5,22.5,{"$f":"SUMIF(SOLICITUDES!$C$2:$C$1048576,BD!C532,SOLICITUDES!$I$2:$I$1048576)","v":0},0,{"$f":"SUMIF(SOLICITUDES!$C$2:$C$1048576,BD!C532,SOLICITUDES!$J$2:$J$1048576)","v":0},0,{"$f":"SUMIF(SOLICITUDES!$C$2:$C$1048576,BD!C532,SOLICITUDES!$K$2:$K$1048576)","v":0},0]
[null,null,"T7091",112.5,13200,208,-76.478979844333111,3.0111492934616795,56.25,56.25,22.5,22.5,{"$f":"SUMIF(SOLICITUDES!$C$2:$C$1048576,BD!C533,SOLICITUDES!$I$2:$I$1048576)","v":0},0,{"$f":"SUMIF(SOLICITUDES!$C$2:$C$1048576,BD!C533,SOLICITUDES!$J$2:$J$1048576)","v":0},0,{"$f":"SUMIF(SOLICITUDES!$C$2:$C$1048576,BD!C533,SOLICITUDES!$K$2:$K$1048576)","v":0},0]
[null,null,"T7112",45,13200,208,-76.478974621640845,3.0036009587719859,22.5,22.5,9,9,{"$f":"SUMIF(SOLICITUDES!$C$2:$C$1048576,BD!C534,SOLICITUDES!$I$2:$I$1048576)","v":0},0,{"$f":"SUMIF(SOLICITUDES!$C$2:$C$1048576,BD!C534,SOLICITUDES!$J$2:$J$1048576)","v":0},0,{"$f":"SUMIF(SOLICITUDES!$C$2:$C$1048576,BD!C534,SOLICITUDES!$K$2:$K$1048576)","v":0},0]
[null,null,"T7131",30,13200,208,-76.479015792013669,3.0111221123100989,15,15,6,6,{"$f":"SUMIF(SOLICITUDES!$C$2:$C$1048576,BD!C535,SOLICITUDES!$I$2:$I$1048576)","v":0},0,{"$f":"SUMIF(SOLICITUDES!$C$2:$C$1048576,BD!C535,SOLICITUDES!$J$2:$J$1048576)","v":0},0,{"$f":"SUMIF(SOLICITUDES!$C$2:$C$1048576,BD!C535,SOLICITUDES!$K$2:$K$1048576)","v":0},0]
[null,null,"T30947",25,13200,240,-76.477389146873278,3.011283061216198,12.5,12.5,5,5,{"$f":"SUMIF(SOLICITUDES!$C$2:$C$1048576,BD!C536,SOLICITUDES!$I$2:$I$1048576)","v":0},0,{"$f":"SUMIF(SOLICITUDES!$C$2:$C$1048576,BD!C536,SOLICITUDES!$J$2:$J$1048576)","v":0},0,{"$f":"SUMIF(SOLICITUDES!$C$2:$C$1048576,BD!C536,SOLICITUDES!$K$2:$K$1048576)","v":0},0]
[null,null,"T40126",25,13200,240,-76.476727093391148,3.0067490655663005,12.5,12.5,5,5,{"$f":"SUMIF(SOLICITUDES!$C$2:$C$1048576,BD!C537,SOLICITUDES!$I$2:$I$1048576)","v":0},0,{"$f":"SUMIF(SOLICITUDES!$C$2:$C$1048576,BD!C537,SOLICITUDES!$J$2:$J$1048576)","v":0},0,{"$f":"SUMIF(SOLICITUDES!$C$2:$C$1048576,BD!C537,SOLICITUDES!$K$2:$K$1048576)","v":0},0]
[null,null,"T41485",45,13200,214,-76.475436348455432,3.0099280160123039,22.5,22.5,9,9,{"$f":"SUMIF(SOLICITUDES!$C$2:$C$1048576,BD!C538,SOLICITUDES!$I$2:$I$1048576)","v":0},0,{"$f":"SUMIF(SOLICITUDES!$C$2:$C$1048576,BD!C538,SOLICITUDES!$J$2:$J$1048576)","v":0},0,{"$f":"SUMIF(SOLICITUDES!$C$2:$C$1048576,BD!C538,SOLICITUDES!$K$2:$K$1048576)","v":0},0]
[null,null,"T30949",25,13200,240,-76.477294044608243,3.0115600563262426,12.5,12.5,5,5,{"$f":"SUMIF(SOLICITUDES!$C$2:$C$1048576,BD!C539,SOLICITUDES!$I$2:$I$1048576)","v":0},0,{"$f":"SUMIF(SOLICITUDES!$C$2:$C$1048576,BD!C539,SOLICITUDES!$J$2:$J$1048576)","v":0},0,{"$f":"SUMIF(SOLICITUDES!$C$2:$C$1048576,BD!C539,SOLICITUDES!$K$2:$K$1048576)","v":0},0]
[null,null,"T30948",50,13200,240,-76.47782199218824,3.0113684985592939,25,25,10,10,{"$f":"SUMIF(SOLICITUDES!$C$2:$C$1048576,BD!C540,SOLICITUDES!$I$2:$I$1048576)","v":0},0,{"$f":"SUMIF(SOLICITUDES!$C$2:$C$1048576,BD!C540,SOLICITUDES!$J$2:$J$1048576)","v":0},0,{"$f":"SUMIF(SOLICITUDES!$C$2:$C$1048576,BD!C540,SOLICITUDES!$K$2:$K$1048576)","v":0},0]
[null,null,"T30951",25,13200,240,-76.476722229910337,3.011149249176075,12.5,12.5,5,5,{"$f":"SUMIF(SOLICITUDES!$C$2:$C$1048576,BD!C541,SOLICITUDES!$I$2:$I$1048576)","v":0},0,{"$f":"SUMIF(SOLICITUDES!$C$2:$C$1048576,BD!C541,SOLICITUDES!$J$2:$J$1048576)","v":0},0,{"$f":"SUMIF(SOLICITUDES!$C$2:$C$1048576,BD!C541,SOLICITUDES!$K$2:$K$1048576)","v":0},0]
[null,null,"T30950",25,13200,240,-76.476955984873257,3.0109692436508313,12.5,12.5,5,5,{"$f":"SUMIF(SOLICITUDES!$C$2:$C$1048576,BD!C542,SOLICITUDES!$I$2:$I$1048576)","v":0},0,{"$f":"SUMIF(SOLICITUDES!$C$2:$C$1048576,BD!C542,SOLICITUDES!$J$2:$J$1048576)","v":0},0,{"$f":"SUMIF(SOLICITUDES!$C$2:$C$1048576,BD!C542,SOLICITUDES!$K$2:$K$1048576)","v":0},0]
[null,null,"T30953",25,13200,240,-76.476464374096864,3.0113691717821118,12.5,12.5,5,5,{"$f":"SUMIF(SOLICITUDES!$C$2:$C$1048576,BD!C543,SOLICITUDES!$I$2:$I$1048576)","v":0},0,{"$f":"SUMIF(SOLICITUDES!$C$2:$C$1048576,BD!C543,SOLICITUDES!$J$2:$J$1048576)","v":0},0,{"$f":"SUMIF(SOLICITUDES!$C$2:$C$1048576,BD!C543,SOLICITUDES!$K$2:$K$1048576)","v":0},0]
[null,null,"T30952",25,13200,240,-76.476587894080865,3.0108908986895329,12.5,12.5,5,5,{"$f":"SUMIF(SOLICITUDES!$C$2:$C$1048576,BD!C544,SOLICITUDES!$I$2:$I$1048576)","v":0},0,{"$f":"SUMIF(SOLICITUDES!$C$2:$C$1048576,BD!C544,SOLICITUDES!$J$2:$J$1048576)","v":0},0,{"$f":"SUMIF(SOLICITUDES!$C$2:$C$1048576,BD!C544,SOLICITUDES!$K$2:$K$1048576)","v":0},0]
[null,null,"T10626",112.5,13200,208,-76.475827879052716,3.0077966762073545,56.25,26.25,22.5,22.5,{"$f":"SUMIF(SOLICITUDES!$C$2:$C$1048576,BD!C545,SOLICITUDES!$I$2:$I$1048576)","v":30},0.26666666666666666,{"$f":"SUMIF(SOLICITUDES!$C$2:$C$1048576,BD!C545,SOLICITUDES!$J$2:$J$1048576)","v":0},0,{"$f":"SUMIF(SOLICITUDES!$C$2:$C$1048576,BD!C545,SOLICITUDES!$K$2:$K$1048576)","v":30},0.66666666666666663]
[null,null,"T20895",37.5,13200,240,-76.474908229712511,3.0071483178073546,18.75,18.75,7.5,7.5,{"$f":"SUMIF(SOLICITUDES!$C$2:$C$1048576,BD!C546,SOLICITUDES!$I$2:$I$1048576)","v":0},0,{"$f":"SUMIF(SOLICITUDES!$C$2:$C$1048576,BD!C546,SOLICITUDES!$J$2:$J$1048576)","v":0},0,{"$f":"SUMIF(SOLICITUDES!$C$2:$C$1048576,BD!C546,SOLICITUDES!$K$2:$K$1048576)","v":0},0]
[null,null,"T9993",37.5,13200,240,-76.978924596325626,2.1229424098951641,18.75,18.75,7.5,7.5,{"$f":"SUMIF(SOLICITUDES!$C$2:$C$1048576,BD!C547,SOLICITUDES!$I$2:$I$1048576)","v":0},0,{"$f":"SUMIF(SOLICITUDES!$C$2:$C$1048576,BD!C547,SOLICITUDES!$J$2:$J$1048576)","v":0},0,{"$f":"SUMIF(SOLICITUDES!$C$2:$C$1048576,BD!C547,SOLICITUDES!$K$2:$K$1048576)","v":0},0]
[null,null,"T1067",75,13200,208,-76.980590588721839,2.1195443222291623,37.5,37.5,15,15,{"$f":"SUMIF(SOLICITUDES!$C$2:$C$1048576,BD!C548,SOLICITUDES!$I$2:$I$1048576)","v":0},0,{"$f":"SUMIF(SOLICITUDES!$C$2:$C$1048576,BD!C548,SOLICITUDES!$J$2:$J$1048576)","v":0},0,{"$f":"SUMIF(SOLICITUDES!$C$2:$C$1048576,BD!C548,SOLICITUDES!$K$2:$K$1048576)","v":0},0]
[null,null,"T9982",15,13200,240,-76.979103512692603,2.1214462727429733,7.5,7.5,3,3,{"$f":"SUMIF(SOLICITUDES!$C$2:$C$1048576,BD!C549,SOLICITUDES!$I$2:$I$1048576)","v":0},0,{"$f":"SUMIF(SOLICITUDES!$C$2:$C$1048576,BD!C549,SOLICITUDES!$J$2:$J$1048576)","v":0},0,{"$f":"SUMIF(SOLICITUDES!$C$2:$C$1048576,BD!C549,SOLICITUDES!$K$2:$K$1048576)","v":0},0]
[null,null,"T1101",30,13200,225,-76.979988153445262,2.121660508911654,15,15,6,6,{"$f":"SUMIF(SOLICITUDES!$C$2:$C$1048576,BD!C550,SOLICITUDES!$I$2:$I$1048576)","v":0},0,{"$f":"SUMIF(SOLICITUDES!$C$2:$C$1048576,BD!C550,SOLICITUDES!$J$2:$J$1048576)","v":0},0,{"$f":"SUMIF(SOLICITUDES!$C$2:$C$1048576,BD!C550,SOLICITUDES!$K$2:$K$1048576)","v":0},0]
[null,null,"T9988",45,13200,208,-76.981714268584867,2.1183958386694437,22.5,22.5,9,9,{"$f":"SUMIF(SOLICITUDES!$C$2:$C$1048576,BD!C551,SOLICITUDES!$I$2:$I$1048576)","v":0},0,{"$f":"SUMIF(SOLICITUDES!$C$2:$C$1048576,BD!C551,SOLICITUDES!$J$2:$J$1048576)","v":0},0,{"$f":"SUMIF(SOLICITUDES!$C$2:$C$1048576,BD!C551,SOLICITUDES!$K$2:$K$1048576)","v":0},0]
[null,null,"T1192",30,13200,208,-76.982084866833105,2.1174490697562769,15,15,6,6,{"$f":"SUMIF(SOLICITUDES!$C$2:$C$1048576,BD!C552,SOLICITUDES!$I$2:$I$1048576)","v":0},0,{"$f":"SUMIF(SOLICITUDES!$C$2:$C$1048576,BD!C552,SOLICITUDES!$J$2:$J$1048576)","v":0},0,{"$f":"SUMIF(SOLICITUDES!$C$2:$C$1048576,BD!C552,SOLICITUDES!$K$2:$K$1048576)","v":0},0]
[null,null,"T1065",75,13200,208,-76.983242988152099,2.116310651912761,37.5,37.5,15,15,{"$f":"SUMIF(SOLICITUDES!$C$2:$C$1048576,BD!C553,SOLICITUDES!$I$2:$I$1048576)","v":0},0,{"$f":"SUMIF(SOLICITUDES!$C$2:$C$1048576,BD!C553,SOLICITUDES!$J$2:$J$1048576)","v":0},0,{"$f":"SUMIF(SOLICITUDES!$C$2:$C$1048576,BD!C553,SOLICITUDES!$K$2:$K$1048576)","v":0},0]
[null,null,"T9986",75,13200,208,-76.983728048588361,2.1156105583262672,37.5,37.5,15,15,{"$f":"SUMIF(SOLICITUDES!$C$2:$C$1048576,BD!C554,SOLICITUDES!$I$2:$I$1048576)","v":0},0,{"$f":"SUMIF(SOLICITUDES!$C$2:$C$1048576,BD!C554,SOLICITUDES!$J$2:$J$1048576)","v":0},0,{"$f":"SUMIF(SOLICITUDES!$C$2:$C$1048576,BD!C554,SOLICITUDES!$K$2:$K$1048576)","v":0},0]
[null,null,"T1080",45,13200,214,-76.98283813974156,2.1153482261933942,22.5,22.5,9,9,{"$f":"SUMIF(SOLICITUDES!$C$2:$C$1048576,BD!C555,SOLICITUDES!$I$2:$I$1048576)","v":0},0,{"$f":"SUMIF(SOLICITUDES!$C$2:$C$1048576,BD!C555,SOLICITUDES!$J$2:$J$1048576)","v":0},0,{"$f":"SUMIF(SOLICITUDES!$C$2:$C$1048576,BD!C555,SOLICITUDES!$K$2:$K$1048576)","v":0},0]
[null,null,"T30807",0.5,13200,240,-76.983368485102062,2.1148508810378024,0.25,0.25,0.1,0.1,{"$f":"SUMIF(SOLICITUDES!$C$2:$C$1048576,BD!C556,SOLICITUDES!$I$2:$I$1048576)","v":0},0,{"$f":"SUMIF(SOLICITUDES!$C$2:$C$1048576,BD!C556,SOLICITUDES!$J$2:$J$1048576)","v":0},0,{"$f":"SUMIF(SOLICITUDES!$C$2:$C$1048576,BD!C556,SOLICITUDES!$K$2:$K$1048576)","v":0},0]
[null,null,"T9996",112.5,13200,208,-76.985004613413054,2.1145435275175886,56.25,56.25,22.5,22.5,{"$f":"SUMIF(SOLICITUDES!$C$2:$C$1048576,BD!C557,SOLICITUDES!$I$2:$I$1048576)","v":0},0,{"$f":"SUMIF(SOLICITUDES!$C$2:$C$1048576,BD!C557,SOLICITUDES!$J$2:$J$1048576)","v":0},0,{"$f":"SUMIF(SOLICITUDES!$C$2:$C$1048576,BD!C557,SOLICITUDES!$K$2:$K$1048576)","v":0},0]
[null,null,"T9995",30,13200,214,-76.985930528536755,2.1137206231860222,15,15,6,6,{"$f":"SUMIF(SOLICITUDES!$C$2:$C$1048576,BD!C558,SOLICITUDES!$I$2:$I$1048576)","v":0},0,{"$f":"SUMIF(SOLICITUDES!$C$2:$C$1048576,BD!C558,SOLICITUDES!$J$2:$J$1048576)","v":0},0,{"$f":"SUMIF(SOLICITUDES!$C$2:$C$1048576,BD!C558,SOLICITUDES!$K$2:$K$1048576)","v":0},0]
[null,null,"T9981",45,13200,208,-76.986056403302044,2.1135487587010018,22.5,22.5,9,9,{"$f":"SUMIF(SOLICITUDES!$C$2:$C$1048576,BD!C559,SOLICITUDES!$I$2:$I$1048576)","v":0},0,{"$f":"SUMIF(SOLICITUDES!$C$2:$C$1048576,BD!C559,SOLICITUDES!$J$2:$J$1048576)","v":0},0,{"$f":"SUMIF(SOLICITUDES!$C$2:$C$1048576,BD!C559,SOLICITUDES!$K$2:$K$1048576)","v":0},0]
[null,null,"T10437",15,13200,240,-76.986155216603279,2.1134402211810932,7.5,7.5,3,3,{"$f":"SUMIF(SOLICITUDES!$C$2:$C$1048576,BD!C560,SOLICITUDES!$I$2:$I$1048576)","v":0},0,{"$f":"SUMIF(SOLICITUDES!$C$2:$C$1048576,BD!C560,SOLICITUDES!$J$2:$J$1048576)","v":0},0,{"$f":"SUMIF(SOLICITUDES!$C$2:$C$1048576,BD!C560,SOLICITUDES!$K$2:$K$1048576)","v":0},0]
[null,null,"T1162",75,13200,208,-76.984012918253711,2.1139588075819775,37.5,37.5,15,15,{"$f":"SUMIF(SOLICITUDES!$C$2:$C$1048576,BD!C561,SOLICITUDES!$I$2:$I$1048576)","v":0},0,{"$f":"SUMIF(SOLICITUDES!$C$2:$C$1048576,BD!C561,SOLICITUDES!$J$2:$J$1048576)","v":0},0,{"$f":"SUMIF(SOLICITUDES!$C$2:$C$1048576,BD!C561,SOLICITUDES!$K$2:$K$1048576)","v":0},0]
[null,null,"T1081",75,13200,208,-76.986272173027842,2.1133227090090192,37.5,37.5,15,15,{"$f":"SUMIF(SOLICITUDES!$C$2:$C$1048576,BD!C562,SOLICITUDES!$I$2:$I$1048576)","v":0},0,{"$f":"SUMIF(SOLICITUDES!$C$2:$C$1048576,BD!C562,SOLICITUDES!$J$2:$J$1048576)","v":0},0,{"$f":"SUMIF(SOLICITUDES!$C$2:$C$1048576,BD!C562,SOLICITUDES!$K$2:$K$1048576)","v":0},0]
[null,null,"T1209",45,13200,208,-76.985157455302286,2.1129608457777174,22.5,22.5,9,9,{"$f":"SUMIF(SOLICITUDES!$C$2:$C$1048576,BD!C563,SOLICITUDES!$I$2:$I$1048576)","v":0},0,{"$f":"SUMIF(SOLICITUDES!$C$2:$C$1048576,BD!C563,SOLICITUDES!$J$2:$J$1048576)","v":0},0,{"$f":"SUMIF(SOLICITUDES!$C$2:$C$1048576,BD!C563,SOLICITUDES!$K$2:$K$1048576)","v":0},0]
[null,null,"T1186",75,13200,220,-76.986793516182757,2.1123912824865667,37.5,37.5,15,15,{"$f":"SUMIF(SOLICITUDES!$C$2:$C$1048576,BD!C564,SOLICITUDES!$I$2:$I$1048576)","v":0},0,{"$f":"SUMIF(SOLICITUDES!$C$2:$C$1048576,BD!C564,SOLICITUDES!$J$2:$J$1048576)","v":0},0,{"$f":"SUMIF(SOLICITUDES!$C$2:$C$1048576,BD!C564,SOLICITUDES!$K$2:$K$1048576)","v":0},0]
[null,null,"T1183",75,13200,208,-76.984708065640433,2.1126624131068779,37.5,37.5,15,15,{"$f":"SUMIF(SOLICITUDES!$C$2:$C$1048576,BD!C565,SOLICITUDES!$I$2:$I$1048576)","v":0},0,{"$f":"SUMIF(SOLICITUDES!$C$2:$C$1048576,BD!C565,SOLICITUDES!$J$2:$J$1048576)","v":0},0,{"$f":"SUMIF(SOLICITUDES!$C$2:$C$1048576,BD!C565,SOLICITUDES!$K$2:$K$1048576)","v":0},0]
[null,null,"T1064",30,13200,208,-76.985382172876385,2.1129157098265265,15,15,6,6,{"$f":"SUMIF(SOLICITUDES!$C$2:$C$1048576,BD!C566,SOLICITUDES!$I$2:$I$1048576)","v":0},0,{"$f":"SUMIF(SOLICITUDES!$C$2:$C$1048576,BD!C566,SOLICITUDES!$J$2:$J$1048576)","v":0},0,{"$f":"SUMIF(SOLICITUDES!$C$2:$C$1048576,BD!C566,SOLICITUDES!$K$2:$K$1048576)","v":0},0]
[null,null,"T1060",112.5,13200,240,-76.985535008487034,2.1138742990490886,56.25,56.25,22.5,22.5,{"$f":"SUMIF(SOLICITUDES!$C$2:$C$1048576,BD!C567,SOLICITUDES!$I$2:$I$1048576)","v":0},0,{"$f":"SUMIF(SOLICITUDES!$C$2:$C$1048576,BD!C567,SOLICITUDES!$J$2:$J$1048576)","v":0},0,{"$f":"SUMIF(SOLICITUDES!$C$2:$C$1048576,BD!C567,SOLICITUDES!$K$2:$K$1048576)","v":0},0]
[null,null,"T1076",75,13200,208,-76.983728165064704,2.1129427004798274,37.5,37.5,15,15,{"$f":"SUMIF(SOLICITUDES!$C$2:$C$1048576,BD!C568,SOLICITUDES!$I$2:$I$1048576)","v":0},0,{"$f":"SUMIF(SOLICITUDES!$C$2:$C$1048576,BD!C568,SOLICITUDES!$J$2:$J$1048576)","v":0},0,{"$f":"SUMIF(SOLICITUDES!$C$2:$C$1048576,BD!C568,SOLICITUDES!$K$2:$K$1048576)","v":0},0]
[null,null,"T1197",75,13200,220,-76.987440863226325,2.1111070669733452,37.5,37.5,15,15,{"$f":"SUMIF(SOLICITUDES!$C$2:$C$1048576,BD!C569,SOLICITUDES!$I$2:$I$1048576)","v":0},0,{"$f":"SUMIF(SOLICITUDES!$C$2:$C$1048576,BD!C569,SOLICITUDES!$J$2:$J$1048576)","v":0},0,{"$f":"SUMIF(SOLICITUDES!$C$2:$C$1048576,BD!C569,SOLICITUDES!$K$2:$K$1048576)","v":0},0]
[null,null,"T1187",75,13200,208,-76.985957648839758,2.1113692852739185,37.5,37.5,15,15,{"$f":"SUMIF(SOLICITUDES!$C$2:$C$1048576,BD!C570,SOLICITUDES!$I$2:$I$1048576)","v":0},0,{"$f":"SUMIF(SOLICITUDES!$C$2:$C$1048576,BD!C570,SOLICITUDES!$J$2:$J$1048576)","v":0},0,{"$f":"SUMIF(SOLICITUDES!$C$2:$C$1048576,BD!C570,SOLICITUDES!$K$2:$K$1048576)","v":0},0]
[null,null,"T1086",75,13200,208,-76.984141749703952,2.1119388971197521,37.5,37.5,15,15,{"$f":"SUMIF(SOLICITUDES!$C$2:$C$1048576,BD!C571,SOLICITUDES!$I$2:$I$1048576)","v":0},0,{"$f":"SUMIF(SOLICITUDES!$C$2:$C$1048576,BD!C571,SOLICITUDES!$J$2:$J$1048576)","v":0},0,{"$f":"SUMIF(SOLICITUDES!$C$2:$C$1048576,BD!C571,SOLICITUDES!$K$2:$K$1048576)","v":0},0]
[null,null,"T1204",112.5,13200,208,-76.983186285612362,2.1137204535577978,56.25,56.25,22.5,22.5,{"$f":"SUMIF(SOLICITUDES!$C$2:$C$1048576,BD!C572,SOLICITUDES!$I$2:$I$1048576)","v":0},0,{"$f":"SUMIF(SOLICITUDES!$C$2:$C$1048576,BD!C572,SOLICITUDES!$J$2:$J$1048576)","v":0},0,{"$f":"SUMIF(SOLICITUDES!$C$2:$C$1048576,BD!C572,SOLICITUDES!$K$2:$K$1048576)","v":0},0]
[null,null,"T3052",75,13200,220,-76.559481785297692,2.5029437772096639,37.5,37.5,15,15,{"$f":"SUMIF(SOLICITUDES!$C$2:$C$1048576,BD!C573,SOLICITUDES!$I$2:$I$1048576)","v":0},0,{"$f":"SUMIF(SOLICITUDES!$C$2:$C$1048576,BD!C573,SOLICITUDES!$J$2:$J$1048576)","v":0},0,{"$f":"SUMIF(SOLICITUDES!$C$2:$C$1048576,BD!C573,SOLICITUDES!$K$2:$K$1048576)","v":0},0]
[null,null,"T3003",15,13200,240,-76.560326890230584,2.5031249803732787,7.5,7.5,3,3,{"$f":"SUMIF(SOLICITUDES!$C$2:$C$1048576,BD!C574,SOLICITUDES!$I$2:$I$1048576)","v":0},0,{"$f":"SUMIF(SOLICITUDES!$C$2:$C$1048576,BD!C574,SOLICITUDES!$J$2:$J$1048576)","v":0},0,{"$f":"SUMIF(SOLICITUDES!$C$2:$C$1048576,BD!C574,SOLICITUDES!$K$2:$K$1048576)","v":0},0]
[null,null,"T2262",75,13200,208,-76.557152778317857,2.5035939417284792,37.5,37.5,15,15,{"$f":"SUMIF(SOLICITUDES!$C$2:$C$1048576,BD!C575,SOLICITUDES!$I$2:$I$1048576)","v":0},0,{"$f":"SUMIF(SOLICITUDES!$C$2:$C$1048576,BD!C575,SOLICITUDES!$J$2:$J$1048576)","v":0},0,{"$f":"SUMIF(SOLICITUDES!$C$2:$C$1048576,BD!C575,SOLICITUDES!$K$2:$K$1048576)","v":0},0]
[null,null,"T3061",45,13200,220,-76.559481765107037,2.5029799433092266,22.5,22.5,9,9,{"$f":"SUMIF(SOLICITUDES!$C$2:$C$1048576,BD!C576,SOLICITUDES!$I$2:$I$1048576)","v":0},0,{"$f":"SUMIF(SOLICITUDES!$C$2:$C$1048576,BD!C576,SOLICITUDES!$J$2:$J$1048576)","v":0},0,{"$f":"SUMIF(SOLICITUDES!$C$2:$C$1048576,BD!C576,SOLICITUDES!$K$2:$K$1048576)","v":0},0]
[null,null,"T3032",25,13200,240,-76.575392436545243,2.5132411674052419,12.5,12.5,5,5,{"$f":"SUMIF(SOLICITUDES!$C$2:$C$1048576,BD!C577,SOLICITUDES!$I$2:$I$1048576)","v":0},0,{"$f":"SUMIF(SOLICITUDES!$C$2:$C$1048576,BD!C577,SOLICITUDES!$J$2:$J$1048576)","v":0},0,{"$f":"SUMIF(SOLICITUDES!$C$2:$C$1048576,BD!C577,SOLICITUDES!$K$2:$K$1048576)","v":0},0]
[null,null,"T2222",30,13200,208,-76.591728173071232,2.5177237881450498,15,15,6,6,{"$f":"SUMIF(SOLICITUDES!$C$2:$C$1048576,BD!C578,SOLICITUDES!$I$2:$I$1048576)","v":0},0,{"$f":"SUMIF(SOLICITUDES!$C$2:$C$1048576,BD!C578,SOLICITUDES!$J$2:$J$1048576)","v":0},0,{"$f":"SUMIF(SOLICITUDES!$C$2:$C$1048576,BD!C578,SOLICITUDES!$K$2:$K$1048576)","v":0},0]
[null,null,"T3562",15,13200,240,-76.583754396968587,2.5133619592926681,7.5,{"$f":"D579*0.5-M579","v":7.5},3,3,{"$f":"SUMIF(SOLICITUDES!$C$2:$C$1048576,BD!C579,SOLICITUDES!$I$2:$I$1048576)","v":0},{"$f":"M579/D579","v":0},{"$f":"SUMIF(SOLICITUDES!$C$2:$C$1048576,BD!C579,SOLICITUDES!$J$2:$J$1048576)","v":0},0,{"$f":"SUMIF(SOLICITUDES!$C$2:$C$1048576,BD!C579,SOLICITUDES!$K$2:$K$1048576)","v":0},0]
[null,null,"T2218",25,13200,240,-76.590765884561307,2.5184106581150103,{"$f":"D580*0.5","v":12.5},12.5,{"$f":"0.2*D580","v":5},{"$f":"0.2*D580","v":5},{"$f":"SUMIF(SOLICITUDES!$C$2:$C$1048576,BD!C580,SOLICITUDES!$I$2:$I$1048576)","v":0},0,{"$f":"SUMIF(SOLICITUDES!$C$2:$C$1048576,BD!C580,SOLICITUDES!$J$2:$J$1048576)","v":0},{"$f":"O580/(2*K580)","v":0},{"$f":"SUMIF(SOLICITUDES!$C$2:$C$1048576,BD!C580,SOLICITUDES!$K$2:$K$1048576)","v":0},{"$f":"Q580/(2*L580)","v":0}]
[null,null,"T2219",25,13200,240,-76.592606149273038,2.5217035093564499,12.5,12.5,5,5,{"$f":"SUMIF(SOLICITUDES!$C$2:$C$1048576,BD!C581,SOLICITUDES!$I$2:$I$1048576)","v":0},0,{"$f":"SUMIF(SOLICITUDES!$C$2:$C$1048576,BD!C581,SOLICITUDES!$J$2:$J$1048576)","v":0},0,{"$f":"SUMIF(SOLICITUDES!$C$2:$C$1048576,BD!C581,SOLICITUDES!$K$2:$K$1048576)","v":0},0]
[null,null,"T42837",30,13200,214,-76.559412981860163,2.504284627000231,15,15,6,6,{"$f":"SUMIF(SOLICITUDES!$C$2:$C$1048576,BD!C582,SOLICITUDES!$I$2:$I$1048576)","v":0},0,{"$f":"SUMIF(SOLICITUDES!$C$2:$C$1048576,BD!C582,SOLICITUDES!$J$2:$J$1048576)","v":0},0,{"$f":"SUMIF(SOLICITUDES!$C$2:$C$1048576,BD!C582,SOLICITUDES!$K$2:$K$1048576)","v":0},0]
[null,null,"T14087",10,13200,240,-76.560442583993463,2.5061363829858943,5,5,2,2,{"$f":"SUMIF(SOLICITUDES!$C$2:$C$1048576,BD!C583,SOLICITUDES!$I$2:$I$1048576)","v":0},0,{"$f":"SUMIF(SOLICITUDES!$C$2:$C$1048576,BD!C583,SOLICITUDES!$J$2:$J$1048576)","v":0},0,{"$f":"SUMIF(SOLICITUDES!$C$2:$C$1048576,BD!C583,SOLICITUDES!$K$2:$K$1048576)","v":0},0]
[null,null,"T2216",25,13200,240,-76.594593691141469,2.5250950713446128,12.5,12.5,5,5,{"$f":"SUMIF(SOLICITUDES!$C$2:$C$1048576,BD!C584,SOLICITUDES!$I$2:$I$1048576)","v":0},0,{"$f":"SUMIF(SOLICITUDES!$C$2:$C$1048576,BD!C584,SOLICITUDES!$J$2:$J$1048576)","v":0},0,{"$f":"SUMIF(SOLICITUDES!$C$2:$C$1048576,BD!C584,SOLICITUDES!$K$2:$K$1048576)","v":0},0]
[null,null,"T2624",25,13200,240,-76.599068855865795,2.527199515719432,12.5,12.5,5,5,{"$f":"SUMIF(SOLICITUDES!$C$2:$C$1048576,BD!C585,SOLICITUDES!$I$2:$I$1048576)","v":0},0,{"$f":"SUMIF(SOLICITUDES!$C$2:$C$1048576,BD!C585,SOLICITUDES!$J$2:$J$1048576)","v":0},0,{"$f":"SUMIF(SOLICITUDES!$C$2:$C$1048576,BD!C585,SOLICITUDES!$K$2:$K$1048576)","v":0},0]
[null,null,"T15111",225,13200,208,-76.557980132280505,2.5031873304948067,112.5,112.5,45,45,{"$f":"SUMIF(SOLICITUDES!$C$2:$C$1048576,BD!C586,SOLICITUDES!$I$2:$I$1048576)","v":0},0,{"$f":"SUMIF(SOLICITUDES!$C$2:$C$1048576,BD!C586,SOLICITUDES!$J$2:$J$1048576)","v":0},0,{"$f":"SUMIF(SOLICITUDES!$C$2:$C$1048576,BD!C586,SOLICITUDES!$K$2:$K$1048576)","v":0},0]
[null,null,"T3094",15,13200,220,-76.560397644331445,2.5061001893728703,7.5,7.5,3,3,{"$f":"SUMIF(SOLICITUDES!$C$2:$C$1048576,BD!C587,SOLICITUDES!$I$2:$I$1048576)","v":0},0,{"$f":"SUMIF(SOLICITUDES!$C$2:$C$1048576,BD!C587,SOLICITUDES!$J$2:$J$1048576)","v":0},0,{"$f":"SUMIF(SOLICITUDES!$C$2:$C$1048576,BD!C587,SOLICITUDES!$K$2:$K$1048576)","v":0},0]
[null,null,"T3054",10,13200,240,-76.563182812214293,2.5115543267006912,5,5,2,2,{"$f":"SUMIF(SOLICITUDES!$C$2:$C$1048576,BD!C588,SOLICITUDES!$I$2:$I$1048576)","v":0},0,{"$f":"SUMIF(SOLICITUDES!$C$2:$C$1048576,BD!C588,SOLICITUDES!$J$2:$J$1048576)","v":0},0,{"$f":"SUMIF(SOLICITUDES!$C$2:$C$1048576,BD!C588,SOLICITUDES!$K$2:$K$1048576)","v":0},0]
[null,null,"T2625",50,13200,240,-76.602532098895679,2.5280913437010843,25,25,10,10,{"$f":"SUMIF(SOLICITUDES!$C$2:$C$1048576,BD!C589,SOLICITUDES!$I$2:$I$1048576)","v":0},0,{"$f":"SUMIF(SOLICITUDES!$C$2:$C$1048576,BD!C589,SOLICITUDES!$J$2:$J$1048576)","v":0},0,{"$f":"SUMIF(SOLICITUDES!$C$2:$C$1048576,BD!C589,SOLICITUDES!$K$2:$K$1048576)","v":0},0]
[null,null,"T2617",15,13200,240,-76.603970363435863,2.5291227870800244,7.5,7.5,3,3,{"$f":"SUMIF(SOLICITUDES!$C$2:$C$1048576,BD!C590,SOLICITUDES!$I$2:$I$1048576)","v":0},0,{"$f":"SUMIF(SOLICITUDES!$C$2:$C$1048576,BD!C590,SOLICITUDES!$J$2:$J$1048576)","v":0},0,{"$f":"SUMIF(SOLICITUDES!$C$2:$C$1048576,BD!C590,SOLICITUDES!$K$2:$K$1048576)","v":0},0]
[null,null,"T27891",15,13200,240,-76.597450836028486,2.5310917084121303,7.5,7.5,3,3,{"$f":"SUMIF(SOLICITUDES!$C$2:$C$1048576,BD!C591,SOLICITUDES!$I$2:$I$1048576)","v":0},0,{"$f":"SUMIF(SOLICITUDES!$C$2:$C$1048576,BD!C591,SOLICITUDES!$J$2:$J$1048576)","v":0},0,{"$f":"SUMIF(SOLICITUDES!$C$2:$C$1048576,BD!C591,SOLICITUDES!$K$2:$K$1048576)","v":0},0]
[null,null,"T17838",75,13200,208,-76.560020634155222,2.5045084478269106,37.5,37.5,15,15,{"$f":"SUMIF(SOLICITUDES!$C$2:$C$1048576,BD!C592,SOLICITUDES!$I$2:$I$1048576)","v":0},0,{"$f":"SUMIF(SOLICITUDES!$C$2:$C$1048576,BD!C592,SOLICITUDES!$J$2:$J$1048576)","v":0},0,{"$f":"SUMIF(SOLICITUDES!$C$2:$C$1048576,BD!C592,SOLICITUDES!$K$2:$K$1048576)","v":0},0]
[null,null,"T2215",15,13200,240,-76.590486749571681,2.5292543909407135,7.5,7.5,3,3,{"$f":"SUMIF(SOLICITUDES!$C$2:$C$1048576,BD!C593,SOLICITUDES!$I$2:$I$1048576)","v":0},0,{"$f":"SUMIF(SOLICITUDES!$C$2:$C$1048576,BD!C593,SOLICITUDES!$J$2:$J$1048576)","v":0},0,{"$f":"SUMIF(SOLICITUDES!$C$2:$C$1048576,BD!C593,SOLICITUDES!$K$2:$K$1048576)","v":0},0]
[null,null,"T27142",5,13200,240,-76.597431935113548,2.5333525440131655,2.5,2.5,1,1,{"$f":"SUMIF(SOLICITUDES!$C$2:$C$1048576,BD!C594,SOLICITUDES!$I$2:$I$1048576)","v":0},0,{"$f":"SUMIF(SOLICITUDES!$C$2:$C$1048576,BD!C594,SOLICITUDES!$J$2:$J$1048576)","v":0},0,{"$f":"SUMIF(SOLICITUDES!$C$2:$C$1048576,BD!C594,SOLICITUDES!$K$2:$K$1048576)","v":0},0]
[null,null,"T9564",15,13200,240,-76.678345079837825,2.5794779458528927,7.5,7.5,3,3,{"$f":"SUMIF(SOLICITUDES!$C$2:$C$1048576,BD!C595,SOLICITUDES!$I$2:$I$1048576)","v":0},0,{"$f":"SUMIF(SOLICITUDES!$C$2:$C$1048576,BD!C595,SOLICITUDES!$J$2:$J$1048576)","v":0},0,{"$f":"SUMIF(SOLICITUDES!$C$2:$C$1048576,BD!C595,SOLICITUDES!$K$2:$K$1048576)","v":0},0]
[null,null,"T6633",37.5,13200,220,-76.608078749570652,2.5802274561499017,18.75,18.75,7.5,7.5,{"$f":"SUMIF(SOLICITUDES!$C$2:$C$1048576,BD!C596,SOLICITUDES!$I$2:$I$1048576)","v":0},0,{"$f":"SUMIF(SOLICITUDES!$C$2:$C$1048576,BD!C596,SOLICITUDES!$J$2:$J$1048576)","v":0},0,{"$f":"SUMIF(SOLICITUDES!$C$2:$C$1048576,BD!C596,SOLICITUDES!$K$2:$K$1048576)","v":0},0]
[null,null,"T7790",30,13200,240,-76.685236060126982,2.5886189567166804,15,15,6,6,{"$f":"SUMIF(SOLICITUDES!$C$2:$C$1048576,BD!C597,SOLICITUDES!$I$2:$I$1048576)","v":0},0,{"$f":"SUMIF(SOLICITUDES!$C$2:$C$1048576,BD!C597,SOLICITUDES!$J$2:$J$1048576)","v":0},0,{"$f":"SUMIF(SOLICITUDES!$C$2:$C$1048576,BD!C597,SOLICITUDES!$K$2:$K$1048576)","v":0},0]
[null,null,"T6642",10,13200,220,-76.610255072918676,2.5796494189871852,5,5,2,2,{"$f":"SUMIF(SOLICITUDES!$C$2:$C$1048576,BD!C598,SOLICITUDES!$I$2:$I$1048576)","v":0},0,{"$f":"SUMIF(SOLICITUDES!$C$2:$C$1048576,BD!C598,SOLICITUDES!$J$2:$J$1048576)","v":0},0,{"$f":"SUMIF(SOLICITUDES!$C$2:$C$1048576,BD!C598,SOLICITUDES!$K$2:$K$1048576)","v":0},0]
[null,null,"T7796",10,13200,208,-76.663624821014594,2.5989376847230208,5,5,2,2,{"$f":"SUMIF(SOLICITUDES!$C$2:$C$1048576,BD!C599,SOLICITUDES!$I$2:$I$1048576)","v":0},0,{"$f":"SUMIF(SOLICITUDES!$C$2:$C$1048576,BD!C599,SOLICITUDES!$J$2:$J$1048576)","v":0},0,{"$f":"SUMIF(SOLICITUDES!$C$2:$C$1048576,BD!C599,SOLICITUDES!$K$2:$K$1048576)","v":0},0]
[null,null,"T29264",5,13200,240,-76.674881118355231,2.5956954602797442,2.5,2.5,1,1,{"$f":"SUMIF(SOLICITUDES!$C$2:$C$1048576,BD!C600,SOLICITUDES!$I$2:$I$1048576)","v":0},0,{"$f":"SUMIF(SOLICITUDES!$C$2:$C$1048576,BD!C600,SOLICITUDES!$J$2:$J$1048576)","v":0},0,{"$f":"SUMIF(SOLICITUDES!$C$2:$C$1048576,BD!C600,SOLICITUDES!$K$2:$K$1048576)","v":0},0]
[null,null,"T7770",10,13200,240,-76.673799367551084,2.5933259392804553,5,5,2,2,{"$f":"SUMIF(SOLICITUDES!$C$2:$C$1048576,BD!C601,SOLICITUDES!$I$2:$I$1048576)","v":0},0,{"$f":"SUMIF(SOLICITUDES!$C$2:$C$1048576,BD!C601,SOLICITUDES!$J$2:$J$1048576)","v":0},0,{"$f":"SUMIF(SOLICITUDES!$C$2:$C$1048576,BD!C601,SOLICITUDES!$K$2:$K$1048576)","v":0},0]
[null,null,"T6635",15,13200,240,-76.610718502073411,2.590890317008244,7.5,7.5,3,3,{"$f":"SUMIF(SOLICITUDES!$C$2:$C$1048576,BD!C602,SOLICITUDES!$I$2:$I$1048576)","v":0},0,{"$f":"SUMIF(SOLICITUDES!$C$2:$C$1048576,BD!C602,SOLICITUDES!$J$2:$J$1048576)","v":0},0,{"$f":"SUMIF(SOLICITUDES!$C$2:$C$1048576,BD!C602,SOLICITUDES!$K$2:$K$1048576)","v":0},0]
[null,null,"T5980",15,13200,220,-76.644821738270736,2.600886320855206,7.5,7.5,3,3,{"$f":"SUMIF(SOLICITUDES!$C$2:$C$1048576,BD!C603,SOLICITUDES!$I$2:$I$1048576)","v":0},0,{"$f":"SUMIF(SOLICITUDES!$C$2:$C$1048576,BD!C603,SOLICITUDES!$J$2:$J$1048576)","v":0},0,{"$f":"SUMIF(SOLICITUDES!$C$2:$C$1048576,BD!C603,SOLICITUDES!$K$2:$K$1048576)","v":0},0]
[null,null,"T6652",15,13200,240,-76.679715229449698,2.5645968629709799,7.5,7.5,3,3,{"$f":"SUMIF(SOLICITUDES!$C$2:$C$1048576,BD!C604,SOLICITUDES!$I$2:$I$1048576)","v":0},0,{"$f":"SUMIF(SOLICITUDES!$C$2:$C$1048576,BD!C604,SOLICITUDES!$J$2:$J$1048576)","v":0},0,{"$f":"SUMIF(SOLICITUDES!$C$2:$C$1048576,BD!C604,SOLICITUDES!$K$2:$K$1048576)","v":0},0]
[null,null,"T6631",25,13200,214,-76.604250168231729,2.5750080155134922,12.5,12.5,5,5,{"$f":"SUMIF(SOLICITUDES!$C$2:$C$1048576,BD!C605,SOLICITUDES!$I$2:$I$1048576)","v":0},0,{"$f":"SUMIF(SOLICITUDES!$C$2:$C$1048576,BD!C605,SOLICITUDES!$J$2:$J$1048576)","v":0},0,{"$f":"SUMIF(SOLICITUDES!$C$2:$C$1048576,BD!C605,SOLICITUDES!$K$2:$K$1048576)","v":0},0]
[null,null,"T24603",5,13200,240,-76.607306827434414,2.5786090880465538,2.5,2.5,1,1,{"$f":"SUMIF(SOLICITUDES!$C$2:$C$1048576,BD!C606,SOLICITUDES!$I$2:$I$1048576)","v":0},0,{"$f":"SUMIF(SOLICITUDES!$C$2:$C$1048576,BD!C606,SOLICITUDES!$J$2:$J$1048576)","v":0},0,{"$f":"SUMIF(SOLICITUDES!$C$2:$C$1048576,BD!C606,SOLICITUDES!$K$2:$K$1048576)","v":0},0]
[null,null,"T6645",15,13200,220,-76.611651691344235,2.596262342665506,7.5,7.5,3,3,{"$f":"SUMIF(SOLICITUDES!$C$2:$C$1048576,BD!C607,SOLICITUDES!$I$2:$I$1048576)","v":0},0,{"$f":"SUMIF(SOLICITUDES!$C$2:$C$1048576,BD!C607,SOLICITUDES!$J$2:$J$1048576)","v":0},0,{"$f":"SUMIF(SOLICITUDES!$C$2:$C$1048576,BD!C607,SOLICITUDES!$K$2:$K$1048576)","v":0},0]
[null,null,"T6646",25,13200,220,-76.608147290094138,2.5895781257756183,12.5,12.5,5,5,{"$f":"SUMIF(SOLICITUDES!$C$2:$C$1048576,BD!C608,SOLICITUDES!$I$2:$I$1048576)","v":0},0,{"$f":"SUMIF(SOLICITUDES!$C$2:$C$1048576,BD!C608,SOLICITUDES!$J$2:$J$1048576)","v":0},0,{"$f":"SUMIF(SOLICITUDES!$C$2:$C$1048576,BD!C608,SOLICITUDES!$K$2:$K$1048576)","v":0},0]
[null,null,"T7804",15,13200,240,-76.676978348219464,2.5977705041197741,7.5,7.5,3,3,{"$f":"SUMIF(SOLICITUDES!$C$2:$C$1048576,BD!C609,SOLICITUDES!$I$2:$I$1048576)","v":0},0,{"$f":"SUMIF(SOLICITUDES!$C$2:$C$1048576,BD!C609,SOLICITUDES!$J$2:$J$1048576)","v":0},0,{"$f":"SUMIF(SOLICITUDES!$C$2:$C$1048576,BD!C609,SOLICITUDES!$K$2:$K$1048576)","v":0},0]
[null,null,"T29265",5,13200,240,-76.679475150064789,2.5948791324859752,2.5,2.5,1,1,{"$f":"SUMIF(SOLICITUDES!$C$2:$C$1048576,BD!C610,SOLICITUDES!$I$2:$I$1048576)","v":0},0,{"$f":"SUMIF(SOLICITUDES!$C$2:$C$1048576,BD!C610,SOLICITUDES!$J$2:$J$1048576)","v":0},0,{"$f":"SUMIF(SOLICITUDES!$C$2:$C$1048576,BD!C610,SOLICITUDES!$K$2:$K$1048576)","v":0},0]
[null,null,"T9588",15,13200,240,-76.684741383518528,2.5782427897667102,7.5,7.5,3,3,{"$f":"SUMIF(SOLICITUDES!$C$2:$C$1048576,BD!C611,SOLICITUDES!$I$2:$I$1048576)","v":0},0,{"$f":"SUMIF(SOLICITUDES!$C$2:$C$1048576,BD!C611,SOLICITUDES!$J$2:$J$1048576)","v":0},0,{"$f":"SUMIF(SOLICITUDES!$C$2:$C$1048576,BD!C611,SOLICITUDES!$K$2:$K$1048576)","v":0},0]
[null,null,"T29266",15,13200,240,-76.679134728854464,2.6001335239397112,7.5,7.5,3,3,{"$f":"SUMIF(SOLICITUDES!$C$2:$C$1048576,BD!C612,SOLICITUDES!$I$2:$I$1048576)","v":0},0,{"$f":"SUMIF(SOLICITUDES!$C$2:$C$1048576,BD!C612,SOLICITUDES!$J$2:$J$1048576)","v":0},0,{"$f":"SUMIF(SOLICITUDES!$C$2:$C$1048576,BD!C612,SOLICITUDES!$K$2:$K$1048576)","v":0},0]
[null,null,"T5963",15,13200,240,-76.647445973912738,2.5972021520827413,7.5,7.5,3,3,{"$f":"SUMIF(SOLICITUDES!$C$2:$C$1048576,BD!C613,SOLICITUDES!$I$2:$I$1048576)","v":0},0,{"$f":"SUMIF(SOLICITUDES!$C$2:$C$1048576,BD!C613,SOLICITUDES!$J$2:$J$1048576)","v":0},0,{"$f":"SUMIF(SOLICITUDES!$C$2:$C$1048576,BD!C613,SOLICITUDES!$K$2:$K$1048576)","v":0},0]
[null,null,"T7768",37.5,13200,240,-76.688975300481218,2.5654950865074673,18.75,18.75,7.5,7.5,{"$f":"SUMIF(SOLICITUDES!$C$2:$C$1048576,BD!C614,SOLICITUDES!$I$2:$I$1048576)","v":0},0,{"$f":"SUMIF(SOLICITUDES!$C$2:$C$1048576,BD!C614,SOLICITUDES!$J$2:$J$1048576)","v":0},0,{"$f":"SUMIF(SOLICITUDES!$C$2:$C$1048576,BD!C614,SOLICITUDES!$K$2:$K$1048576)","v":0},0]
[null,null,"T29267",5,13200,240,-76.682348771550863,2.5987819627502624,2.5,2.5,1,1,{"$f":"SUMIF(SOLICITUDES!$C$2:$C$1048576,BD!C615,SOLICITUDES!$I$2:$I$1048576)","v":0},0,{"$f":"SUMIF(SOLICITUDES!$C$2:$C$1048576,BD!C615,SOLICITUDES!$J$2:$J$1048576)","v":0},0,{"$f":"SUMIF(SOLICITUDES!$C$2:$C$1048576,BD!C615,SOLICITUDES!$K$2:$K$1048576)","v":0},0]
[null,null,"T24604",15,13800,220,-76.602014924478866,2.5774197817504589,7.5,7.5,3,3,{"$f":"SUMIF(SOLICITUDES!$C$2:$C$1048576,BD!C616,SOLICITUDES!$I$2:$I$1048576)","v":0},0,{"$f":"SUMIF(SOLICITUDES!$C$2:$C$1048576,BD!C616,SOLICITUDES!$J$2:$J$1048576)","v":0},0,{"$f":"SUMIF(SOLICITUDES!$C$2:$C$1048576,BD!C616,SOLICITUDES!$K$2:$K$1048576)","v":0},0]
[null,null,"T24601",10,13200,240,-76.613438103857774,2.5747623086586899,5,5,2,2,{"$f":"SUMIF(SOLICITUDES!$C$2:$C$1048576,BD!C617,SOLICITUDES!$I$2:$I$1048576)","v":0},0,{"$f":"SUMIF(SOLICITUDES!$C$2:$C$1048576,BD!C617,SOLICITUDES!$J$2:$J$1048576)","v":0},0,{"$f":"SUMIF(SOLICITUDES!$C$2:$C$1048576,BD!C617,SOLICITUDES!$K$2:$K$1048576)","v":0},0]
[null,null,"T24561",5,13200,240,-76.66422953384442,2.6022994812430067,2.5,2.5,1,1,{"$f":"SUMIF(SOLICITUDES!$C$2:$C$1048576,BD!C618,SOLICITUDES!$I$2:$I$1048576)","v":0},0,{"$f":"SUMIF(SOLICITUDES!$C$2:$C$1048576,BD!C618,SOLICITUDES!$J$2:$J$1048576)","v":0},0,{"$f":"SUMIF(SOLICITUDES!$C$2:$C$1048576,BD!C618,SOLICITUDES!$K$2:$K$1048576)","v":0},0]
[null,null,"T5973",10,13200,240,-76.650216280754975,2.6029048630706071,5,5,2,2,{"$f":"SUMIF(SOLICITUDES!$C$2:$C$1048576,BD!C619,SOLICITUDES!$I$2:$I$1048576)","v":0},0,{"$f":"SUMIF(SOLICITUDES!$C$2:$C$1048576,BD!C619,SOLICITUDES!$J$2:$J$1048576)","v":0},0,{"$f":"SUMIF(SOLICITUDES!$C$2:$C$1048576,BD!C619,SOLICITUDES!$K$2:$K$1048576)","v":0},0]
[null,null,"T9559",15,13200,240,-76.691066424877391,2.5790330330626476,7.5,7.5,3,3,{"$f":"SUMIF(SOLICITUDES!$C$2:$C$1048576,BD!C620,SOLICITUDES!$I$2:$I$1048576)","v":0},0,{"$f":"SUMIF(SOLICITUDES!$C$2:$C$1048576,BD!C620,SOLICITUDES!$J$2:$J$1048576)","v":0},0,{"$f":"SUMIF(SOLICITUDES!$C$2:$C$1048576,BD!C620,SOLICITUDES!$K$2:$K$1048576)","v":0},0]
[null,null,"T24602",5,13200,240,-76.616382042018046,2.5760353230919009,2.5,2.5,1,1,{"$f":"SUMIF(SOLICITUDES!$C$2:$C$1048576,BD!C621,SOLICITUDES!$I$2:$I$1048576)","v":0},0,{"$f":"SUMIF(SOLICITUDES!$C$2:$C$1048576,BD!C621,SOLICITUDES!$J$2:$J$1048576)","v":0},0,{"$f":"SUMIF(SOLICITUDES!$C$2:$C$1048576,BD!C621,SOLICITUDES!$K$2:$K$1048576)","v":0},0]
[null,null,"T7800",15,13200,240,-76.668846185461248,2.6041188966324249,7.5,7.5,3,3,{"$f":"SUMIF(SOLICITUDES!$C$2:$C$1048576,BD!C622,SOLICITUDES!$I$2:$I$1048576)","v":0},0,{"$f":"SUMIF(SOLICITUDES!$C$2:$C$1048576,BD!C622,SOLICITUDES!$J$2:$J$1048576)","v":0},0,{"$f":"SUMIF(SOLICITUDES!$C$2:$C$1048576,BD!C622,SOLICITUDES!$K$2:$K$1048576)","v":0},0]
[null,null,"T9591",10,13200,240,-76.651990035024511,2.5961591680410927,5,5,2,2,{"$f":"SUMIF(SOLICITUDES!$C$2:$C$1048576,BD!C623,SOLICITUDES!$I$2:$I$1048576)","v":0},0,{"$f":"SUMIF(SOLICITUDES!$C$2:$C$1048576,BD!C623,SOLICITUDES!$J$2:$J$1048576)","v":0},0,{"$f":"SUMIF(SOLICITUDES!$C$2:$C$1048576,BD!C623,SOLICITUDES!$K$2:$K$1048576)","v":0},0]
[null,null,"T9570",15,13200,240,-76.686588299098588,2.5749084541241718,7.5,7.5,3,3,{"$f":"SUMIF(SOLICITUDES!$C$2:$C$1048576,BD!C624,SOLICITUDES!$I$2:$I$1048576)","v":0},0,{"$f":"SUMIF(SOLICITUDES!$C$2:$C$1048576,BD!C624,SOLICITUDES!$J$2:$J$1048576)","v":0},0,{"$f":"SUMIF(SOLICITUDES!$C$2:$C$1048576,BD!C624,SOLICITUDES!$K$2:$K$1048576)","v":0},0]
[null,null,"T10412",15,13200,240,-76.648089919613469,2.58884186483614,7.5,7.5,3,3,{"$f":"SUMIF(SOLICITUDES!$C$2:$C$1048576,BD!C625,SOLICITUDES!$I$2:$I$1048576)","v":0},0,{"$f":"SUMIF(SOLICITUDES!$C$2:$C$1048576,BD!C625,SOLICITUDES!$J$2:$J$1048576)","v":0},0,{"$f":"SUMIF(SOLICITUDES!$C$2:$C$1048576,BD!C625,SOLICITUDES!$K$2:$K$1048576)","v":0},0]
[null,null,"T9565",10,13200,240,-76.694193760160331,2.5832771847326739,5,5,2,2,{"$f":"SUMIF(SOLICITUDES!$C$2:$C$1048576,BD!C626,SOLICITUDES!$I$2:$I$1048576)","v":0},0,{"$f":"SUMIF(SOLICITUDES!$C$2:$C$1048576,BD!C626,SOLICITUDES!$J$2:$J$1048576)","v":0},0,{"$f":"SUMIF(SOLICITUDES!$C$2:$C$1048576,BD!C626,SOLICITUDES!$K$2:$K$1048576)","v":0},0]
[null,null,"T6643",10,13200,220,-76.599479729104374,2.5876937966351661,5,5,2,2,{"$f":"SUMIF(SOLICITUDES!$C$2:$C$1048576,BD!C627,SOLICITUDES!$I$2:$I$1048576)","v":0},0,{"$f":"SUMIF(SOLICITUDES!$C$2:$C$1048576,BD!C627,SOLICITUDES!$J$2:$J$1048576)","v":0},0,{"$f":"SUMIF(SOLICITUDES!$C$2:$C$1048576,BD!C627,SOLICITUDES!$K$2:$K$1048576)","v":0},0]
[null,null,"T10413",5,13200,240,-76.644241542868585,2.588207520945391,2.5,2.5,1,1,{"$f":"SUMIF(SOLICITUDES!$C$2:$C$1048576,BD!C628,SOLICITUDES!$I$2:$I$1048576)","v":0},0,{"$f":"SUMIF(SOLICITUDES!$C$2:$C$1048576,BD!C628,SOLICITUDES!$J$2:$J$1048576)","v":0},0,{"$f":"SUMIF(SOLICITUDES!$C$2:$C$1048576,BD!C628,SOLICITUDES!$K$2:$K$1048576)","v":0},0]
[null,null,"T7780",15,13200,240,-76.695719930171592,2.5617545916853794,7.5,7.5,3,3,{"$f":"SUMIF(SOLICITUDES!$C$2:$C$1048576,BD!C629,SOLICITUDES!$I$2:$I$1048576)","v":0},0,{"$f":"SUMIF(SOLICITUDES!$C$2:$C$1048576,BD!C629,SOLICITUDES!$J$2:$J$1048576)","v":0},0,{"$f":"SUMIF(SOLICITUDES!$C$2:$C$1048576,BD!C629,SOLICITUDES!$K$2:$K$1048576)","v":0},0]
[null,null,"T6634",15,13200,220,-76.594927829328881,2.592964299591165,7.5,7.5,3,3,{"$f":"SUMIF(SOLICITUDES!$C$2:$C$1048576,BD!C630,SOLICITUDES!$I$2:$I$1048576)","v":0},0,{"$f":"SUMIF(SOLICITUDES!$C$2:$C$1048576,BD!C630,SOLICITUDES!$J$2:$J$1048576)","v":0},0,{"$f":"SUMIF(SOLICITUDES!$C$2:$C$1048576,BD!C630,SOLICITUDES!$K$2:$K$1048576)","v":0},0]
[null,null,"T7778",15,13200,240,-76.699126903667121,2.5648303286750509,7.5,7.5,3,3,{"$f":"SUMIF(SOLICITUDES!$C$2:$C$1048576,BD!C631,SOLICITUDES!$I$2:$I$1048576)","v":0},0,{"$f":"SUMIF(SOLICITUDES!$C$2:$C$1048576,BD!C631,SOLICITUDES!$J$2:$J$1048576)","v":0},0,{"$f":"SUMIF(SOLICITUDES!$C$2:$C$1048576,BD!C631,SOLICITUDES!$K$2:$K$1048576)","v":0},0]
[null,null,"T5959",10,13200,220,-76.64125466963948,2.5926467501279213,5,5,2,2,{"$f":"SUMIF(SOLICITUDES!$C$2:$C$1048576,BD!C632,SOLICITUDES!$I$2:$I$1048576)","v":0},0,{"$f":"SUMIF(SOLICITUDES!$C$2:$C$1048576,BD!C632,SOLICITUDES!$J$2:$J$1048576)","v":0},0,{"$f":"SUMIF(SOLICITUDES!$C$2:$C$1048576,BD!C632,SOLICITUDES!$K$2:$K$1048576)","v":0},0]
[null,null,"T9574",25,13200,240,-76.657459094388415,2.5903100684087694,12.5,12.5,5,5,{"$f":"SUMIF(SOLICITUDES!$C$2:$C$1048576,BD!C633,SOLICITUDES!$I$2:$I$1048576)","v":0},0,{"$f":"SUMIF(SOLICITUDES!$C$2:$C$1048576,BD!C633,SOLICITUDES!$J$2:$J$1048576)","v":0},0,{"$f":"SUMIF(SOLICITUDES!$C$2:$C$1048576,BD!C633,SOLICITUDES!$K$2:$K$1048576)","v":0},0]
[null,null,"T46774",10,13200,240,-76.601693370542847,2.5955593582316303,5,5,2,2,{"$f":"SUMIF(SOLICITUDES!$C$2:$C$1048576,BD!C634,SOLICITUDES!$I$2:$I$1048576)","v":0},0,{"$f":"SUMIF(SOLICITUDES!$C$2:$C$1048576,BD!C634,SOLICITUDES!$J$2:$J$1048576)","v":0},0,{"$f":"SUMIF(SOLICITUDES!$C$2:$C$1048576,BD!C634,SOLICITUDES!$K$2:$K$1048576)","v":0},0]
[null,null,"T24562",5,13200,240,-76.673632705744353,2.6046673552821882,2.5,2.5,1,1,{"$f":"SUMIF(SOLICITUDES!$C$2:$C$1048576,BD!C635,SOLICITUDES!$I$2:$I$1048576)","v":0},0,{"$f":"SUMIF(SOLICITUDES!$C$2:$C$1048576,BD!C635,SOLICITUDES!$J$2:$J$1048576)","v":0},0,{"$f":"SUMIF(SOLICITUDES!$C$2:$C$1048576,BD!C635,SOLICITUDES!$K$2:$K$1048576)","v":0},0]
[null,null,"T24563",10,13200,240,-76.675036364890886,2.6075758149783139,5,5,2,2,{"$f":"SUMIF(SOLICITUDES!$C$2:$C$1048576,BD!C636,SOLICITUDES!$I$2:$I$1048576)","v":0},0,{"$f":"SUMIF(SOLICITUDES!$C$2:$C$1048576,BD!C636,SOLICITUDES!$J$2:$J$1048576)","v":0},0,{"$f":"SUMIF(SOLICITUDES!$C$2:$C$1048576,BD!C636,SOLICITUDES!$K$2:$K$1048576)","v":0},0]
[null,null,"T7775",15,13200,240,-76.702775828237904,2.570935620601658,7.5,7.5,3,3,{"$f":"SUMIF(SOLICITUDES!$C$2:$C$1048576,BD!C637,SOLICITUDES!$I$2:$I$1048576)","v":0},0,{"$f":"SUMIF(SOLICITUDES!$C$2:$C$1048576,BD!C637,SOLICITUDES!$J$2:$J$1048576)","v":0},0,{"$f":"SUMIF(SOLICITUDES!$C$2:$C$1048576,BD!C637,SOLICITUDES!$K$2:$K$1048576)","v":0},0]
[null,null,"T9566",15,13200,240,-76.660112191706276,2.5889816393173422,7.5,7.5,3,3,{"$f":"SUMIF(SOLICITUDES!$C$2:$C$1048576,BD!C638,SOLICITUDES!$I$2:$I$1048576)","v":0},0,{"$f":"SUMIF(SOLICITUDES!$C$2:$C$1048576,BD!C638,SOLICITUDES!$J$2:$J$1048576)","v":0},0,{"$f":"SUMIF(SOLICITUDES!$C$2:$C$1048576,BD!C638,SOLICITUDES!$K$2:$K$1048576)","v":0},0]
[null,null,"T24564",5,13200,240,-76.676088942084974,2.6054569213148695,2.5,2.5,1,1,{"$f":"SUMIF(SOLICITUDES!$C$2:$C$1048576,BD!C639,SOLICITUDES!$I$2:$I$1048576)","v":0},0,{"$f":"SUMIF(SOLICITUDES!$C$2:$C$1048576,BD!C639,SOLICITUDES!$J$2:$J$1048576)","v":0},0,{"$f":"SUMIF(SOLICITUDES!$C$2:$C$1048576,BD!C639,SOLICITUDES!$K$2:$K$1048576)","v":0},0]
[null,null,"T7784",15,13200,240,-76.711751370084954,2.5653223564839172,7.5,7.5,3,3,{"$f":"SUMIF(SOLICITUDES!$C$2:$C$1048576,BD!C640,SOLICITUDES!$I$2:$I$1048576)","v":0},0,{"$f":"SUMIF(SOLICITUDES!$C$2:$C$1048576,BD!C640,SOLICITUDES!$J$2:$J$1048576)","v":0},0,{"$f":"SUMIF(SOLICITUDES!$C$2:$C$1048576,BD!C640,SOLICITUDES!$K$2:$K$1048576)","v":0},0]
[null,null,"T6644",15,13200,220,-76.592260024565874,2.6024897089403152,7.5,7.5,3,3,{"$f":"SUMIF(SOLICITUDES!$C$2:$C$1048576,BD!C641,SOLICITUDES!$I$2:$I$1048576)","v":0},0,{"$f":"SUMIF(SOLICITUDES!$C$2:$C$1048576,BD!C641,SOLICITUDES!$J$2:$J$1048576)","v":0},0,{"$f":"SUMIF(SOLICITUDES!$C$2:$C$1048576,BD!C641,SOLICITUDES!$K$2:$K$1048576)","v":0},0]
[null,null,"T7802",15,13200,240,-76.71871075875255,2.5667531716587586,7.5,7.5,3,3,{"$f":"SUMIF(SOLICITUDES!$C$2:$C$1048576,BD!C642,SOLICITUDES!$I$2:$I$1048576)","v":0},0,{"$f":"SUMIF(SOLICITUDES!$C$2:$C$1048576,BD!C642,SOLICITUDES!$J$2:$J$1048576)","v":0},0,{"$f":"SUMIF(SOLICITUDES!$C$2:$C$1048576,BD!C642,SOLICITUDES!$K$2:$K$1048576)","v":0},0]
[null,null,"T7772",5,13200,240,-76.716273435233546,2.5686064024348734,2.5,{"$f":"D643*0.5-M643","v":2.5},1,1,{"$f":"SUMIF(SOLICITUDES!$C$2:$C$1048576,BD!C643,SOLICITUDES!$I$2:$I$1048576)","v":0},{"$f":"M643/D643","v":0},{"$f":"SUMIF(SOLICITUDES!$C$2:$C$1048576,BD!C643,SOLICITUDES!$J$2:$J$1048576)","v":0},0,{"$f":"SUMIF(SOLICITUDES!$C$2:$C$1048576,BD!C643,SOLICITUDES!$K$2:$K$1048576)","v":0},0]
[null,null,"T7791",15,13200,240,-76.723784976248311,2.5673702908319456,{"$f":"D644*0.5","v":7.5},7.5,{"$f":"0.2*D644","v":3},{"$f":"0.2*D644","v":3},{"$f":"SUMIF(SOLICITUDES!$C$2:$C$1048576,BD!C644,SOLICITUDES!$I$2:$I$1048576)","v":0},0,{"$f":"SUMIF(SOLICITUDES!$C$2:$C$1048576,BD!C644,SOLICITUDES!$J$2:$J$1048576)","v":0},{"$f":"O644/(2*K644)","v":0},{"$f":"SUMIF(SOLICITUDES!$C$2:$C$1048576,BD!C644,SOLICITUDES!$K$2:$K$1048576)","v":0},{"$f":"Q644/(2*L644)","v":0}]
[null,null,"T7801",5,13200,214,-76.720199213301825,2.5714917303512199,2.5,2.5,1,1,{"$f":"SUMIF(SOLICITUDES!$C$2:$C$1048576,BD!C645,SOLICITUDES!$I$2:$I$1048576)","v":0},0,{"$f":"SUMIF(SOLICITUDES!$C$2:$C$1048576,BD!C645,SOLICITUDES!$J$2:$J$1048576)","v":0},0,{"$f":"SUMIF(SOLICITUDES!$C$2:$C$1048576,BD!C645,SOLICITUDES!$K$2:$K$1048576)","v":0},0]
[null,null,"T7786",15,13200,240,-76.72763993108461,2.5659056798237794,7.5,7.5,3,3,{"$f":"SUMIF(SOLICITUDES!$C$2:$C$1048576,BD!C646,SOLICITUDES!$I$2:$I$1048576)","v":0},0,{"$f":"SUMIF(SOLICITUDES!$C$2:$C$1048576,BD!C646,SOLICITUDES!$J$2:$J$1048576)","v":0},0,{"$f":"SUMIF(SOLICITUDES!$C$2:$C$1048576,BD!C646,SOLICITUDES!$K$2:$K$1048576)","v":0},0]
[null,null,"T7794",25,13200,240,-76.728764531898037,2.5639797106569082,12.5,12.5,5,5,{"$f":"SUMIF(SOLICITUDES!$C$2:$C$1048576,BD!C647,SOLICITUDES!$I$2:$I$1048576)","v":0},0,{"$f":"SUMIF(SOLICITUDES!$C$2:$C$1048576,BD!C647,SOLICITUDES!$J$2:$J$1048576)","v":0},0,{"$f":"SUMIF(SOLICITUDES!$C$2:$C$1048576,BD!C647,SOLICITUDES!$K$2:$K$1048576)","v":0},0]
[null,null,"T9662",15,13200,240,-76.733952487479954,2.5718112891509874,7.5,7.5,3,3,{"$f":"SUMIF(SOLICITUDES!$C$2:$C$1048576,BD!C648,SOLICITUDES!$I$2:$I$1048576)","v":0},0,{"$f":"SUMIF(SOLICITUDES!$C$2:$C$1048576,BD!C648,SOLICITUDES!$J$2:$J$1048576)","v":0},0,{"$f":"SUMIF(SOLICITUDES!$C$2:$C$1048576,BD!C648,SOLICITUDES!$K$2:$K$1048576)","v":0},0]
[null,null,"T9659",15,13200,240,-76.733536600832736,2.5737569115771524,7.5,7.5,3,3,{"$f":"SUMIF(SOLICITUDES!$C$2:$C$1048576,BD!C649,SOLICITUDES!$I$2:$I$1048576)","v":0},0,{"$f":"SUMIF(SOLICITUDES!$C$2:$C$1048576,BD!C649,SOLICITUDES!$J$2:$J$1048576)","v":0},0,{"$f":"SUMIF(SOLICITUDES!$C$2:$C$1048576,BD!C649,SOLICITUDES!$K$2:$K$1048576)","v":0},0]
[null,null,"T9655",10,13200,240,-76.73002623195373,2.5725994899676534,5,5,2,2,{"$f":"SUMIF(SOLICITUDES!$C$2:$C$1048576,BD!C650,SOLICITUDES!$I$2:$I$1048576)","v":0},0,{"$f":"SUMIF(SOLICITUDES!$C$2:$C$1048576,BD!C650,SOLICITUDES!$J$2:$J$1048576)","v":0},0,{"$f":"SUMIF(SOLICITUDES!$C$2:$C$1048576,BD!C650,SOLICITUDES!$K$2:$K$1048576)","v":0},0]
[null,null,"T10403",10,13200,240,-76.725708027953473,2.5741644767263261,5,5,2,2,{"$f":"SUMIF(SOLICITUDES!$C$2:$C$1048576,BD!C651,SOLICITUDES!$I$2:$I$1048576)","v":0},0,{"$f":"SUMIF(SOLICITUDES!$C$2:$C$1048576,BD!C651,SOLICITUDES!$J$2:$J$1048576)","v":0},0,{"$f":"SUMIF(SOLICITUDES!$C$2:$C$1048576,BD!C651,SOLICITUDES!$K$2:$K$1048576)","v":0},0]
[null,null,"T7192",150,13200,208,-76.484875157658379,3.0104222394616662,75,75,30,30,{"$f":"SUMIF(SOLICITUDES!$C$2:$C$1048576,BD!C652,SOLICITUDES!$I$2:$I$1048576)","v":0},0,{"$f":"SUMIF(SOLICITUDES!$C$2:$C$1048576,BD!C652,SOLICITUDES!$J$2:$J$1048576)","v":0},0,{"$f":"SUMIF(SOLICITUDES!$C$2:$C$1048576,BD!C652,SOLICITUDES!$K$2:$K$1048576)","v":0},0]
[null,null,"T7151",30,13200,208,-76.484807377418463,3.0105322713537581,15,15,6,6,{"$f":"SUMIF(SOLICITUDES!$C$2:$C$1048576,BD!C653,SOLICITUDES!$I$2:$I$1048576)","v":0},0,{"$f":"SUMIF(SOLICITUDES!$C$2:$C$1048576,BD!C653,SOLICITUDES!$J$2:$J$1048576)","v":0},0,{"$f":"SUMIF(SOLICITUDES!$C$2:$C$1048576,BD!C653,SOLICITUDES!$K$2:$K$1048576)","v":0},0]
[null,null,"T7174",75,13200,214,-76.485212310809075,3.0124664500263232,37.5,37.5,15,15,{"$f":"SUMIF(SOLICITUDES!$C$2:$C$1048576,BD!C654,SOLICITUDES!$I$2:$I$1048576)","v":0},0,{"$f":"SUMIF(SOLICITUDES!$C$2:$C$1048576,BD!C654,SOLICITUDES!$J$2:$J$1048576)","v":0},0,{"$f":"SUMIF(SOLICITUDES!$C$2:$C$1048576,BD!C654,SOLICITUDES!$K$2:$K$1048576)","v":0},0]
[null,null,"T7183",75,13200,208,-76.482359303569297,3.015331524208519,37.5,37.5,15,15,{"$f":"SUMIF(SOLICITUDES!$C$2:$C$1048576,BD!C655,SOLICITUDES!$I$2:$I$1048576)","v":0},0,{"$f":"SUMIF(SOLICITUDES!$C$2:$C$1048576,BD!C655,SOLICITUDES!$J$2:$J$1048576)","v":0},0,{"$f":"SUMIF(SOLICITUDES!$C$2:$C$1048576,BD!C655,SOLICITUDES!$K$2:$K$1048576)","v":0},0]
[null,null,"T7136",75,13200,208,-76.481792219117793,3.0160184709327851,37.5,37.5,15,15,{"$f":"SUMIF(SOLICITUDES!$C$2:$C$1048576,BD!C656,SOLICITUDES!$I$2:$I$1048576)","v":0},0,{"$f":"SUMIF(SOLICITUDES!$C$2:$C$1048576,BD!C656,SOLICITUDES!$J$2:$J$1048576)","v":0},0,{"$f":"SUMIF(SOLICITUDES!$C$2:$C$1048576,BD!C656,SOLICITUDES!$K$2:$K$1048576)","v":0},0]
[null,null,"T7143",75,13200,208,-76.482214950703067,3.0161543668644732,37.5,31.5,15,15,{"$f":"SUMIF(SOLICITUDES!$C$2:$C$1048576,BD!C657,SOLICITUDES!$I$2:$I$1048576)","v":6},0.08,{"$f":"SUMIF(SOLICITUDES!$C$2:$C$1048576,BD!C657,SOLICITUDES!$J$2:$J$1048576)","v":0},0,{"$f":"SUMIF(SOLICITUDES!$C$2:$C$1048576,BD!C657,SOLICITUDES!$K$2:$K$1048576)","v":6},0.2]
[null,null,"T7163",75,13200,208,-76.481674019480309,3.017686262027055,37.5,37.5,15,15,{"$f":"SUMIF(SOLICITUDES!$C$2:$C$1048576,BD!C658,SOLICITUDES!$I$2:$I$1048576)","v":0},0,{"$f":"SUMIF(SOLICITUDES!$C$2:$C$1048576,BD!C658,SOLICITUDES!$J$2:$J$1048576)","v":0},0,{"$f":"SUMIF(SOLICITUDES!$C$2:$C$1048576,BD!C658,SOLICITUDES!$K$2:$K$1048576)","v":0},0]
[null,null,"T7139",112.5,13200,214,-76.483536835824822,3.0168152125219909,56.25,56.25,22.5,22.5,{"$f":"SUMIF(SOLICITUDES!$C$2:$C$1048576,BD!C659,SOLICITUDES!$I$2:$I$1048576)","v":0},0,{"$f":"SUMIF(SOLICITUDES!$C$2:$C$1048576,BD!C659,SOLICITUDES!$J$2:$J$1048576)","v":0},0,{"$f":"SUMIF(SOLICITUDES!$C$2:$C$1048576,BD!C659,SOLICITUDES!$K$2:$K$1048576)","v":0},0]
[null,null,"T7178",75,13200,208,-76.483240529304766,3.0158384113464645,37.5,37.5,15,15,{"$f":"SUMIF(SOLICITUDES!$C$2:$C$1048576,BD!C660,SOLICITUDES!$I$2:$I$1048576)","v":0},0,{"$f":"SUMIF(SOLICITUDES!$C$2:$C$1048576,BD!C660,SOLICITUDES!$J$2:$J$1048576)","v":0},0,{"$f":"SUMIF(SOLICITUDES!$C$2:$C$1048576,BD!C660,SOLICITUDES!$K$2:$K$1048576)","v":0},0]
[null,null,"T7155",45,13200,214,-76.482538056457273,3.0174567171080184,22.5,22.5,9,9,{"$f":"SUMIF(SOLICITUDES!$C$2:$C$1048576,BD!C661,SOLICITUDES!$I$2:$I$1048576)","v":0},0,{"$f":"SUMIF(SOLICITUDES!$C$2:$C$1048576,BD!C661,SOLICITUDES!$J$2:$J$1048576)","v":0},0,{"$f":"SUMIF(SOLICITUDES!$C$2:$C$1048576,BD!C661,SOLICITUDES!$K$2:$K$1048576)","v":0},0]
[null,null,"T7142",75,13200,208,-76.481898485872492,3.0191564239680742,37.5,37.5,15,15,{"$f":"SUMIF(SOLICITUDES!$C$2:$C$1048576,BD!C662,SOLICITUDES!$I$2:$I$1048576)","v":0},0,{"$f":"SUMIF(SOLICITUDES!$C$2:$C$1048576,BD!C662,SOLICITUDES!$J$2:$J$1048576)","v":0},0,{"$f":"SUMIF(SOLICITUDES!$C$2:$C$1048576,BD!C662,SOLICITUDES!$K$2:$K$1048576)","v":0},0]
[null,null,"T40283",30,13200,220,-76.494150730048261,3.0137409468266623,15,15,6,6,{"$f":"SUMIF(SOLICITUDES!$C$2:$C$1048576,BD!C663,SOLICITUDES!$I$2:$I$1048576)","v":0},0,{"$f":"SUMIF(SOLICITUDES!$C$2:$C$1048576,BD!C663,SOLICITUDES!$J$2:$J$1048576)","v":0},0,{"$f":"SUMIF(SOLICITUDES!$C$2:$C$1048576,BD!C663,SOLICITUDES!$K$2:$K$1048576)","v":0},0]
[null,null,"T30710",30,13200,220,-76.495196583957124,3.0151053260645071,15,15,6,6,{"$f":"SUMIF(SOLICITUDES!$C$2:$C$1048576,BD!C664,SOLICITUDES!$I$2:$I$1048576)","v":0},0,{"$f":"SUMIF(SOLICITUDES!$C$2:$C$1048576,BD!C664,SOLICITUDES!$J$2:$J$1048576)","v":0},0,{"$f":"SUMIF(SOLICITUDES!$C$2:$C$1048576,BD!C664,SOLICITUDES!$K$2:$K$1048576)","v":0},0]
[null,null,"T6965",75,13200,208,-76.493097543414024,3.0018905231068311,37.5,37.5,15,15,{"$f":"SUMIF(SOLICITUDES!$C$2:$C$1048576,BD!C665,SOLICITUDES!$I$2:$I$1048576)","v":0},0,{"$f":"SUMIF(SOLICITUDES!$C$2:$C$1048576,BD!C665,SOLICITUDES!$J$2:$J$1048576)","v":0},0,{"$f":"SUMIF(SOLICITUDES!$C$2:$C$1048576,BD!C665,SOLICITUDES!$K$2:$K$1048576)","v":0},0]
[null,null,"T6968",45,13200,208,-76.492764484696295,3.0023334121273866,22.5,22.5,9,9,{"$f":"SUMIF(SOLICITUDES!$C$2:$C$1048576,BD!C666,SOLICITUDES!$I$2:$I$1048576)","v":0},0,{"$f":"SUMIF(SOLICITUDES!$C$2:$C$1048576,BD!C666,SOLICITUDES!$J$2:$J$1048576)","v":0},0,{"$f":"SUMIF(SOLICITUDES!$C$2:$C$1048576,BD!C666,SOLICITUDES!$K$2:$K$1048576)","v":0},0]
[null,null,"T6950",112.5,13200,208,-76.491495767150028,3.0031828460296328,56.25,56.25,22.5,22.5,{"$f":"SUMIF(SOLICITUDES!$C$2:$C$1048576,BD!C667,SOLICITUDES!$I$2:$I$1048576)","v":0},0,{"$f":"SUMIF(SOLICITUDES!$C$2:$C$1048576,BD!C667,SOLICITUDES!$J$2:$J$1048576)","v":0},0,{"$f":"SUMIF(SOLICITUDES!$C$2:$C$1048576,BD!C667,SOLICITUDES!$K$2:$K$1048576)","v":0},0]
[null,null,"T6952",112.5,13200,208,-76.48599449608561,3.0160958273265899,56.25,56.25,22.5,22.5,{"$f":"SUMIF(SOLICITUDES!$C$2:$C$1048576,BD!C668,SOLICITUDES!$I$2:$I$1048576)","v":0},0,{"$f":"SUMIF(SOLICITUDES!$C$2:$C$1048576,BD!C668,SOLICITUDES!$J$2:$J$1048576)","v":0},0,{"$f":"SUMIF(SOLICITUDES!$C$2:$C$1048576,BD!C668,SOLICITUDES!$K$2:$K$1048576)","v":0},0]
[null,null,"T6916",75,13200,208,-76.492879499961376,3.0182930907291556,37.5,37.5,15,15,{"$f":"SUMIF(SOLICITUDES!$C$2:$C$1048576,BD!C669,SOLICITUDES!$I$2:$I$1048576)","v":0},0,{"$f":"SUMIF(SOLICITUDES!$C$2:$C$1048576,BD!C669,SOLICITUDES!$J$2:$J$1048576)","v":0},0,{"$f":"SUMIF(SOLICITUDES!$C$2:$C$1048576,BD!C669,SOLICITUDES!$K$2:$K$1048576)","v":0},0]
[null,null,"T25654",37.5,13200,240,-76.491251170384373,3.021345766534254,18.75,18.75,7.5,7.5,{"$f":"SUMIF(SOLICITUDES!$C$2:$C$1048576,BD!C670,SOLICITUDES!$I$2:$I$1048576)","v":0},0,{"$f":"SUMIF(SOLICITUDES!$C$2:$C$1048576,BD!C670,SOLICITUDES!$J$2:$J$1048576)","v":0},0,{"$f":"SUMIF(SOLICITUDES!$C$2:$C$1048576,BD!C670,SOLICITUDES!$K$2:$K$1048576)","v":0},0]
[null,null,"T31114",37.5,13200,240,-76.485785746289835,3.0164637530440688,18.75,18.75,7.5,7.5,{"$f":"SUMIF(SOLICITUDES!$C$2:$C$1048576,BD!C671,SOLICITUDES!$I$2:$I$1048576)","v":0},0,{"$f":"SUMIF(SOLICITUDES!$C$2:$C$1048576,BD!C671,SOLICITUDES!$J$2:$J$1048576)","v":0},0,{"$f":"SUMIF(SOLICITUDES!$C$2:$C$1048576,BD!C671,SOLICITUDES!$K$2:$K$1048576)","v":0},0]
[null,null,"T7188",75,13200,208,-76.485265288235581,3.0141846507227896,37.5,37.5,15,15,{"$f":"SUMIF(SOLICITUDES!$C$2:$C$1048576,BD!C672,SOLICITUDES!$I$2:$I$1048576)","v":0},0,{"$f":"SUMIF(SOLICITUDES!$C$2:$C$1048576,BD!C672,SOLICITUDES!$J$2:$J$1048576)","v":0},0,{"$f":"SUMIF(SOLICITUDES!$C$2:$C$1048576,BD!C672,SOLICITUDES!$K$2:$K$1048576)","v":0},0]
[null,null,"T6994",10,13200,240,-76.498597299531099,3.0285702536218126,5,5,2,2,{"$f":"SUMIF(SOLICITUDES!$C$2:$C$1048576,BD!C673,SOLICITUDES!$I$2:$I$1048576)","v":0},0,{"$f":"SUMIF(SOLICITUDES!$C$2:$C$1048576,BD!C673,SOLICITUDES!$J$2:$J$1048576)","v":0},0,{"$f":"SUMIF(SOLICITUDES!$C$2:$C$1048576,BD!C673,SOLICITUDES!$K$2:$K$1048576)","v":0},0]
[null,null,"T30036",75,13200,214,-76.490783109771598,3.021535974251127,37.5,37.5,15,15,{"$f":"SUMIF(SOLICITUDES!$C$2:$C$1048576,BD!C674,SOLICITUDES!$I$2:$I$1048576)","v":0},0,{"$f":"SUMIF(SOLICITUDES!$C$2:$C$1048576,BD!C674,SOLICITUDES!$J$2:$J$1048576)","v":0},0,{"$f":"SUMIF(SOLICITUDES!$C$2:$C$1048576,BD!C674,SOLICITUDES!$K$2:$K$1048576)","v":0},0]
[null,null,"T6921",112.5,13200,208,-76.493889209949202,3.01986535036179,56.25,56.25,22.5,22.5,{"$f":"SUMIF(SOLICITUDES!$C$2:$C$1048576,BD!C675,SOLICITUDES!$I$2:$I$1048576)","v":0},0,{"$f":"SUMIF(SOLICITUDES!$C$2:$C$1048576,BD!C675,SOLICITUDES!$J$2:$J$1048576)","v":0},0,{"$f":"SUMIF(SOLICITUDES!$C$2:$C$1048576,BD!C675,SOLICITUDES!$K$2:$K$1048576)","v":0},0]
[null,null,"T6966",45,13200,208,-76.485596815913155,3.0166535748857517,22.5,22.5,9,9,{"$f":"SUMIF(SOLICITUDES!$C$2:$C$1048576,BD!C676,SOLICITUDES!$I$2:$I$1048576)","v":0},0,{"$f":"SUMIF(SOLICITUDES!$C$2:$C$1048576,BD!C676,SOLICITUDES!$J$2:$J$1048576)","v":0},0,{"$f":"SUMIF(SOLICITUDES!$C$2:$C$1048576,BD!C676,SOLICITUDES!$K$2:$K$1048576)","v":0},0]
[null,null,"T30275",25,13200,240,-76.485604315520078,3.0003326376840955,12.5,12.5,5,5,{"$f":"SUMIF(SOLICITUDES!$C$2:$C$1048576,BD!C677,SOLICITUDES!$I$2:$I$1048576)","v":0},0,{"$f":"SUMIF(SOLICITUDES!$C$2:$C$1048576,BD!C677,SOLICITUDES!$J$2:$J$1048576)","v":0},0,{"$f":"SUMIF(SOLICITUDES!$C$2:$C$1048576,BD!C677,SOLICITUDES!$K$2:$K$1048576)","v":0},0]
[null,null,"T30268",37.5,13200,240,-76.484254891583632,2.9995117705318308,18.75,18.75,7.5,7.5,{"$f":"SUMIF(SOLICITUDES!$C$2:$C$1048576,BD!C678,SOLICITUDES!$I$2:$I$1048576)","v":0},0,{"$f":"SUMIF(SOLICITUDES!$C$2:$C$1048576,BD!C678,SOLICITUDES!$J$2:$J$1048576)","v":0},0,{"$f":"SUMIF(SOLICITUDES!$C$2:$C$1048576,BD!C678,SOLICITUDES!$K$2:$K$1048576)","v":0},0]
[null,null,"T23970",25,13200,240,-76.491969778203085,2.9903140476952692,12.5,12.5,5,5,{"$f":"SUMIF(SOLICITUDES!$C$2:$C$1048576,BD!C679,SOLICITUDES!$I$2:$I$1048576)","v":0},0,{"$f":"SUMIF(SOLICITUDES!$C$2:$C$1048576,BD!C679,SOLICITUDES!$J$2:$J$1048576)","v":0},0,{"$f":"SUMIF(SOLICITUDES!$C$2:$C$1048576,BD!C679,SOLICITUDES!$K$2:$K$1048576)","v":0},0]
[null,null,"T30273",25,13200,240,-76.484046352191953,3.0003827774751599,12.5,12.5,5,5,{"$f":"SUMIF(SOLICITUDES!$C$2:$C$1048576,BD!C680,SOLICITUDES!$I$2:$I$1048576)","v":0},0,{"$f":"SUMIF(SOLICITUDES!$C$2:$C$1048576,BD!C680,SOLICITUDES!$J$2:$J$1048576)","v":0},0,{"$f":"SUMIF(SOLICITUDES!$C$2:$C$1048576,BD!C680,SOLICITUDES!$K$2:$K$1048576)","v":0},0]
[null,null,"T7370",15,13200,240,-76.491357991049739,2.9747878287685916,7.5,7.5,3,3,{"$f":"SUMIF(SOLICITUDES!$C$2:$C$1048576,BD!C681,SOLICITUDES!$I$2:$I$1048576)","v":0},0,{"$f":"SUMIF(SOLICITUDES!$C$2:$C$1048576,BD!C681,SOLICITUDES!$J$2:$J$1048576)","v":0},0,{"$f":"SUMIF(SOLICITUDES!$C$2:$C$1048576,BD!C681,SOLICITUDES!$K$2:$K$1048576)","v":0},0]
[null,null,"T7373",15,13200,240,-76.49158432376818,2.9721563866394476,7.5,7.5,3,3,{"$f":"SUMIF(SOLICITUDES!$C$2:$C$1048576,BD!C682,SOLICITUDES!$I$2:$I$1048576)","v":0},0,{"$f":"SUMIF(SOLICITUDES!$C$2:$C$1048576,BD!C682,SOLICITUDES!$J$2:$J$1048576)","v":0},0,{"$f":"SUMIF(SOLICITUDES!$C$2:$C$1048576,BD!C682,SOLICITUDES!$K$2:$K$1048576)","v":0},0]
[null,null,"T30270",25,13200,240,-76.483610865007336,3.000322143016708,12.5,12.5,5,5,{"$f":"SUMIF(SOLICITUDES!$C$2:$C$1048576,BD!C683,SOLICITUDES!$I$2:$I$1048576)","v":0},0,{"$f":"SUMIF(SOLICITUDES!$C$2:$C$1048576,BD!C683,SOLICITUDES!$J$2:$J$1048576)","v":0},0,{"$f":"SUMIF(SOLICITUDES!$C$2:$C$1048576,BD!C683,SOLICITUDES!$K$2:$K$1048576)","v":0},0]
[null,null,"T7356",37.5,13200,240,-76.491207172111814,2.9708449756475974,18.75,18.75,7.5,7.5,{"$f":"SUMIF(SOLICITUDES!$C$2:$C$1048576,BD!C684,SOLICITUDES!$I$2:$I$1048576)","v":0},0,{"$f":"SUMIF(SOLICITUDES!$C$2:$C$1048576,BD!C684,SOLICITUDES!$J$2:$J$1048576)","v":0},0,{"$f":"SUMIF(SOLICITUDES!$C$2:$C$1048576,BD!C684,SOLICITUDES!$K$2:$K$1048576)","v":0},0]
[null,null,"T12134",25,13200,240,-76.500203237228078,2.9855446419049088,12.5,12.5,5,5,{"$f":"SUMIF(SOLICITUDES!$C$2:$C$1048576,BD!C685,SOLICITUDES!$I$2:$I$1048576)","v":0},0,{"$f":"SUMIF(SOLICITUDES!$C$2:$C$1048576,BD!C685,SOLICITUDES!$J$2:$J$1048576)","v":0},0,{"$f":"SUMIF(SOLICITUDES!$C$2:$C$1048576,BD!C685,SOLICITUDES!$K$2:$K$1048576)","v":0},0]
[null,null,"T23947",10,13200,240,-76.499484048302037,2.9863587708468389,5,5,2,2,{"$f":"SUMIF(SOLICITUDES!$C$2:$C$1048576,BD!C686,SOLICITUDES!$I$2:$I$1048576)","v":0},0,{"$f":"SUMIF(SOLICITUDES!$C$2:$C$1048576,BD!C686,SOLICITUDES!$J$2:$J$1048576)","v":0},0,{"$f":"SUMIF(SOLICITUDES!$C$2:$C$1048576,BD!C686,SOLICITUDES!$K$2:$K$1048576)","v":0},0]
[null,null,"T30272",25,13200,240,-76.483096807110869,3.0005686602374655,12.5,12.5,5,5,{"$f":"SUMIF(SOLICITUDES!$C$2:$C$1048576,BD!C687,SOLICITUDES!$I$2:$I$1048576)","v":0},0,{"$f":"SUMIF(SOLICITUDES!$C$2:$C$1048576,BD!C687,SOLICITUDES!$J$2:$J$1048576)","v":0},0,{"$f":"SUMIF(SOLICITUDES!$C$2:$C$1048576,BD!C687,SOLICITUDES!$K$2:$K$1048576)","v":0},0]
[null,null,"T7369",37.5,13200,240,-76.491063819417846,2.9698682369564628,18.75,18.75,7.5,7.5,{"$f":"SUMIF(SOLICITUDES!$C$2:$C$1048576,BD!C688,SOLICITUDES!$I$2:$I$1048576)","v":0},0,{"$f":"SUMIF(SOLICITUDES!$C$2:$C$1048576,BD!C688,SOLICITUDES!$J$2:$J$1048576)","v":0},0,{"$f":"SUMIF(SOLICITUDES!$C$2:$C$1048576,BD!C688,SOLICITUDES!$K$2:$K$1048576)","v":0},0]
[null,null,"T30271",25,13200,240,-76.483366587748094,2.9998280388238849,12.5,12.5,5,5,{"$f":"SUMIF(SOLICITUDES!$C$2:$C$1048576,BD!C689,SOLICITUDES!$I$2:$I$1048576)","v":0},0,{"$f":"SUMIF(SOLICITUDES!$C$2:$C$1048576,BD!C689,SOLICITUDES!$J$2:$J$1048576)","v":0},0,{"$f":"SUMIF(SOLICITUDES!$C$2:$C$1048576,BD!C689,SOLICITUDES!$K$2:$K$1048576)","v":0},0]
[null,null,"T8232",45,13200,208,-76.48411468280743,2.9795947240483325,22.5,22.5,9,9,{"$f":"SUMIF(SOLICITUDES!$C$2:$C$1048576,BD!C690,SOLICITUDES!$I$2:$I$1048576)","v":0},0,{"$f":"SUMIF(SOLICITUDES!$C$2:$C$1048576,BD!C690,SOLICITUDES!$J$2:$J$1048576)","v":0},0,{"$f":"SUMIF(SOLICITUDES!$C$2:$C$1048576,BD!C690,SOLICITUDES!$K$2:$K$1048576)","v":0},0]
[null,null,"T12135",112.5,13200,208,-76.504943189996993,2.9860625896882755,56.25,56.25,22.5,22.5,{"$f":"SUMIF(SOLICITUDES!$C$2:$C$1048576,BD!C691,SOLICITUDES!$I$2:$I$1048576)","v":0},0,{"$f":"SUMIF(SOLICITUDES!$C$2:$C$1048576,BD!C691,SOLICITUDES!$J$2:$J$1048576)","v":0},0,{"$f":"SUMIF(SOLICITUDES!$C$2:$C$1048576,BD!C691,SOLICITUDES!$K$2:$K$1048576)","v":0},0]
[null,null,"T8268",37.5,13200,240,-76.49449596794507,2.9771677738476598,18.75,18.75,7.5,7.5,{"$f":"SUMIF(SOLICITUDES!$C$2:$C$1048576,BD!C692,SOLICITUDES!$I$2:$I$1048576)","v":0},0,{"$f":"SUMIF(SOLICITUDES!$C$2:$C$1048576,BD!C692,SOLICITUDES!$J$2:$J$1048576)","v":0},0,{"$f":"SUMIF(SOLICITUDES!$C$2:$C$1048576,BD!C692,SOLICITUDES!$K$2:$K$1048576)","v":0},0]
[null,null,"T23948",10,13200,240,-76.499122573679884,2.9851473748541748,5,5,2,2,{"$f":"SUMIF(SOLICITUDES!$C$2:$C$1048576,BD!C693,SOLICITUDES!$I$2:$I$1048576)","v":0},0,{"$f":"SUMIF(SOLICITUDES!$C$2:$C$1048576,BD!C693,SOLICITUDES!$J$2:$J$1048576)","v":0},0,{"$f":"SUMIF(SOLICITUDES!$C$2:$C$1048576,BD!C693,SOLICITUDES!$K$2:$K$1048576)","v":0},0]
[null,null,"T8265",15,13200,240,-76.49021300703069,2.9797698897870744,7.5,7.5,3,3,{"$f":"SUMIF(SOLICITUDES!$C$2:$C$1048576,BD!C694,SOLICITUDES!$I$2:$I$1048576)","v":0},0,{"$f":"SUMIF(SOLICITUDES!$C$2:$C$1048576,BD!C694,SOLICITUDES!$J$2:$J$1048576)","v":0},0,{"$f":"SUMIF(SOLICITUDES!$C$2:$C$1048576,BD!C694,SOLICITUDES!$K$2:$K$1048576)","v":0},0]
[null,null,"T23931",5,13200,240,-76.493086126720002,2.9719387473208121,2.5,2.5,1,1,{"$f":"SUMIF(SOLICITUDES!$C$2:$C$1048576,BD!C695,SOLICITUDES!$I$2:$I$1048576)","v":0},0,{"$f":"SUMIF(SOLICITUDES!$C$2:$C$1048576,BD!C695,SOLICITUDES!$J$2:$J$1048576)","v":0},0,{"$f":"SUMIF(SOLICITUDES!$C$2:$C$1048576,BD!C695,SOLICITUDES!$K$2:$K$1048576)","v":0},0]
[null,null,"T8530",45,13200,208,-76.502386052934042,2.9910258088561799,22.5,22.5,9,9,{"$f":"SUMIF(SOLICITUDES!$C$2:$C$1048576,BD!C696,SOLICITUDES!$I$2:$I$1048576)","v":0},0,{"$f":"SUMIF(SOLICITUDES!$C$2:$C$1048576,BD!C696,SOLICITUDES!$J$2:$J$1048576)","v":0},0,{"$f":"SUMIF(SOLICITUDES!$C$2:$C$1048576,BD!C696,SOLICITUDES!$K$2:$K$1048576)","v":0},0]
[null,null,"T45094",10,13200,240,-76.490722941568109,2.9681679741492397,5,5,2,2,{"$f":"SUMIF(SOLICITUDES!$C$2:$C$1048576,BD!C697,SOLICITUDES!$I$2:$I$1048576)","v":0},0,{"$f":"SUMIF(SOLICITUDES!$C$2:$C$1048576,BD!C697,SOLICITUDES!$J$2:$J$1048576)","v":0},0,{"$f":"SUMIF(SOLICITUDES!$C$2:$C$1048576,BD!C697,SOLICITUDES!$K$2:$K$1048576)","v":0},0]
[null,null,"T8234",10,13200,240,-76.480940278570941,2.9783450609504114,5,5,2,2,{"$f":"SUMIF(SOLICITUDES!$C$2:$C$1048576,BD!C698,SOLICITUDES!$I$2:$I$1048576)","v":0},0,{"$f":"SUMIF(SOLICITUDES!$C$2:$C$1048576,BD!C698,SOLICITUDES!$J$2:$J$1048576)","v":0},0,{"$f":"SUMIF(SOLICITUDES!$C$2:$C$1048576,BD!C698,SOLICITUDES!$K$2:$K$1048576)","v":0},0]
[null,null,"T23974",10,13200,240,-76.497925951376061,2.9850133542231503,5,5,2,2,{"$f":"SUMIF(SOLICITUDES!$C$2:$C$1048576,BD!C699,SOLICITUDES!$I$2:$I$1048576)","v":0},0,{"$f":"SUMIF(SOLICITUDES!$C$2:$C$1048576,BD!C699,SOLICITUDES!$J$2:$J$1048576)","v":0},0,{"$f":"SUMIF(SOLICITUDES!$C$2:$C$1048576,BD!C699,SOLICITUDES!$K$2:$K$1048576)","v":0},0]
[null,null,"T45092",10,13200,240,-76.488445498227847,2.9724641598234744,5,5,2,2,{"$f":"SUMIF(SOLICITUDES!$C$2:$C$1048576,BD!C700,SOLICITUDES!$I$2:$I$1048576)","v":0},0,{"$f":"SUMIF(SOLICITUDES!$C$2:$C$1048576,BD!C700,SOLICITUDES!$J$2:$J$1048576)","v":0},0,{"$f":"SUMIF(SOLICITUDES!$C$2:$C$1048576,BD!C700,SOLICITUDES!$K$2:$K$1048576)","v":0},0]
[null,null,"T40162",15,13200,240,-76.490663660347323,2.9679400460679268,7.5,7.5,3,3,{"$f":"SUMIF(SOLICITUDES!$C$2:$C$1048576,BD!C701,SOLICITUDES!$I$2:$I$1048576)","v":0},0,{"$f":"SUMIF(SOLICITUDES!$C$2:$C$1048576,BD!C701,SOLICITUDES!$J$2:$J$1048576)","v":0},0,{"$f":"SUMIF(SOLICITUDES!$C$2:$C$1048576,BD!C701,SOLICITUDES!$K$2:$K$1048576)","v":0},0]
[null,null,"T8246",5,13200,240,-76.481903724814515,2.9763019319742545,2.5,2.5,1,1,{"$f":"SUMIF(SOLICITUDES!$C$2:$C$1048576,BD!C702,SOLICITUDES!$I$2:$I$1048576)","v":0},0,{"$f":"SUMIF(SOLICITUDES!$C$2:$C$1048576,BD!C702,SOLICITUDES!$J$2:$J$1048576)","v":0},0,{"$f":"SUMIF(SOLICITUDES!$C$2:$C$1048576,BD!C702,SOLICITUDES!$K$2:$K$1048576)","v":0},0]
[null,null,"T8539",10,13200,240,-76.507412995407009,2.9933886622088957,5,5,2,2,{"$f":"SUMIF(SOLICITUDES!$C$2:$C$1048576,BD!C703,SOLICITUDES!$I$2:$I$1048576)","v":0},0,{"$f":"SUMIF(SOLICITUDES!$C$2:$C$1048576,BD!C703,SOLICITUDES!$J$2:$J$1048576)","v":0},0,{"$f":"SUMIF(SOLICITUDES!$C$2:$C$1048576,BD!C703,SOLICITUDES!$K$2:$K$1048576)","v":0},0]
[null,null,"T8287",112.5,13200,208,-76.490232619527546,2.9767133784782542,56.25,56.25,22.5,22.5,{"$f":"SUMIF(SOLICITUDES!$C$2:$C$1048576,BD!C704,SOLICITUDES!$I$2:$I$1048576)","v":0},0,{"$f":"SUMIF(SOLICITUDES!$C$2:$C$1048576,BD!C704,SOLICITUDES!$J$2:$J$1048576)","v":0},0,{"$f":"SUMIF(SOLICITUDES!$C$2:$C$1048576,BD!C704,SOLICITUDES!$K$2:$K$1048576)","v":0},0]
[null,null,"T8519",37.5,13200,240,-76.506136055317825,2.9926375088714634,18.75,18.75,7.5,7.5,{"$f":"SUMIF(SOLICITUDES!$C$2:$C$1048576,BD!C705,SOLICITUDES!$I$2:$I$1048576)","v":0},0,{"$f":"SUMIF(SOLICITUDES!$C$2:$C$1048576,BD!C705,SOLICITUDES!$J$2:$J$1048576)","v":0},0,{"$f":"SUMIF(SOLICITUDES!$C$2:$C$1048576,BD!C705,SOLICITUDES!$K$2:$K$1048576)","v":0},0]
[null,null,"T8237",25,13200,240,-76.485174358068733,2.9827241493118244,12.5,12.5,5,5,{"$f":"SUMIF(SOLICITUDES!$C$2:$C$1048576,BD!C706,SOLICITUDES!$I$2:$I$1048576)","v":0},0,{"$f":"SUMIF(SOLICITUDES!$C$2:$C$1048576,BD!C706,SOLICITUDES!$J$2:$J$1048576)","v":0},0,{"$f":"SUMIF(SOLICITUDES!$C$2:$C$1048576,BD!C706,SOLICITUDES!$K$2:$K$1048576)","v":0},0]
[null,null,"T7357",15,13200,240,-76.487987639716039,2.9699299234929937,7.5,{"$f":"D707*0.5-M707","v":7.5},3,3,{"$f":"SUMIF(SOLICITUDES!$C$2:$C$1048576,BD!C707,SOLICITUDES!$I$2:$I$1048576)","v":0},{"$f":"M707/D707","v":0},{"$f":"SUMIF(SOLICITUDES!$C$2:$C$1048576,BD!C707,SOLICITUDES!$J$2:$J$1048576)","v":0},0,{"$f":"SUMIF(SOLICITUDES!$C$2:$C$1048576,BD!C707,SOLICITUDES!$K$2:$K$1048576)","v":0},0]
[null,null,"T8529",10,13200,240,-76.509462997220325,2.9949904008143129,{"$f":"D708*0.5","v":5},5,{"$f":"0.2*D708","v":2},{"$f":"0.2*D708","v":2},{"$f":"SUMIF(SOLICITUDES!$C$2:$C$1048576,BD!C708,SOLICITUDES!$I$2:$I$1048576)","v":0},0,{"$f":"SUMIF(SOLICITUDES!$C$2:$C$1048576,BD!C708,SOLICITUDES!$J$2:$J$1048576)","v":0},{"$f":"O708/(2*K708)","v":0},{"$f":"SUMIF(SOLICITUDES!$C$2:$C$1048576,BD!C708,SOLICITUDES!$K$2:$K$1048576)","v":0},{"$f":"Q708/(2*L708)","v":0}]
[null,null,"T7367",37.5,13200,240,-76.491739878735515,2.967210012070141,18.75,18.75,7.5,7.5,{"$f":"SUMIF(SOLICITUDES!$C$2:$C$1048576,BD!C709,SOLICITUDES!$I$2:$I$1048576)","v":0},0,{"$f":"SUMIF(SOLICITUDES!$C$2:$C$1048576,BD!C709,SOLICITUDES!$J$2:$J$1048576)","v":0},0,{"$f":"SUMIF(SOLICITUDES!$C$2:$C$1048576,BD!C709,SOLICITUDES!$K$2:$K$1048576)","v":0},0]
[null,null,"T23945",10,13200,240,-76.505056823248154,2.9851099162984065,5,5,2,2,{"$f":"SUMIF(SOLICITUDES!$C$2:$C$1048576,BD!C710,SOLICITUDES!$I$2:$I$1048576)","v":0},0,{"$f":"SUMIF(SOLICITUDES!$C$2:$C$1048576,BD!C710,SOLICITUDES!$J$2:$J$1048576)","v":0},0,{"$f":"SUMIF(SOLICITUDES!$C$2:$C$1048576,BD!C710,SOLICITUDES!$K$2:$K$1048576)","v":0},0]
[null,null,"T8263",10,13200,240,-76.486469902191999,2.9821823367788087,5,5,2,2,{"$f":"SUMIF(SOLICITUDES!$C$2:$C$1048576,BD!C711,SOLICITUDES!$I$2:$I$1048576)","v":0},0,{"$f":"SUMIF(SOLICITUDES!$C$2:$C$1048576,BD!C711,SOLICITUDES!$J$2:$J$1048576)","v":0},0,{"$f":"SUMIF(SOLICITUDES!$C$2:$C$1048576,BD!C711,SOLICITUDES!$K$2:$K$1048576)","v":0},0]
[null,null,"T8526",25,13200,214,-76.515157851208897,3.0103664441296933,12.5,12.5,5,5,{"$f":"SUMIF(SOLICITUDES!$C$2:$C$1048576,BD!C712,SOLICITUDES!$I$2:$I$1048576)","v":0},0,{"$f":"SUMIF(SOLICITUDES!$C$2:$C$1048576,BD!C712,SOLICITUDES!$J$2:$J$1048576)","v":0},0,{"$f":"SUMIF(SOLICITUDES!$C$2:$C$1048576,BD!C712,SOLICITUDES!$K$2:$K$1048576)","v":0},0]
[null,null,"T8288",37.5,13200,240,-76.484812433191195,2.95317161336266,18.75,18.75,7.5,7.5,{"$f":"SUMIF(SOLICITUDES!$C$2:$C$1048576,BD!C713,SOLICITUDES!$I$2:$I$1048576)","v":0},0,{"$f":"SUMIF(SOLICITUDES!$C$2:$C$1048576,BD!C713,SOLICITUDES!$J$2:$J$1048576)","v":0},0,{"$f":"SUMIF(SOLICITUDES!$C$2:$C$1048576,BD!C713,SOLICITUDES!$K$2:$K$1048576)","v":0},0]
[null,null,"T8532",37.5,13200,240,-76.522304920382638,3.0004951878652193,18.75,18.75,7.5,7.5,{"$f":"SUMIF(SOLICITUDES!$C$2:$C$1048576,BD!C714,SOLICITUDES!$I$2:$I$1048576)","v":0},0,{"$f":"SUMIF(SOLICITUDES!$C$2:$C$1048576,BD!C714,SOLICITUDES!$J$2:$J$1048576)","v":0},0,{"$f":"SUMIF(SOLICITUDES!$C$2:$C$1048576,BD!C714,SOLICITUDES!$K$2:$K$1048576)","v":0},0]
[null,null,"T28312",15,13200,240,-76.515718402623321,2.9785995540067032,7.5,7.5,3,3,{"$f":"SUMIF(SOLICITUDES!$C$2:$C$1048576,BD!C715,SOLICITUDES!$I$2:$I$1048576)","v":0},0,{"$f":"SUMIF(SOLICITUDES!$C$2:$C$1048576,BD!C715,SOLICITUDES!$J$2:$J$1048576)","v":0},0,{"$f":"SUMIF(SOLICITUDES!$C$2:$C$1048576,BD!C715,SOLICITUDES!$K$2:$K$1048576)","v":0},0]
[null,null,"T42910",37.5,13200,240,-76.472779929006194,2.9984792068720174,18.75,18.75,7.5,7.5,{"$f":"SUMIF(SOLICITUDES!$C$2:$C$1048576,BD!C716,SOLICITUDES!$I$2:$I$1048576)","v":0},0,{"$f":"SUMIF(SOLICITUDES!$C$2:$C$1048576,BD!C716,SOLICITUDES!$J$2:$J$1048576)","v":0},0,{"$f":"SUMIF(SOLICITUDES!$C$2:$C$1048576,BD!C716,SOLICITUDES!$K$2:$K$1048576)","v":0},0]
[null,null,"T27863",15,13200,208,-76.491262853809559,2.9639047229301316,7.5,7.5,3,3,{"$f":"SUMIF(SOLICITUDES!$C$2:$C$1048576,BD!C717,SOLICITUDES!$I$2:$I$1048576)","v":0},0,{"$f":"SUMIF(SOLICITUDES!$C$2:$C$1048576,BD!C717,SOLICITUDES!$J$2:$J$1048576)","v":0},0,{"$f":"SUMIF(SOLICITUDES!$C$2:$C$1048576,BD!C717,SOLICITUDES!$K$2:$K$1048576)","v":0},0]
[null,null,"T8296",5,13200,240,-76.48168648871625,2.9621766995017773,2.5,2.5,1,1,{"$f":"SUMIF(SOLICITUDES!$C$2:$C$1048576,BD!C718,SOLICITUDES!$I$2:$I$1048576)","v":0},0,{"$f":"SUMIF(SOLICITUDES!$C$2:$C$1048576,BD!C718,SOLICITUDES!$J$2:$J$1048576)","v":0},0,{"$f":"SUMIF(SOLICITUDES!$C$2:$C$1048576,BD!C718,SOLICITUDES!$K$2:$K$1048576)","v":0},0]
[null,null,"T8538",15,13200,240,-76.513447873092446,3.0120385162049041,7.5,7.5,3,3,{"$f":"SUMIF(SOLICITUDES!$C$2:$C$1048576,BD!C719,SOLICITUDES!$I$2:$I$1048576)","v":0},0,{"$f":"SUMIF(SOLICITUDES!$C$2:$C$1048576,BD!C719,SOLICITUDES!$J$2:$J$1048576)","v":0},0,{"$f":"SUMIF(SOLICITUDES!$C$2:$C$1048576,BD!C719,SOLICITUDES!$K$2:$K$1048576)","v":0},0]
[null,null,"T7372",25,13200,240,-76.496255852950085,2.9539133884781075,12.5,12.5,5,5,{"$f":"SUMIF(SOLICITUDES!$C$2:$C$1048576,BD!C720,SOLICITUDES!$I$2:$I$1048576)","v":0},0,{"$f":"SUMIF(SOLICITUDES!$C$2:$C$1048576,BD!C720,SOLICITUDES!$J$2:$J$1048576)","v":0},0,{"$f":"SUMIF(SOLICITUDES!$C$2:$C$1048576,BD!C720,SOLICITUDES!$K$2:$K$1048576)","v":0},0]
[null,null,"T7126",112.5,13200,208,-76.475730042825035,2.9987883194362519,56.25,56.25,22.5,22.5,{"$f":"SUMIF(SOLICITUDES!$C$2:$C$1048576,BD!C721,SOLICITUDES!$I$2:$I$1048576)","v":0},0,{"$f":"SUMIF(SOLICITUDES!$C$2:$C$1048576,BD!C721,SOLICITUDES!$J$2:$J$1048576)","v":0},0,{"$f":"SUMIF(SOLICITUDES!$C$2:$C$1048576,BD!C721,SOLICITUDES!$K$2:$K$1048576)","v":0},0]
[null,null,"T8284",10,13200,240,-76.479203951374103,2.9622115242874183,5,5,2,2,{"$f":"SUMIF(SOLICITUDES!$C$2:$C$1048576,BD!C722,SOLICITUDES!$I$2:$I$1048576)","v":0},0,{"$f":"SUMIF(SOLICITUDES!$C$2:$C$1048576,BD!C722,SOLICITUDES!$J$2:$J$1048576)","v":0},0,{"$f":"SUMIF(SOLICITUDES!$C$2:$C$1048576,BD!C722,SOLICITUDES!$K$2:$K$1048576)","v":0},0]
[null,null,"T8270",15,13200,240,-76.477261964709029,2.9606731648417419,7.5,7.5,3,3,{"$f":"SUMIF(SOLICITUDES!$C$2:$C$1048576,BD!C723,SOLICITUDES!$I$2:$I$1048576)","v":0},0,{"$f":"SUMIF(SOLICITUDES!$C$2:$C$1048576,BD!C723,SOLICITUDES!$J$2:$J$1048576)","v":0},0,{"$f":"SUMIF(SOLICITUDES!$C$2:$C$1048576,BD!C723,SOLICITUDES!$K$2:$K$1048576)","v":0},0]
[null,null,"T23932",10,13200,240,-76.491893316284191,2.9640541446227138,5,5,2,2,{"$f":"SUMIF(SOLICITUDES!$C$2:$C$1048576,BD!C724,SOLICITUDES!$I$2:$I$1048576)","v":0},0,{"$f":"SUMIF(SOLICITUDES!$C$2:$C$1048576,BD!C724,SOLICITUDES!$J$2:$J$1048576)","v":0},0,{"$f":"SUMIF(SOLICITUDES!$C$2:$C$1048576,BD!C724,SOLICITUDES!$K$2:$K$1048576)","v":0},0]
[null,null,"T23953",10,13200,240,-76.504661860590204,2.9745035945942995,5,5,2,2,{"$f":"SUMIF(SOLICITUDES!$C$2:$C$1048576,BD!C725,SOLICITUDES!$I$2:$I$1048576)","v":0},0,{"$f":"SUMIF(SOLICITUDES!$C$2:$C$1048576,BD!C725,SOLICITUDES!$J$2:$J$1048576)","v":0},0,{"$f":"SUMIF(SOLICITUDES!$C$2:$C$1048576,BD!C725,SOLICITUDES!$K$2:$K$1048576)","v":0},0]
[null,null,"T8527",30,13200,208,-76.525012418194748,3.0005146407313257,15,15,6,6,{"$f":"SUMIF(SOLICITUDES!$C$2:$C$1048576,BD!C726,SOLICITUDES!$I$2:$I$1048576)","v":0},0,{"$f":"SUMIF(SOLICITUDES!$C$2:$C$1048576,BD!C726,SOLICITUDES!$J$2:$J$1048576)","v":0},0,{"$f":"SUMIF(SOLICITUDES!$C$2:$C$1048576,BD!C726,SOLICITUDES!$K$2:$K$1048576)","v":0},0]
[null,null,"T11870",25,13200,240,-76.471800213982362,2.9972307301172205,12.5,12.5,5,5,{"$f":"SUMIF(SOLICITUDES!$C$2:$C$1048576,BD!C727,SOLICITUDES!$I$2:$I$1048576)","v":0},0,{"$f":"SUMIF(SOLICITUDES!$C$2:$C$1048576,BD!C727,SOLICITUDES!$J$2:$J$1048576)","v":0},0,{"$f":"SUMIF(SOLICITUDES!$C$2:$C$1048576,BD!C727,SOLICITUDES!$K$2:$K$1048576)","v":0},0]
[null,null,"T8264",15,13200,240,-76.47899058050487,2.9577532097828922,7.5,7.5,3,3,{"$f":"SUMIF(SOLICITUDES!$C$2:$C$1048576,BD!C728,SOLICITUDES!$I$2:$I$1048576)","v":0},0,{"$f":"SUMIF(SOLICITUDES!$C$2:$C$1048576,BD!C728,SOLICITUDES!$J$2:$J$1048576)","v":0},0,{"$f":"SUMIF(SOLICITUDES!$C$2:$C$1048576,BD!C728,SOLICITUDES!$K$2:$K$1048576)","v":0},0]
[null,null,"T8241",50,13200,240,-76.481656348476278,2.9513070212736361,25,25,10,10,{"$f":"SUMIF(SOLICITUDES!$C$2:$C$1048576,BD!C729,SOLICITUDES!$I$2:$I$1048576)","v":0},0,{"$f":"SUMIF(SOLICITUDES!$C$2:$C$1048576,BD!C729,SOLICITUDES!$J$2:$J$1048576)","v":0},0,{"$f":"SUMIF(SOLICITUDES!$C$2:$C$1048576,BD!C729,SOLICITUDES!$K$2:$K$1048576)","v":0},0]
[null,null,"T12779",25,13200,240,-76.516708205156846,2.9777975835822086,12.5,12.5,5,5,{"$f":"SUMIF(SOLICITUDES!$C$2:$C$1048576,BD!C730,SOLICITUDES!$I$2:$I$1048576)","v":0},0,{"$f":"SUMIF(SOLICITUDES!$C$2:$C$1048576,BD!C730,SOLICITUDES!$J$2:$J$1048576)","v":0},0,{"$f":"SUMIF(SOLICITUDES!$C$2:$C$1048576,BD!C730,SOLICITUDES!$K$2:$K$1048576)","v":0},0]
[null,null,"T8522",15,13200,240,-76.51005638563818,3.0128144192379951,7.5,7.5,3,3,{"$f":"SUMIF(SOLICITUDES!$C$2:$C$1048576,BD!C731,SOLICITUDES!$I$2:$I$1048576)","v":0},0,{"$f":"SUMIF(SOLICITUDES!$C$2:$C$1048576,BD!C731,SOLICITUDES!$J$2:$J$1048576)","v":0},0,{"$f":"SUMIF(SOLICITUDES!$C$2:$C$1048576,BD!C731,SOLICITUDES!$K$2:$K$1048576)","v":0},0]
[null,null,"T23975",10,13200,240,-76.50908727727041,2.9753199216833299,5,5,2,2,{"$f":"SUMIF(SOLICITUDES!$C$2:$C$1048576,BD!C732,SOLICITUDES!$I$2:$I$1048576)","v":0},0,{"$f":"SUMIF(SOLICITUDES!$C$2:$C$1048576,BD!C732,SOLICITUDES!$J$2:$J$1048576)","v":0},0,{"$f":"SUMIF(SOLICITUDES!$C$2:$C$1048576,BD!C732,SOLICITUDES!$K$2:$K$1048576)","v":0},0]
[null,null,"T8278",37.5,13200,240,-76.509841932635396,2.975313014434108,18.75,18.75,7.5,7.5,{"$f":"SUMIF(SOLICITUDES!$C$2:$C$1048576,BD!C733,SOLICITUDES!$I$2:$I$1048576)","v":0},0,{"$f":"SUMIF(SOLICITUDES!$C$2:$C$1048576,BD!C733,SOLICITUDES!$J$2:$J$1048576)","v":0},0,{"$f":"SUMIF(SOLICITUDES!$C$2:$C$1048576,BD!C733,SOLICITUDES!$K$2:$K$1048576)","v":0},0]
[null,null,"T25881",10,13200,240,-76.509552998065999,3.0121811415621305,5,5,2,2,{"$f":"SUMIF(SOLICITUDES!$C$2:$C$1048576,BD!C734,SOLICITUDES!$I$2:$I$1048576)","v":0},0,{"$f":"SUMIF(SOLICITUDES!$C$2:$C$1048576,BD!C734,SOLICITUDES!$J$2:$J$1048576)","v":0},0,{"$f":"SUMIF(SOLICITUDES!$C$2:$C$1048576,BD!C734,SOLICITUDES!$K$2:$K$1048576)","v":0},0]
[null,null,"T45096",25,13200,240,-76.515004755796866,3.0146719144393166,12.5,12.5,5,5,{"$f":"SUMIF(SOLICITUDES!$C$2:$C$1048576,BD!C735,SOLICITUDES!$I$2:$I$1048576)","v":0},0,{"$f":"SUMIF(SOLICITUDES!$C$2:$C$1048576,BD!C735,SOLICITUDES!$J$2:$J$1048576)","v":0},0,{"$f":"SUMIF(SOLICITUDES!$C$2:$C$1048576,BD!C735,SOLICITUDES!$K$2:$K$1048576)","v":0},0]
[null,null,"T29288",45,13200,214,-76.515878685135064,2.9780387554460508,22.5,22.5,9,9,{"$f":"SUMIF(SOLICITUDES!$C$2:$C$1048576,BD!C736,SOLICITUDES!$I$2:$I$1048576)","v":0},0,{"$f":"SUMIF(SOLICITUDES!$C$2:$C$1048576,BD!C736,SOLICITUDES!$J$2:$J$1048576)","v":0},0,{"$f":"SUMIF(SOLICITUDES!$C$2:$C$1048576,BD!C736,SOLICITUDES!$K$2:$K$1048576)","v":0},0]
[null,null,"T8935",37.5,13200,240,-76.528017137799694,2.9996300087324825,18.75,18.75,7.5,7.5,{"$f":"SUMIF(SOLICITUDES!$C$2:$C$1048576,BD!C737,SOLICITUDES!$I$2:$I$1048576)","v":0},0,{"$f":"SUMIF(SOLICITUDES!$C$2:$C$1048576,BD!C737,SOLICITUDES!$J$2:$J$1048576)","v":0},0,{"$f":"SUMIF(SOLICITUDES!$C$2:$C$1048576,BD!C737,SOLICITUDES!$K$2:$K$1048576)","v":0},0]
[null,null,"T8240",25,13200,240,-76.511757988370078,2.9750336334744105,12.5,12.5,5,5,{"$f":"SUMIF(SOLICITUDES!$C$2:$C$1048576,BD!C738,SOLICITUDES!$I$2:$I$1048576)","v":0},0,{"$f":"SUMIF(SOLICITUDES!$C$2:$C$1048576,BD!C738,SOLICITUDES!$J$2:$J$1048576)","v":0},0,{"$f":"SUMIF(SOLICITUDES!$C$2:$C$1048576,BD!C738,SOLICITUDES!$K$2:$K$1048576)","v":0},0]
[null,null,"T45097",15,13200,240,-76.515916039453856,3.0166150765943045,7.5,7.5,3,3,{"$f":"SUMIF(SOLICITUDES!$C$2:$C$1048576,BD!C739,SOLICITUDES!$I$2:$I$1048576)","v":0},0,{"$f":"SUMIF(SOLICITUDES!$C$2:$C$1048576,BD!C739,SOLICITUDES!$J$2:$J$1048576)","v":0},0,{"$f":"SUMIF(SOLICITUDES!$C$2:$C$1048576,BD!C739,SOLICITUDES!$K$2:$K$1048576)","v":0},0]
[null,null,"T45093",10,13200,240,-76.47861706541525,2.9497861681232282,5,5,2,2,{"$f":"SUMIF(SOLICITUDES!$C$2:$C$1048576,BD!C740,SOLICITUDES!$I$2:$I$1048576)","v":0},0,{"$f":"SUMIF(SOLICITUDES!$C$2:$C$1048576,BD!C740,SOLICITUDES!$J$2:$J$1048576)","v":0},0,{"$f":"SUMIF(SOLICITUDES!$C$2:$C$1048576,BD!C740,SOLICITUDES!$K$2:$K$1048576)","v":0},0]
[null,null,"T8261",25,13200,240,-76.474629391612353,2.9554358015071447,12.5,12.5,5,5,{"$f":"SUMIF(SOLICITUDES!$C$2:$C$1048576,BD!C741,SOLICITUDES!$I$2:$I$1048576)","v":0},0,{"$f":"SUMIF(SOLICITUDES!$C$2:$C$1048576,BD!C741,SOLICITUDES!$J$2:$J$1048576)","v":0},0,{"$f":"SUMIF(SOLICITUDES!$C$2:$C$1048576,BD!C741,SOLICITUDES!$K$2:$K$1048576)","v":0},0]
[null,null,"T7534",112.5,13200,208,-76.473373881021516,2.9979007588561917,56.25,56.25,22.5,22.5,{"$f":"SUMIF(SOLICITUDES!$C$2:$C$1048576,BD!C742,SOLICITUDES!$I$2:$I$1048576)","v":0},0,{"$f":"SUMIF(SOLICITUDES!$C$2:$C$1048576,BD!C742,SOLICITUDES!$J$2:$J$1048576)","v":0},0,{"$f":"SUMIF(SOLICITUDES!$C$2:$C$1048576,BD!C742,SOLICITUDES!$K$2:$K$1048576)","v":0},0]
[null,null,"T8239",50,13200,240,-76.512801337081342,2.9749980916139505,25,25,10,10,{"$f":"SUMIF(SOLICITUDES!$C$2:$C$1048576,BD!C743,SOLICITUDES!$I$2:$I$1048576)","v":0},0,{"$f":"SUMIF(SOLICITUDES!$C$2:$C$1048576,BD!C743,SOLICITUDES!$J$2:$J$1048576)","v":0},0,{"$f":"SUMIF(SOLICITUDES!$C$2:$C$1048576,BD!C743,SOLICITUDES!$K$2:$K$1048576)","v":0},0]
[null,null,"T8271",37.5,13200,240,-76.50792679910154,2.9737837948128005,18.75,18.75,7.5,7.5,{"$f":"SUMIF(SOLICITUDES!$C$2:$C$1048576,BD!C744,SOLICITUDES!$I$2:$I$1048576)","v":0},0,{"$f":"SUMIF(SOLICITUDES!$C$2:$C$1048576,BD!C744,SOLICITUDES!$J$2:$J$1048576)","v":0},0,{"$f":"SUMIF(SOLICITUDES!$C$2:$C$1048576,BD!C744,SOLICITUDES!$K$2:$K$1048576)","v":0},0]
[null,null,"T9522",15,13200,240,-76.47457061129947,2.9972232767438016,7.5,7.5,3,3,{"$f":"SUMIF(SOLICITUDES!$C$2:$C$1048576,BD!C745,SOLICITUDES!$I$2:$I$1048576)","v":0},0,{"$f":"SUMIF(SOLICITUDES!$C$2:$C$1048576,BD!C745,SOLICITUDES!$J$2:$J$1048576)","v":0},0,{"$f":"SUMIF(SOLICITUDES!$C$2:$C$1048576,BD!C745,SOLICITUDES!$K$2:$K$1048576)","v":0},0]
[null,null,"T28736",0.5,13200,240,-76.472193743256369,2.9962810047302586,0.25,0.25,0.1,0.1,{"$f":"SUMIF(SOLICITUDES!$C$2:$C$1048576,BD!C746,SOLICITUDES!$I$2:$I$1048576)","v":0},0,{"$f":"SUMIF(SOLICITUDES!$C$2:$C$1048576,BD!C746,SOLICITUDES!$J$2:$J$1048576)","v":0},0,{"$f":"SUMIF(SOLICITUDES!$C$2:$C$1048576,BD!C746,SOLICITUDES!$K$2:$K$1048576)","v":0},0]
[null,null,"T8528",37.5,13200,240,-76.526081814702351,3.0024413816100548,18.75,18.75,7.5,7.5,{"$f":"SUMIF(SOLICITUDES!$C$2:$C$1048576,BD!C747,SOLICITUDES!$I$2:$I$1048576)","v":0},0,{"$f":"SUMIF(SOLICITUDES!$C$2:$C$1048576,BD!C747,SOLICITUDES!$J$2:$J$1048576)","v":0},0,{"$f":"SUMIF(SOLICITUDES!$C$2:$C$1048576,BD!C747,SOLICITUDES!$K$2:$K$1048576)","v":0},0]
[null,null,"T12784",37.5,13200,240,-76.518305405846036,2.9765653144660558,18.75,18.75,7.5,7.5,{"$f":"SUMIF(SOLICITUDES!$C$2:$C$1048576,BD!C748,SOLICITUDES!$I$2:$I$1048576)","v":0},0,{"$f":"SUMIF(SOLICITUDES!$C$2:$C$1048576,BD!C748,SOLICITUDES!$J$2:$J$1048576)","v":0},0,{"$f":"SUMIF(SOLICITUDES!$C$2:$C$1048576,BD!C748,SOLICITUDES!$K$2:$K$1048576)","v":0},0]
[null,null,"T8258",37.5,13200,240,-76.471832633570031,2.9544395981001341,18.75,18.75,7.5,7.5,{"$f":"SUMIF(SOLICITUDES!$C$2:$C$1048576,BD!C749,SOLICITUDES!$I$2:$I$1048576)","v":0},0,{"$f":"SUMIF(SOLICITUDES!$C$2:$C$1048576,BD!C749,SOLICITUDES!$J$2:$J$1048576)","v":0},0,{"$f":"SUMIF(SOLICITUDES!$C$2:$C$1048576,BD!C749,SOLICITUDES!$K$2:$K$1048576)","v":0},0]
[null,null,"T8245",25,13200,240,-76.4704840964704,2.9367870212301628,12.5,12.5,5,5,{"$f":"SUMIF(SOLICITUDES!$C$2:$C$1048576,BD!C750,SOLICITUDES!$I$2:$I$1048576)","v":0},0,{"$f":"SUMIF(SOLICITUDES!$C$2:$C$1048576,BD!C750,SOLICITUDES!$J$2:$J$1048576)","v":0},0,{"$f":"SUMIF(SOLICITUDES!$C$2:$C$1048576,BD!C750,SOLICITUDES!$K$2:$K$1048576)","v":0},0]
[null,null,"T8952",25,13200,240,-76.541137750471933,2.9953387244777767,12.5,12.5,5,5,{"$f":"SUMIF(SOLICITUDES!$C$2:$C$1048576,BD!C751,SOLICITUDES!$I$2:$I$1048576)","v":0},0,{"$f":"SUMIF(SOLICITUDES!$C$2:$C$1048576,BD!C751,SOLICITUDES!$J$2:$J$1048576)","v":0},0,{"$f":"SUMIF(SOLICITUDES!$C$2:$C$1048576,BD!C751,SOLICITUDES!$K$2:$K$1048576)","v":0},0]
[null,null,"T12762",15,13200,240,-76.519574912086313,2.9740339829260618,7.5,7.5,3,3,{"$f":"SUMIF(SOLICITUDES!$C$2:$C$1048576,BD!C752,SOLICITUDES!$I$2:$I$1048576)","v":0},0,{"$f":"SUMIF(SOLICITUDES!$C$2:$C$1048576,BD!C752,SOLICITUDES!$J$2:$J$1048576)","v":0},0,{"$f":"SUMIF(SOLICITUDES!$C$2:$C$1048576,BD!C752,SOLICITUDES!$K$2:$K$1048576)","v":0},0]
[null,null,"T8961",25,13200,240,-76.530288423356907,2.9905157881808293,12.5,12.5,5,5,{"$f":"SUMIF(SOLICITUDES!$C$2:$C$1048576,BD!C753,SOLICITUDES!$I$2:$I$1048576)","v":0},0,{"$f":"SUMIF(SOLICITUDES!$C$2:$C$1048576,BD!C753,SOLICITUDES!$J$2:$J$1048576)","v":0},0,{"$f":"SUMIF(SOLICITUDES!$C$2:$C$1048576,BD!C753,SOLICITUDES!$K$2:$K$1048576)","v":0},0]
[null,null,"T10982",25,13200,240,-76.458627750347148,2.9882979175390334,12.5,12.5,5,5,{"$f":"SUMIF(SOLICITUDES!$C$2:$C$1048576,BD!C754,SOLICITUDES!$I$2:$I$1048576)","v":0},0,{"$f":"SUMIF(SOLICITUDES!$C$2:$C$1048576,BD!C754,SOLICITUDES!$J$2:$J$1048576)","v":0},0,{"$f":"SUMIF(SOLICITUDES!$C$2:$C$1048576,BD!C754,SOLICITUDES!$K$2:$K$1048576)","v":0},0]
[null,null,"T9536",10,13200,240,-76.460999688380056,3.0090165477167203,5,5,2,2,{"$f":"SUMIF(SOLICITUDES!$C$2:$C$1048576,BD!C755,SOLICITUDES!$I$2:$I$1048576)","v":0},0,{"$f":"SUMIF(SOLICITUDES!$C$2:$C$1048576,BD!C755,SOLICITUDES!$J$2:$J$1048576)","v":0},0,{"$f":"SUMIF(SOLICITUDES!$C$2:$C$1048576,BD!C755,SOLICITUDES!$K$2:$K$1048576)","v":0},0]
[null,null,"T52216",15,13200,240,-76.463821960010222,3.0101920698243645,7.5,7.5,3,3,{"$f":"SUMIF(SOLICITUDES!$C$2:$C$1048576,BD!C756,SOLICITUDES!$I$2:$I$1048576)","v":0},0,{"$f":"SUMIF(SOLICITUDES!$C$2:$C$1048576,BD!C756,SOLICITUDES!$J$2:$J$1048576)","v":0},0,{"$f":"SUMIF(SOLICITUDES!$C$2:$C$1048576,BD!C756,SOLICITUDES!$K$2:$K$1048576)","v":0},0]
[null,null,"T28309",10,13200,240,-76.521563842837139,2.9794171728178989,5,5,2,2,{"$f":"SUMIF(SOLICITUDES!$C$2:$C$1048576,BD!C757,SOLICITUDES!$I$2:$I$1048576)","v":0},0,{"$f":"SUMIF(SOLICITUDES!$C$2:$C$1048576,BD!C757,SOLICITUDES!$J$2:$J$1048576)","v":0},0,{"$f":"SUMIF(SOLICITUDES!$C$2:$C$1048576,BD!C757,SOLICITUDES!$K$2:$K$1048576)","v":0},0]
[null,null,"T8280",25,13200,240,-76.470702024056735,2.9495015202721921,12.5,12.5,5,5,{"$f":"SUMIF(SOLICITUDES!$C$2:$C$1048576,BD!C758,SOLICITUDES!$I$2:$I$1048576)","v":0},0,{"$f":"SUMIF(SOLICITUDES!$C$2:$C$1048576,BD!C758,SOLICITUDES!$J$2:$J$1048576)","v":0},0,{"$f":"SUMIF(SOLICITUDES!$C$2:$C$1048576,BD!C758,SOLICITUDES!$K$2:$K$1048576)","v":0},0]
[null,null,"T8235",15,13200,240,-76.484639480883686,2.9401225188219864,7.5,7.5,3,3,{"$f":"SUMIF(SOLICITUDES!$C$2:$C$1048576,BD!C759,SOLICITUDES!$I$2:$I$1048576)","v":0},0,{"$f":"SUMIF(SOLICITUDES!$C$2:$C$1048576,BD!C759,SOLICITUDES!$J$2:$J$1048576)","v":0},0,{"$f":"SUMIF(SOLICITUDES!$C$2:$C$1048576,BD!C759,SOLICITUDES!$K$2:$K$1048576)","v":0},0]
[null,null,"T8524",15,13200,240,-76.522272842752599,3.0104334841336722,7.5,7.5,3,3,{"$f":"SUMIF(SOLICITUDES!$C$2:$C$1048576,BD!C760,SOLICITUDES!$I$2:$I$1048576)","v":0},0,{"$f":"SUMIF(SOLICITUDES!$C$2:$C$1048576,BD!C760,SOLICITUDES!$J$2:$J$1048576)","v":0},0,{"$f":"SUMIF(SOLICITUDES!$C$2:$C$1048576,BD!C760,SOLICITUDES!$K$2:$K$1048576)","v":0},0]
[null,null,"T8534",37.5,13200,240,-76.525870708654011,3.0107518381213345,18.75,18.75,7.5,7.5,{"$f":"SUMIF(SOLICITUDES!$C$2:$C$1048576,BD!C761,SOLICITUDES!$I$2:$I$1048576)","v":0},0,{"$f":"SUMIF(SOLICITUDES!$C$2:$C$1048576,BD!C761,SOLICITUDES!$J$2:$J$1048576)","v":0},0,{"$f":"SUMIF(SOLICITUDES!$C$2:$C$1048576,BD!C761,SOLICITUDES!$K$2:$K$1048576)","v":0},0]
[null,null,"T8283",5,13200,240,-76.466660691070302,2.9546989112138893,2.5,2.5,1,1,{"$f":"SUMIF(SOLICITUDES!$C$2:$C$1048576,BD!C762,SOLICITUDES!$I$2:$I$1048576)","v":0},0,{"$f":"SUMIF(SOLICITUDES!$C$2:$C$1048576,BD!C762,SOLICITUDES!$J$2:$J$1048576)","v":0},0,{"$f":"SUMIF(SOLICITUDES!$C$2:$C$1048576,BD!C762,SOLICITUDES!$K$2:$K$1048576)","v":0},0]
[null,null,"T8289",10,13200,240,-76.464460755171572,2.9479335751416853,5,5,2,2,{"$f":"SUMIF(SOLICITUDES!$C$2:$C$1048576,BD!C763,SOLICITUDES!$I$2:$I$1048576)","v":0},0,{"$f":"SUMIF(SOLICITUDES!$C$2:$C$1048576,BD!C763,SOLICITUDES!$J$2:$J$1048576)","v":0},0,{"$f":"SUMIF(SOLICITUDES!$C$2:$C$1048576,BD!C763,SOLICITUDES!$K$2:$K$1048576)","v":0},0]
[null,null,"T15170",37.5,13200,240,-76.463641112043902,2.9499587317709532,18.75,18.75,7.5,7.5,{"$f":"SUMIF(SOLICITUDES!$C$2:$C$1048576,BD!C764,SOLICITUDES!$I$2:$I$1048576)","v":0},0,{"$f":"SUMIF(SOLICITUDES!$C$2:$C$1048576,BD!C764,SOLICITUDES!$J$2:$J$1048576)","v":0},0,{"$f":"SUMIF(SOLICITUDES!$C$2:$C$1048576,BD!C764,SOLICITUDES!$K$2:$K$1048576)","v":0},0]
[null,null,"T8939",15,13200,240,-76.5300667451707,2.9843267679351593,7.5,7.5,3,3,{"$f":"SUMIF(SOLICITUDES!$C$2:$C$1048576,BD!C765,SOLICITUDES!$I$2:$I$1048576)","v":0},0,{"$f":"SUMIF(SOLICITUDES!$C$2:$C$1048576,BD!C765,SOLICITUDES!$J$2:$J$1048576)","v":0},0,{"$f":"SUMIF(SOLICITUDES!$C$2:$C$1048576,BD!C765,SOLICITUDES!$K$2:$K$1048576)","v":0},0]
[null,null,"T12788",25,13200,240,-76.518027806931585,2.9740060064749998,12.5,12.5,5,5,{"$f":"SUMIF(SOLICITUDES!$C$2:$C$1048576,BD!C766,SOLICITUDES!$I$2:$I$1048576)","v":0},0,{"$f":"SUMIF(SOLICITUDES!$C$2:$C$1048576,BD!C766,SOLICITUDES!$J$2:$J$1048576)","v":0},0,{"$f":"SUMIF(SOLICITUDES!$C$2:$C$1048576,BD!C766,SOLICITUDES!$K$2:$K$1048576)","v":0},0]
[null,null,"T8954",15,13200,240,-76.544045306095697,3.001536977471658,7.5,7.5,3,3,{"$f":"SUMIF(SOLICITUDES!$C$2:$C$1048576,BD!C767,SOLICITUDES!$I$2:$I$1048576)","v":0},0,{"$f":"SUMIF(SOLICITUDES!$C$2:$C$1048576,BD!C767,SOLICITUDES!$J$2:$J$1048576)","v":0},0,{"$f":"SUMIF(SOLICITUDES!$C$2:$C$1048576,BD!C767,SOLICITUDES!$K$2:$K$1048576)","v":0},0]
[null,null,"T12939",15,13200,240,-76.522251822636377,2.9811069241457142,7.5,7.5,3,3,{"$f":"SUMIF(SOLICITUDES!$C$2:$C$1048576,BD!C768,SOLICITUDES!$I$2:$I$1048576)","v":0},0,{"$f":"SUMIF(SOLICITUDES!$C$2:$C$1048576,BD!C768,SOLICITUDES!$J$2:$J$1048576)","v":0},0,{"$f":"SUMIF(SOLICITUDES!$C$2:$C$1048576,BD!C768,SOLICITUDES!$K$2:$K$1048576)","v":0},0]
[null,null,"T9523",15,13200,240,-76.465107502041093,2.9820168014765356,7.5,7.5,3,3,{"$f":"SUMIF(SOLICITUDES!$C$2:$C$1048576,BD!C769,SOLICITUDES!$I$2:$I$1048576)","v":0},0,{"$f":"SUMIF(SOLICITUDES!$C$2:$C$1048576,BD!C769,SOLICITUDES!$J$2:$J$1048576)","v":0},0,{"$f":"SUMIF(SOLICITUDES!$C$2:$C$1048576,BD!C769,SOLICITUDES!$K$2:$K$1048576)","v":0},0]
[null,null,"T10972",15,13200,240,-76.458238156038021,2.9932170890081999,7.5,7.5,3,3,{"$f":"SUMIF(SOLICITUDES!$C$2:$C$1048576,BD!C770,SOLICITUDES!$I$2:$I$1048576)","v":0},0,{"$f":"SUMIF(SOLICITUDES!$C$2:$C$1048576,BD!C770,SOLICITUDES!$J$2:$J$1048576)","v":0},0,{"$f":"SUMIF(SOLICITUDES!$C$2:$C$1048576,BD!C770,SOLICITUDES!$K$2:$K$1048576)","v":0},0]
[null,null,"T9529",10,13200,240,-76.452355402962226,3.0092467454275571,5,{"$f":"D771*0.5-M771","v":5},2,2,{"$f":"SUMIF(SOLICITUDES!$C$2:$C$1048576,BD!C771,SOLICITUDES!$I$2:$I$1048576)","v":0},{"$f":"M771/D771","v":0},{"$f":"SUMIF(SOLICITUDES!$C$2:$C$1048576,BD!C771,SOLICITUDES!$J$2:$J$1048576)","v":0},0,{"$f":"SUMIF(SOLICITUDES!$C$2:$C$1048576,BD!C771,SOLICITUDES!$K$2:$K$1048576)","v":0},0]
[null,null,"T45127",25,13200,240,-76.471010315649806,2.9849775190170802,{"$f":"D772*0.5","v":12.5},12.5,{"$f":"0.2*D772","v":5},{"$f":"0.2*D772","v":5},{"$f":"SUMIF(SOLICITUDES!$C$2:$C$1048576,BD!C772,SOLICITUDES!$I$2:$I$1048576)","v":0},0,{"$f":"SUMIF(SOLICITUDES!$C$2:$C$1048576,BD!C772,SOLICITUDES!$J$2:$J$1048576)","v":0},{"$f":"O772/(2*K772)","v":0},{"$f":"SUMIF(SOLICITUDES!$C$2:$C$1048576,BD!C772,SOLICITUDES!$K$2:$K$1048576)","v":0},{"$f":"Q772/(2*L772)","v":0}]
[null,null,"T8962",25,13200,240,-76.527576324453449,2.9818059280209255,12.5,12.5,5,5,{"$f":"SUMIF(SOLICITUDES!$C$2:$C$1048576,BD!C773,SOLICITUDES!$I$2:$I$1048576)","v":0},0,{"$f":"SUMIF(SOLICITUDES!$C$2:$C$1048576,BD!C773,SOLICITUDES!$J$2:$J$1048576)","v":0},0,{"$f":"SUMIF(SOLICITUDES!$C$2:$C$1048576,BD!C773,SOLICITUDES!$K$2:$K$1048576)","v":0},0]
[null,null,"T8957",15,13200,214,-76.530924012838113,2.9785883413503509,7.5,7.5,3,3,{"$f":"SUMIF(SOLICITUDES!$C$2:$C$1048576,BD!C774,SOLICITUDES!$I$2:$I$1048576)","v":0},0,{"$f":"SUMIF(SOLICITUDES!$C$2:$C$1048576,BD!C774,SOLICITUDES!$J$2:$J$1048576)","v":0},0,{"$f":"SUMIF(SOLICITUDES!$C$2:$C$1048576,BD!C774,SOLICITUDES!$K$2:$K$1048576)","v":0},0]
[null,null,"T8941",15,13200,240,-76.527017004557436,2.9851515760886866,7.5,7.5,3,3,{"$f":"SUMIF(SOLICITUDES!$C$2:$C$1048576,BD!C775,SOLICITUDES!$I$2:$I$1048576)","v":0},0,{"$f":"SUMIF(SOLICITUDES!$C$2:$C$1048576,BD!C775,SOLICITUDES!$J$2:$J$1048576)","v":0},0,{"$f":"SUMIF(SOLICITUDES!$C$2:$C$1048576,BD!C775,SOLICITUDES!$K$2:$K$1048576)","v":0},0]
[null,null,"T8269",15,13200,240,-76.462821664139199,2.9517216094607202,7.5,7.5,3,3,{"$f":"SUMIF(SOLICITUDES!$C$2:$C$1048576,BD!C776,SOLICITUDES!$I$2:$I$1048576)","v":0},0,{"$f":"SUMIF(SOLICITUDES!$C$2:$C$1048576,BD!C776,SOLICITUDES!$J$2:$J$1048576)","v":0},0,{"$f":"SUMIF(SOLICITUDES!$C$2:$C$1048576,BD!C776,SOLICITUDES!$K$2:$K$1048576)","v":0},0]
[null,null,"T30112",10,13200,240,-76.522454293418534,2.9719826432238881,5,5,2,2,{"$f":"SUMIF(SOLICITUDES!$C$2:$C$1048576,BD!C777,SOLICITUDES!$I$2:$I$1048576)","v":0},0,{"$f":"SUMIF(SOLICITUDES!$C$2:$C$1048576,BD!C777,SOLICITUDES!$J$2:$J$1048576)","v":0},0,{"$f":"SUMIF(SOLICITUDES!$C$2:$C$1048576,BD!C777,SOLICITUDES!$K$2:$K$1048576)","v":0},0]
[null,null,"T9548",15,13200,240,-76.455491032772684,3.0156238192732321,7.5,7.5,3,3,{"$f":"SUMIF(SOLICITUDES!$C$2:$C$1048576,BD!C778,SOLICITUDES!$I$2:$I$1048576)","v":0},0,{"$f":"SUMIF(SOLICITUDES!$C$2:$C$1048576,BD!C778,SOLICITUDES!$J$2:$J$1048576)","v":0},0,{"$f":"SUMIF(SOLICITUDES!$C$2:$C$1048576,BD!C778,SOLICITUDES!$K$2:$K$1048576)","v":0},0]
[null,null,"T9540",25,13200,240,-76.450285932484221,3.0104120491656525,12.5,12.5,5,5,{"$f":"SUMIF(SOLICITUDES!$C$2:$C$1048576,BD!C779,SOLICITUDES!$I$2:$I$1048576)","v":0},0,{"$f":"SUMIF(SOLICITUDES!$C$2:$C$1048576,BD!C779,SOLICITUDES!$J$2:$J$1048576)","v":0},0,{"$f":"SUMIF(SOLICITUDES!$C$2:$C$1048576,BD!C779,SOLICITUDES!$K$2:$K$1048576)","v":0},0]
[null,null,"T10985",25,13200,240,-76.457027938730249,2.9860724801856944,12.5,12.5,5,5,{"$f":"SUMIF(SOLICITUDES!$C$2:$C$1048576,BD!C780,SOLICITUDES!$I$2:$I$1048576)","v":0},0,{"$f":"SUMIF(SOLICITUDES!$C$2:$C$1048576,BD!C780,SOLICITUDES!$J$2:$J$1048576)","v":0},0,{"$f":"SUMIF(SOLICITUDES!$C$2:$C$1048576,BD!C780,SOLICITUDES!$K$2:$K$1048576)","v":0},0]
[null,null,"T10999",15,13200,240,-76.456130892145566,2.9817223570447848,7.5,7.5,3,3,{"$f":"SUMIF(SOLICITUDES!$C$2:$C$1048576,BD!C781,SOLICITUDES!$I$2:$I$1048576)","v":0},0,{"$f":"SUMIF(SOLICITUDES!$C$2:$C$1048576,BD!C781,SOLICITUDES!$J$2:$J$1048576)","v":0},0,{"$f":"SUMIF(SOLICITUDES!$C$2:$C$1048576,BD!C781,SOLICITUDES!$K$2:$K$1048576)","v":0},0]
[null,null,"T8279",15,13200,240,-76.466802325028098,2.9587502826359371,7.5,7.5,3,3,{"$f":"SUMIF(SOLICITUDES!$C$2:$C$1048576,BD!C782,SOLICITUDES!$I$2:$I$1048576)","v":0},0,{"$f":"SUMIF(SOLICITUDES!$C$2:$C$1048576,BD!C782,SOLICITUDES!$J$2:$J$1048576)","v":0},0,{"$f":"SUMIF(SOLICITUDES!$C$2:$C$1048576,BD!C782,SOLICITUDES!$K$2:$K$1048576)","v":0},0]
[null,null,"T12785",25,13200,240,-76.522655120268666,2.9838562606395436,12.5,12.5,5,5,{"$f":"SUMIF(SOLICITUDES!$C$2:$C$1048576,BD!C783,SOLICITUDES!$I$2:$I$1048576)","v":0},0,{"$f":"SUMIF(SOLICITUDES!$C$2:$C$1048576,BD!C783,SOLICITUDES!$J$2:$J$1048576)","v":0},0,{"$f":"SUMIF(SOLICITUDES!$C$2:$C$1048576,BD!C783,SOLICITUDES!$K$2:$K$1048576)","v":0},0]
[null,null,"T45099",15,13200,240,-76.549977203483621,2.9929897960157485,7.5,7.5,3,3,{"$f":"SUMIF(SOLICITUDES!$C$2:$C$1048576,BD!C784,SOLICITUDES!$I$2:$I$1048576)","v":0},0,{"$f":"SUMIF(SOLICITUDES!$C$2:$C$1048576,BD!C784,SOLICITUDES!$J$2:$J$1048576)","v":0},0,{"$f":"SUMIF(SOLICITUDES!$C$2:$C$1048576,BD!C784,SOLICITUDES!$K$2:$K$1048576)","v":0},0]
[null,null,"T8945",25,13200,240,-76.556432101547529,2.9965528792731173,12.5,12.5,5,5,{"$f":"SUMIF(SOLICITUDES!$C$2:$C$1048576,BD!C785,SOLICITUDES!$I$2:$I$1048576)","v":0},0,{"$f":"SUMIF(SOLICITUDES!$C$2:$C$1048576,BD!C785,SOLICITUDES!$J$2:$J$1048576)","v":0},0,{"$f":"SUMIF(SOLICITUDES!$C$2:$C$1048576,BD!C785,SOLICITUDES!$K$2:$K$1048576)","v":0},0]
[null,null,"T8943",37.5,13200,240,-76.547583454866427,2.9951001186560209,18.75,18.75,7.5,7.5,{"$f":"SUMIF(SOLICITUDES!$C$2:$C$1048576,BD!C786,SOLICITUDES!$I$2:$I$1048576)","v":0},0,{"$f":"SUMIF(SOLICITUDES!$C$2:$C$1048576,BD!C786,SOLICITUDES!$J$2:$J$1048576)","v":0},0,{"$f":"SUMIF(SOLICITUDES!$C$2:$C$1048576,BD!C786,SOLICITUDES!$K$2:$K$1048576)","v":0},0]
[null,null,"T8937",37.5,13200,240,-76.538259334031167,3.005910976323801,18.75,18.75,7.5,7.5,{"$f":"SUMIF(SOLICITUDES!$C$2:$C$1048576,BD!C787,SOLICITUDES!$I$2:$I$1048576)","v":0},0,{"$f":"SUMIF(SOLICITUDES!$C$2:$C$1048576,BD!C787,SOLICITUDES!$J$2:$J$1048576)","v":0},0,{"$f":"SUMIF(SOLICITUDES!$C$2:$C$1048576,BD!C787,SOLICITUDES!$K$2:$K$1048576)","v":0},0]
[null,null,"T8252",25,13200,240,-76.464838913513574,2.9473008012789408,12.5,12.5,5,5,{"$f":"SUMIF(SOLICITUDES!$C$2:$C$1048576,BD!C788,SOLICITUDES!$I$2:$I$1048576)","v":0},0,{"$f":"SUMIF(SOLICITUDES!$C$2:$C$1048576,BD!C788,SOLICITUDES!$J$2:$J$1048576)","v":0},0,{"$f":"SUMIF(SOLICITUDES!$C$2:$C$1048576,BD!C788,SOLICITUDES!$K$2:$K$1048576)","v":0},0]
[null,null,"T8934",25,13200,240,-76.528713191442392,2.9748252977165275,12.5,12.5,5,5,{"$f":"SUMIF(SOLICITUDES!$C$2:$C$1048576,BD!C789,SOLICITUDES!$I$2:$I$1048576)","v":0},0,{"$f":"SUMIF(SOLICITUDES!$C$2:$C$1048576,BD!C789,SOLICITUDES!$J$2:$J$1048576)","v":0},0,{"$f":"SUMIF(SOLICITUDES!$C$2:$C$1048576,BD!C789,SOLICITUDES!$K$2:$K$1048576)","v":0},0]
[null,null,"T10989",30,13200,214,-76.45305966572289,2.9821254636116108,15,15,6,6,{"$f":"SUMIF(SOLICITUDES!$C$2:$C$1048576,BD!C790,SOLICITUDES!$I$2:$I$1048576)","v":0},0,{"$f":"SUMIF(SOLICITUDES!$C$2:$C$1048576,BD!C790,SOLICITUDES!$J$2:$J$1048576)","v":0},0,{"$f":"SUMIF(SOLICITUDES!$C$2:$C$1048576,BD!C790,SOLICITUDES!$K$2:$K$1048576)","v":0},0]
[null,null,"T12763",25,13200,240,-76.52316375735542,2.9740810223201217,12.5,12.5,5,5,{"$f":"SUMIF(SOLICITUDES!$C$2:$C$1048576,BD!C791,SOLICITUDES!$I$2:$I$1048576)","v":0},0,{"$f":"SUMIF(SOLICITUDES!$C$2:$C$1048576,BD!C791,SOLICITUDES!$J$2:$J$1048576)","v":0},0,{"$f":"SUMIF(SOLICITUDES!$C$2:$C$1048576,BD!C791,SOLICITUDES!$K$2:$K$1048576)","v":0},0]
[null,null,"T44789",15,13200,240,-76.454863466301703,3.0060719670530291,7.5,7.5,3,3,{"$f":"SUMIF(SOLICITUDES!$C$2:$C$1048576,BD!C792,SOLICITUDES!$I$2:$I$1048576)","v":0},0,{"$f":"SUMIF(SOLICITUDES!$C$2:$C$1048576,BD!C792,SOLICITUDES!$J$2:$J$1048576)","v":0},0,{"$f":"SUMIF(SOLICITUDES!$C$2:$C$1048576,BD!C792,SOLICITUDES!$K$2:$K$1048576)","v":0},0]
[null,null,"T8955",25,13200,240,-76.527329228594908,2.9723468573958662,12.5,12.5,5,5,{"$f":"SUMIF(SOLICITUDES!$C$2:$C$1048576,BD!C793,SOLICITUDES!$I$2:$I$1048576)","v":0},0,{"$f":"SUMIF(SOLICITUDES!$C$2:$C$1048576,BD!C793,SOLICITUDES!$J$2:$J$1048576)","v":0},0,{"$f":"SUMIF(SOLICITUDES!$C$2:$C$1048576,BD!C793,SOLICITUDES!$K$2:$K$1048576)","v":0},0]
[null,null,"T8947",10,13200,214,-76.548683482328642,3.0082854382971114,5,5,2,2,{"$f":"SUMIF(SOLICITUDES!$C$2:$C$1048576,BD!C794,SOLICITUDES!$I$2:$I$1048576)","v":0},0,{"$f":"SUMIF(SOLICITUDES!$C$2:$C$1048576,BD!C794,SOLICITUDES!$J$2:$J$1048576)","v":0},0,{"$f":"SUMIF(SOLICITUDES!$C$2:$C$1048576,BD!C794,SOLICITUDES!$K$2:$K$1048576)","v":0},0]
[null,null,"T8251",15,13200,240,-76.465127478518113,2.9458450413175434,7.5,7.5,3,3,{"$f":"SUMIF(SOLICITUDES!$C$2:$C$1048576,BD!C795,SOLICITUDES!$I$2:$I$1048576)","v":0},0,{"$f":"SUMIF(SOLICITUDES!$C$2:$C$1048576,BD!C795,SOLICITUDES!$J$2:$J$1048576)","v":0},0,{"$f":"SUMIF(SOLICITUDES!$C$2:$C$1048576,BD!C795,SOLICITUDES!$K$2:$K$1048576)","v":0},0]
[null,null,"T8942",15,13200,240,-76.547398142717498,2.9876575455824503,7.5,7.5,3,3,{"$f":"SUMIF(SOLICITUDES!$C$2:$C$1048576,BD!C796,SOLICITUDES!$I$2:$I$1048576)","v":0},0,{"$f":"SUMIF(SOLICITUDES!$C$2:$C$1048576,BD!C796,SOLICITUDES!$J$2:$J$1048576)","v":0},0,{"$f":"SUMIF(SOLICITUDES!$C$2:$C$1048576,BD!C796,SOLICITUDES!$K$2:$K$1048576)","v":0},0]
[null,null,"T10990",25,13200,240,-76.456005970934825,2.9799679593100157,12.5,12.5,5,5,{"$f":"SUMIF(SOLICITUDES!$C$2:$C$1048576,BD!C797,SOLICITUDES!$I$2:$I$1048576)","v":0},0,{"$f":"SUMIF(SOLICITUDES!$C$2:$C$1048576,BD!C797,SOLICITUDES!$J$2:$J$1048576)","v":0},0,{"$f":"SUMIF(SOLICITUDES!$C$2:$C$1048576,BD!C797,SOLICITUDES!$K$2:$K$1048576)","v":0},0]
[null,null,"T8286",50,13200,240,-76.461103332621789,2.9523718373435073,25,25,10,10,{"$f":"SUMIF(SOLICITUDES!$C$2:$C$1048576,BD!C798,SOLICITUDES!$I$2:$I$1048576)","v":0},0,{"$f":"SUMIF(SOLICITUDES!$C$2:$C$1048576,BD!C798,SOLICITUDES!$J$2:$J$1048576)","v":0},0,{"$f":"SUMIF(SOLICITUDES!$C$2:$C$1048576,BD!C798,SOLICITUDES!$K$2:$K$1048576)","v":0},0]
[null,null,"T23981",5,13200,240,-76.560826679055509,2.9731177882471047,2.5,2.5,1,1,{"$f":"SUMIF(SOLICITUDES!$C$2:$C$1048576,BD!C799,SOLICITUDES!$I$2:$I$1048576)","v":0},0,{"$f":"SUMIF(SOLICITUDES!$C$2:$C$1048576,BD!C799,SOLICITUDES!$J$2:$J$1048576)","v":0},0,{"$f":"SUMIF(SOLICITUDES!$C$2:$C$1048576,BD!C799,SOLICITUDES!$K$2:$K$1048576)","v":0},0]
[null,null,"T8275",25,13200,240,-76.465118431600587,2.9295225092209418,12.5,12.5,5,5,{"$f":"SUMIF(SOLICITUDES!$C$2:$C$1048576,BD!C800,SOLICITUDES!$I$2:$I$1048576)","v":0},0,{"$f":"SUMIF(SOLICITUDES!$C$2:$C$1048576,BD!C800,SOLICITUDES!$J$2:$J$1048576)","v":0},0,{"$f":"SUMIF(SOLICITUDES!$C$2:$C$1048576,BD!C800,SOLICITUDES!$K$2:$K$1048576)","v":0},0]
[null,null,"T9203",15,13200,240,-76.553499029338596,3.0204145251804309,7.5,7.5,3,3,{"$f":"SUMIF(SOLICITUDES!$C$2:$C$1048576,BD!C801,SOLICITUDES!$I$2:$I$1048576)","v":0},0,{"$f":"SUMIF(SOLICITUDES!$C$2:$C$1048576,BD!C801,SOLICITUDES!$J$2:$J$1048576)","v":0},0,{"$f":"SUMIF(SOLICITUDES!$C$2:$C$1048576,BD!C801,SOLICITUDES!$K$2:$K$1048576)","v":0},0]
[null,null,"T9217",25,13200,240,-76.584567712942459,3.0020718016220442,12.5,12.5,5,5,{"$f":"SUMIF(SOLICITUDES!$C$2:$C$1048576,BD!C802,SOLICITUDES!$I$2:$I$1048576)","v":0},0,{"$f":"SUMIF(SOLICITUDES!$C$2:$C$1048576,BD!C802,SOLICITUDES!$J$2:$J$1048576)","v":0},0,{"$f":"SUMIF(SOLICITUDES!$C$2:$C$1048576,BD!C802,SOLICITUDES!$K$2:$K$1048576)","v":0},0]
[null,null,"T10987",10,13200,240,-76.466876791394427,2.9649770210066269,5,5,2,2,{"$f":"SUMIF(SOLICITUDES!$C$2:$C$1048576,BD!C803,SOLICITUDES!$I$2:$I$1048576)","v":0},0,{"$f":"SUMIF(SOLICITUDES!$C$2:$C$1048576,BD!C803,SOLICITUDES!$J$2:$J$1048576)","v":0},0,{"$f":"SUMIF(SOLICITUDES!$C$2:$C$1048576,BD!C803,SOLICITUDES!$K$2:$K$1048576)","v":0},0]
[null,null,"T10977",15,13200,240,-76.451188290723763,2.9738520834502329,7.5,7.5,3,3,{"$f":"SUMIF(SOLICITUDES!$C$2:$C$1048576,BD!C804,SOLICITUDES!$I$2:$I$1048576)","v":0},0,{"$f":"SUMIF(SOLICITUDES!$C$2:$C$1048576,BD!C804,SOLICITUDES!$J$2:$J$1048576)","v":0},0,{"$f":"SUMIF(SOLICITUDES!$C$2:$C$1048576,BD!C804,SOLICITUDES!$K$2:$K$1048576)","v":0},0]
[null,null,"T8254",5,13200,240,-76.452843979733288,2.9245421337014719,2.5,2.5,1,1,{"$f":"SUMIF(SOLICITUDES!$C$2:$C$1048576,BD!C805,SOLICITUDES!$I$2:$I$1048576)","v":0},0,{"$f":"SUMIF(SOLICITUDES!$C$2:$C$1048576,BD!C805,SOLICITUDES!$J$2:$J$1048576)","v":0},0,{"$f":"SUMIF(SOLICITUDES!$C$2:$C$1048576,BD!C805,SOLICITUDES!$K$2:$K$1048576)","v":0},0]
[null,null,"T13485",37.5,13200,240,-76.523600225756226,2.9647487647877662,18.75,18.75,7.5,7.5,{"$f":"SUMIF(SOLICITUDES!$C$2:$C$1048576,BD!C806,SOLICITUDES!$I$2:$I$1048576)","v":0},0,{"$f":"SUMIF(SOLICITUDES!$C$2:$C$1048576,BD!C806,SOLICITUDES!$J$2:$J$1048576)","v":0},0,{"$f":"SUMIF(SOLICITUDES!$C$2:$C$1048576,BD!C806,SOLICITUDES!$K$2:$K$1048576)","v":0},0]
[null,null,"T9212",10,13200,214,-76.564232223117941,3.0136489620905,5,5,2,2,{"$f":"SUMIF(SOLICITUDES!$C$2:$C$1048576,BD!C807,SOLICITUDES!$I$2:$I$1048576)","v":0},0,{"$f":"SUMIF(SOLICITUDES!$C$2:$C$1048576,BD!C807,SOLICITUDES!$J$2:$J$1048576)","v":0},0,{"$f":"SUMIF(SOLICITUDES!$C$2:$C$1048576,BD!C807,SOLICITUDES!$K$2:$K$1048576)","v":0},0]
[null,null,"T12941",5,13200,240,-76.50372576436483,2.9574680183550863,2.5,2.5,1,1,{"$f":"SUMIF(SOLICITUDES!$C$2:$C$1048576,BD!C808,SOLICITUDES!$I$2:$I$1048576)","v":0},0,{"$f":"SUMIF(SOLICITUDES!$C$2:$C$1048576,BD!C808,SOLICITUDES!$J$2:$J$1048576)","v":0},0,{"$f":"SUMIF(SOLICITUDES!$C$2:$C$1048576,BD!C808,SOLICITUDES!$K$2:$K$1048576)","v":0},0]
[null,null,"T11001",5,13200,240,-76.472605680129575,2.9718657127294303,2.5,2.5,1,1,{"$f":"SUMIF(SOLICITUDES!$C$2:$C$1048576,BD!C809,SOLICITUDES!$I$2:$I$1048576)","v":0},0,{"$f":"SUMIF(SOLICITUDES!$C$2:$C$1048576,BD!C809,SOLICITUDES!$J$2:$J$1048576)","v":0},0,{"$f":"SUMIF(SOLICITUDES!$C$2:$C$1048576,BD!C809,SOLICITUDES!$K$2:$K$1048576)","v":0},0]
[null,null,"T23980",5,13200,240,-76.561646889449094,2.9678735345149319,2.5,2.5,1,1,{"$f":"SUMIF(SOLICITUDES!$C$2:$C$1048576,BD!C810,SOLICITUDES!$I$2:$I$1048576)","v":0},0,{"$f":"SUMIF(SOLICITUDES!$C$2:$C$1048576,BD!C810,SOLICITUDES!$J$2:$J$1048576)","v":0},0,{"$f":"SUMIF(SOLICITUDES!$C$2:$C$1048576,BD!C810,SOLICITUDES!$K$2:$K$1048576)","v":0},0]
[null,null,"T9219",10,13200,240,-76.580878247811981,2.9856206780855019,5,5,2,2,{"$f":"SUMIF(SOLICITUDES!$C$2:$C$1048576,BD!C811,SOLICITUDES!$I$2:$I$1048576)","v":0},0,{"$f":"SUMIF(SOLICITUDES!$C$2:$C$1048576,BD!C811,SOLICITUDES!$J$2:$J$1048576)","v":0},0,{"$f":"SUMIF(SOLICITUDES!$C$2:$C$1048576,BD!C811,SOLICITUDES!$K$2:$K$1048576)","v":0},0]
[null,null,"T8242",50,13200,240,-76.465632985191704,2.9261407818269785,25,25,10,10,{"$f":"SUMIF(SOLICITUDES!$C$2:$C$1048576,BD!C812,SOLICITUDES!$I$2:$I$1048576)","v":0},0,{"$f":"SUMIF(SOLICITUDES!$C$2:$C$1048576,BD!C812,SOLICITUDES!$J$2:$J$1048576)","v":0},0,{"$f":"SUMIF(SOLICITUDES!$C$2:$C$1048576,BD!C812,SOLICITUDES!$K$2:$K$1048576)","v":0},0]
[null,null,"T12772",25,13200,240,-76.51041498879097,2.9453176912641736,12.5,12.5,5,5,{"$f":"SUMIF(SOLICITUDES!$C$2:$C$1048576,BD!C813,SOLICITUDES!$I$2:$I$1048576)","v":0},0,{"$f":"SUMIF(SOLICITUDES!$C$2:$C$1048576,BD!C813,SOLICITUDES!$J$2:$J$1048576)","v":0},0,{"$f":"SUMIF(SOLICITUDES!$C$2:$C$1048576,BD!C813,SOLICITUDES!$K$2:$K$1048576)","v":0},0]
[null,null,"T9533",25,13200,240,-76.434903768101407,3.0118137353508327,12.5,12.5,5,5,{"$f":"SUMIF(SOLICITUDES!$C$2:$C$1048576,BD!C814,SOLICITUDES!$I$2:$I$1048576)","v":0},0,{"$f":"SUMIF(SOLICITUDES!$C$2:$C$1048576,BD!C814,SOLICITUDES!$J$2:$J$1048576)","v":0},0,{"$f":"SUMIF(SOLICITUDES!$C$2:$C$1048576,BD!C814,SOLICITUDES!$K$2:$K$1048576)","v":0},0]
[null,null,"T9525",10,13200,240,-76.430481876701222,3.0057794715031432,5,5,2,2,{"$f":"SUMIF(SOLICITUDES!$C$2:$C$1048576,BD!C815,SOLICITUDES!$I$2:$I$1048576)","v":0},0,{"$f":"SUMIF(SOLICITUDES!$C$2:$C$1048576,BD!C815,SOLICITUDES!$J$2:$J$1048576)","v":0},0,{"$f":"SUMIF(SOLICITUDES!$C$2:$C$1048576,BD!C815,SOLICITUDES!$K$2:$K$1048576)","v":0},0]
[null,null,"T10967",50,13200,240,-76.450262651539262,2.9725041877004035,25,25,10,10,{"$f":"SUMIF(SOLICITUDES!$C$2:$C$1048576,BD!C816,SOLICITUDES!$I$2:$I$1048576)","v":0},0,{"$f":"SUMIF(SOLICITUDES!$C$2:$C$1048576,BD!C816,SOLICITUDES!$J$2:$J$1048576)","v":0},0,{"$f":"SUMIF(SOLICITUDES!$C$2:$C$1048576,BD!C816,SOLICITUDES!$K$2:$K$1048576)","v":0},0]
[null,null,"T8243",15,13200,240,-76.453604979333434,2.9308635636139124,7.5,7.5,3,3,{"$f":"SUMIF(SOLICITUDES!$C$2:$C$1048576,BD!C817,SOLICITUDES!$I$2:$I$1048576)","v":0},0,{"$f":"SUMIF(SOLICITUDES!$C$2:$C$1048576,BD!C817,SOLICITUDES!$J$2:$J$1048576)","v":0},0,{"$f":"SUMIF(SOLICITUDES!$C$2:$C$1048576,BD!C817,SOLICITUDES!$K$2:$K$1048576)","v":0},0]
[null,null,"T9196",15,13200,240,-76.586563505067161,3.0245809213481811,7.5,7.5,3,3,{"$f":"SUMIF(SOLICITUDES!$C$2:$C$1048576,BD!C818,SOLICITUDES!$I$2:$I$1048576)","v":0},0,{"$f":"SUMIF(SOLICITUDES!$C$2:$C$1048576,BD!C818,SOLICITUDES!$J$2:$J$1048576)","v":0},0,{"$f":"SUMIF(SOLICITUDES!$C$2:$C$1048576,BD!C818,SOLICITUDES!$K$2:$K$1048576)","v":0},0]
[null,null,"T11002",10,13200,240,-76.472797033720511,2.9673263244267383,5,5,2,2,{"$f":"SUMIF(SOLICITUDES!$C$2:$C$1048576,BD!C819,SOLICITUDES!$I$2:$I$1048576)","v":0},0,{"$f":"SUMIF(SOLICITUDES!$C$2:$C$1048576,BD!C819,SOLICITUDES!$J$2:$J$1048576)","v":0},0,{"$f":"SUMIF(SOLICITUDES!$C$2:$C$1048576,BD!C819,SOLICITUDES!$K$2:$K$1048576)","v":0},0]
[null,null,"T44787",15,13200,240,-76.467116040162793,2.9775169347988326,7.5,7.5,3,3,{"$f":"SUMIF(SOLICITUDES!$C$2:$C$1048576,BD!C820,SOLICITUDES!$I$2:$I$1048576)","v":0},0,{"$f":"SUMIF(SOLICITUDES!$C$2:$C$1048576,BD!C820,SOLICITUDES!$J$2:$J$1048576)","v":0},0,{"$f":"SUMIF(SOLICITUDES!$C$2:$C$1048576,BD!C820,SOLICITUDES!$K$2:$K$1048576)","v":0},0]
[null,null,"T12773",10,13200,240,-76.508059376891765,2.9433269809258205,5,5,2,2,{"$f":"SUMIF(SOLICITUDES!$C$2:$C$1048576,BD!C821,SOLICITUDES!$I$2:$I$1048576)","v":0},0,{"$f":"SUMIF(SOLICITUDES!$C$2:$C$1048576,BD!C821,SOLICITUDES!$J$2:$J$1048576)","v":0},0,{"$f":"SUMIF(SOLICITUDES!$C$2:$C$1048576,BD!C821,SOLICITUDES!$K$2:$K$1048576)","v":0},0]
[null,null,"T1564",15,13200,240,-76.462037125540022,2.9267544391439122,7.5,7.5,3,3,{"$f":"SUMIF(SOLICITUDES!$C$2:$C$1048576,BD!C822,SOLICITUDES!$I$2:$I$1048576)","v":0},0,{"$f":"SUMIF(SOLICITUDES!$C$2:$C$1048576,BD!C822,SOLICITUDES!$J$2:$J$1048576)","v":0},0,{"$f":"SUMIF(SOLICITUDES!$C$2:$C$1048576,BD!C822,SOLICITUDES!$K$2:$K$1048576)","v":0},0]
[null,null,"T9199",37.5,13200,240,-76.590045012575828,3.003747181469179,18.75,18.75,7.5,7.5,{"$f":"SUMIF(SOLICITUDES!$C$2:$C$1048576,BD!C823,SOLICITUDES!$I$2:$I$1048576)","v":0},0,{"$f":"SUMIF(SOLICITUDES!$C$2:$C$1048576,BD!C823,SOLICITUDES!$J$2:$J$1048576)","v":0},0,{"$f":"SUMIF(SOLICITUDES!$C$2:$C$1048576,BD!C823,SOLICITUDES!$K$2:$K$1048576)","v":0},0]
[null,null,"T9202",5,13200,240,-76.58089812142201,2.9815241609959831,2.5,2.5,1,1,{"$f":"SUMIF(SOLICITUDES!$C$2:$C$1048576,BD!C824,SOLICITUDES!$I$2:$I$1048576)","v":0},0,{"$f":"SUMIF(SOLICITUDES!$C$2:$C$1048576,BD!C824,SOLICITUDES!$J$2:$J$1048576)","v":0},0,{"$f":"SUMIF(SOLICITUDES!$C$2:$C$1048576,BD!C824,SOLICITUDES!$K$2:$K$1048576)","v":0},0]
[null,null,"T9220",15,13200,240,-76.589595106255473,2.983815969848604,7.5,7.5,3,3,{"$f":"SUMIF(SOLICITUDES!$C$2:$C$1048576,BD!C825,SOLICITUDES!$I$2:$I$1048576)","v":0},0,{"$f":"SUMIF(SOLICITUDES!$C$2:$C$1048576,BD!C825,SOLICITUDES!$J$2:$J$1048576)","v":0},0,{"$f":"SUMIF(SOLICITUDES!$C$2:$C$1048576,BD!C825,SOLICITUDES!$K$2:$K$1048576)","v":0},0]
[null,null,"T9207",10,13200,240,-76.587019098717434,3.031535312149523,5,5,2,2,{"$f":"SUMIF(SOLICITUDES!$C$2:$C$1048576,BD!C826,SOLICITUDES!$I$2:$I$1048576)","v":0},0,{"$f":"SUMIF(SOLICITUDES!$C$2:$C$1048576,BD!C826,SOLICITUDES!$J$2:$J$1048576)","v":0},0,{"$f":"SUMIF(SOLICITUDES!$C$2:$C$1048576,BD!C826,SOLICITUDES!$K$2:$K$1048576)","v":0},0]
[null,null,"T10971",37.5,13200,240,-76.448887108386202,2.9713459063537102,18.75,18.75,7.5,7.5,{"$f":"SUMIF(SOLICITUDES!$C$2:$C$1048576,BD!C827,SOLICITUDES!$I$2:$I$1048576)","v":0},0,{"$f":"SUMIF(SOLICITUDES!$C$2:$C$1048576,BD!C827,SOLICITUDES!$J$2:$J$1048576)","v":0},0,{"$f":"SUMIF(SOLICITUDES!$C$2:$C$1048576,BD!C827,SOLICITUDES!$K$2:$K$1048576)","v":0},0]
[null,null,"T45098",15,13200,240,-76.584229718059518,2.9974262334713213,7.5,7.5,3,3,{"$f":"SUMIF(SOLICITUDES!$C$2:$C$1048576,BD!C828,SOLICITUDES!$I$2:$I$1048576)","v":0},0,{"$f":"SUMIF(SOLICITUDES!$C$2:$C$1048576,BD!C828,SOLICITUDES!$J$2:$J$1048576)","v":0},0,{"$f":"SUMIF(SOLICITUDES!$C$2:$C$1048576,BD!C828,SOLICITUDES!$K$2:$K$1048576)","v":0},0]
[null,null,"T8292",15,13200,240,-76.459798467532622,2.9211548891553893,7.5,7.5,3,3,{"$f":"SUMIF(SOLICITUDES!$C$2:$C$1048576,BD!C829,SOLICITUDES!$I$2:$I$1048576)","v":0},0,{"$f":"SUMIF(SOLICITUDES!$C$2:$C$1048576,BD!C829,SOLICITUDES!$J$2:$J$1048576)","v":0},0,{"$f":"SUMIF(SOLICITUDES!$C$2:$C$1048576,BD!C829,SOLICITUDES!$K$2:$K$1048576)","v":0},0]
[null,null,"T9216",30,13200,208,-76.582222297557095,3.0365701600728197,15,15,6,6,{"$f":"SUMIF(SOLICITUDES!$C$2:$C$1048576,BD!C830,SOLICITUDES!$I$2:$I$1048576)","v":0},0,{"$f":"SUMIF(SOLICITUDES!$C$2:$C$1048576,BD!C830,SOLICITUDES!$J$2:$J$1048576)","v":0},0,{"$f":"SUMIF(SOLICITUDES!$C$2:$C$1048576,BD!C830,SOLICITUDES!$K$2:$K$1048576)","v":0},0]
[null,null,"T1567",10,13200,240,-76.471218168920004,2.9266954332515156,5,5,2,2,{"$f":"SUMIF(SOLICITUDES!$C$2:$C$1048576,BD!C831,SOLICITUDES!$I$2:$I$1048576)","v":0},0,{"$f":"SUMIF(SOLICITUDES!$C$2:$C$1048576,BD!C831,SOLICITUDES!$J$2:$J$1048576)","v":0},0,{"$f":"SUMIF(SOLICITUDES!$C$2:$C$1048576,BD!C831,SOLICITUDES!$K$2:$K$1048576)","v":0},0]
[null,null,"T12783",10,13200,240,-76.504885773143272,2.9406305854957773,5,5,2,2,{"$f":"SUMIF(SOLICITUDES!$C$2:$C$1048576,BD!C832,SOLICITUDES!$I$2:$I$1048576)","v":0},0,{"$f":"SUMIF(SOLICITUDES!$C$2:$C$1048576,BD!C832,SOLICITUDES!$J$2:$J$1048576)","v":0},0,{"$f":"SUMIF(SOLICITUDES!$C$2:$C$1048576,BD!C832,SOLICITUDES!$K$2:$K$1048576)","v":0},0]
[null,null,"T10970",25,13200,208,-76.448348118833181,2.9702062366052799,12.5,12.5,5,5,{"$f":"SUMIF(SOLICITUDES!$C$2:$C$1048576,BD!C833,SOLICITUDES!$I$2:$I$1048576)","v":0},0,{"$f":"SUMIF(SOLICITUDES!$C$2:$C$1048576,BD!C833,SOLICITUDES!$J$2:$J$1048576)","v":0},0,{"$f":"SUMIF(SOLICITUDES!$C$2:$C$1048576,BD!C833,SOLICITUDES!$K$2:$K$1048576)","v":0},0]
[null,null,"T9206",30,13200,208,-76.589954913005528,3.0041450497339,15,15,6,6,{"$f":"SUMIF(SOLICITUDES!$C$2:$C$1048576,BD!C834,SOLICITUDES!$I$2:$I$1048576)","v":0},0,{"$f":"SUMIF(SOLICITUDES!$C$2:$C$1048576,BD!C834,SOLICITUDES!$J$2:$J$1048576)","v":0},0,{"$f":"SUMIF(SOLICITUDES!$C$2:$C$1048576,BD!C834,SOLICITUDES!$K$2:$K$1048576)","v":0},0]
[null,null,"T1568",15,13200,240,-76.472811569381932,2.9240377169869736,7.5,{"$f":"D835*0.5-M835","v":7.5},3,3,{"$f":"SUMIF(SOLICITUDES!$C$2:$C$1048576,BD!C835,SOLICITUDES!$I$2:$I$1048576)","v":0},{"$f":"M835/D835","v":0},{"$f":"SUMIF(SOLICITUDES!$C$2:$C$1048576,BD!C835,SOLICITUDES!$J$2:$J$1048576)","v":0},0,{"$f":"SUMIF(SOLICITUDES!$C$2:$C$1048576,BD!C835,SOLICITUDES!$K$2:$K$1048576)","v":0},0]
[null,null,"T1562",15,13200,240,-76.473750292138803,2.9278653351718988,{"$f":"D836*0.5","v":7.5},7.5,{"$f":"0.2*D836","v":3},{"$f":"0.2*D836","v":3},{"$f":"SUMIF(SOLICITUDES!$C$2:$C$1048576,BD!C836,SOLICITUDES!$I$2:$I$1048576)","v":0},0,{"$f":"SUMIF(SOLICITUDES!$C$2:$C$1048576,BD!C836,SOLICITUDES!$J$2:$J$1048576)","v":0},{"$f":"O836/(2*K836)","v":0},{"$f":"SUMIF(SOLICITUDES!$C$2:$C$1048576,BD!C836,SOLICITUDES!$K$2:$K$1048576)","v":0},{"$f":"Q836/(2*L836)","v":0}]
[null,null,"T11305",10,13200,240,-76.45321511223753,2.9684546548385122,5,5,2,2,{"$f":"SUMIF(SOLICITUDES!$C$2:$C$1048576,BD!C837,SOLICITUDES!$I$2:$I$1048576)","v":0},0,{"$f":"SUMIF(SOLICITUDES!$C$2:$C$1048576,BD!C837,SOLICITUDES!$J$2:$J$1048576)","v":0},0,{"$f":"SUMIF(SOLICITUDES!$C$2:$C$1048576,BD!C837,SOLICITUDES!$K$2:$K$1048576)","v":0},0]
[null,null,"T9209",15,13200,240,-76.598229783092165,3.005414838374787,7.5,7.5,3,3,{"$f":"SUMIF(SOLICITUDES!$C$2:$C$1048576,BD!C838,SOLICITUDES!$I$2:$I$1048576)","v":0},0,{"$f":"SUMIF(SOLICITUDES!$C$2:$C$1048576,BD!C838,SOLICITUDES!$J$2:$J$1048576)","v":0},0,{"$f":"SUMIF(SOLICITUDES!$C$2:$C$1048576,BD!C838,SOLICITUDES!$K$2:$K$1048576)","v":0},0]
[null,null,"T17580",75,13200,208,-76.524166129967256,2.9661779255874441,37.5,37.5,15,15,{"$f":"SUMIF(SOLICITUDES!$C$2:$C$1048576,BD!C839,SOLICITUDES!$I$2:$I$1048576)","v":0},0,{"$f":"SUMIF(SOLICITUDES!$C$2:$C$1048576,BD!C839,SOLICITUDES!$J$2:$J$1048576)","v":0},0,{"$f":"SUMIF(SOLICITUDES!$C$2:$C$1048576,BD!C839,SOLICITUDES!$K$2:$K$1048576)","v":0},0]
[null,null,"T10997",10,13200,240,-76.447396260614553,2.9674385239185002,5,5,2,2,{"$f":"SUMIF(SOLICITUDES!$C$2:$C$1048576,BD!C840,SOLICITUDES!$I$2:$I$1048576)","v":0},0,{"$f":"SUMIF(SOLICITUDES!$C$2:$C$1048576,BD!C840,SOLICITUDES!$J$2:$J$1048576)","v":0},0,{"$f":"SUMIF(SOLICITUDES!$C$2:$C$1048576,BD!C840,SOLICITUDES!$K$2:$K$1048576)","v":0},0]
[null,null,"T11300",25,13200,240,-76.454561967942936,2.9727146597338776,12.5,12.5,5,5,{"$f":"SUMIF(SOLICITUDES!$C$2:$C$1048576,BD!C841,SOLICITUDES!$I$2:$I$1048576)","v":0},0,{"$f":"SUMIF(SOLICITUDES!$C$2:$C$1048576,BD!C841,SOLICITUDES!$J$2:$J$1048576)","v":0},0,{"$f":"SUMIF(SOLICITUDES!$C$2:$C$1048576,BD!C841,SOLICITUDES!$K$2:$K$1048576)","v":0},0]
[null,null,"T8231",10,13200,240,-76.461223732996785,2.9135143534038019,5,5,2,2,{"$f":"SUMIF(SOLICITUDES!$C$2:$C$1048576,BD!C842,SOLICITUDES!$I$2:$I$1048576)","v":0},0,{"$f":"SUMIF(SOLICITUDES!$C$2:$C$1048576,BD!C842,SOLICITUDES!$J$2:$J$1048576)","v":0},0,{"$f":"SUMIF(SOLICITUDES!$C$2:$C$1048576,BD!C842,SOLICITUDES!$K$2:$K$1048576)","v":0},0]
[null,null,"T45161",25,13200,220,-76.454528872868849,2.9705922222849028,12.5,12.5,5,5,{"$f":"SUMIF(SOLICITUDES!$C$2:$C$1048576,BD!C843,SOLICITUDES!$I$2:$I$1048576)","v":0},0,{"$f":"SUMIF(SOLICITUDES!$C$2:$C$1048576,BD!C843,SOLICITUDES!$J$2:$J$1048576)","v":0},0,{"$f":"SUMIF(SOLICITUDES!$C$2:$C$1048576,BD!C843,SOLICITUDES!$K$2:$K$1048576)","v":0},0]
[null,null,"T1563",25,13200,240,-76.468847892532992,2.9188267517878881,12.5,12.5,5,5,{"$f":"SUMIF(SOLICITUDES!$C$2:$C$1048576,BD!C844,SOLICITUDES!$I$2:$I$1048576)","v":0},0,{"$f":"SUMIF(SOLICITUDES!$C$2:$C$1048576,BD!C844,SOLICITUDES!$J$2:$J$1048576)","v":0},0,{"$f":"SUMIF(SOLICITUDES!$C$2:$C$1048576,BD!C844,SOLICITUDES!$K$2:$K$1048576)","v":0},0]
[null,null,"T13472",15,13200,240,-76.523736817664187,2.9613577586005793,7.5,7.5,3,3,{"$f":"SUMIF(SOLICITUDES!$C$2:$C$1048576,BD!C845,SOLICITUDES!$I$2:$I$1048576)","v":0},0,{"$f":"SUMIF(SOLICITUDES!$C$2:$C$1048576,BD!C845,SOLICITUDES!$J$2:$J$1048576)","v":0},0,{"$f":"SUMIF(SOLICITUDES!$C$2:$C$1048576,BD!C845,SOLICITUDES!$K$2:$K$1048576)","v":0},0]
[null,null,"T10973",15,13200,240,-76.444361532064875,2.973549781780767,7.5,7.5,3,3,{"$f":"SUMIF(SOLICITUDES!$C$2:$C$1048576,BD!C846,SOLICITUDES!$I$2:$I$1048576)","v":0},0,{"$f":"SUMIF(SOLICITUDES!$C$2:$C$1048576,BD!C846,SOLICITUDES!$J$2:$J$1048576)","v":0},0,{"$f":"SUMIF(SOLICITUDES!$C$2:$C$1048576,BD!C846,SOLICITUDES!$K$2:$K$1048576)","v":0},0]
[null,null,"T12789",10,13200,240,-76.493984210035649,2.9411041057105489,5,5,2,2,{"$f":"SUMIF(SOLICITUDES!$C$2:$C$1048576,BD!C847,SOLICITUDES!$I$2:$I$1048576)","v":0},0,{"$f":"SUMIF(SOLICITUDES!$C$2:$C$1048576,BD!C847,SOLICITUDES!$J$2:$J$1048576)","v":0},0,{"$f":"SUMIF(SOLICITUDES!$C$2:$C$1048576,BD!C847,SOLICITUDES!$K$2:$K$1048576)","v":0},0]
[null,null,"T1566",15,13200,240,-76.475737793467061,2.9181975335329158,7.5,7.5,3,3,{"$f":"SUMIF(SOLICITUDES!$C$2:$C$1048576,BD!C848,SOLICITUDES!$I$2:$I$1048576)","v":0},0,{"$f":"SUMIF(SOLICITUDES!$C$2:$C$1048576,BD!C848,SOLICITUDES!$J$2:$J$1048576)","v":0},0,{"$f":"SUMIF(SOLICITUDES!$C$2:$C$1048576,BD!C848,SOLICITUDES!$K$2:$K$1048576)","v":0},0]
[null,null,"T10986",15,13200,240,-76.438599527312007,2.967487681046324,7.5,7.5,3,3,{"$f":"SUMIF(SOLICITUDES!$C$2:$C$1048576,BD!C849,SOLICITUDES!$I$2:$I$1048576)","v":0},0,{"$f":"SUMIF(SOLICITUDES!$C$2:$C$1048576,BD!C849,SOLICITUDES!$J$2:$J$1048576)","v":0},0,{"$f":"SUMIF(SOLICITUDES!$C$2:$C$1048576,BD!C849,SOLICITUDES!$K$2:$K$1048576)","v":0},0]
[null,null,"T10976",10,13200,240,-76.436389347245182,2.9631819899149803,5,5,2,2,{"$f":"SUMIF(SOLICITUDES!$C$2:$C$1048576,BD!C850,SOLICITUDES!$I$2:$I$1048576)","v":0},0,{"$f":"SUMIF(SOLICITUDES!$C$2:$C$1048576,BD!C850,SOLICITUDES!$J$2:$J$1048576)","v":0},0,{"$f":"SUMIF(SOLICITUDES!$C$2:$C$1048576,BD!C850,SOLICITUDES!$K$2:$K$1048576)","v":0},0]
[null,null,"T11304",50,13200,240,-76.441011122237725,2.9811891183840413,25,25,10,10,{"$f":"SUMIF(SOLICITUDES!$C$2:$C$1048576,BD!C851,SOLICITUDES!$I$2:$I$1048576)","v":0},0,{"$f":"SUMIF(SOLICITUDES!$C$2:$C$1048576,BD!C851,SOLICITUDES!$J$2:$J$1048576)","v":0},0,{"$f":"SUMIF(SOLICITUDES!$C$2:$C$1048576,BD!C851,SOLICITUDES!$K$2:$K$1048576)","v":0},0]
[null,null,"T24997",10,13200,240,-76.446243970092198,2.943530013947786,5,5,2,2,{"$f":"SUMIF(SOLICITUDES!$C$2:$C$1048576,BD!C852,SOLICITUDES!$I$2:$I$1048576)","v":0},0,{"$f":"SUMIF(SOLICITUDES!$C$2:$C$1048576,BD!C852,SOLICITUDES!$J$2:$J$1048576)","v":0},0,{"$f":"SUMIF(SOLICITUDES!$C$2:$C$1048576,BD!C852,SOLICITUDES!$K$2:$K$1048576)","v":0},0]
[null,null,"T1762",10,13200,240,-76.622584170541728,2.9729784729298401,5,5,2,2,{"$f":"SUMIF(SOLICITUDES!$C$2:$C$1048576,BD!C853,SOLICITUDES!$I$2:$I$1048576)","v":0},0,{"$f":"SUMIF(SOLICITUDES!$C$2:$C$1048576,BD!C853,SOLICITUDES!$J$2:$J$1048576)","v":0},0,{"$f":"SUMIF(SOLICITUDES!$C$2:$C$1048576,BD!C853,SOLICITUDES!$K$2:$K$1048576)","v":0},0]
[null,null,"T12501",15,13200,240,-76.415064468904873,2.964113733771589,7.5,7.5,3,3,{"$f":"SUMIF(SOLICITUDES!$C$2:$C$1048576,BD!C854,SOLICITUDES!$I$2:$I$1048576)","v":0},0,{"$f":"SUMIF(SOLICITUDES!$C$2:$C$1048576,BD!C854,SOLICITUDES!$J$2:$J$1048576)","v":0},0,{"$f":"SUMIF(SOLICITUDES!$C$2:$C$1048576,BD!C854,SOLICITUDES!$K$2:$K$1048576)","v":0},0]
[null,null,"T12503",25,13200,240,-76.416818842397106,2.9756042525565336,12.5,12.5,5,5,{"$f":"SUMIF(SOLICITUDES!$C$2:$C$1048576,BD!C855,SOLICITUDES!$I$2:$I$1048576)","v":0},0,{"$f":"SUMIF(SOLICITUDES!$C$2:$C$1048576,BD!C855,SOLICITUDES!$J$2:$J$1048576)","v":0},0,{"$f":"SUMIF(SOLICITUDES!$C$2:$C$1048576,BD!C855,SOLICITUDES!$K$2:$K$1048576)","v":0},0]
[null,null,"T44869",0.5,13200,240,-76.416085539027335,2.9747304339459175,0.25,0.25,0.1,0.1,{"$f":"SUMIF(SOLICITUDES!$C$2:$C$1048576,BD!C856,SOLICITUDES!$I$2:$I$1048576)","v":0},0,{"$f":"SUMIF(SOLICITUDES!$C$2:$C$1048576,BD!C856,SOLICITUDES!$J$2:$J$1048576)","v":0},0,{"$f":"SUMIF(SOLICITUDES!$C$2:$C$1048576,BD!C856,SOLICITUDES!$K$2:$K$1048576)","v":0},0]
[null,null,"T1743",15,13200,240,-76.618502549054952,2.9680573482693928,7.5,7.5,3,3,{"$f":"SUMIF(SOLICITUDES!$C$2:$C$1048576,BD!C857,SOLICITUDES!$I$2:$I$1048576)","v":0},0,{"$f":"SUMIF(SOLICITUDES!$C$2:$C$1048576,BD!C857,SOLICITUDES!$J$2:$J$1048576)","v":0},0,{"$f":"SUMIF(SOLICITUDES!$C$2:$C$1048576,BD!C857,SOLICITUDES!$K$2:$K$1048576)","v":0},0]
[null,null,"T14019",37.5,13200,240,-76.52853718849434,2.948880733904589,18.75,18.75,7.5,7.5,{"$f":"SUMIF(SOLICITUDES!$C$2:$C$1048576,BD!C858,SOLICITUDES!$I$2:$I$1048576)","v":0},0,{"$f":"SUMIF(SOLICITUDES!$C$2:$C$1048576,BD!C858,SOLICITUDES!$J$2:$J$1048576)","v":0},0,{"$f":"SUMIF(SOLICITUDES!$C$2:$C$1048576,BD!C858,SOLICITUDES!$K$2:$K$1048576)","v":0},0]
[null,null,"T11308",15,13200,240,-76.42756015017271,2.9418989296934992,7.5,7.5,3,3,{"$f":"SUMIF(SOLICITUDES!$C$2:$C$1048576,BD!C859,SOLICITUDES!$I$2:$I$1048576)","v":0},0,{"$f":"SUMIF(SOLICITUDES!$C$2:$C$1048576,BD!C859,SOLICITUDES!$J$2:$J$1048576)","v":0},0,{"$f":"SUMIF(SOLICITUDES!$C$2:$C$1048576,BD!C859,SOLICITUDES!$K$2:$K$1048576)","v":0},0]
[null,null,"T11306",15,13200,240,-76.426185444970869,2.9394384850827793,7.5,7.5,3,3,{"$f":"SUMIF(SOLICITUDES!$C$2:$C$1048576,BD!C860,SOLICITUDES!$I$2:$I$1048576)","v":0},0,{"$f":"SUMIF(SOLICITUDES!$C$2:$C$1048576,BD!C860,SOLICITUDES!$J$2:$J$1048576)","v":0},0,{"$f":"SUMIF(SOLICITUDES!$C$2:$C$1048576,BD!C860,SOLICITUDES!$K$2:$K$1048576)","v":0},0]
[null,null,"T11303",5,13200,240,-76.422432747907308,2.9430262787619328,2.5,2.5,1,1,{"$f":"SUMIF(SOLICITUDES!$C$2:$C$1048576,BD!C861,SOLICITUDES!$I$2:$I$1048576)","v":0},0,{"$f":"SUMIF(SOLICITUDES!$C$2:$C$1048576,BD!C861,SOLICITUDES!$J$2:$J$1048576)","v":0},0,{"$f":"SUMIF(SOLICITUDES!$C$2:$C$1048576,BD!C861,SOLICITUDES!$K$2:$K$1048576)","v":0},0]
[null,null,"T11307",15,13200,240,-76.425237149683412,2.946120524319936,7.5,7.5,3,3,{"$f":"SUMIF(SOLICITUDES!$C$2:$C$1048576,BD!C862,SOLICITUDES!$I$2:$I$1048576)","v":0},0,{"$f":"SUMIF(SOLICITUDES!$C$2:$C$1048576,BD!C862,SOLICITUDES!$J$2:$J$1048576)","v":0},0,{"$f":"SUMIF(SOLICITUDES!$C$2:$C$1048576,BD!C862,SOLICITUDES!$K$2:$K$1048576)","v":0},0]
[null,null,"T31082",25,13200,240,-76.624850360173653,2.9676526232275355,12.5,12.5,5,5,{"$f":"SUMIF(SOLICITUDES!$C$2:$C$1048576,BD!C863,SOLICITUDES!$I$2:$I$1048576)","v":0},0,{"$f":"SUMIF(SOLICITUDES!$C$2:$C$1048576,BD!C863,SOLICITUDES!$J$2:$J$1048576)","v":0},0,{"$f":"SUMIF(SOLICITUDES!$C$2:$C$1048576,BD!C863,SOLICITUDES!$K$2:$K$1048576)","v":0},0]
[null,null,"T12496",25,13200,240,-76.411436215573502,2.9671640627853209,12.5,12.5,5,5,{"$f":"SUMIF(SOLICITUDES!$C$2:$C$1048576,BD!C864,SOLICITUDES!$I$2:$I$1048576)","v":0},0,{"$f":"SUMIF(SOLICITUDES!$C$2:$C$1048576,BD!C864,SOLICITUDES!$J$2:$J$1048576)","v":0},0,{"$f":"SUMIF(SOLICITUDES!$C$2:$C$1048576,BD!C864,SOLICITUDES!$K$2:$K$1048576)","v":0},0]
[null,null,"T12505",50,13200,240,-76.411275604897455,2.9649393653894198,25,25,10,10,{"$f":"SUMIF(SOLICITUDES!$C$2:$C$1048576,BD!C865,SOLICITUDES!$I$2:$I$1048576)","v":0},0,{"$f":"SUMIF(SOLICITUDES!$C$2:$C$1048576,BD!C865,SOLICITUDES!$J$2:$J$1048576)","v":0},0,{"$f":"SUMIF(SOLICITUDES!$C$2:$C$1048576,BD!C865,SOLICITUDES!$K$2:$K$1048576)","v":0},0]
[null,null,"T14009",45,13200,208,-76.52897818955735,2.9482570040537066,22.5,22.5,9,9,{"$f":"SUMIF(SOLICITUDES!$C$2:$C$1048576,BD!C866,SOLICITUDES!$I$2:$I$1048576)","v":0},0,{"$f":"SUMIF(SOLICITUDES!$C$2:$C$1048576,BD!C866,SOLICITUDES!$J$2:$J$1048576)","v":0},0,{"$f":"SUMIF(SOLICITUDES!$C$2:$C$1048576,BD!C866,SOLICITUDES!$K$2:$K$1048576)","v":0},0]
[null,null,"T13494",10,13200,240,-76.541732420088863,2.948389905366934,5,5,2,2,{"$f":"SUMIF(SOLICITUDES!$C$2:$C$1048576,BD!C867,SOLICITUDES!$I$2:$I$1048576)","v":0},0,{"$f":"SUMIF(SOLICITUDES!$C$2:$C$1048576,BD!C867,SOLICITUDES!$J$2:$J$1048576)","v":0},0,{"$f":"SUMIF(SOLICITUDES!$C$2:$C$1048576,BD!C867,SOLICITUDES!$K$2:$K$1048576)","v":0},0]
[null,null,"T14010",10,13200,240,-76.525678133010928,2.9464648101344491,5,5,2,2,{"$f":"SUMIF(SOLICITUDES!$C$2:$C$1048576,BD!C868,SOLICITUDES!$I$2:$I$1048576)","v":0},0,{"$f":"SUMIF(SOLICITUDES!$C$2:$C$1048576,BD!C868,SOLICITUDES!$J$2:$J$1048576)","v":0},0,{"$f":"SUMIF(SOLICITUDES!$C$2:$C$1048576,BD!C868,SOLICITUDES!$K$2:$K$1048576)","v":0},0]
[null,null,"T12500",10,13200,240,-76.406372039777736,2.9674774192714186,5,5,2,2,{"$f":"SUMIF(SOLICITUDES!$C$2:$C$1048576,BD!C869,SOLICITUDES!$I$2:$I$1048576)","v":0},0,{"$f":"SUMIF(SOLICITUDES!$C$2:$C$1048576,BD!C869,SOLICITUDES!$J$2:$J$1048576)","v":0},0,{"$f":"SUMIF(SOLICITUDES!$C$2:$C$1048576,BD!C869,SOLICITUDES!$K$2:$K$1048576)","v":0},0]
[null,null,"T12498",37.5,13200,240,-76.411116073437483,2.9610780053727073,18.75,18.75,7.5,7.5,{"$f":"SUMIF(SOLICITUDES!$C$2:$C$1048576,BD!C870,SOLICITUDES!$I$2:$I$1048576)","v":0},0,{"$f":"SUMIF(SOLICITUDES!$C$2:$C$1048576,BD!C870,SOLICITUDES!$J$2:$J$1048576)","v":0},0,{"$f":"SUMIF(SOLICITUDES!$C$2:$C$1048576,BD!C870,SOLICITUDES!$K$2:$K$1048576)","v":0},0]
[null,null,"T13483",15,13200,240,-76.540101026678997,2.9554427213734002,7.5,7.5,3,3,{"$f":"SUMIF(SOLICITUDES!$C$2:$C$1048576,BD!C871,SOLICITUDES!$I$2:$I$1048576)","v":0},0,{"$f":"SUMIF(SOLICITUDES!$C$2:$C$1048576,BD!C871,SOLICITUDES!$J$2:$J$1048576)","v":0},0,{"$f":"SUMIF(SOLICITUDES!$C$2:$C$1048576,BD!C871,SOLICITUDES!$K$2:$K$1048576)","v":0},0]
[null,null,"T29683",10,13200,240,-76.408892733272452,2.963789534661363,5,5,2,2,{"$f":"SUMIF(SOLICITUDES!$C$2:$C$1048576,BD!C872,SOLICITUDES!$I$2:$I$1048576)","v":0},0,{"$f":"SUMIF(SOLICITUDES!$C$2:$C$1048576,BD!C872,SOLICITUDES!$J$2:$J$1048576)","v":0},0,{"$f":"SUMIF(SOLICITUDES!$C$2:$C$1048576,BD!C872,SOLICITUDES!$K$2:$K$1048576)","v":0},0]
[null,null,"T13479",5,13200,240,-76.547808103390906,2.9581231971436939,2.5,2.5,1,1,{"$f":"SUMIF(SOLICITUDES!$C$2:$C$1048576,BD!C873,SOLICITUDES!$I$2:$I$1048576)","v":0},0,{"$f":"SUMIF(SOLICITUDES!$C$2:$C$1048576,BD!C873,SOLICITUDES!$J$2:$J$1048576)","v":0},0,{"$f":"SUMIF(SOLICITUDES!$C$2:$C$1048576,BD!C873,SOLICITUDES!$K$2:$K$1048576)","v":0},0]
[null,null,"T13257",25,13200,240,-76.397431149567012,2.9680506442610448,12.5,12.5,5,5,{"$f":"SUMIF(SOLICITUDES!$C$2:$C$1048576,BD!C874,SOLICITUDES!$I$2:$I$1048576)","v":0},0,{"$f":"SUMIF(SOLICITUDES!$C$2:$C$1048576,BD!C874,SOLICITUDES!$J$2:$J$1048576)","v":0},0,{"$f":"SUMIF(SOLICITUDES!$C$2:$C$1048576,BD!C874,SOLICITUDES!$K$2:$K$1048576)","v":0},0]
[null,null,"T13266",15,13200,240,-76.393625512022297,2.9696760443905452,7.5,7.5,3,3,{"$f":"SUMIF(SOLICITUDES!$C$2:$C$1048576,BD!C875,SOLICITUDES!$I$2:$I$1048576)","v":0},0,{"$f":"SUMIF(SOLICITUDES!$C$2:$C$1048576,BD!C875,SOLICITUDES!$J$2:$J$1048576)","v":0},0,{"$f":"SUMIF(SOLICITUDES!$C$2:$C$1048576,BD!C875,SOLICITUDES!$K$2:$K$1048576)","v":0},0]
[null,null,"T12506",15,13200,240,-76.410897435486362,2.9507237985618437,7.5,7.5,3,3,{"$f":"SUMIF(SOLICITUDES!$C$2:$C$1048576,BD!C876,SOLICITUDES!$I$2:$I$1048576)","v":0},0,{"$f":"SUMIF(SOLICITUDES!$C$2:$C$1048576,BD!C876,SOLICITUDES!$J$2:$J$1048576)","v":0},0,{"$f":"SUMIF(SOLICITUDES!$C$2:$C$1048576,BD!C876,SOLICITUDES!$K$2:$K$1048576)","v":0},0]
[null,null,"T12510",10,13200,240,-76.408269707538096,2.9529829833863137,5,5,2,2,{"$f":"SUMIF(SOLICITUDES!$C$2:$C$1048576,BD!C877,SOLICITUDES!$I$2:$I$1048576)","v":0},0,{"$f":"SUMIF(SOLICITUDES!$C$2:$C$1048576,BD!C877,SOLICITUDES!$J$2:$J$1048576)","v":0},0,{"$f":"SUMIF(SOLICITUDES!$C$2:$C$1048576,BD!C877,SOLICITUDES!$K$2:$K$1048576)","v":0},0]
[null,null,"T44233",15,13200,240,-76.393557514715809,2.9697152023180395,7.5,7.5,3,3,{"$f":"SUMIF(SOLICITUDES!$C$2:$C$1048576,BD!C878,SOLICITUDES!$I$2:$I$1048576)","v":0},0,{"$f":"SUMIF(SOLICITUDES!$C$2:$C$1048576,BD!C878,SOLICITUDES!$J$2:$J$1048576)","v":0},0,{"$f":"SUMIF(SOLICITUDES!$C$2:$C$1048576,BD!C878,SOLICITUDES!$K$2:$K$1048576)","v":0},0]
[null,null,"T13488",10,13200,240,-76.5557772222203,2.9585429299287536,5,5,2,2,{"$f":"SUMIF(SOLICITUDES!$C$2:$C$1048576,BD!C879,SOLICITUDES!$I$2:$I$1048576)","v":0},0,{"$f":"SUMIF(SOLICITUDES!$C$2:$C$1048576,BD!C879,SOLICITUDES!$J$2:$J$1048576)","v":0},0,{"$f":"SUMIF(SOLICITUDES!$C$2:$C$1048576,BD!C879,SOLICITUDES!$K$2:$K$1048576)","v":0},0]
[null,null,"T13471",10,13200,240,-76.554154419328185,2.9473830703214898,5,5,2,2,{"$f":"SUMIF(SOLICITUDES!$C$2:$C$1048576,BD!C880,SOLICITUDES!$I$2:$I$1048576)","v":0},0,{"$f":"SUMIF(SOLICITUDES!$C$2:$C$1048576,BD!C880,SOLICITUDES!$J$2:$J$1048576)","v":0},0,{"$f":"SUMIF(SOLICITUDES!$C$2:$C$1048576,BD!C880,SOLICITUDES!$K$2:$K$1048576)","v":0},0]
[null,null,"T14015",25,13200,240,-76.561093228644481,2.9581838054963283,12.5,12.5,5,5,{"$f":"SUMIF(SOLICITUDES!$C$2:$C$1048576,BD!C881,SOLICITUDES!$I$2:$I$1048576)","v":0},0,{"$f":"SUMIF(SOLICITUDES!$C$2:$C$1048576,BD!C881,SOLICITUDES!$J$2:$J$1048576)","v":0},0,{"$f":"SUMIF(SOLICITUDES!$C$2:$C$1048576,BD!C881,SOLICITUDES!$K$2:$K$1048576)","v":0},0]
[null,null,"T13258",25,13200,240,-76.392115325660825,2.9683004954536152,12.5,12.5,5,5,{"$f":"SUMIF(SOLICITUDES!$C$2:$C$1048576,BD!C882,SOLICITUDES!$I$2:$I$1048576)","v":0},0,{"$f":"SUMIF(SOLICITUDES!$C$2:$C$1048576,BD!C882,SOLICITUDES!$J$2:$J$1048576)","v":0},0,{"$f":"SUMIF(SOLICITUDES!$C$2:$C$1048576,BD!C882,SOLICITUDES!$K$2:$K$1048576)","v":0},0]
[null,null,"T13486",5,13200,240,-76.554578999156192,2.9434947521044625,2.5,2.5,1,1,{"$f":"SUMIF(SOLICITUDES!$C$2:$C$1048576,BD!C883,SOLICITUDES!$I$2:$I$1048576)","v":0},0,{"$f":"SUMIF(SOLICITUDES!$C$2:$C$1048576,BD!C883,SOLICITUDES!$J$2:$J$1048576)","v":0},0,{"$f":"SUMIF(SOLICITUDES!$C$2:$C$1048576,BD!C883,SOLICITUDES!$K$2:$K$1048576)","v":0},0]
[null,null,"T13468",10,13200,240,-76.559270922863234,2.9554541833160859,5,5,2,2,{"$f":"SUMIF(SOLICITUDES!$C$2:$C$1048576,BD!C884,SOLICITUDES!$I$2:$I$1048576)","v":0},0,{"$f":"SUMIF(SOLICITUDES!$C$2:$C$1048576,BD!C884,SOLICITUDES!$J$2:$J$1048576)","v":0},0,{"$f":"SUMIF(SOLICITUDES!$C$2:$C$1048576,BD!C884,SOLICITUDES!$K$2:$K$1048576)","v":0},0]
[null,null,"T13269",15,13200,240,-76.393183399493893,2.9719364362466476,7.5,7.5,3,3,{"$f":"SUMIF(SOLICITUDES!$C$2:$C$1048576,BD!C885,SOLICITUDES!$I$2:$I$1048576)","v":0},0,{"$f":"SUMIF(SOLICITUDES!$C$2:$C$1048576,BD!C885,SOLICITUDES!$J$2:$J$1048576)","v":0},0,{"$f":"SUMIF(SOLICITUDES!$C$2:$C$1048576,BD!C885,SOLICITUDES!$K$2:$K$1048576)","v":0},0]
[null,null,"T14012",25,13200,240,-76.563475399345691,2.9612233678315754,12.5,12.5,5,5,{"$f":"SUMIF(SOLICITUDES!$C$2:$C$1048576,BD!C886,SOLICITUDES!$I$2:$I$1048576)","v":0},0,{"$f":"SUMIF(SOLICITUDES!$C$2:$C$1048576,BD!C886,SOLICITUDES!$J$2:$J$1048576)","v":0},0,{"$f":"SUMIF(SOLICITUDES!$C$2:$C$1048576,BD!C886,SOLICITUDES!$K$2:$K$1048576)","v":0},0]
[null,null,"T13252",15,13200,240,-76.39230864711466,2.9610302748525537,7.5,7.5,3,3,{"$f":"SUMIF(SOLICITUDES!$C$2:$C$1048576,BD!C887,SOLICITUDES!$I$2:$I$1048576)","v":0},0,{"$f":"SUMIF(SOLICITUDES!$C$2:$C$1048576,BD!C887,SOLICITUDES!$J$2:$J$1048576)","v":0},0,{"$f":"SUMIF(SOLICITUDES!$C$2:$C$1048576,BD!C887,SOLICITUDES!$K$2:$K$1048576)","v":0},0]
[null,null,"T13239",10,13200,240,-76.406955397336517,2.9480748990655083,5,5,2,2,{"$f":"SUMIF(SOLICITUDES!$C$2:$C$1048576,BD!C888,SOLICITUDES!$I$2:$I$1048576)","v":0},0,{"$f":"SUMIF(SOLICITUDES!$C$2:$C$1048576,BD!C888,SOLICITUDES!$J$2:$J$1048576)","v":0},0,{"$f":"SUMIF(SOLICITUDES!$C$2:$C$1048576,BD!C888,SOLICITUDES!$K$2:$K$1048576)","v":0},0]
[null,null,"T13267",10,13200,240,-76.439632466299685,2.9069732944259838,5,5,2,2,{"$f":"SUMIF(SOLICITUDES!$C$2:$C$1048576,BD!C889,SOLICITUDES!$I$2:$I$1048576)","v":0},0,{"$f":"SUMIF(SOLICITUDES!$C$2:$C$1048576,BD!C889,SOLICITUDES!$J$2:$J$1048576)","v":0},0,{"$f":"SUMIF(SOLICITUDES!$C$2:$C$1048576,BD!C889,SOLICITUDES!$K$2:$K$1048576)","v":0},0]
[null,null,"T13965",5,13200,240,-76.44095787849011,2.9011775092330661,2.5,2.5,1,1,{"$f":"SUMIF(SOLICITUDES!$C$2:$C$1048576,BD!C890,SOLICITUDES!$I$2:$I$1048576)","v":0},0,{"$f":"SUMIF(SOLICITUDES!$C$2:$C$1048576,BD!C890,SOLICITUDES!$J$2:$J$1048576)","v":0},0,{"$f":"SUMIF(SOLICITUDES!$C$2:$C$1048576,BD!C890,SOLICITUDES!$K$2:$K$1048576)","v":0},0]
[null,null,"T13260",15,13200,240,-76.428831839531284,2.8891164313438398,7.5,7.5,3,3,{"$f":"SUMIF(SOLICITUDES!$C$2:$C$1048576,BD!C891,SOLICITUDES!$I$2:$I$1048576)","v":0},0,{"$f":"SUMIF(SOLICITUDES!$C$2:$C$1048576,BD!C891,SOLICITUDES!$J$2:$J$1048576)","v":0},0,{"$f":"SUMIF(SOLICITUDES!$C$2:$C$1048576,BD!C891,SOLICITUDES!$K$2:$K$1048576)","v":0},0]
[null,null,"T13270",5,13200,208,-76.447990934354408,2.9068451859168714,2.5,2.5,1,1,{"$f":"SUMIF(SOLICITUDES!$C$2:$C$1048576,BD!C892,SOLICITUDES!$I$2:$I$1048576)","v":0},0,{"$f":"SUMIF(SOLICITUDES!$C$2:$C$1048576,BD!C892,SOLICITUDES!$J$2:$J$1048576)","v":0},0,{"$f":"SUMIF(SOLICITUDES!$C$2:$C$1048576,BD!C892,SOLICITUDES!$K$2:$K$1048576)","v":0},0]
[null,null,"T13959",10,13200,240,-76.408628534536035,2.8941233231501293,5,5,2,2,{"$f":"SUMIF(SOLICITUDES!$C$2:$C$1048576,BD!C893,SOLICITUDES!$I$2:$I$1048576)","v":0},0,{"$f":"SUMIF(SOLICITUDES!$C$2:$C$1048576,BD!C893,SOLICITUDES!$J$2:$J$1048576)","v":0},0,{"$f":"SUMIF(SOLICITUDES!$C$2:$C$1048576,BD!C893,SOLICITUDES!$K$2:$K$1048576)","v":0},0]
[null,null,"T45123",15,13200,220,-76.417650154038796,2.8956721683893831,7.5,7.5,3,3,{"$f":"SUMIF(SOLICITUDES!$C$2:$C$1048576,BD!C894,SOLICITUDES!$I$2:$I$1048576)","v":0},0,{"$f":"SUMIF(SOLICITUDES!$C$2:$C$1048576,BD!C894,SOLICITUDES!$J$2:$J$1048576)","v":0},0,{"$f":"SUMIF(SOLICITUDES!$C$2:$C$1048576,BD!C894,SOLICITUDES!$K$2:$K$1048576)","v":0},0]
[null,null,"T23949",10,13200,240,-76.436536366034787,2.8914529215345457,5,5,2,2,{"$f":"SUMIF(SOLICITUDES!$C$2:$C$1048576,BD!C895,SOLICITUDES!$I$2:$I$1048576)","v":0},0,{"$f":"SUMIF(SOLICITUDES!$C$2:$C$1048576,BD!C895,SOLICITUDES!$J$2:$J$1048576)","v":0},0,{"$f":"SUMIF(SOLICITUDES!$C$2:$C$1048576,BD!C895,SOLICITUDES!$K$2:$K$1048576)","v":0},0]
[null,null,"T13238",15,13200,240,-76.423929477852226,2.8916020267462357,7.5,7.5,3,3,{"$f":"SUMIF(SOLICITUDES!$C$2:$C$1048576,BD!C896,SOLICITUDES!$I$2:$I$1048576)","v":0},0,{"$f":"SUMIF(SOLICITUDES!$C$2:$C$1048576,BD!C896,SOLICITUDES!$J$2:$J$1048576)","v":0},0,{"$f":"SUMIF(SOLICITUDES!$C$2:$C$1048576,BD!C896,SOLICITUDES!$K$2:$K$1048576)","v":0},0]
[null,null,"T29125",5,13200,240,-76.434765466911131,2.893818251932565,2.5,2.5,1,1,{"$f":"SUMIF(SOLICITUDES!$C$2:$C$1048576,BD!C897,SOLICITUDES!$I$2:$I$1048576)","v":0},0,{"$f":"SUMIF(SOLICITUDES!$C$2:$C$1048576,BD!C897,SOLICITUDES!$J$2:$J$1048576)","v":0},0,{"$f":"SUMIF(SOLICITUDES!$C$2:$C$1048576,BD!C897,SOLICITUDES!$K$2:$K$1048576)","v":0},0]
[null,null,"T13261",10,13200,240,-76.438544318512726,2.8906864000205665,5,5,2,2,{"$f":"SUMIF(SOLICITUDES!$C$2:$C$1048576,BD!C898,SOLICITUDES!$I$2:$I$1048576)","v":0},0,{"$f":"SUMIF(SOLICITUDES!$C$2:$C$1048576,BD!C898,SOLICITUDES!$J$2:$J$1048576)","v":0},0,{"$f":"SUMIF(SOLICITUDES!$C$2:$C$1048576,BD!C898,SOLICITUDES!$K$2:$K$1048576)","v":0},0]
[null,null,"T13973",10,13200,240,-76.405895105310648,2.892891906336339,5,{"$f":"D899*0.5-M899","v":5},2,2,{"$f":"SUMIF(SOLICITUDES!$C$2:$C$1048576,BD!C899,SOLICITUDES!$I$2:$I$1048576)","v":0},{"$f":"M899/D899","v":0},{"$f":"SUMIF(SOLICITUDES!$C$2:$C$1048576,BD!C899,SOLICITUDES!$J$2:$J$1048576)","v":0},0,{"$f":"SUMIF(SOLICITUDES!$C$2:$C$1048576,BD!C899,SOLICITUDES!$K$2:$K$1048576)","v":0},0]
[null,null,"T23950",10,13200,240,-76.430452271233136,2.8866865409479598,{"$f":"D900*0.5","v":5},5,{"$f":"0.2*D900","v":2},{"$f":"0.2*D900","v":2},{"$f":"SUMIF(SOLICITUDES!$C$2:$C$1048576,BD!C900,SOLICITUDES!$I$2:$I$1048576)","v":0},0,{"$f":"SUMIF(SOLICITUDES!$C$2:$C$1048576,BD!C900,SOLICITUDES!$J$2:$J$1048576)","v":0},{"$f":"O900/(2*K900)","v":0},{"$f":"SUMIF(SOLICITUDES!$C$2:$C$1048576,BD!C900,SOLICITUDES!$K$2:$K$1048576)","v":0},{"$f":"Q900/(2*L900)","v":0}]
[null,null,"T23951",10,13200,240,-76.430828858244425,2.8852119411163479,5,5,2,2,{"$f":"SUMIF(SOLICITUDES!$C$2:$C$1048576,BD!C901,SOLICITUDES!$I$2:$I$1048576)","v":0},0,{"$f":"SUMIF(SOLICITUDES!$C$2:$C$1048576,BD!C901,SOLICITUDES!$J$2:$J$1048576)","v":0},0,{"$f":"SUMIF(SOLICITUDES!$C$2:$C$1048576,BD!C901,SOLICITUDES!$K$2:$K$1048576)","v":0},0]
[null,null,"T23952",10,13200,240,-76.427249107140554,2.8837037156917869,5,5,2,2,{"$f":"SUMIF(SOLICITUDES!$C$2:$C$1048576,BD!C902,SOLICITUDES!$I$2:$I$1048576)","v":0},0,{"$f":"SUMIF(SOLICITUDES!$C$2:$C$1048576,BD!C902,SOLICITUDES!$J$2:$J$1048576)","v":0},0,{"$f":"SUMIF(SOLICITUDES!$C$2:$C$1048576,BD!C902,SOLICITUDES!$K$2:$K$1048576)","v":0},0]
[null,null,"T23969",5,13200,240,-76.424995190601905,2.8825706827519242,2.5,2.5,1,1,{"$f":"SUMIF(SOLICITUDES!$C$2:$C$1048576,BD!C903,SOLICITUDES!$I$2:$I$1048576)","v":0},0,{"$f":"SUMIF(SOLICITUDES!$C$2:$C$1048576,BD!C903,SOLICITUDES!$J$2:$J$1048576)","v":0},0,{"$f":"SUMIF(SOLICITUDES!$C$2:$C$1048576,BD!C903,SOLICITUDES!$K$2:$K$1048576)","v":0},0]
[null,null,"T15460",180,115000,13200,-76.399926000833347,3.1892118629933757,90,90,36,36,{"$f":"SUMIF(SOLICITUDES!$C$2:$C$1048576,BD!C904,SOLICITUDES!$I$2:$I$1048576)","v":0},0,{"$f":"SUMIF(SOLICITUDES!$C$2:$C$1048576,BD!C904,SOLICITUDES!$J$2:$J$1048576)","v":0},0,{"$f":"SUMIF(SOLICITUDES!$C$2:$C$1048576,BD!C904,SOLICITUDES!$K$2:$K$1048576)","v":0},0]
[null,null,"T8482",112.5,34500,440,-76.351174781791585,3.1767264948380514,56.25,56.25,22.5,22.5,{"$f":"SUMIF(SOLICITUDES!$C$2:$C$1048576,BD!C905,SOLICITUDES!$I$2:$I$1048576)","v":0},0,{"$f":"SUMIF(SOLICITUDES!$C$2:$C$1048576,BD!C905,SOLICITUDES!$J$2:$J$1048576)","v":0},0,{"$f":"SUMIF(SOLICITUDES!$C$2:$C$1048576,BD!C905,SOLICITUDES!$K$2:$K$1048576)","v":0},0]
[null,null,"T9074",75,34500,220,-76.274200376332743,3.1702396738837622,37.5,37.5,15,15,{"$f":"SUMIF(SOLICITUDES!$C$2:$C$1048576,BD!C906,SOLICITUDES!$I$2:$I$1048576)","v":0},0,{"$f":"SUMIF(SOLICITUDES!$C$2:$C$1048576,BD!C906,SOLICITUDES!$J$2:$J$1048576)","v":0},0,{"$f":"SUMIF(SOLICITUDES!$C$2:$C$1048576,BD!C906,SOLICITUDES!$K$2:$K$1048576)","v":0},0]
[null,null,"T8603",30,34500,440,-76.274173416406029,3.17019448323029,15,15,6,6,{"$f":"SUMIF(SOLICITUDES!$C$2:$C$1048576,BD!C907,SOLICITUDES!$I$2:$I$1048576)","v":0},0,{"$f":"SUMIF(SOLICITUDES!$C$2:$C$1048576,BD!C907,SOLICITUDES!$J$2:$J$1048576)","v":0},0,{"$f":"SUMIF(SOLICITUDES!$C$2:$C$1048576,BD!C907,SOLICITUDES!$K$2:$K$1048576)","v":0},0]
[null,null,"T41779",0.5,13200,240,-76.41578444398877,3.2029772318964103,0.25,0.25,0.1,0.1,{"$f":"SUMIF(SOLICITUDES!$C$2:$C$1048576,BD!C908,SOLICITUDES!$I$2:$I$1048576)","v":0},0,{"$f":"SUMIF(SOLICITUDES!$C$2:$C$1048576,BD!C908,SOLICITUDES!$J$2:$J$1048576)","v":0},0,{"$f":"SUMIF(SOLICITUDES!$C$2:$C$1048576,BD!C908,SOLICITUDES!$K$2:$K$1048576)","v":0},0]
[null,null,"T6490",0.5,13200,240,-76.416767478894073,3.2039380499170402,0.25,0.25,0.1,0.1,{"$f":"SUMIF(SOLICITUDES!$C$2:$C$1048576,BD!C909,SOLICITUDES!$I$2:$I$1048576)","v":0},0,{"$f":"SUMIF(SOLICITUDES!$C$2:$C$1048576,BD!C909,SOLICITUDES!$J$2:$J$1048576)","v":0},0,{"$f":"SUMIF(SOLICITUDES!$C$2:$C$1048576,BD!C909,SOLICITUDES!$K$2:$K$1048576)","v":0},0]
[null,null,"T6488",0.5,13200,240,-76.418088348553383,3.2053199943151487,0.25,0.25,0.1,0.1,{"$f":"SUMIF(SOLICITUDES!$C$2:$C$1048576,BD!C910,SOLICITUDES!$I$2:$I$1048576)","v":0},0,{"$f":"SUMIF(SOLICITUDES!$C$2:$C$1048576,BD!C910,SOLICITUDES!$J$2:$J$1048576)","v":0},0,{"$f":"SUMIF(SOLICITUDES!$C$2:$C$1048576,BD!C910,SOLICITUDES!$K$2:$K$1048576)","v":0},0]
[null,null,"T8739",2000,34500,208,-76.420802858387319,3.2091015930126994,1000,1000,400,400,{"$f":"SUMIF(SOLICITUDES!$C$2:$C$1048576,BD!C911,SOLICITUDES!$I$2:$I$1048576)","v":0},0,{"$f":"SUMIF(SOLICITUDES!$C$2:$C$1048576,BD!C911,SOLICITUDES!$J$2:$J$1048576)","v":0},0,{"$f":"SUMIF(SOLICITUDES!$C$2:$C$1048576,BD!C911,SOLICITUDES!$K$2:$K$1048576)","v":0},0]
[null,null,"T9059",500,34500,208,-76.417171487891125,3.2040624711531187,250,250,100,100,{"$f":"SUMIF(SOLICITUDES!$C$2:$C$1048576,BD!C912,SOLICITUDES!$I$2:$I$1048576)","v":0},0,{"$f":"SUMIF(SOLICITUDES!$C$2:$C$1048576,BD!C912,SOLICITUDES!$J$2:$J$1048576)","v":0},0,{"$f":"SUMIF(SOLICITUDES!$C$2:$C$1048576,BD!C912,SOLICITUDES!$K$2:$K$1048576)","v":0},0]
[null,null,"T8769",1600,34500,440,-76.421846227301174,3.2094640314383001,800,800,320,320,{"$f":"SUMIF(SOLICITUDES!$C$2:$C$1048576,BD!C913,SOLICITUDES!$I$2:$I$1048576)","v":0},0,{"$f":"SUMIF(SOLICITUDES!$C$2:$C$1048576,BD!C913,SOLICITUDES!$J$2:$J$1048576)","v":0},0,{"$f":"SUMIF(SOLICITUDES!$C$2:$C$1048576,BD!C913,SOLICITUDES!$K$2:$K$1048576)","v":0},0]
[null,null,"T8779",500,34500,208,-76.41729702370165,3.2047136281592539,250,250,100,100,{"$f":"SUMIF(SOLICITUDES!$C$2:$C$1048576,BD!C914,SOLICITUDES!$I$2:$I$1048576)","v":0},0,{"$f":"SUMIF(SOLICITUDES!$C$2:$C$1048576,BD!C914,SOLICITUDES!$J$2:$J$1048576)","v":0},0,{"$f":"SUMIF(SOLICITUDES!$C$2:$C$1048576,BD!C914,SOLICITUDES!$K$2:$K$1048576)","v":0},0]
[null,null,"T8746",400,34500,208,-76.417584699760326,3.2050483632157394,200,200,80,80,{"$f":"SUMIF(SOLICITUDES!$C$2:$C$1048576,BD!C915,SOLICITUDES!$I$2:$I$1048576)","v":0},0,{"$f":"SUMIF(SOLICITUDES!$C$2:$C$1048576,BD!C915,SOLICITUDES!$J$2:$J$1048576)","v":0},0,{"$f":"SUMIF(SOLICITUDES!$C$2:$C$1048576,BD!C915,SOLICITUDES!$K$2:$K$1048576)","v":0},0]
[null,null,"T9068",500,34500,208,-76.41727905071177,3.2047303126747768,250,250,100,100,{"$f":"SUMIF(SOLICITUDES!$C$2:$C$1048576,BD!C916,SOLICITUDES!$I$2:$I$1048576)","v":0},0,{"$f":"SUMIF(SOLICITUDES!$C$2:$C$1048576,BD!C916,SOLICITUDES!$J$2:$J$1048576)","v":0},0,{"$f":"SUMIF(SOLICITUDES!$C$2:$C$1048576,BD!C916,SOLICITUDES!$K$2:$K$1048576)","v":0},0]
[null,null,"T8793",1600,34500,208,-76.418980388381826,3.2031503205056091,800,800,320,320,{"$f":"SUMIF(SOLICITUDES!$C$2:$C$1048576,BD!C917,SOLICITUDES!$I$2:$I$1048576)","v":0},0,{"$f":"SUMIF(SOLICITUDES!$C$2:$C$1048576,BD!C917,SOLICITUDES!$J$2:$J$1048576)","v":0},0,{"$f":"SUMIF(SOLICITUDES!$C$2:$C$1048576,BD!C917,SOLICITUDES!$K$2:$K$1048576)","v":0},0]
[null,null,"T9060",630,34500,208,-76.4189624100309,3.2031630707837517,315,315,126,126,{"$f":"SUMIF(SOLICITUDES!$C$2:$C$1048576,BD!C918,SOLICITUDES!$I$2:$I$1048576)","v":0},0,{"$f":"SUMIF(SOLICITUDES!$C$2:$C$1048576,BD!C918,SOLICITUDES!$J$2:$J$1048576)","v":0},0,{"$f":"SUMIF(SOLICITUDES!$C$2:$C$1048576,BD!C918,SOLICITUDES!$K$2:$K$1048576)","v":0},0]
[null,null,"T9061",500,34500,208,-76.418939937094621,3.2031790108923164,250,250,100,100,{"$f":"SUMIF(SOLICITUDES!$C$2:$C$1048576,BD!C919,SOLICITUDES!$I$2:$I$1048576)","v":0},0,{"$f":"SUMIF(SOLICITUDES!$C$2:$C$1048576,BD!C919,SOLICITUDES!$J$2:$J$1048576)","v":0},0,{"$f":"SUMIF(SOLICITUDES!$C$2:$C$1048576,BD!C919,SOLICITUDES!$K$2:$K$1048576)","v":0},0]
[null,null,"T8745",75,34500,208,-76.415676936193407,3.205092084550432,37.5,37.5,15,15,{"$f":"SUMIF(SOLICITUDES!$C$2:$C$1048576,BD!C920,SOLICITUDES!$I$2:$I$1048576)","v":0},0,{"$f":"SUMIF(SOLICITUDES!$C$2:$C$1048576,BD!C920,SOLICITUDES!$J$2:$J$1048576)","v":0},0,{"$f":"SUMIF(SOLICITUDES!$C$2:$C$1048576,BD!C920,SOLICITUDES!$K$2:$K$1048576)","v":0},0]
[null,null,"T10419",1600,34500,220,-76.415316017175641,3.2075065009480723,800,800,320,320,{"$f":"SUMIF(SOLICITUDES!$C$2:$C$1048576,BD!C921,SOLICITUDES!$I$2:$I$1048576)","v":0},0,{"$f":"SUMIF(SOLICITUDES!$C$2:$C$1048576,BD!C921,SOLICITUDES!$J$2:$J$1048576)","v":0},0,{"$f":"SUMIF(SOLICITUDES!$C$2:$C$1048576,BD!C921,SOLICITUDES!$K$2:$K$1048576)","v":0},0]
[null,null,"T28753",0.5,13200,240,-76.418597132986605,3.2074441889142986,0.25,0.25,0.1,0.1,{"$f":"SUMIF(SOLICITUDES!$C$2:$C$1048576,BD!C922,SOLICITUDES!$I$2:$I$1048576)","v":0},0,{"$f":"SUMIF(SOLICITUDES!$C$2:$C$1048576,BD!C922,SOLICITUDES!$J$2:$J$1048576)","v":0},0,{"$f":"SUMIF(SOLICITUDES!$C$2:$C$1048576,BD!C922,SOLICITUDES!$K$2:$K$1048576)","v":0},0]
[null,null,"T28714",0.5,13200,240,-76.42045346670524,3.2083201148992417,0.25,0.25,0.1,0.1,{"$f":"SUMIF(SOLICITUDES!$C$2:$C$1048576,BD!C923,SOLICITUDES!$I$2:$I$1048576)","v":0},0,{"$f":"SUMIF(SOLICITUDES!$C$2:$C$1048576,BD!C923,SOLICITUDES!$J$2:$J$1048576)","v":0},0,{"$f":"SUMIF(SOLICITUDES!$C$2:$C$1048576,BD!C923,SOLICITUDES!$K$2:$K$1048576)","v":0},0]
[null,null,"T18409",1250,34500,440,-76.423879169145835,3.2099174985777137,625,625,250,250,{"$f":"SUMIF(SOLICITUDES!$C$2:$C$1048576,BD!C924,SOLICITUDES!$I$2:$I$1048576)","v":0},0,{"$f":"SUMIF(SOLICITUDES!$C$2:$C$1048576,BD!C924,SOLICITUDES!$J$2:$J$1048576)","v":0},0,{"$f":"SUMIF(SOLICITUDES!$C$2:$C$1048576,BD!C924,SOLICITUDES!$K$2:$K$1048576)","v":0},0]
[null,null,"T8756",225,34500,208,-76.423932862021744,3.2103606542329817,112.5,82.5,45,45,{"$f":"SUMIF(SOLICITUDES!$C$2:$C$1048576,BD!C925,SOLICITUDES!$I$2:$I$1048576)","v":30},0.13333333333333333,{"$f":"SUMIF(SOLICITUDES!$C$2:$C$1048576,BD!C925,SOLICITUDES!$J$2:$J$1048576)","v":0},0,{"$f":"SUMIF(SOLICITUDES!$C$2:$C$1048576,BD!C925,SOLICITUDES!$K$2:$K$1048576)","v":30},0.33333333333333331]
[null,null,"T8788",112.5,34500,240,-76.424512757836453,3.2108750473152403,56.25,56.25,22.5,22.5,{"$f":"SUMIF(SOLICITUDES!$C$2:$C$1048576,BD!C926,SOLICITUDES!$I$2:$I$1048576)","v":0},0,{"$f":"SUMIF(SOLICITUDES!$C$2:$C$1048576,BD!C926,SOLICITUDES!$J$2:$J$1048576)","v":0},0,{"$f":"SUMIF(SOLICITUDES!$C$2:$C$1048576,BD!C926,SOLICITUDES!$K$2:$K$1048576)","v":0},0]
[null,null,"T8792",2000,34500,440,-76.422726316757647,3.2084003478922334,1000,1000,400,400,{"$f":"SUMIF(SOLICITUDES!$C$2:$C$1048576,BD!C927,SOLICITUDES!$I$2:$I$1048576)","v":0},0,{"$f":"SUMIF(SOLICITUDES!$C$2:$C$1048576,BD!C927,SOLICITUDES!$J$2:$J$1048576)","v":0},0,{"$f":"SUMIF(SOLICITUDES!$C$2:$C$1048576,BD!C927,SOLICITUDES!$K$2:$K$1048576)","v":0},0]
[null,null,"T8774",2000,34500,440,-76.422770821238714,3.208426694887379,1000,1000,400,400,{"$f":"SUMIF(SOLICITUDES!$C$2:$C$1048576,BD!C928,SOLICITUDES!$I$2:$I$1048576)","v":0},0,{"$f":"SUMIF(SOLICITUDES!$C$2:$C$1048576,BD!C928,SOLICITUDES!$J$2:$J$1048576)","v":0},0,{"$f":"SUMIF(SOLICITUDES!$C$2:$C$1048576,BD!C928,SOLICITUDES!$K$2:$K$1048576)","v":0},0]
[null,null,"T40125",112.5,34500,228,-76.424679190987078,3.2110482826402498,56.25,56.25,22.5,22.5,{"$f":"SUMIF(SOLICITUDES!$C$2:$C$1048576,BD!C929,SOLICITUDES!$I$2:$I$1048576)","v":0},0,{"$f":"SUMIF(SOLICITUDES!$C$2:$C$1048576,BD!C929,SOLICITUDES!$J$2:$J$1048576)","v":0},0,{"$f":"SUMIF(SOLICITUDES!$C$2:$C$1048576,BD!C929,SOLICITUDES!$K$2:$K$1048576)","v":0},0]
[null,null,"T40074",1600,34500,220,-76.422295606713192,3.2065945252832346,800,800,320,320,{"$f":"SUMIF(SOLICITUDES!$C$2:$C$1048576,BD!C930,SOLICITUDES!$I$2:$I$1048576)","v":0},0,{"$f":"SUMIF(SOLICITUDES!$C$2:$C$1048576,BD!C930,SOLICITUDES!$J$2:$J$1048576)","v":0},0,{"$f":"SUMIF(SOLICITUDES!$C$2:$C$1048576,BD!C930,SOLICITUDES!$K$2:$K$1048576)","v":0},0]
[null,null,"T8784",45,34500,208,-76.424912952688217,3.2112384267691234,22.5,22.5,9,9,{"$f":"SUMIF(SOLICITUDES!$C$2:$C$1048576,BD!C931,SOLICITUDES!$I$2:$I$1048576)","v":0},0,{"$f":"SUMIF(SOLICITUDES!$C$2:$C$1048576,BD!C931,SOLICITUDES!$J$2:$J$1048576)","v":0},0,{"$f":"SUMIF(SOLICITUDES!$C$2:$C$1048576,BD!C931,SOLICITUDES!$K$2:$K$1048576)","v":0},0]
[null,null,"T8740",500,34500,440,-76.415719437294044,3.20818920750503,250,250,100,100,{"$f":"SUMIF(SOLICITUDES!$C$2:$C$1048576,BD!C932,SOLICITUDES!$I$2:$I$1048576)","v":0},0,{"$f":"SUMIF(SOLICITUDES!$C$2:$C$1048576,BD!C932,SOLICITUDES!$J$2:$J$1048576)","v":0},0,{"$f":"SUMIF(SOLICITUDES!$C$2:$C$1048576,BD!C932,SOLICITUDES!$K$2:$K$1048576)","v":0},0]
[null,null,"T8767",112.5,34500,240,-76.424661216479805,3.2110637915323128,56.25,56.25,22.5,22.5,{"$f":"SUMIF(SOLICITUDES!$C$2:$C$1048576,BD!C933,SOLICITUDES!$I$2:$I$1048576)","v":0},0,{"$f":"SUMIF(SOLICITUDES!$C$2:$C$1048576,BD!C933,SOLICITUDES!$J$2:$J$1048576)","v":0},0,{"$f":"SUMIF(SOLICITUDES!$C$2:$C$1048576,BD!C933,SOLICITUDES!$K$2:$K$1048576)","v":0},0]
[null,null,"T9058",225,34500,208,-76.425249852075979,3.2101258674625761,112.5,112.5,45,45,{"$f":"SUMIF(SOLICITUDES!$C$2:$C$1048576,BD!C934,SOLICITUDES!$I$2:$I$1048576)","v":0},0,{"$f":"SUMIF(SOLICITUDES!$C$2:$C$1048576,BD!C934,SOLICITUDES!$J$2:$J$1048576)","v":0},0,{"$f":"SUMIF(SOLICITUDES!$C$2:$C$1048576,BD!C934,SOLICITUDES!$K$2:$K$1048576)","v":0},0]
[null,null,"T29480",800,34500,461,-76.424050265049246,3.2091955293659273,400,400,160,160,{"$f":"SUMIF(SOLICITUDES!$C$2:$C$1048576,BD!C935,SOLICITUDES!$I$2:$I$1048576)","v":0},0,{"$f":"SUMIF(SOLICITUDES!$C$2:$C$1048576,BD!C935,SOLICITUDES!$J$2:$J$1048576)","v":0},0,{"$f":"SUMIF(SOLICITUDES!$C$2:$C$1048576,BD!C935,SOLICITUDES!$K$2:$K$1048576)","v":0},0]
[null,null,"T8758",75,34500,208,-76.424095712377238,3.208940988194791,37.5,37.5,15,15,{"$f":"SUMIF(SOLICITUDES!$C$2:$C$1048576,BD!C936,SOLICITUDES!$I$2:$I$1048576)","v":0},0,{"$f":"SUMIF(SOLICITUDES!$C$2:$C$1048576,BD!C936,SOLICITUDES!$J$2:$J$1048576)","v":0},0,{"$f":"SUMIF(SOLICITUDES!$C$2:$C$1048576,BD!C936,SOLICITUDES!$K$2:$K$1048576)","v":0},0]
[null,null,"T10300",630,34500,456,-76.425864810197794,3.2119937060046486,315,315,126,126,{"$f":"SUMIF(SOLICITUDES!$C$2:$C$1048576,BD!C937,SOLICITUDES!$I$2:$I$1048576)","v":0},0,{"$f":"SUMIF(SOLICITUDES!$C$2:$C$1048576,BD!C937,SOLICITUDES!$J$2:$J$1048576)","v":0},0,{"$f":"SUMIF(SOLICITUDES!$C$2:$C$1048576,BD!C937,SOLICITUDES!$K$2:$K$1048576)","v":0},0]
[null,null,"T8770",37.5,34500,240,-76.425253932869921,3.212595044667542,18.75,18.75,7.5,7.5,{"$f":"SUMIF(SOLICITUDES!$C$2:$C$1048576,BD!C938,SOLICITUDES!$I$2:$I$1048576)","v":0},0,{"$f":"SUMIF(SOLICITUDES!$C$2:$C$1048576,BD!C938,SOLICITUDES!$J$2:$J$1048576)","v":0},0,{"$f":"SUMIF(SOLICITUDES!$C$2:$C$1048576,BD!C938,SOLICITUDES!$K$2:$K$1048576)","v":0},0]
[null,null,"T28755",0.5,13200,210,-76.425762428974991,3.2107598733414524,0.25,0.25,0.1,0.1,{"$f":"SUMIF(SOLICITUDES!$C$2:$C$1048576,BD!C939,SOLICITUDES!$I$2:$I$1048576)","v":0},0,{"$f":"SUMIF(SOLICITUDES!$C$2:$C$1048576,BD!C939,SOLICITUDES!$J$2:$J$1048576)","v":0},0,{"$f":"SUMIF(SOLICITUDES!$C$2:$C$1048576,BD!C939,SOLICITUDES!$K$2:$K$1048576)","v":0},0]
[null,null,"T25438",112.5,34500,220,-76.426367760329114,3.2113242889868578,56.25,56.25,22.5,22.5,{"$f":"SUMIF(SOLICITUDES!$C$2:$C$1048576,BD!C940,SOLICITUDES!$I$2:$I$1048576)","v":0},0,{"$f":"SUMIF(SOLICITUDES!$C$2:$C$1048576,BD!C940,SOLICITUDES!$J$2:$J$1048576)","v":0},0,{"$f":"SUMIF(SOLICITUDES!$C$2:$C$1048576,BD!C940,SOLICITUDES!$K$2:$K$1048576)","v":0},0]
[null,null,"T16725",1200,34500,460,-76.417125063037162,3.2100975449954374,600,600,240,240,{"$f":"SUMIF(SOLICITUDES!$C$2:$C$1048576,BD!C941,SOLICITUDES!$I$2:$I$1048576)","v":0},0,{"$f":"SUMIF(SOLICITUDES!$C$2:$C$1048576,BD!C941,SOLICITUDES!$J$2:$J$1048576)","v":0},0,{"$f":"SUMIF(SOLICITUDES!$C$2:$C$1048576,BD!C941,SOLICITUDES!$K$2:$K$1048576)","v":0},0]
[null,null,"T27977",400,34500,226,-76.426628294012886,3.2104336555643784,200,200,80,80,{"$f":"SUMIF(SOLICITUDES!$C$2:$C$1048576,BD!C942,SOLICITUDES!$I$2:$I$1048576)","v":0},0,{"$f":"SUMIF(SOLICITUDES!$C$2:$C$1048576,BD!C942,SOLICITUDES!$J$2:$J$1048576)","v":0},0,{"$f":"SUMIF(SOLICITUDES!$C$2:$C$1048576,BD!C942,SOLICITUDES!$K$2:$K$1048576)","v":0},0]
[null,null,"T28296",2000,34500,480,-76.426423256764238,3.2111923011710122,1000,1000,400,400,{"$f":"SUMIF(SOLICITUDES!$C$2:$C$1048576,BD!C943,SOLICITUDES!$I$2:$I$1048576)","v":0},0,{"$f":"SUMIF(SOLICITUDES!$C$2:$C$1048576,BD!C943,SOLICITUDES!$J$2:$J$1048576)","v":0},0,{"$f":"SUMIF(SOLICITUDES!$C$2:$C$1048576,BD!C943,SOLICITUDES!$K$2:$K$1048576)","v":0},0]
[null,null,"T28295",2000,34500,480,-76.42645168361048,3.2111938711870831,1000,1000,400,400,{"$f":"SUMIF(SOLICITUDES!$C$2:$C$1048576,BD!C944,SOLICITUDES!$I$2:$I$1048576)","v":0},0,{"$f":"SUMIF(SOLICITUDES!$C$2:$C$1048576,BD!C944,SOLICITUDES!$J$2:$J$1048576)","v":0},0,{"$f":"SUMIF(SOLICITUDES!$C$2:$C$1048576,BD!C944,SOLICITUDES!$K$2:$K$1048576)","v":0},0]
[null,null,"T13939",2000,34500,460,-76.41793223366885,3.210674014166659,1000,1000,400,400,{"$f":"SUMIF(SOLICITUDES!$C$2:$C$1048576,BD!C945,SOLICITUDES!$I$2:$I$1048576)","v":0},0,{"$f":"SUMIF(SOLICITUDES!$C$2:$C$1048576,BD!C945,SOLICITUDES!$J$2:$J$1048576)","v":0},0,{"$f":"SUMIF(SOLICITUDES!$C$2:$C$1048576,BD!C945,SOLICITUDES!$K$2:$K$1048576)","v":0},0]
[null,null,"T19994",400,34500,208,-76.555495130360129,2.4663626712513973,200,200,80,80,{"$f":"SUMIF(SOLICITUDES!$C$2:$C$1048576,BD!C946,SOLICITUDES!$I$2:$I$1048576)","v":0},0,{"$f":"SUMIF(SOLICITUDES!$C$2:$C$1048576,BD!C946,SOLICITUDES!$J$2:$J$1048576)","v":0},0,{"$f":"SUMIF(SOLICITUDES!$C$2:$C$1048576,BD!C946,SOLICITUDES!$K$2:$K$1048576)","v":0},0]
[null,null,"T19995",1250,34500,208,-76.544018705109025,2.4704370432597975,625,625,250,250,{"$f":"SUMIF(SOLICITUDES!$C$2:$C$1048576,BD!C947,SOLICITUDES!$I$2:$I$1048576)","v":0},0,{"$f":"SUMIF(SOLICITUDES!$C$2:$C$1048576,BD!C947,SOLICITUDES!$J$2:$J$1048576)","v":0},0,{"$f":"SUMIF(SOLICITUDES!$C$2:$C$1048576,BD!C947,SOLICITUDES!$K$2:$K$1048576)","v":0},0]
[null,null,"T28738",0.5,13200,240,-76.599251685302335,2.4548382367760269,0.25,0.25,0.1,0.1,{"$f":"SUMIF(SOLICITUDES!$C$2:$C$1048576,BD!C948,SOLICITUDES!$I$2:$I$1048576)","v":0},0,{"$f":"SUMIF(SOLICITUDES!$C$2:$C$1048576,BD!C948,SOLICITUDES!$J$2:$J$1048576)","v":0},0,{"$f":"SUMIF(SOLICITUDES!$C$2:$C$1048576,BD!C948,SOLICITUDES!$K$2:$K$1048576)","v":0},0]
[null,null,"T28740",0.5,13200,240,-76.599726551849756,2.4550289740580085,0.25,0.25,0.1,0.1,{"$f":"SUMIF(SOLICITUDES!$C$2:$C$1048576,BD!C949,SOLICITUDES!$I$2:$I$1048576)","v":0},0,{"$f":"SUMIF(SOLICITUDES!$C$2:$C$1048576,BD!C949,SOLICITUDES!$J$2:$J$1048576)","v":0},0,{"$f":"SUMIF(SOLICITUDES!$C$2:$C$1048576,BD!C949,SOLICITUDES!$K$2:$K$1048576)","v":0},0]
[null,null,"T2800",30,13200,208,-76.593323396506378,2.4585819230738997,15,15,6,6,{"$f":"SUMIF(SOLICITUDES!$C$2:$C$1048576,BD!C950,SOLICITUDES!$I$2:$I$1048576)","v":0},0,{"$f":"SUMIF(SOLICITUDES!$C$2:$C$1048576,BD!C950,SOLICITUDES!$J$2:$J$1048576)","v":0},0,{"$f":"SUMIF(SOLICITUDES!$C$2:$C$1048576,BD!C950,SOLICITUDES!$K$2:$K$1048576)","v":0},0]
[null,null,"T1663",30,13200,208,-76.590373365989279,2.4612124056928555,15,15,6,6,{"$f":"SUMIF(SOLICITUDES!$C$2:$C$1048576,BD!C951,SOLICITUDES!$I$2:$I$1048576)","v":0},0,{"$f":"SUMIF(SOLICITUDES!$C$2:$C$1048576,BD!C951,SOLICITUDES!$J$2:$J$1048576)","v":0},0,{"$f":"SUMIF(SOLICITUDES!$C$2:$C$1048576,BD!C951,SOLICITUDES!$K$2:$K$1048576)","v":0},0]
[null,null,"T2954",75,13200,208,-76.57513608046429,2.4782530532818763,37.5,37.5,15,15,{"$f":"SUMIF(SOLICITUDES!$C$2:$C$1048576,BD!C952,SOLICITUDES!$I$2:$I$1048576)","v":0},0,{"$f":"SUMIF(SOLICITUDES!$C$2:$C$1048576,BD!C952,SOLICITUDES!$J$2:$J$1048576)","v":0},0,{"$f":"SUMIF(SOLICITUDES!$C$2:$C$1048576,BD!C952,SOLICITUDES!$K$2:$K$1048576)","v":0},0]
[null,null,"T1843",75,13200,208,-76.575262051547767,2.4779998956658398,37.5,37.5,15,15,{"$f":"SUMIF(SOLICITUDES!$C$2:$C$1048576,BD!C953,SOLICITUDES!$I$2:$I$1048576)","v":0},0,{"$f":"SUMIF(SOLICITUDES!$C$2:$C$1048576,BD!C953,SOLICITUDES!$J$2:$J$1048576)","v":0},0,{"$f":"SUMIF(SOLICITUDES!$C$2:$C$1048576,BD!C953,SOLICITUDES!$K$2:$K$1048576)","v":0},0]
[null,null,"T2850",112.5,13200,208,-76.588287772871269,2.4603073105329201,56.25,56.25,22.5,22.5,{"$f":"SUMIF(SOLICITUDES!$C$2:$C$1048576,BD!C954,SOLICITUDES!$I$2:$I$1048576)","v":0},0,{"$f":"SUMIF(SOLICITUDES!$C$2:$C$1048576,BD!C954,SOLICITUDES!$J$2:$J$1048576)","v":0},0,{"$f":"SUMIF(SOLICITUDES!$C$2:$C$1048576,BD!C954,SOLICITUDES!$K$2:$K$1048576)","v":0},0]
[null,null,"T1746",75,13200,208,-76.591039514160087,2.4590151578400734,37.5,37.5,15,15,{"$f":"SUMIF(SOLICITUDES!$C$2:$C$1048576,BD!C955,SOLICITUDES!$I$2:$I$1048576)","v":0},0,{"$f":"SUMIF(SOLICITUDES!$C$2:$C$1048576,BD!C955,SOLICITUDES!$J$2:$J$1048576)","v":0},0,{"$f":"SUMIF(SOLICITUDES!$C$2:$C$1048576,BD!C955,SOLICITUDES!$K$2:$K$1048576)","v":0},0]
[null,null,"T1744",75,13200,208,-76.588773071932252,2.4609224307108937,37.5,37.5,15,15,{"$f":"SUMIF(SOLICITUDES!$C$2:$C$1048576,BD!C956,SOLICITUDES!$I$2:$I$1048576)","v":0},0,{"$f":"SUMIF(SOLICITUDES!$C$2:$C$1048576,BD!C956,SOLICITUDES!$J$2:$J$1048576)","v":0},0,{"$f":"SUMIF(SOLICITUDES!$C$2:$C$1048576,BD!C956,SOLICITUDES!$K$2:$K$1048576)","v":0},0]
[null,null,"T2799",75,13200,208,-76.594357639632037,2.4578226711990792,37.5,37.5,15,15,{"$f":"SUMIF(SOLICITUDES!$C$2:$C$1048576,BD!C957,SOLICITUDES!$I$2:$I$1048576)","v":0},0,{"$f":"SUMIF(SOLICITUDES!$C$2:$C$1048576,BD!C957,SOLICITUDES!$J$2:$J$1048576)","v":0},0,{"$f":"SUMIF(SOLICITUDES!$C$2:$C$1048576,BD!C957,SOLICITUDES!$K$2:$K$1048576)","v":0},0]
[null,null,"T1739",75,13200,208,-76.591848373653264,2.4599197733923375,37.5,37.5,15,15,{"$f":"SUMIF(SOLICITUDES!$C$2:$C$1048576,BD!C958,SOLICITUDES!$I$2:$I$1048576)","v":0},0,{"$f":"SUMIF(SOLICITUDES!$C$2:$C$1048576,BD!C958,SOLICITUDES!$J$2:$J$1048576)","v":0},0,{"$f":"SUMIF(SOLICITUDES!$C$2:$C$1048576,BD!C958,SOLICITUDES!$K$2:$K$1048576)","v":0},0]
[null,null,"T1701",30,13200,208,-76.591085048354415,2.4574145313279505,15,15,6,6,{"$f":"SUMIF(SOLICITUDES!$C$2:$C$1048576,BD!C959,SOLICITUDES!$I$2:$I$1048576)","v":0},0,{"$f":"SUMIF(SOLICITUDES!$C$2:$C$1048576,BD!C959,SOLICITUDES!$J$2:$J$1048576)","v":0},0,{"$f":"SUMIF(SOLICITUDES!$C$2:$C$1048576,BD!C959,SOLICITUDES!$K$2:$K$1048576)","v":0},0]
[null,null,"T1256",30,13200,208,-76.592285411628836,2.4695780664327263,15,15,6,6,{"$f":"SUMIF(SOLICITUDES!$C$2:$C$1048576,BD!C960,SOLICITUDES!$I$2:$I$1048576)","v":0},0,{"$f":"SUMIF(SOLICITUDES!$C$2:$C$1048576,BD!C960,SOLICITUDES!$J$2:$J$1048576)","v":0},0,{"$f":"SUMIF(SOLICITUDES!$C$2:$C$1048576,BD!C960,SOLICITUDES!$K$2:$K$1048576)","v":0},0]
[null,null,"T1745",75,13200,208,-76.589565182433475,2.4584720168972876,37.5,37.5,15,15,{"$f":"SUMIF(SOLICITUDES!$C$2:$C$1048576,BD!C961,SOLICITUDES!$I$2:$I$1048576)","v":0},0,{"$f":"SUMIF(SOLICITUDES!$C$2:$C$1048576,BD!C961,SOLICITUDES!$J$2:$J$1048576)","v":0},0,{"$f":"SUMIF(SOLICITUDES!$C$2:$C$1048576,BD!C961,SOLICITUDES!$K$2:$K$1048576)","v":0},0]
[null,null,"T1671",75,13200,208,-76.594483566141193,2.4576870735199927,37.5,37.5,15,15,{"$f":"SUMIF(SOLICITUDES!$C$2:$C$1048576,BD!C962,SOLICITUDES!$I$2:$I$1048576)","v":0},0,{"$f":"SUMIF(SOLICITUDES!$C$2:$C$1048576,BD!C962,SOLICITUDES!$J$2:$J$1048576)","v":0},0,{"$f":"SUMIF(SOLICITUDES!$C$2:$C$1048576,BD!C962,SOLICITUDES!$K$2:$K$1048576)","v":0},0]
[null,null,"T1670",150,13200,208,-76.592379305658227,2.4586629654093488,75,{"$f":"D963*0.5-M963","v":75},30,30,{"$f":"SUMIF(SOLICITUDES!$C$2:$C$1048576,BD!C963,SOLICITUDES!$I$2:$I$1048576)","v":0},{"$f":"M963/D963","v":0},{"$f":"SUMIF(SOLICITUDES!$C$2:$C$1048576,BD!C963,SOLICITUDES!$J$2:$J$1048576)","v":0},0,{"$f":"SUMIF(SOLICITUDES!$C$2:$C$1048576,BD!C963,SOLICITUDES!$K$2:$K$1048576)","v":0},0]
[null,null,"T1840",75,13200,208,-76.592150657568126,2.4692705459856632,{"$f":"D964*0.5","v":37.5},37.5,{"$f":"0.2*D964","v":15},{"$f":"0.2*D964","v":15},{"$f":"SUMIF(SOLICITUDES!$C$2:$C$1048576,BD!C964,SOLICITUDES!$I$2:$I$1048576)","v":0},0,{"$f":"SUMIF(SOLICITUDES!$C$2:$C$1048576,BD!C964,SOLICITUDES!$J$2:$J$1048576)","v":0},{"$f":"O964/(2*K964)","v":0},{"$f":"SUMIF(SOLICITUDES!$C$2:$C$1048576,BD!C964,SOLICITUDES!$K$2:$K$1048576)","v":0},{"$f":"Q964/(2*L964)","v":0}]
[null,null,"T1677",112.5,13200,208,-76.592118858915299,2.4578670663816773,56.25,56.25,22.5,22.5,{"$f":"SUMIF(SOLICITUDES!$C$2:$C$1048576,BD!C965,SOLICITUDES!$I$2:$I$1048576)","v":0},0,{"$f":"SUMIF(SOLICITUDES!$C$2:$C$1048576,BD!C965,SOLICITUDES!$J$2:$J$1048576)","v":0},0,{"$f":"SUMIF(SOLICITUDES!$C$2:$C$1048576,BD!C965,SOLICITUDES!$K$2:$K$1048576)","v":0},0]
[null,null,"T1727",75,13200,208,-76.590356465338104,2.4582552787299923,37.5,37.5,15,15,{"$f":"SUMIF(SOLICITUDES!$C$2:$C$1048576,BD!C966,SOLICITUDES!$I$2:$I$1048576)","v":0},0,{"$f":"SUMIF(SOLICITUDES!$C$2:$C$1048576,BD!C966,SOLICITUDES!$J$2:$J$1048576)","v":0},0,{"$f":"SUMIF(SOLICITUDES!$C$2:$C$1048576,BD!C966,SOLICITUDES!$K$2:$K$1048576)","v":0},0]
[null,null,"T42104",0.5,13200,240,-76.588270546222446,2.4582635453645629,0.25,0.25,0.1,0.1,{"$f":"SUMIF(SOLICITUDES!$C$2:$C$1048576,BD!C967,SOLICITUDES!$I$2:$I$1048576)","v":0},0,{"$f":"SUMIF(SOLICITUDES!$C$2:$C$1048576,BD!C967,SOLICITUDES!$J$2:$J$1048576)","v":0},0,{"$f":"SUMIF(SOLICITUDES!$C$2:$C$1048576,BD!C967,SOLICITUDES!$K$2:$K$1048576)","v":0},0]
[null,null,"T51964",75,13200,214,-76.594273919063113,2.469394932354489,37.5,37.5,15,15,{"$f":"SUMIF(SOLICITUDES!$C$2:$C$1048576,BD!C968,SOLICITUDES!$I$2:$I$1048576)","v":0},0,{"$f":"SUMIF(SOLICITUDES!$C$2:$C$1048576,BD!C968,SOLICITUDES!$J$2:$J$1048576)","v":0},0,{"$f":"SUMIF(SOLICITUDES!$C$2:$C$1048576,BD!C968,SOLICITUDES!$K$2:$K$1048576)","v":0},0]
[null,null,"T2798",30,13200,208,-76.59459149516627,2.4575695485437876,15,15,6,6,{"$f":"SUMIF(SOLICITUDES!$C$2:$C$1048576,BD!C969,SOLICITUDES!$I$2:$I$1048576)","v":0},0,{"$f":"SUMIF(SOLICITUDES!$C$2:$C$1048576,BD!C969,SOLICITUDES!$J$2:$J$1048576)","v":0},0,{"$f":"SUMIF(SOLICITUDES!$C$2:$C$1048576,BD!C969,SOLICITUDES!$K$2:$K$1048576)","v":0},0]
[null,null,"T1728",75,13200,208,-76.587550963029599,2.459068125330099,37.5,37.5,15,15,{"$f":"SUMIF(SOLICITUDES!$C$2:$C$1048576,BD!C970,SOLICITUDES!$I$2:$I$1048576)","v":0},0,{"$f":"SUMIF(SOLICITUDES!$C$2:$C$1048576,BD!C970,SOLICITUDES!$J$2:$J$1048576)","v":0},0,{"$f":"SUMIF(SOLICITUDES!$C$2:$C$1048576,BD!C970,SOLICITUDES!$K$2:$K$1048576)","v":0},0]
[null,null,"T1742",45,13200,208,-76.589843736691179,2.45893332569042,22.5,22.5,9,9,{"$f":"SUMIF(SOLICITUDES!$C$2:$C$1048576,BD!C971,SOLICITUDES!$I$2:$I$1048576)","v":0},0,{"$f":"SUMIF(SOLICITUDES!$C$2:$C$1048576,BD!C971,SOLICITUDES!$J$2:$J$1048576)","v":0},0,{"$f":"SUMIF(SOLICITUDES!$C$2:$C$1048576,BD!C971,SOLICITUDES!$K$2:$K$1048576)","v":0},0]
[null,null,"T1651",75,13200,208,-76.588090284455333,2.4594571805657597,37.5,37.5,15,15,{"$f":"SUMIF(SOLICITUDES!$C$2:$C$1048576,BD!C972,SOLICITUDES!$I$2:$I$1048576)","v":0},0,{"$f":"SUMIF(SOLICITUDES!$C$2:$C$1048576,BD!C972,SOLICITUDES!$J$2:$J$1048576)","v":0},0,{"$f":"SUMIF(SOLICITUDES!$C$2:$C$1048576,BD!C972,SOLICITUDES!$K$2:$K$1048576)","v":0},0]
[null,null,"T1672",45,13200,208,-76.587739653434937,2.4594208828254227,22.5,22.5,9,9,{"$f":"SUMIF(SOLICITUDES!$C$2:$C$1048576,BD!C973,SOLICITUDES!$I$2:$I$1048576)","v":0},0,{"$f":"SUMIF(SOLICITUDES!$C$2:$C$1048576,BD!C973,SOLICITUDES!$J$2:$J$1048576)","v":0},0,{"$f":"SUMIF(SOLICITUDES!$C$2:$C$1048576,BD!C973,SOLICITUDES!$K$2:$K$1048576)","v":0},0]
[null,null,"T1584",15,13200,240,-76.594101447870827,2.4700399423668036,7.5,7.5,3,3,{"$f":"SUMIF(SOLICITUDES!$C$2:$C$1048576,BD!C974,SOLICITUDES!$I$2:$I$1048576)","v":0},0,{"$f":"SUMIF(SOLICITUDES!$C$2:$C$1048576,BD!C974,SOLICITUDES!$J$2:$J$1048576)","v":0},0,{"$f":"SUMIF(SOLICITUDES!$C$2:$C$1048576,BD!C974,SOLICITUDES!$K$2:$K$1048576)","v":0},0]
[null,null,"T1845",75,13200,208,-76.593175853216167,2.4687012075660881,37.5,37.5,15,15,{"$f":"SUMIF(SOLICITUDES!$C$2:$C$1048576,BD!C975,SOLICITUDES!$I$2:$I$1048576)","v":0},0,{"$f":"SUMIF(SOLICITUDES!$C$2:$C$1048576,BD!C975,SOLICITUDES!$J$2:$J$1048576)","v":0},0,{"$f":"SUMIF(SOLICITUDES!$C$2:$C$1048576,BD!C975,SOLICITUDES!$K$2:$K$1048576)","v":0},0]
[null,null,"T1726",75,13200,208,-76.588188502117461,2.4613291549824221,37.5,37.5,15,15,{"$f":"SUMIF(SOLICITUDES!$C$2:$C$1048576,BD!C976,SOLICITUDES!$I$2:$I$1048576)","v":0},0,{"$f":"SUMIF(SOLICITUDES!$C$2:$C$1048576,BD!C976,SOLICITUDES!$J$2:$J$1048576)","v":0},0,{"$f":"SUMIF(SOLICITUDES!$C$2:$C$1048576,BD!C976,SOLICITUDES!$K$2:$K$1048576)","v":0},0]
[null,null,"T1666",400,13200,208,-76.603656553326886,2.4517038029724523,200,200,80,80,{"$f":"SUMIF(SOLICITUDES!$C$2:$C$1048576,BD!C977,SOLICITUDES!$I$2:$I$1048576)","v":0},0,{"$f":"SUMIF(SOLICITUDES!$C$2:$C$1048576,BD!C977,SOLICITUDES!$J$2:$J$1048576)","v":0},0,{"$f":"SUMIF(SOLICITUDES!$C$2:$C$1048576,BD!C977,SOLICITUDES!$K$2:$K$1048576)","v":0},0]
[null,null,"T24760",150,13200,208,-76.60130102731118,2.4530532037088841,75,75,30,30,{"$f":"SUMIF(SOLICITUDES!$C$2:$C$1048576,BD!C978,SOLICITUDES!$I$2:$I$1048576)","v":0},0,{"$f":"SUMIF(SOLICITUDES!$C$2:$C$1048576,BD!C978,SOLICITUDES!$J$2:$J$1048576)","v":0},0,{"$f":"SUMIF(SOLICITUDES!$C$2:$C$1048576,BD!C978,SOLICITUDES!$K$2:$K$1048576)","v":0},0]
[null,null,"T5451",75,13200,208,-76.604205014089786,2.4516768705717844,37.5,37.5,15,15,{"$f":"SUMIF(SOLICITUDES!$C$2:$C$1048576,BD!C979,SOLICITUDES!$I$2:$I$1048576)","v":0},0,{"$f":"SUMIF(SOLICITUDES!$C$2:$C$1048576,BD!C979,SOLICITUDES!$J$2:$J$1048576)","v":0},0,{"$f":"SUMIF(SOLICITUDES!$C$2:$C$1048576,BD!C979,SOLICITUDES!$K$2:$K$1048576)","v":0},0]
[null,null,"T2809",25,13200,240,-76.60419607149214,2.4515593056231766,12.5,12.5,5,5,{"$f":"SUMIF(SOLICITUDES!$C$2:$C$1048576,BD!C980,SOLICITUDES!$I$2:$I$1048576)","v":0},0,{"$f":"SUMIF(SOLICITUDES!$C$2:$C$1048576,BD!C980,SOLICITUDES!$J$2:$J$1048576)","v":0},0,{"$f":"SUMIF(SOLICITUDES!$C$2:$C$1048576,BD!C980,SOLICITUDES!$K$2:$K$1048576)","v":0},0]
[null,null,"T30700",30,13200,226,-76.561528960616485,2.4841105027645991,15,15,6,6,{"$f":"SUMIF(SOLICITUDES!$C$2:$C$1048576,BD!C981,SOLICITUDES!$I$2:$I$1048576)","v":0},0,{"$f":"SUMIF(SOLICITUDES!$C$2:$C$1048576,BD!C981,SOLICITUDES!$J$2:$J$1048576)","v":0},0,{"$f":"SUMIF(SOLICITUDES!$C$2:$C$1048576,BD!C981,SOLICITUDES!$K$2:$K$1048576)","v":0},0]
[null,null,"T5564",45,13200,208,-76.562442083442491,2.4744047737746278,22.5,22.5,9,9,{"$f":"SUMIF(SOLICITUDES!$C$2:$C$1048576,BD!C982,SOLICITUDES!$I$2:$I$1048576)","v":0},0,{"$f":"SUMIF(SOLICITUDES!$C$2:$C$1048576,BD!C982,SOLICITUDES!$J$2:$J$1048576)","v":0},0,{"$f":"SUMIF(SOLICITUDES!$C$2:$C$1048576,BD!C982,SOLICITUDES!$K$2:$K$1048576)","v":0},0]
[null,null,"T3001",75,13200,208,-76.561494200743113,2.4841890892447434,37.5,37.5,15,15,{"$f":"SUMIF(SOLICITUDES!$C$2:$C$1048576,BD!C983,SOLICITUDES!$I$2:$I$1048576)","v":0},0,{"$f":"SUMIF(SOLICITUDES!$C$2:$C$1048576,BD!C983,SOLICITUDES!$J$2:$J$1048576)","v":0},0,{"$f":"SUMIF(SOLICITUDES!$C$2:$C$1048576,BD!C983,SOLICITUDES!$K$2:$K$1048576)","v":0},0]
[null,null,"T42198",0.5,13200,240,-76.5614041993,2.4844241805745919,0.25,0.25,0.1,0.1,{"$f":"SUMIF(SOLICITUDES!$C$2:$C$1048576,BD!C984,SOLICITUDES!$I$2:$I$1048576)","v":0},0,{"$f":"SUMIF(SOLICITUDES!$C$2:$C$1048576,BD!C984,SOLICITUDES!$J$2:$J$1048576)","v":0},0,{"$f":"SUMIF(SOLICITUDES!$C$2:$C$1048576,BD!C984,SOLICITUDES!$K$2:$K$1048576)","v":0},0]
[null,null,"T41754",45,13200,214,-76.562065597932573,2.4821034048123494,22.5,22.5,9,9,{"$f":"SUMIF(SOLICITUDES!$C$2:$C$1048576,BD!C985,SOLICITUDES!$I$2:$I$1048576)","v":0},0,{"$f":"SUMIF(SOLICITUDES!$C$2:$C$1048576,BD!C985,SOLICITUDES!$J$2:$J$1048576)","v":0},0,{"$f":"SUMIF(SOLICITUDES!$C$2:$C$1048576,BD!C985,SOLICITUDES!$K$2:$K$1048576)","v":0},0]
[null,null,"T3037",30,13200,220,-76.562933033954735,2.483556639109604,15,15,6,6,{"$f":"SUMIF(SOLICITUDES!$C$2:$C$1048576,BD!C986,SOLICITUDES!$I$2:$I$1048576)","v":0},0,{"$f":"SUMIF(SOLICITUDES!$C$2:$C$1048576,BD!C986,SOLICITUDES!$J$2:$J$1048576)","v":0},0,{"$f":"SUMIF(SOLICITUDES!$C$2:$C$1048576,BD!C986,SOLICITUDES!$K$2:$K$1048576)","v":0},0]
[null,null,"T28569",75,13200,214,-76.56194468130046,2.4818470941956168,37.5,37.5,15,15,{"$f":"SUMIF(SOLICITUDES!$C$2:$C$1048576,BD!C987,SOLICITUDES!$I$2:$I$1048576)","v":0},0,{"$f":"SUMIF(SOLICITUDES!$C$2:$C$1048576,BD!C987,SOLICITUDES!$J$2:$J$1048576)","v":0},0,{"$f":"SUMIF(SOLICITUDES!$C$2:$C$1048576,BD!C987,SOLICITUDES!$K$2:$K$1048576)","v":0},0]
[null,null,"T3048",10,13200,240,-76.561612285690401,2.4811144639473457,5,5,2,2,{"$f":"SUMIF(SOLICITUDES!$C$2:$C$1048576,BD!C988,SOLICITUDES!$I$2:$I$1048576)","v":0},0,{"$f":"SUMIF(SOLICITUDES!$C$2:$C$1048576,BD!C988,SOLICITUDES!$J$2:$J$1048576)","v":0},0,{"$f":"SUMIF(SOLICITUDES!$C$2:$C$1048576,BD!C988,SOLICITUDES!$K$2:$K$1048576)","v":0},0]
[null,null,"T2998",30,13200,208,-76.56109780271909,2.4851886622740027,15,15,6,6,{"$f":"SUMIF(SOLICITUDES!$C$2:$C$1048576,BD!C989,SOLICITUDES!$I$2:$I$1048576)","v":0},0,{"$f":"SUMIF(SOLICITUDES!$C$2:$C$1048576,BD!C989,SOLICITUDES!$J$2:$J$1048576)","v":0},0,{"$f":"SUMIF(SOLICITUDES!$C$2:$C$1048576,BD!C989,SOLICITUDES!$K$2:$K$1048576)","v":0},0]
[null,null,"T29430",112.5,13200,208,-76.562453174190054,2.4812029988617335,56.25,56.25,22.5,22.5,{"$f":"SUMIF(SOLICITUDES!$C$2:$C$1048576,BD!C990,SOLICITUDES!$I$2:$I$1048576)","v":0},0,{"$f":"SUMIF(SOLICITUDES!$C$2:$C$1048576,BD!C990,SOLICITUDES!$J$2:$J$1048576)","v":0},0,{"$f":"SUMIF(SOLICITUDES!$C$2:$C$1048576,BD!C990,SOLICITUDES!$K$2:$K$1048576)","v":0},0]
[null,null,"T51943",45,13200,214,-76.561587094667004,2.4810411759770972,22.5,22.5,9,9,{"$f":"SUMIF(SOLICITUDES!$C$2:$C$1048576,BD!C991,SOLICITUDES!$I$2:$I$1048576)","v":0},0,{"$f":"SUMIF(SOLICITUDES!$C$2:$C$1048576,BD!C991,SOLICITUDES!$J$2:$J$1048576)","v":0},0,{"$f":"SUMIF(SOLICITUDES!$C$2:$C$1048576,BD!C991,SOLICITUDES!$K$2:$K$1048576)","v":0},0]
[null,null,"T2989",300,13200,208,-76.561567675088867,2.4802463055859856,150,150,60,60,{"$f":"SUMIF(SOLICITUDES!$C$2:$C$1048576,BD!C992,SOLICITUDES!$I$2:$I$1048576)","v":0},0,{"$f":"SUMIF(SOLICITUDES!$C$2:$C$1048576,BD!C992,SOLICITUDES!$J$2:$J$1048576)","v":0},0,{"$f":"SUMIF(SOLICITUDES!$C$2:$C$1048576,BD!C992,SOLICITUDES!$K$2:$K$1048576)","v":0},0]
[null,null,"T29431",75,13200,208,-76.563280855814781,2.4808494624383366,37.5,37.5,15,15,{"$f":"SUMIF(SOLICITUDES!$C$2:$C$1048576,BD!C993,SOLICITUDES!$I$2:$I$1048576)","v":0},0,{"$f":"SUMIF(SOLICITUDES!$C$2:$C$1048576,BD!C993,SOLICITUDES!$J$2:$J$1048576)","v":0},0,{"$f":"SUMIF(SOLICITUDES!$C$2:$C$1048576,BD!C993,SOLICITUDES!$K$2:$K$1048576)","v":0},0]
[null,null,"T37257",45,13200,214,-76.561131280208528,2.4799954696651123,22.5,22.5,9,9,{"$f":"SUMIF(SOLICITUDES!$C$2:$C$1048576,BD!C994,SOLICITUDES!$I$2:$I$1048576)","v":0},0,{"$f":"SUMIF(SOLICITUDES!$C$2:$C$1048576,BD!C994,SOLICITUDES!$J$2:$J$1048576)","v":0},0,{"$f":"SUMIF(SOLICITUDES!$C$2:$C$1048576,BD!C994,SOLICITUDES!$K$2:$K$1048576)","v":0},0]
[null,null,"T3066",75,13200,208,-76.561603647930426,2.4802282296172824,37.5,37.5,15,15,{"$f":"SUMIF(SOLICITUDES!$C$2:$C$1048576,BD!C995,SOLICITUDES!$I$2:$I$1048576)","v":0},0,{"$f":"SUMIF(SOLICITUDES!$C$2:$C$1048576,BD!C995,SOLICITUDES!$J$2:$J$1048576)","v":0},0,{"$f":"SUMIF(SOLICITUDES!$C$2:$C$1048576,BD!C995,SOLICITUDES!$K$2:$K$1048576)","v":0},0]
[null,null,"T29504",150,13200,453,-76.563886188368073,2.4806029426242446,75,75,30,30,{"$f":"SUMIF(SOLICITUDES!$C$2:$C$1048576,BD!C996,SOLICITUDES!$I$2:$I$1048576)","v":0},0,{"$f":"SUMIF(SOLICITUDES!$C$2:$C$1048576,BD!C996,SOLICITUDES!$J$2:$J$1048576)","v":0},0,{"$f":"SUMIF(SOLICITUDES!$C$2:$C$1048576,BD!C996,SOLICITUDES!$K$2:$K$1048576)","v":0},0]
[null,null,"T15171",75,13200,208,-76.560335507572788,2.484279944847235,37.5,37.5,15,15,{"$f":"SUMIF(SOLICITUDES!$C$2:$C$1048576,BD!C997,SOLICITUDES!$I$2:$I$1048576)","v":0},0,{"$f":"SUMIF(SOLICITUDES!$C$2:$C$1048576,BD!C997,SOLICITUDES!$J$2:$J$1048576)","v":0},0,{"$f":"SUMIF(SOLICITUDES!$C$2:$C$1048576,BD!C997,SOLICITUDES!$K$2:$K$1048576)","v":0},0]
[null,null,"T28741",0.5,13200,240,-76.560548856665065,2.4874261663205801,0.25,0.25,0.1,0.1,{"$f":"SUMIF(SOLICITUDES!$C$2:$C$1048576,BD!C998,SOLICITUDES!$I$2:$I$1048576)","v":0},0,{"$f":"SUMIF(SOLICITUDES!$C$2:$C$1048576,BD!C998,SOLICITUDES!$J$2:$J$1048576)","v":0},0,{"$f":"SUMIF(SOLICITUDES!$C$2:$C$1048576,BD!C998,SOLICITUDES!$K$2:$K$1048576)","v":0},0]
[null,null,"T28732",0.5,13200,240,-76.560377830732136,2.4879144171680219,0.25,0.25,0.1,0.1,{"$f":"SUMIF(SOLICITUDES!$C$2:$C$1048576,BD!C999,SOLICITUDES!$I$2:$I$1048576)","v":0},0,{"$f":"SUMIF(SOLICITUDES!$C$2:$C$1048576,BD!C999,SOLICITUDES!$J$2:$J$1048576)","v":0},0,{"$f":"SUMIF(SOLICITUDES!$C$2:$C$1048576,BD!C999,SOLICITUDES!$K$2:$K$1048576)","v":0},0]
[null,null,"T2986",75,13200,220,-76.560493646427389,2.4784755415938058,37.5,37.5,15,15,{"$f":"SUMIF(SOLICITUDES!$C$2:$C$1048576,BD!C1000,SOLICITUDES!$I$2:$I$1048576)","v":0},0,{"$f":"SUMIF(SOLICITUDES!$C$2:$C$1048576,BD!C1000,SOLICITUDES!$J$2:$J$1048576)","v":0},0,{"$f":"SUMIF(SOLICITUDES!$C$2:$C$1048576,BD!C1000,SOLICITUDES!$K$2:$K$1048576)","v":0},0]
[null,null,"T3038",45,13200,220,-76.559679988697297,2.4790880369377835,22.5,22.5,9,9,{"$f":"SUMIF(SOLICITUDES!$C$2:$C$1048576,BD!C1001,SOLICITUDES!$I$2:$I$1048576)","v":0},0,{"$f":"SUMIF(SOLICITUDES!$C$2:$C$1048576,BD!C1001,SOLICITUDES!$J$2:$J$1048576)","v":0},0,{"$f":"SUMIF(SOLICITUDES!$C$2:$C$1048576,BD!C1001,SOLICITUDES!$K$2:$K$1048576)","v":0},0]
[null,null,"T3096",112.5,13200,220,-76.56006709913504,2.4779643046226734,56.25,56.25,22.5,22.5,{"$f":"SUMIF(SOLICITUDES!$C$2:$C$1048576,BD!C1002,SOLICITUDES!$I$2:$I$1048576)","v":0},0,{"$f":"SUMIF(SOLICITUDES!$C$2:$C$1048576,BD!C1002,SOLICITUDES!$J$2:$J$1048576)","v":0},0,{"$f":"SUMIF(SOLICITUDES!$C$2:$C$1048576,BD!C1002,SOLICITUDES!$K$2:$K$1048576)","v":0},0]
[null,null,"T2994",112.5,13200,220,-76.560894151319857,2.4781480259184945,56.25,56.25,22.5,22.5,{"$f":"SUMIF(SOLICITUDES!$C$2:$C$1048576,BD!C1003,SOLICITUDES!$I$2:$I$1048576)","v":0},0,{"$f":"SUMIF(SOLICITUDES!$C$2:$C$1048576,BD!C1003,SOLICITUDES!$J$2:$J$1048576)","v":0},0,{"$f":"SUMIF(SOLICITUDES!$C$2:$C$1048576,BD!C1003,SOLICITUDES!$K$2:$K$1048576)","v":0},0]
[null,null,"T3040",45,13200,220,-76.559464126581346,2.4792597717911744,22.5,22.5,9,9,{"$f":"SUMIF(SOLICITUDES!$C$2:$C$1048576,BD!C1004,SOLICITUDES!$I$2:$I$1048576)","v":0},0,{"$f":"SUMIF(SOLICITUDES!$C$2:$C$1048576,BD!C1004,SOLICITUDES!$J$2:$J$1048576)","v":0},0,{"$f":"SUMIF(SOLICITUDES!$C$2:$C$1048576,BD!C1004,SOLICITUDES!$K$2:$K$1048576)","v":0},0]
[null,null,"T30639",30,13200,208,-76.563818067484249,2.4782603631104672,15,15,6,6,{"$f":"SUMIF(SOLICITUDES!$C$2:$C$1048576,BD!C1005,SOLICITUDES!$I$2:$I$1048576)","v":0},0,{"$f":"SUMIF(SOLICITUDES!$C$2:$C$1048576,BD!C1005,SOLICITUDES!$J$2:$J$1048576)","v":0},0,{"$f":"SUMIF(SOLICITUDES!$C$2:$C$1048576,BD!C1005,SOLICITUDES!$K$2:$K$1048576)","v":0},0]
[null,null,"T29989",112.5,13200,208,-76.562778386405256,2.4786807667665807,56.25,56.25,22.5,22.5,{"$f":"SUMIF(SOLICITUDES!$C$2:$C$1048576,BD!C1006,SOLICITUDES!$I$2:$I$1048576)","v":0},0,{"$f":"SUMIF(SOLICITUDES!$C$2:$C$1048576,BD!C1006,SOLICITUDES!$J$2:$J$1048576)","v":0},0,{"$f":"SUMIF(SOLICITUDES!$C$2:$C$1048576,BD!C1006,SOLICITUDES!$K$2:$K$1048576)","v":0},0]
[null,null,"T30640",45,13200,208,-76.563211089524287,2.4779544909051419,22.5,22.5,9,9,{"$f":"SUMIF(SOLICITUDES!$C$2:$C$1048576,BD!C1007,SOLICITUDES!$I$2:$I$1048576)","v":0},0,{"$f":"SUMIF(SOLICITUDES!$C$2:$C$1048576,BD!C1007,SOLICITUDES!$J$2:$J$1048576)","v":0},0,{"$f":"SUMIF(SOLICITUDES!$C$2:$C$1048576,BD!C1007,SOLICITUDES!$K$2:$K$1048576)","v":0},0]
[null,null,"T15320",75,13200,208,-76.559094265995753,2.4823975980860089,37.5,37.5,15,15,{"$f":"SUMIF(SOLICITUDES!$C$2:$C$1048576,BD!C1008,SOLICITUDES!$I$2:$I$1048576)","v":0},0,{"$f":"SUMIF(SOLICITUDES!$C$2:$C$1048576,BD!C1008,SOLICITUDES!$J$2:$J$1048576)","v":0},0,{"$f":"SUMIF(SOLICITUDES!$C$2:$C$1048576,BD!C1008,SOLICITUDES!$K$2:$K$1048576)","v":0},0]
[null,null,"T3053",112.5,13200,220,-76.56070561484556,2.4774516342616519,56.25,56.25,22.5,22.5,{"$f":"SUMIF(SOLICITUDES!$C$2:$C$1048576,BD!C1009,SOLICITUDES!$I$2:$I$1048576)","v":0},0,{"$f":"SUMIF(SOLICITUDES!$C$2:$C$1048576,BD!C1009,SOLICITUDES!$J$2:$J$1048576)","v":0},0,{"$f":"SUMIF(SOLICITUDES!$C$2:$C$1048576,BD!C1009,SOLICITUDES!$K$2:$K$1048576)","v":0},0]
[null,null,"T29988",112.5,13200,208,-76.561820362962763,2.4791280688176913,56.25,56.25,22.5,22.5,{"$f":"SUMIF(SOLICITUDES!$C$2:$C$1048576,BD!C1010,SOLICITUDES!$I$2:$I$1048576)","v":0},0,{"$f":"SUMIF(SOLICITUDES!$C$2:$C$1048576,BD!C1010,SOLICITUDES!$J$2:$J$1048576)","v":0},0,{"$f":"SUMIF(SOLICITUDES!$C$2:$C$1048576,BD!C1010,SOLICITUDES!$K$2:$K$1048576)","v":0},0]
[null,null,"T25655",50,13200,240,-76.55365515736915,2.4771629323069932,25,25,10,10,{"$f":"SUMIF(SOLICITUDES!$C$2:$C$1048576,BD!C1011,SOLICITUDES!$I$2:$I$1048576)","v":0},0,{"$f":"SUMIF(SOLICITUDES!$C$2:$C$1048576,BD!C1011,SOLICITUDES!$J$2:$J$1048576)","v":0},0,{"$f":"SUMIF(SOLICITUDES!$C$2:$C$1048576,BD!C1011,SOLICITUDES!$K$2:$K$1048576)","v":0},0]
[null,null,"T11669",25,13200,240,-76.552924078140038,2.476736329316513,12.5,12.5,5,5,{"$f":"SUMIF(SOLICITUDES!$C$2:$C$1048576,BD!C1012,SOLICITUDES!$I$2:$I$1048576)","v":0},0,{"$f":"SUMIF(SOLICITUDES!$C$2:$C$1048576,BD!C1012,SOLICITUDES!$J$2:$J$1048576)","v":0},0,{"$f":"SUMIF(SOLICITUDES!$C$2:$C$1048576,BD!C1012,SOLICITUDES!$K$2:$K$1048576)","v":0},0]
[null,null,"T3461",112.5,13200,208,-76.54984664959548,2.4716506480003977,56.25,56.25,22.5,22.5,{"$f":"SUMIF(SOLICITUDES!$C$2:$C$1048576,BD!C1013,SOLICITUDES!$I$2:$I$1048576)","v":0},0,{"$f":"SUMIF(SOLICITUDES!$C$2:$C$1048576,BD!C1013,SOLICITUDES!$J$2:$J$1048576)","v":0},0,{"$f":"SUMIF(SOLICITUDES!$C$2:$C$1048576,BD!C1013,SOLICITUDES!$K$2:$K$1048576)","v":0},0]
[null,null,"T44893",225,13200,214,-76.549262029132365,2.4702596064412639,112.5,112.5,45,45,{"$f":"SUMIF(SOLICITUDES!$C$2:$C$1048576,BD!C1014,SOLICITUDES!$I$2:$I$1048576)","v":0},0,{"$f":"SUMIF(SOLICITUDES!$C$2:$C$1048576,BD!C1014,SOLICITUDES!$J$2:$J$1048576)","v":0},0,{"$f":"SUMIF(SOLICITUDES!$C$2:$C$1048576,BD!C1014,SOLICITUDES!$K$2:$K$1048576)","v":0},0]
[null,null,"T41982",0.5,13200,240,-76.586136089243581,2.459337997788329,0.25,0.25,0.1,0.1,{"$f":"SUMIF(SOLICITUDES!$C$2:$C$1048576,BD!C1015,SOLICITUDES!$I$2:$I$1048576)","v":0},0,{"$f":"SUMIF(SOLICITUDES!$C$2:$C$1048576,BD!C1015,SOLICITUDES!$J$2:$J$1048576)","v":0},0,{"$f":"SUMIF(SOLICITUDES!$C$2:$C$1048576,BD!C1015,SOLICITUDES!$K$2:$K$1048576)","v":0},0]
[null,null,"T1126",45,13200,208,-76.572907127444211,2.4760275783286469,22.5,22.5,9,9,{"$f":"SUMIF(SOLICITUDES!$C$2:$C$1048576,BD!C1016,SOLICITUDES!$I$2:$I$1048576)","v":0},0,{"$f":"SUMIF(SOLICITUDES!$C$2:$C$1048576,BD!C1016,SOLICITUDES!$J$2:$J$1048576)","v":0},0,{"$f":"SUMIF(SOLICITUDES!$C$2:$C$1048576,BD!C1016,SOLICITUDES!$K$2:$K$1048576)","v":0},0]
[null,null,"T1145",75,13200,208,-76.572754587436947,2.4752226788055154,37.5,37.5,15,15,{"$f":"SUMIF(SOLICITUDES!$C$2:$C$1048576,BD!C1017,SOLICITUDES!$I$2:$I$1048576)","v":0},0,{"$f":"SUMIF(SOLICITUDES!$C$2:$C$1048576,BD!C1017,SOLICITUDES!$J$2:$J$1048576)","v":0},0,{"$f":"SUMIF(SOLICITUDES!$C$2:$C$1048576,BD!C1017,SOLICITUDES!$K$2:$K$1048576)","v":0},0]
[null,null,"T1140",75,13200,208,-76.572520657159671,2.4756476150196121,37.5,37.5,15,15,{"$f":"SUMIF(SOLICITUDES!$C$2:$C$1048576,BD!C1018,SOLICITUDES!$I$2:$I$1048576)","v":0},0,{"$f":"SUMIF(SOLICITUDES!$C$2:$C$1048576,BD!C1018,SOLICITUDES!$J$2:$J$1048576)","v":0},0,{"$f":"SUMIF(SOLICITUDES!$C$2:$C$1048576,BD!C1018,SOLICITUDES!$K$2:$K$1048576)","v":0},0]
[null,null,"T1163",10,13200,240,-76.572440113316858,2.4746437940478687,5,5,2,2,{"$f":"SUMIF(SOLICITUDES!$C$2:$C$1048576,BD!C1019,SOLICITUDES!$I$2:$I$1048576)","v":0},0,{"$f":"SUMIF(SOLICITUDES!$C$2:$C$1048576,BD!C1019,SOLICITUDES!$J$2:$J$1048576)","v":0},0,{"$f":"SUMIF(SOLICITUDES!$C$2:$C$1048576,BD!C1019,SOLICITUDES!$K$2:$K$1048576)","v":0},0]
[null,null,"T1164",75,13200,208,-76.572215077364362,2.475321943995664,37.5,37.5,15,15,{"$f":"SUMIF(SOLICITUDES!$C$2:$C$1048576,BD!C1020,SOLICITUDES!$I$2:$I$1048576)","v":0},0,{"$f":"SUMIF(SOLICITUDES!$C$2:$C$1048576,BD!C1020,SOLICITUDES!$J$2:$J$1048576)","v":0},0,{"$f":"SUMIF(SOLICITUDES!$C$2:$C$1048576,BD!C1020,SOLICITUDES!$K$2:$K$1048576)","v":0},0]
[null,null,"T40178",30,13200,214,-76.572159867373273,2.4744740698356948,15,15,6,6,{"$f":"SUMIF(SOLICITUDES!$C$2:$C$1048576,BD!C1021,SOLICITUDES!$I$2:$I$1048576)","v":0},0,{"$f":"SUMIF(SOLICITUDES!$C$2:$C$1048576,BD!C1021,SOLICITUDES!$J$2:$J$1048576)","v":0},0,{"$f":"SUMIF(SOLICITUDES!$C$2:$C$1048576,BD!C1021,SOLICITUDES!$K$2:$K$1048576)","v":0},0]
[null,null,"T1127",112.5,13200,208,-76.571218000168443,2.4763924633458707,56.25,56.25,22.5,22.5,{"$f":"SUMIF(SOLICITUDES!$C$2:$C$1048576,BD!C1022,SOLICITUDES!$I$2:$I$1048576)","v":0},0,{"$f":"SUMIF(SOLICITUDES!$C$2:$C$1048576,BD!C1022,SOLICITUDES!$J$2:$J$1048576)","v":0},0,{"$f":"SUMIF(SOLICITUDES!$C$2:$C$1048576,BD!C1022,SOLICITUDES!$K$2:$K$1048576)","v":0},0]
[null,null,"T44106",75,13200,214,-76.572865665740679,2.473967440014571,37.5,37.5,15,15,{"$f":"SUMIF(SOLICITUDES!$C$2:$C$1048576,BD!C1023,SOLICITUDES!$I$2:$I$1048576)","v":0},0,{"$f":"SUMIF(SOLICITUDES!$C$2:$C$1048576,BD!C1023,SOLICITUDES!$J$2:$J$1048576)","v":0},0,{"$f":"SUMIF(SOLICITUDES!$C$2:$C$1048576,BD!C1023,SOLICITUDES!$K$2:$K$1048576)","v":0},0]
[null,null,"T1168",45,13200,208,-76.571891276175393,2.4756564144339586,22.5,22.5,9,9,{"$f":"SUMIF(SOLICITUDES!$C$2:$C$1048576,BD!C1024,SOLICITUDES!$I$2:$I$1048576)","v":0},0,{"$f":"SUMIF(SOLICITUDES!$C$2:$C$1048576,BD!C1024,SOLICITUDES!$J$2:$J$1048576)","v":0},0,{"$f":"SUMIF(SOLICITUDES!$C$2:$C$1048576,BD!C1024,SOLICITUDES!$K$2:$K$1048576)","v":0},0]
[null,null,"T1129",112.5,13200,208,-76.572925577485037,2.4748067529055811,56.25,56.25,22.5,22.5,{"$f":"SUMIF(SOLICITUDES!$C$2:$C$1048576,BD!C1025,SOLICITUDES!$I$2:$I$1048576)","v":0},0,{"$f":"SUMIF(SOLICITUDES!$C$2:$C$1048576,BD!C1025,SOLICITUDES!$J$2:$J$1048576)","v":0},0,{"$f":"SUMIF(SOLICITUDES!$C$2:$C$1048576,BD!C1025,SOLICITUDES!$K$2:$K$1048576)","v":0},0]
[null,null,"T1144",45,13200,208,-76.573006669321273,2.4743455890138009,22.5,22.5,9,9,{"$f":"SUMIF(SOLICITUDES!$C$2:$C$1048576,BD!C1026,SOLICITUDES!$I$2:$I$1048576)","v":0},0,{"$f":"SUMIF(SOLICITUDES!$C$2:$C$1048576,BD!C1026,SOLICITUDES!$J$2:$J$1048576)","v":0},0,{"$f":"SUMIF(SOLICITUDES!$C$2:$C$1048576,BD!C1026,SOLICITUDES!$K$2:$K$1048576)","v":0},0]
[null,null,"T1176",112.5,13200,208,-76.586794655413243,2.4619616644797238,56.25,{"$f":"D1027*0.5-M1027","v":56.25},22.5,22.5,{"$f":"SUMIF(SOLICITUDES!$C$2:$C$1048576,BD!C1027,SOLICITUDES!$I$2:$I$1048576)","v":0},{"$f":"M1027/D1027","v":0},{"$f":"SUMIF(SOLICITUDES!$C$2:$C$1048576,BD!C1027,SOLICITUDES!$J$2:$J$1048576)","v":0},0,{"$f":"SUMIF(SOLICITUDES!$C$2:$C$1048576,BD!C1027,SOLICITUDES!$K$2:$K$1048576)","v":0},0]
[null,null,"T1180",45,13200,208,-76.586174338238777,2.4617715220507126,{"$f":"D1028*0.5","v":22.5},22.5,{"$f":"0.2*D1028","v":9},{"$f":"0.2*D1028","v":9},{"$f":"SUMIF(SOLICITUDES!$C$2:$C$1048576,BD!C1028,SOLICITUDES!$I$2:$I$1048576)","v":0},0,{"$f":"SUMIF(SOLICITUDES!$C$2:$C$1048576,BD!C1028,SOLICITUDES!$J$2:$J$1048576)","v":0},{"$f":"O1028/(2*K1028)","v":0},{"$f":"SUMIF(SOLICITUDES!$C$2:$C$1048576,BD!C1028,SOLICITUDES!$K$2:$K$1048576)","v":0},{"$f":"Q1028/(2*L1028)","v":0}]
[null,null,"T2018",112.5,13200,208,-76.587172823742449,2.4581008239941666,56.25,56.25,22.5,22.5,{"$f":"SUMIF(SOLICITUDES!$C$2:$C$1048576,BD!C1029,SOLICITUDES!$I$2:$I$1048576)","v":0},0,{"$f":"SUMIF(SOLICITUDES!$C$2:$C$1048576,BD!C1029,SOLICITUDES!$J$2:$J$1048576)","v":0},0,{"$f":"SUMIF(SOLICITUDES!$C$2:$C$1048576,BD!C1029,SOLICITUDES!$K$2:$K$1048576)","v":0},0]
[null,null,"T1494",25,13200,240,-76.584824677553271,2.4599185133604067,12.5,12.5,5,5,{"$f":"SUMIF(SOLICITUDES!$C$2:$C$1048576,BD!C1030,SOLICITUDES!$I$2:$I$1048576)","v":0},0,{"$f":"SUMIF(SOLICITUDES!$C$2:$C$1048576,BD!C1030,SOLICITUDES!$J$2:$J$1048576)","v":0},0,{"$f":"SUMIF(SOLICITUDES!$C$2:$C$1048576,BD!C1030,SOLICITUDES!$K$2:$K$1048576)","v":0},0]
[null,null,"T1149",112.5,13200,208,-76.586570229197065,2.4610210841859552,56.25,56.25,22.5,22.5,{"$f":"SUMIF(SOLICITUDES!$C$2:$C$1048576,BD!C1031,SOLICITUDES!$I$2:$I$1048576)","v":0},0,{"$f":"SUMIF(SOLICITUDES!$C$2:$C$1048576,BD!C1031,SOLICITUDES!$J$2:$J$1048576)","v":0},0,{"$f":"SUMIF(SOLICITUDES!$C$2:$C$1048576,BD!C1031,SOLICITUDES!$K$2:$K$1048576)","v":0},0]
[null,null,"T2010",75,13200,208,-76.587434518102711,2.4578924616814422,37.5,37.5,15,15,{"$f":"SUMIF(SOLICITUDES!$C$2:$C$1048576,BD!C1032,SOLICITUDES!$I$2:$I$1048576)","v":0},0,{"$f":"SUMIF(SOLICITUDES!$C$2:$C$1048576,BD!C1032,SOLICITUDES!$J$2:$J$1048576)","v":0},0,{"$f":"SUMIF(SOLICITUDES!$C$2:$C$1048576,BD!C1032,SOLICITUDES!$K$2:$K$1048576)","v":0},0]
[null,null,"T1125",75,13200,208,-76.586641723321591,2.4621786422933938,37.5,37.5,15,15,{"$f":"SUMIF(SOLICITUDES!$C$2:$C$1048576,BD!C1033,SOLICITUDES!$I$2:$I$1048576)","v":0},0,{"$f":"SUMIF(SOLICITUDES!$C$2:$C$1048576,BD!C1033,SOLICITUDES!$J$2:$J$1048576)","v":0},0,{"$f":"SUMIF(SOLICITUDES!$C$2:$C$1048576,BD!C1033,SOLICITUDES!$K$2:$K$1048576)","v":0},0]
[null,null,"T1170",112.5,13200,208,-76.587477885948033,2.4621970399203019,56.25,56.25,22.5,22.5,{"$f":"SUMIF(SOLICITUDES!$C$2:$C$1048576,BD!C1034,SOLICITUDES!$I$2:$I$1048576)","v":0},0,{"$f":"SUMIF(SOLICITUDES!$C$2:$C$1048576,BD!C1034,SOLICITUDES!$J$2:$J$1048576)","v":0},0,{"$f":"SUMIF(SOLICITUDES!$C$2:$C$1048576,BD!C1034,SOLICITUDES!$K$2:$K$1048576)","v":0},0]
[null,null,"T1141",112.5,13200,208,-76.585976468462121,2.4619523156174741,56.25,56.25,22.5,22.5,{"$f":"SUMIF(SOLICITUDES!$C$2:$C$1048576,BD!C1035,SOLICITUDES!$I$2:$I$1048576)","v":0},0,{"$f":"SUMIF(SOLICITUDES!$C$2:$C$1048576,BD!C1035,SOLICITUDES!$J$2:$J$1048576)","v":0},0,{"$f":"SUMIF(SOLICITUDES!$C$2:$C$1048576,BD!C1035,SOLICITUDES!$K$2:$K$1048576)","v":0},0]
[null,null,"T30304",30,13200,208,-76.582939797179677,2.4635654490138639,15,15,6,6,{"$f":"SUMIF(SOLICITUDES!$C$2:$C$1048576,BD!C1036,SOLICITUDES!$I$2:$I$1048576)","v":0},0,{"$f":"SUMIF(SOLICITUDES!$C$2:$C$1048576,BD!C1036,SOLICITUDES!$J$2:$J$1048576)","v":0},0,{"$f":"SUMIF(SOLICITUDES!$C$2:$C$1048576,BD!C1036,SOLICITUDES!$K$2:$K$1048576)","v":0},0]
[null,null,"T41536",150,13200,213,-76.582955447789871,2.463333902990045,75,75,30,30,{"$f":"SUMIF(SOLICITUDES!$C$2:$C$1048576,BD!C1037,SOLICITUDES!$I$2:$I$1048576)","v":0},0,{"$f":"SUMIF(SOLICITUDES!$C$2:$C$1048576,BD!C1037,SOLICITUDES!$J$2:$J$1048576)","v":0},0,{"$f":"SUMIF(SOLICITUDES!$C$2:$C$1048576,BD!C1037,SOLICITUDES!$K$2:$K$1048576)","v":0},0]
[null,null,"T1142",75,13200,208,-76.586435237624727,2.4613465916151891,37.5,37.5,15,15,{"$f":"SUMIF(SOLICITUDES!$C$2:$C$1048576,BD!C1038,SOLICITUDES!$I$2:$I$1048576)","v":0},0,{"$f":"SUMIF(SOLICITUDES!$C$2:$C$1048576,BD!C1038,SOLICITUDES!$J$2:$J$1048576)","v":0},0,{"$f":"SUMIF(SOLICITUDES!$C$2:$C$1048576,BD!C1038,SOLICITUDES!$K$2:$K$1048576)","v":0},0]
[null,null,"T2004",75,13200,208,-76.585146117673219,2.4580311306726261,37.5,37.5,15,15,{"$f":"SUMIF(SOLICITUDES!$C$2:$C$1048576,BD!C1039,SOLICITUDES!$I$2:$I$1048576)","v":0},0,{"$f":"SUMIF(SOLICITUDES!$C$2:$C$1048576,BD!C1039,SOLICITUDES!$J$2:$J$1048576)","v":0},0,{"$f":"SUMIF(SOLICITUDES!$C$2:$C$1048576,BD!C1039,SOLICITUDES!$K$2:$K$1048576)","v":0},0]
[null,null,"T1479",75,13200,208,-76.584124794222163,2.4606494000296362,37.5,37.5,15,15,{"$f":"SUMIF(SOLICITUDES!$C$2:$C$1048576,BD!C1040,SOLICITUDES!$I$2:$I$1048576)","v":0},0,{"$f":"SUMIF(SOLICITUDES!$C$2:$C$1048576,BD!C1040,SOLICITUDES!$J$2:$J$1048576)","v":0},0,{"$f":"SUMIF(SOLICITUDES!$C$2:$C$1048576,BD!C1040,SOLICITUDES!$K$2:$K$1048576)","v":0},0]
[null,null,"T1449",25,13200,240,-76.583579906081297,2.4600771334705653,12.5,12.5,5,5,{"$f":"SUMIF(SOLICITUDES!$C$2:$C$1048576,BD!C1041,SOLICITUDES!$I$2:$I$1048576)","v":0},0,{"$f":"SUMIF(SOLICITUDES!$C$2:$C$1048576,BD!C1041,SOLICITUDES!$J$2:$J$1048576)","v":0},0,{"$f":"SUMIF(SOLICITUDES!$C$2:$C$1048576,BD!C1041,SOLICITUDES!$K$2:$K$1048576)","v":0},0]
[null,null,"T1153",75,13200,208,-76.585887246394094,2.4600893810362532,37.5,37.5,15,15,{"$f":"SUMIF(SOLICITUDES!$C$2:$C$1048576,BD!C1042,SOLICITUDES!$I$2:$I$1048576)","v":0},0,{"$f":"SUMIF(SOLICITUDES!$C$2:$C$1048576,BD!C1042,SOLICITUDES!$J$2:$J$1048576)","v":0},0,{"$f":"SUMIF(SOLICITUDES!$C$2:$C$1048576,BD!C1042,SOLICITUDES!$K$2:$K$1048576)","v":0},0]
[null,null,"T16705",30,13200,214,-76.583126945149075,2.4602420881639611,15,15,6,6,{"$f":"SUMIF(SOLICITUDES!$C$2:$C$1048576,BD!C1043,SOLICITUDES!$I$2:$I$1048576)","v":0},0,{"$f":"SUMIF(SOLICITUDES!$C$2:$C$1048576,BD!C1043,SOLICITUDES!$J$2:$J$1048576)","v":0},0,{"$f":"SUMIF(SOLICITUDES!$C$2:$C$1048576,BD!C1043,SOLICITUDES!$K$2:$K$1048576)","v":0},0]
[null,null,"T1447",75,13200,208,-76.58356719975302,2.4610742234617486,37.5,37.5,15,15,{"$f":"SUMIF(SOLICITUDES!$C$2:$C$1048576,BD!C1044,SOLICITUDES!$I$2:$I$1048576)","v":0},0,{"$f":"SUMIF(SOLICITUDES!$C$2:$C$1048576,BD!C1044,SOLICITUDES!$J$2:$J$1048576)","v":0},0,{"$f":"SUMIF(SOLICITUDES!$C$2:$C$1048576,BD!C1044,SOLICITUDES!$K$2:$K$1048576)","v":0},0]
[null,null,"T2003",112.5,13200,208,-76.585456838339809,2.4569421909304427,56.25,56.25,22.5,22.5,{"$f":"SUMIF(SOLICITUDES!$C$2:$C$1048576,BD!C1045,SOLICITUDES!$I$2:$I$1048576)","v":0},0,{"$f":"SUMIF(SOLICITUDES!$C$2:$C$1048576,BD!C1045,SOLICITUDES!$J$2:$J$1048576)","v":0},0,{"$f":"SUMIF(SOLICITUDES!$C$2:$C$1048576,BD!C1045,SOLICITUDES!$K$2:$K$1048576)","v":0},0]
[null,null,"T1171",45,13200,208,-76.585958646498781,2.4615182317358273,22.5,22.5,9,9,{"$f":"SUMIF(SOLICITUDES!$C$2:$C$1048576,BD!C1046,SOLICITUDES!$I$2:$I$1048576)","v":0},0,{"$f":"SUMIF(SOLICITUDES!$C$2:$C$1048576,BD!C1046,SOLICITUDES!$J$2:$J$1048576)","v":0},0,{"$f":"SUMIF(SOLICITUDES!$C$2:$C$1048576,BD!C1046,SOLICITUDES!$K$2:$K$1048576)","v":0},0]
[null,null,"T1114",75,13200,208,-76.585824110605571,2.4606319501303457,37.5,37.5,15,15,{"$f":"SUMIF(SOLICITUDES!$C$2:$C$1048576,BD!C1047,SOLICITUDES!$I$2:$I$1048576)","v":0},0,{"$f":"SUMIF(SOLICITUDES!$C$2:$C$1048576,BD!C1047,SOLICITUDES!$J$2:$J$1048576)","v":0},0,{"$f":"SUMIF(SOLICITUDES!$C$2:$C$1048576,BD!C1047,SOLICITUDES!$K$2:$K$1048576)","v":0},0]
[null,null,"T2024",75,13200,208,-76.582551514925655,2.4602509049541679,37.5,37.5,15,15,{"$f":"SUMIF(SOLICITUDES!$C$2:$C$1048576,BD!C1048,SOLICITUDES!$I$2:$I$1048576)","v":0},0,{"$f":"SUMIF(SOLICITUDES!$C$2:$C$1048576,BD!C1048,SOLICITUDES!$J$2:$J$1048576)","v":0},0,{"$f":"SUMIF(SOLICITUDES!$C$2:$C$1048576,BD!C1048,SOLICITUDES!$K$2:$K$1048576)","v":0},0]
[null,null,"T2012",112.5,13200,208,-76.584161287726488,2.4592296346503524,56.25,56.25,22.5,22.5,{"$f":"SUMIF(SOLICITUDES!$C$2:$C$1048576,BD!C1049,SOLICITUDES!$I$2:$I$1048576)","v":0},0,{"$f":"SUMIF(SOLICITUDES!$C$2:$C$1048576,BD!C1049,SOLICITUDES!$J$2:$J$1048576)","v":0},0,{"$f":"SUMIF(SOLICITUDES!$C$2:$C$1048576,BD!C1049,SOLICITUDES!$K$2:$K$1048576)","v":0},0]
[null,null,"T1760",75,13200,208,-76.584216879861501,2.4570088931569711,37.5,37.5,15,15,{"$f":"SUMIF(SOLICITUDES!$C$2:$C$1048576,BD!C1050,SOLICITUDES!$I$2:$I$1048576)","v":0},0,{"$f":"SUMIF(SOLICITUDES!$C$2:$C$1048576,BD!C1050,SOLICITUDES!$J$2:$J$1048576)","v":0},0,{"$f":"SUMIF(SOLICITUDES!$C$2:$C$1048576,BD!C1050,SOLICITUDES!$K$2:$K$1048576)","v":0},0]
[null,null,"T1775",112.5,13200,208,-76.584386741273121,2.4573849075621546,56.25,56.25,22.5,22.5,{"$f":"SUMIF(SOLICITUDES!$C$2:$C$1048576,BD!C1051,SOLICITUDES!$I$2:$I$1048576)","v":0},0,{"$f":"SUMIF(SOLICITUDES!$C$2:$C$1048576,BD!C1051,SOLICITUDES!$J$2:$J$1048576)","v":0},0,{"$f":"SUMIF(SOLICITUDES!$C$2:$C$1048576,BD!C1051,SOLICITUDES!$K$2:$K$1048576)","v":0},0]
[null,null,"T5093",150,13200,208,-76.586128965929262,2.4629109520270096,75,75,30,30,{"$f":"SUMIF(SOLICITUDES!$C$2:$C$1048576,BD!C1052,SOLICITUDES!$I$2:$I$1048576)","v":0},0,{"$f":"SUMIF(SOLICITUDES!$C$2:$C$1048576,BD!C1052,SOLICITUDES!$J$2:$J$1048576)","v":0},0,{"$f":"SUMIF(SOLICITUDES!$C$2:$C$1048576,BD!C1052,SOLICITUDES!$K$2:$K$1048576)","v":0},0]
[null,null,"T1148",75,13200,208,-76.585751785141312,2.4616990179317999,37.5,37.5,15,15,{"$f":"SUMIF(SOLICITUDES!$C$2:$C$1048576,BD!C1053,SOLICITUDES!$I$2:$I$1048576)","v":0},0,{"$f":"SUMIF(SOLICITUDES!$C$2:$C$1048576,BD!C1053,SOLICITUDES!$J$2:$J$1048576)","v":0},0,{"$f":"SUMIF(SOLICITUDES!$C$2:$C$1048576,BD!C1053,SOLICITUDES!$K$2:$K$1048576)","v":0},0]
[null,null,"T2016",75,13200,208,-76.585834930410442,2.4556762858766059,37.5,37.5,15,15,{"$f":"SUMIF(SOLICITUDES!$C$2:$C$1048576,BD!C1054,SOLICITUDES!$I$2:$I$1048576)","v":0},0,{"$f":"SUMIF(SOLICITUDES!$C$2:$C$1048576,BD!C1054,SOLICITUDES!$J$2:$J$1048576)","v":0},0,{"$f":"SUMIF(SOLICITUDES!$C$2:$C$1048576,BD!C1054,SOLICITUDES!$K$2:$K$1048576)","v":0},0]
[null,null,"T2952",75,13200,208,-76.583757535291426,2.4569596463539032,37.5,37.5,15,15,{"$f":"SUMIF(SOLICITUDES!$C$2:$C$1048576,BD!C1055,SOLICITUDES!$I$2:$I$1048576)","v":0},0,{"$f":"SUMIF(SOLICITUDES!$C$2:$C$1048576,BD!C1055,SOLICITUDES!$J$2:$J$1048576)","v":0},0,{"$f":"SUMIF(SOLICITUDES!$C$2:$C$1048576,BD!C1055,SOLICITUDES!$K$2:$K$1048576)","v":0},0]
[null,null,"T1764",75,13200,208,-76.584288094332734,2.456697588143383,37.5,37.5,15,15,{"$f":"SUMIF(SOLICITUDES!$C$2:$C$1048576,BD!C1056,SOLICITUDES!$I$2:$I$1048576)","v":0},0,{"$f":"SUMIF(SOLICITUDES!$C$2:$C$1048576,BD!C1056,SOLICITUDES!$J$2:$J$1048576)","v":0},0,{"$f":"SUMIF(SOLICITUDES!$C$2:$C$1048576,BD!C1056,SOLICITUDES!$K$2:$K$1048576)","v":0},0]
[null,null,"T1138",112.5,13200,208,-76.585446370854157,2.4609392805932186,56.25,56.25,22.5,22.5,{"$f":"SUMIF(SOLICITUDES!$C$2:$C$1048576,BD!C1057,SOLICITUDES!$I$2:$I$1048576)","v":0},0,{"$f":"SUMIF(SOLICITUDES!$C$2:$C$1048576,BD!C1057,SOLICITUDES!$J$2:$J$1048576)","v":0},0,{"$f":"SUMIF(SOLICITUDES!$C$2:$C$1048576,BD!C1057,SOLICITUDES!$K$2:$K$1048576)","v":0},0]
[null,null,"T2007",150,13200,208,-76.582326884939775,2.4598438814370076,75,75,30,30,{"$f":"SUMIF(SOLICITUDES!$C$2:$C$1048576,BD!C1058,SOLICITUDES!$I$2:$I$1048576)","v":0},0,{"$f":"SUMIF(SOLICITUDES!$C$2:$C$1048576,BD!C1058,SOLICITUDES!$J$2:$J$1048576)","v":0},0,{"$f":"SUMIF(SOLICITUDES!$C$2:$C$1048576,BD!C1058,SOLICITUDES!$K$2:$K$1048576)","v":0},0]
[null,null,"T1492",112.5,13200,208,-76.581621207988533,2.4602306983579951,56.25,56.25,22.5,22.5,{"$f":"SUMIF(SOLICITUDES!$C$2:$C$1048576,BD!C1059,SOLICITUDES!$I$2:$I$1048576)","v":0},0,{"$f":"SUMIF(SOLICITUDES!$C$2:$C$1048576,BD!C1059,SOLICITUDES!$J$2:$J$1048576)","v":0},0,{"$f":"SUMIF(SOLICITUDES!$C$2:$C$1048576,BD!C1059,SOLICITUDES!$K$2:$K$1048576)","v":0},0]
[null,null,"T1457",112.5,13200,208,-76.583478808842941,2.4569685791505855,56.25,56.25,22.5,22.5,{"$f":"SUMIF(SOLICITUDES!$C$2:$C$1048576,BD!C1060,SOLICITUDES!$I$2:$I$1048576)","v":0},0,{"$f":"SUMIF(SOLICITUDES!$C$2:$C$1048576,BD!C1060,SOLICITUDES!$J$2:$J$1048576)","v":0},0,{"$f":"SUMIF(SOLICITUDES!$C$2:$C$1048576,BD!C1060,SOLICITUDES!$K$2:$K$1048576)","v":0},0]
[null,null,"T2014",150,13200,208,-76.582038898319482,2.4605943625079369,75,75,30,30,{"$f":"SUMIF(SOLICITUDES!$C$2:$C$1048576,BD!C1061,SOLICITUDES!$I$2:$I$1048576)","v":0},0,{"$f":"SUMIF(SOLICITUDES!$C$2:$C$1048576,BD!C1061,SOLICITUDES!$J$2:$J$1048576)","v":0},0,{"$f":"SUMIF(SOLICITUDES!$C$2:$C$1048576,BD!C1061,SOLICITUDES!$K$2:$K$1048576)","v":0},0]
[null,null,"T1497",112.5,13200,208,-76.584801362523535,2.4545816783320564,56.25,56.25,22.5,22.5,{"$f":"SUMIF(SOLICITUDES!$C$2:$C$1048576,BD!C1062,SOLICITUDES!$I$2:$I$1048576)","v":0},0,{"$f":"SUMIF(SOLICITUDES!$C$2:$C$1048576,BD!C1062,SOLICITUDES!$J$2:$J$1048576)","v":0},0,{"$f":"SUMIF(SOLICITUDES!$C$2:$C$1048576,BD!C1062,SOLICITUDES!$K$2:$K$1048576)","v":0},0]
[null,null,"T2015",112.5,13200,208,-76.582029744168963,2.4610284251953658,56.25,56.25,22.5,22.5,{"$f":"SUMIF(SOLICITUDES!$C$2:$C$1048576,BD!C1063,SOLICITUDES!$I$2:$I$1048576)","v":0},0,{"$f":"SUMIF(SOLICITUDES!$C$2:$C$1048576,BD!C1063,SOLICITUDES!$J$2:$J$1048576)","v":0},0,{"$f":"SUMIF(SOLICITUDES!$C$2:$C$1048576,BD!C1063,SOLICITUDES!$K$2:$K$1048576)","v":0},0]
[null,null,"T2011",112.5,13200,208,-76.583972679722834,2.4586869767451831,56.25,56.25,22.5,22.5,{"$f":"SUMIF(SOLICITUDES!$C$2:$C$1048576,BD!C1064,SOLICITUDES!$I$2:$I$1048576)","v":0},0,{"$f":"SUMIF(SOLICITUDES!$C$2:$C$1048576,BD!C1064,SOLICITUDES!$J$2:$J$1048576)","v":0},0,{"$f":"SUMIF(SOLICITUDES!$C$2:$C$1048576,BD!C1064,SOLICITUDES!$K$2:$K$1048576)","v":0},0]
[null,null,"T1477",150,13200,208,-76.581418517546211,2.4597778691918135,75,75,30,30,{"$f":"SUMIF(SOLICITUDES!$C$2:$C$1048576,BD!C1065,SOLICITUDES!$I$2:$I$1048576)","v":0},0,{"$f":"SUMIF(SOLICITUDES!$C$2:$C$1048576,BD!C1065,SOLICITUDES!$J$2:$J$1048576)","v":0},0,{"$f":"SUMIF(SOLICITUDES!$C$2:$C$1048576,BD!C1065,SOLICITUDES!$K$2:$K$1048576)","v":0},0]
[null,null,"T1490",50,13200,240,-76.585538653572286,2.4545186513139683,25,25,10,10,{"$f":"SUMIF(SOLICITUDES!$C$2:$C$1048576,BD!C1066,SOLICITUDES!$I$2:$I$1048576)","v":0},0,{"$f":"SUMIF(SOLICITUDES!$C$2:$C$1048576,BD!C1066,SOLICITUDES!$J$2:$J$1048576)","v":0},0,{"$f":"SUMIF(SOLICITUDES!$C$2:$C$1048576,BD!C1066,SOLICITUDES!$K$2:$K$1048576)","v":0},0]
[null,null,"T2019",45,13200,208,-76.58202060307535,2.4614353658504062,22.5,22.5,9,9,{"$f":"SUMIF(SOLICITUDES!$C$2:$C$1048576,BD!C1067,SOLICITUDES!$I$2:$I$1048576)","v":0},0,{"$f":"SUMIF(SOLICITUDES!$C$2:$C$1048576,BD!C1067,SOLICITUDES!$J$2:$J$1048576)","v":0},0,{"$f":"SUMIF(SOLICITUDES!$C$2:$C$1048576,BD!C1067,SOLICITUDES!$K$2:$K$1048576)","v":0},0]
[null,null,"T2009",30,13200,208,-76.586941000815131,2.4551883712954385,15,15,6,6,{"$f":"SUMIF(SOLICITUDES!$C$2:$C$1048576,BD!C1068,SOLICITUDES!$I$2:$I$1048576)","v":0},0,{"$f":"SUMIF(SOLICITUDES!$C$2:$C$1048576,BD!C1068,SOLICITUDES!$J$2:$J$1048576)","v":0},0,{"$f":"SUMIF(SOLICITUDES!$C$2:$C$1048576,BD!C1068,SOLICITUDES!$K$2:$K$1048576)","v":0},0]
[null,null,"T1498",112.5,13200,208,-76.581130796472607,2.4605940163118136,56.25,56.25,22.5,22.5,{"$f":"SUMIF(SOLICITUDES!$C$2:$C$1048576,BD!C1069,SOLICITUDES!$I$2:$I$1048576)","v":0},0,{"$f":"SUMIF(SOLICITUDES!$C$2:$C$1048576,BD!C1069,SOLICITUDES!$J$2:$J$1048576)","v":0},0,{"$f":"SUMIF(SOLICITUDES!$C$2:$C$1048576,BD!C1069,SOLICITUDES!$K$2:$K$1048576)","v":0},0]
[null,null,"T1462",75,13200,208,-76.5807461001733,2.4602184561235978,37.5,37.5,15,15,{"$f":"SUMIF(SOLICITUDES!$C$2:$C$1048576,BD!C1070,SOLICITUDES!$I$2:$I$1048576)","v":0},0,{"$f":"SUMIF(SOLICITUDES!$C$2:$C$1048576,BD!C1070,SOLICITUDES!$J$2:$J$1048576)","v":0},0,{"$f":"SUMIF(SOLICITUDES!$C$2:$C$1048576,BD!C1070,SOLICITUDES!$K$2:$K$1048576)","v":0},0]
[null,null,"T1488",150,13200,208,-76.581130640911852,2.4610190428521501,75,75,30,30,{"$f":"SUMIF(SOLICITUDES!$C$2:$C$1048576,BD!C1071,SOLICITUDES!$I$2:$I$1048576)","v":0},0,{"$f":"SUMIF(SOLICITUDES!$C$2:$C$1048576,BD!C1071,SOLICITUDES!$J$2:$J$1048576)","v":0},0,{"$f":"SUMIF(SOLICITUDES!$C$2:$C$1048576,BD!C1071,SOLICITUDES!$K$2:$K$1048576)","v":0},0]
[null,null,"T2008",75,13200,208,-76.585475318237442,2.4555947611169215,37.5,37.5,15,15,{"$f":"SUMIF(SOLICITUDES!$C$2:$C$1048576,BD!C1072,SOLICITUDES!$I$2:$I$1048576)","v":0},0,{"$f":"SUMIF(SOLICITUDES!$C$2:$C$1048576,BD!C1072,SOLICITUDES!$J$2:$J$1048576)","v":0},0,{"$f":"SUMIF(SOLICITUDES!$C$2:$C$1048576,BD!C1072,SOLICITUDES!$K$2:$K$1048576)","v":0},0]
[null,null,"T1456",150,13200,208,-76.58112148655934,2.4614531147671128,75,75,30,30,{"$f":"SUMIF(SOLICITUDES!$C$2:$C$1048576,BD!C1073,SOLICITUDES!$I$2:$I$1048576)","v":0},0,{"$f":"SUMIF(SOLICITUDES!$C$2:$C$1048576,BD!C1073,SOLICITUDES!$J$2:$J$1048576)","v":0},0,{"$f":"SUMIF(SOLICITUDES!$C$2:$C$1048576,BD!C1073,SOLICITUDES!$K$2:$K$1048576)","v":0},0]
[null,null,"T1485",75,13200,220,-76.584306761298564,2.4548437475639791,37.5,37.5,15,15,{"$f":"SUMIF(SOLICITUDES!$C$2:$C$1048576,BD!C1074,SOLICITUDES!$I$2:$I$1048576)","v":0},0,{"$f":"SUMIF(SOLICITUDES!$C$2:$C$1048576,BD!C1074,SOLICITUDES!$J$2:$J$1048576)","v":0},0,{"$f":"SUMIF(SOLICITUDES!$C$2:$C$1048576,BD!C1074,SOLICITUDES!$K$2:$K$1048576)","v":0},0]
[null,null,"T1496",75,13200,208,-76.580627652757329,2.4596442955754618,37.5,37.5,15,15,{"$f":"SUMIF(SOLICITUDES!$C$2:$C$1048576,BD!C1075,SOLICITUDES!$I$2:$I$1048576)","v":0},0,{"$f":"SUMIF(SOLICITUDES!$C$2:$C$1048576,BD!C1075,SOLICITUDES!$J$2:$J$1048576)","v":0},0,{"$f":"SUMIF(SOLICITUDES!$C$2:$C$1048576,BD!C1075,SOLICITUDES!$K$2:$K$1048576)","v":0},0]
[null,null,"T25089",45,13200,214,-76.584913218550568,2.4637395952221159,22.5,22.5,9,9,{"$f":"SUMIF(SOLICITUDES!$C$2:$C$1048576,BD!C1076,SOLICITUDES!$I$2:$I$1048576)","v":0},0,{"$f":"SUMIF(SOLICITUDES!$C$2:$C$1048576,BD!C1076,SOLICITUDES!$J$2:$J$1048576)","v":0},0,{"$f":"SUMIF(SOLICITUDES!$C$2:$C$1048576,BD!C1076,SOLICITUDES!$K$2:$K$1048576)","v":0},0]
[null,null,"T1452",75,13200,208,-76.580177764121842,2.4605484412327123,37.5,37.5,15,15,{"$f":"SUMIF(SOLICITUDES!$C$2:$C$1048576,BD!C1077,SOLICITUDES!$I$2:$I$1048576)","v":0},0,{"$f":"SUMIF(SOLICITUDES!$C$2:$C$1048576,BD!C1077,SOLICITUDES!$J$2:$J$1048576)","v":0},0,{"$f":"SUMIF(SOLICITUDES!$C$2:$C$1048576,BD!C1077,SOLICITUDES!$K$2:$K$1048576)","v":0},0]
[null,null,"T1499",75,13200,208,-76.580590900483031,2.461778470157018,37.5,37.5,15,15,{"$f":"SUMIF(SOLICITUDES!$C$2:$C$1048576,BD!C1078,SOLICITUDES!$I$2:$I$1048576)","v":0},0,{"$f":"SUMIF(SOLICITUDES!$C$2:$C$1048576,BD!C1078,SOLICITUDES!$J$2:$J$1048576)","v":0},0,{"$f":"SUMIF(SOLICITUDES!$C$2:$C$1048576,BD!C1078,SOLICITUDES!$K$2:$K$1048576)","v":0},0]
[null,null,"T1461",75,13200,208,-76.580267503528376,2.4610096803441688,37.5,37.5,15,15,{"$f":"SUMIF(SOLICITUDES!$C$2:$C$1048576,BD!C1079,SOLICITUDES!$I$2:$I$1048576)","v":0},0,{"$f":"SUMIF(SOLICITUDES!$C$2:$C$1048576,BD!C1079,SOLICITUDES!$J$2:$J$1048576)","v":0},0,{"$f":"SUMIF(SOLICITUDES!$C$2:$C$1048576,BD!C1079,SOLICITUDES!$K$2:$K$1048576)","v":0},0]
[null,null,"T10032",37.5,13200,220,-76.584297619741335,2.4552506877944826,18.75,18.75,7.5,7.5,{"$f":"SUMIF(SOLICITUDES!$C$2:$C$1048576,BD!C1080,SOLICITUDES!$I$2:$I$1048576)","v":0},0,{"$f":"SUMIF(SOLICITUDES!$C$2:$C$1048576,BD!C1080,SOLICITUDES!$J$2:$J$1048576)","v":0},0,{"$f":"SUMIF(SOLICITUDES!$C$2:$C$1048576,BD!C1080,SOLICITUDES!$K$2:$K$1048576)","v":0},0]
[null,null,"T1486",75,13200,208,-76.583668353418247,2.4549791504216265,37.5,37.5,15,15,{"$f":"SUMIF(SOLICITUDES!$C$2:$C$1048576,BD!C1081,SOLICITUDES!$I$2:$I$1048576)","v":0},0,{"$f":"SUMIF(SOLICITUDES!$C$2:$C$1048576,BD!C1081,SOLICITUDES!$J$2:$J$1048576)","v":0},0,{"$f":"SUMIF(SOLICITUDES!$C$2:$C$1048576,BD!C1081,SOLICITUDES!$K$2:$K$1048576)","v":0},0]
[null,null,"T1481",75,13200,208,-76.580168436556917,2.4614617932264014,37.5,37.5,15,15,{"$f":"SUMIF(SOLICITUDES!$C$2:$C$1048576,BD!C1082,SOLICITUDES!$I$2:$I$1048576)","v":0},0,{"$f":"SUMIF(SOLICITUDES!$C$2:$C$1048576,BD!C1082,SOLICITUDES!$J$2:$J$1048576)","v":0},0,{"$f":"SUMIF(SOLICITUDES!$C$2:$C$1048576,BD!C1082,SOLICITUDES!$K$2:$K$1048576)","v":0},0]
[null,null,"T1466",112.5,13200,208,-76.579764516047391,2.4596349231197254,56.25,55.05,22.5,22.5,{"$f":"SUMIF(SOLICITUDES!$C$2:$C$1048576,BD!C1083,SOLICITUDES!$I$2:$I$1048576)","v":1.2},1.0666666666666666E-2,{"$f":"SUMIF(SOLICITUDES!$C$2:$C$1048576,BD!C1083,SOLICITUDES!$J$2:$J$1048576)","v":0},0,{"$f":"SUMIF(SOLICITUDES!$C$2:$C$1048576,BD!C1083,SOLICITUDES!$K$2:$K$1048576)","v":1.2},2.6666666666666665E-2]
[null,null,"T30309",37.5,13200,240,-76.580223259180499,2.4591105932322002,18.75,18.75,7.5,7.5,{"$f":"SUMIF(SOLICITUDES!$C$2:$C$1048576,BD!C1084,SOLICITUDES!$I$2:$I$1048576)","v":0},0,{"$f":"SUMIF(SOLICITUDES!$C$2:$C$1048576,BD!C1084,SOLICITUDES!$J$2:$J$1048576)","v":0},0,{"$f":"SUMIF(SOLICITUDES!$C$2:$C$1048576,BD!C1084,SOLICITUDES!$K$2:$K$1048576)","v":0},0]
[null,null,"T42116",37.5,13200,240,-76.580246671491636,2.4587118469209073,18.75,18.75,7.5,7.5,{"$f":"SUMIF(SOLICITUDES!$C$2:$C$1048576,BD!C1085,SOLICITUDES!$I$2:$I$1048576)","v":0},0,{"$f":"SUMIF(SOLICITUDES!$C$2:$C$1048576,BD!C1085,SOLICITUDES!$J$2:$J$1048576)","v":0},0,{"$f":"SUMIF(SOLICITUDES!$C$2:$C$1048576,BD!C1085,SOLICITUDES!$K$2:$K$1048576)","v":0},0]
[null,null,"T1469",15,13200,240,-76.580428765614769,2.462565166371204,7.5,7.5,3,3,{"$f":"SUMIF(SOLICITUDES!$C$2:$C$1048576,BD!C1086,SOLICITUDES!$I$2:$I$1048576)","v":0},0,{"$f":"SUMIF(SOLICITUDES!$C$2:$C$1048576,BD!C1086,SOLICITUDES!$J$2:$J$1048576)","v":0},0,{"$f":"SUMIF(SOLICITUDES!$C$2:$C$1048576,BD!C1086,SOLICITUDES!$K$2:$K$1048576)","v":0},0]
[null,null,"T25448",112.5,13200,208,-76.582113153525,2.4543274598658331,56.25,56.25,22.5,22.5,{"$f":"SUMIF(SOLICITUDES!$C$2:$C$1048576,BD!C1087,SOLICITUDES!$I$2:$I$1048576)","v":0},0,{"$f":"SUMIF(SOLICITUDES!$C$2:$C$1048576,BD!C1087,SOLICITUDES!$J$2:$J$1048576)","v":0},0,{"$f":"SUMIF(SOLICITUDES!$C$2:$C$1048576,BD!C1087,SOLICITUDES!$K$2:$K$1048576)","v":0},0]
[null,null,"T1489",150,13200,208,-76.580376969049482,2.4567865514437703,75,75,30,30,{"$f":"SUMIF(SOLICITUDES!$C$2:$C$1048576,BD!C1088,SOLICITUDES!$I$2:$I$1048576)","v":0},0,{"$f":"SUMIF(SOLICITUDES!$C$2:$C$1048576,BD!C1088,SOLICITUDES!$J$2:$J$1048576)","v":0},0,{"$f":"SUMIF(SOLICITUDES!$C$2:$C$1048576,BD!C1088,SOLICITUDES!$K$2:$K$1048576)","v":0},0]
[null,null,"T44973",25,13200,240,-76.579665993927392,2.4576076513446821,12.5,12.5,5,5,{"$f":"SUMIF(SOLICITUDES!$C$2:$C$1048576,BD!C1089,SOLICITUDES!$I$2:$I$1048576)","v":0},0,{"$f":"SUMIF(SOLICITUDES!$C$2:$C$1048576,BD!C1089,SOLICITUDES!$J$2:$J$1048576)","v":0},0,{"$f":"SUMIF(SOLICITUDES!$C$2:$C$1048576,BD!C1089,SOLICITUDES!$K$2:$K$1048576)","v":0},0]
[null,null,"T1458",25,13200,240,-76.578244567094714,2.4608823029006555,12.5,12.5,5,5,{"$f":"SUMIF(SOLICITUDES!$C$2:$C$1048576,BD!C1090,SOLICITUDES!$I$2:$I$1048576)","v":0},0,{"$f":"SUMIF(SOLICITUDES!$C$2:$C$1048576,BD!C1090,SOLICITUDES!$J$2:$J$1048576)","v":0},0,{"$f":"SUMIF(SOLICITUDES!$C$2:$C$1048576,BD!C1090,SOLICITUDES!$K$2:$K$1048576)","v":0},0]
[null,null,"T23827",45,13200,208,-76.573650657325416,2.4770621338198415,22.5,{"$f":"D1091*0.5-M1091","v":22.5},9,9,{"$f":"SUMIF(SOLICITUDES!$C$2:$C$1048576,BD!C1091,SOLICITUDES!$I$2:$I$1048576)","v":0},{"$f":"M1091/D1091","v":0},{"$f":"SUMIF(SOLICITUDES!$C$2:$C$1048576,BD!C1091,SOLICITUDES!$J$2:$J$1048576)","v":0},0,{"$f":"SUMIF(SOLICITUDES!$C$2:$C$1048576,BD!C1091,SOLICITUDES!$K$2:$K$1048576)","v":0},0]
[null,null,"T22976",75,13200,214,-76.575336207765574,2.4725953916367827,{"$f":"D1092*0.5","v":37.5},37.5,{"$f":"0.2*D1092","v":15},{"$f":"0.2*D1092","v":15},{"$f":"SUMIF(SOLICITUDES!$C$2:$C$1048576,BD!C1092,SOLICITUDES!$I$2:$I$1048576)","v":0},0,{"$f":"SUMIF(SOLICITUDES!$C$2:$C$1048576,BD!C1092,SOLICITUDES!$J$2:$J$1048576)","v":0},{"$f":"O1092/(2*K1092)","v":0},{"$f":"SUMIF(SOLICITUDES!$C$2:$C$1048576,BD!C1092,SOLICITUDES!$K$2:$K$1048576)","v":0},{"$f":"Q1092/(2*L1092)","v":0}]
[null,null,"T1265",30,13200,214,-76.575929599166713,2.4722034795178676,15,15,6,6,{"$f":"SUMIF(SOLICITUDES!$C$2:$C$1048576,BD!C1093,SOLICITUDES!$I$2:$I$1048576)","v":0},0,{"$f":"SUMIF(SOLICITUDES!$C$2:$C$1048576,BD!C1093,SOLICITUDES!$J$2:$J$1048576)","v":0},0,{"$f":"SUMIF(SOLICITUDES!$C$2:$C$1048576,BD!C1093,SOLICITUDES!$K$2:$K$1048576)","v":0},0]
[null,null,"T30173",112.5,13200,214,-76.577836792690078,2.4691132107828029,56.25,56.25,22.5,22.5,{"$f":"SUMIF(SOLICITUDES!$C$2:$C$1048576,BD!C1094,SOLICITUDES!$I$2:$I$1048576)","v":0},0,{"$f":"SUMIF(SOLICITUDES!$C$2:$C$1048576,BD!C1094,SOLICITUDES!$J$2:$J$1048576)","v":0},0,{"$f":"SUMIF(SOLICITUDES!$C$2:$C$1048576,BD!C1094,SOLICITUDES!$K$2:$K$1048576)","v":0},0]
[null,null,"T1284",75,13200,208,-76.57788092140585,2.4715259822126168,37.5,37.5,15,15,{"$f":"SUMIF(SOLICITUDES!$C$2:$C$1048576,BD!C1095,SOLICITUDES!$I$2:$I$1048576)","v":0},0,{"$f":"SUMIF(SOLICITUDES!$C$2:$C$1048576,BD!C1095,SOLICITUDES!$J$2:$J$1048576)","v":0},0,{"$f":"SUMIF(SOLICITUDES!$C$2:$C$1048576,BD!C1095,SOLICITUDES!$K$2:$K$1048576)","v":0},0]
[null,null,"T1844",45,13200,208,-76.577466736569463,2.4730993402100574,22.5,22.5,9,9,{"$f":"SUMIF(SOLICITUDES!$C$2:$C$1048576,BD!C1096,SOLICITUDES!$I$2:$I$1048576)","v":0},0,{"$f":"SUMIF(SOLICITUDES!$C$2:$C$1048576,BD!C1096,SOLICITUDES!$J$2:$J$1048576)","v":0},0,{"$f":"SUMIF(SOLICITUDES!$C$2:$C$1048576,BD!C1096,SOLICITUDES!$K$2:$K$1048576)","v":0},0]
[null,null,"T30133",112.5,13200,208,-76.577182840293943,2.4747405244293263,56.25,56.25,22.5,22.5,{"$f":"SUMIF(SOLICITUDES!$C$2:$C$1048576,BD!C1097,SOLICITUDES!$I$2:$I$1048576)","v":0},0,{"$f":"SUMIF(SOLICITUDES!$C$2:$C$1048576,BD!C1097,SOLICITUDES!$J$2:$J$1048576)","v":0},0,{"$f":"SUMIF(SOLICITUDES!$C$2:$C$1048576,BD!C1097,SOLICITUDES!$K$2:$K$1048576)","v":0},0]
[null,null,"T1274",37.5,13200,240,-76.576899572533193,2.4750343585747134,18.75,18.75,7.5,7.5,{"$f":"SUMIF(SOLICITUDES!$C$2:$C$1048576,BD!C1098,SOLICITUDES!$I$2:$I$1048576)","v":0},0,{"$f":"SUMIF(SOLICITUDES!$C$2:$C$1048576,BD!C1098,SOLICITUDES!$J$2:$J$1048576)","v":0},0,{"$f":"SUMIF(SOLICITUDES!$C$2:$C$1048576,BD!C1098,SOLICITUDES!$K$2:$K$1048576)","v":0},0]
[null,null,"T31015",112.5,13200,208,-76.575556874894616,2.4748984084686168,56.25,56.25,22.5,22.5,{"$f":"SUMIF(SOLICITUDES!$C$2:$C$1048576,BD!C1099,SOLICITUDES!$I$2:$I$1048576)","v":0},0,{"$f":"SUMIF(SOLICITUDES!$C$2:$C$1048576,BD!C1099,SOLICITUDES!$J$2:$J$1048576)","v":0},0,{"$f":"SUMIF(SOLICITUDES!$C$2:$C$1048576,BD!C1099,SOLICITUDES!$K$2:$K$1048576)","v":0},0]
[null,null,"T4952",30,13200,208,-76.595734973598766,2.4531116743793442,15,15,6,6,{"$f":"SUMIF(SOLICITUDES!$C$2:$C$1048576,BD!C1100,SOLICITUDES!$I$2:$I$1048576)","v":0},0,{"$f":"SUMIF(SOLICITUDES!$C$2:$C$1048576,BD!C1100,SOLICITUDES!$J$2:$J$1048576)","v":0},0,{"$f":"SUMIF(SOLICITUDES!$C$2:$C$1048576,BD!C1100,SOLICITUDES!$K$2:$K$1048576)","v":0},0]
[null,null,"T41995",0.5,13200,240,-76.596820147772391,2.4527688762311906,0.25,0.25,0.1,0.1,{"$f":"SUMIF(SOLICITUDES!$C$2:$C$1048576,BD!C1101,SOLICITUDES!$I$2:$I$1048576)","v":0},0,{"$f":"SUMIF(SOLICITUDES!$C$2:$C$1048576,BD!C1101,SOLICITUDES!$J$2:$J$1048576)","v":0},0,{"$f":"SUMIF(SOLICITUDES!$C$2:$C$1048576,BD!C1101,SOLICITUDES!$K$2:$K$1048576)","v":0},0]
[null,null,"T4953",112.5,13200,208,-76.59695037754004,2.4522819560052116,56.25,56.25,22.5,22.5,{"$f":"SUMIF(SOLICITUDES!$C$2:$C$1048576,BD!C1102,SOLICITUDES!$I$2:$I$1048576)","v":0},0,{"$f":"SUMIF(SOLICITUDES!$C$2:$C$1048576,BD!C1102,SOLICITUDES!$J$2:$J$1048576)","v":0},0,{"$f":"SUMIF(SOLICITUDES!$C$2:$C$1048576,BD!C1102,SOLICITUDES!$K$2:$K$1048576)","v":0},0]
[null,null,"T4182",30,13200,220,-76.596904449004015,2.4513034639657283,15,15,6,6,{"$f":"SUMIF(SOLICITUDES!$C$2:$C$1048576,BD!C1103,SOLICITUDES!$I$2:$I$1048576)","v":0},0,{"$f":"SUMIF(SOLICITUDES!$C$2:$C$1048576,BD!C1103,SOLICITUDES!$J$2:$J$1048576)","v":0},0,{"$f":"SUMIF(SOLICITUDES!$C$2:$C$1048576,BD!C1103,SOLICITUDES!$K$2:$K$1048576)","v":0},0]
[null,null,"T4104",45,13200,208,-76.597012351603695,2.4512854100942509,22.5,22.5,9,9,{"$f":"SUMIF(SOLICITUDES!$C$2:$C$1048576,BD!C1104,SOLICITUDES!$I$2:$I$1048576)","v":0},0,{"$f":"SUMIF(SOLICITUDES!$C$2:$C$1048576,BD!C1104,SOLICITUDES!$J$2:$J$1048576)","v":0},0,{"$f":"SUMIF(SOLICITUDES!$C$2:$C$1048576,BD!C1104,SOLICITUDES!$K$2:$K$1048576)","v":0},0]
[null,null,"T4132",75,13200,220,-76.596400096790703,2.4510712406028836,37.5,37.5,15,15,{"$f":"SUMIF(SOLICITUDES!$C$2:$C$1048576,BD!C1105,SOLICITUDES!$I$2:$I$1048576)","v":0},0,{"$f":"SUMIF(SOLICITUDES!$C$2:$C$1048576,BD!C1105,SOLICITUDES!$J$2:$J$1048576)","v":0},0,{"$f":"SUMIF(SOLICITUDES!$C$2:$C$1048576,BD!C1105,SOLICITUDES!$K$2:$K$1048576)","v":0},0]
[null,null,"T1272",75,13200,208,-76.596464642648073,2.4545711093478255,37.5,37.5,15,15,{"$f":"SUMIF(SOLICITUDES!$C$2:$C$1048576,BD!C1106,SOLICITUDES!$I$2:$I$1048576)","v":0},0,{"$f":"SUMIF(SOLICITUDES!$C$2:$C$1048576,BD!C1106,SOLICITUDES!$J$2:$J$1048576)","v":0},0,{"$f":"SUMIF(SOLICITUDES!$C$2:$C$1048576,BD!C1106,SOLICITUDES!$K$2:$K$1048576)","v":0},0]
[null,null,"T1525",45,13200,208,-76.598153850903259,2.4522805748306458,22.5,22.5,9,9,{"$f":"SUMIF(SOLICITUDES!$C$2:$C$1048576,BD!C1107,SOLICITUDES!$I$2:$I$1048576)","v":0},0,{"$f":"SUMIF(SOLICITUDES!$C$2:$C$1048576,BD!C1107,SOLICITUDES!$J$2:$J$1048576)","v":0},0,{"$f":"SUMIF(SOLICITUDES!$C$2:$C$1048576,BD!C1107,SOLICITUDES!$K$2:$K$1048576)","v":0},0]
[null,null,"T1527",112.5,13200,208,-76.598621454702283,2.4520727517134282,56.25,56.25,22.5,22.5,{"$f":"SUMIF(SOLICITUDES!$C$2:$C$1048576,BD!C1108,SOLICITUDES!$I$2:$I$1048576)","v":0},0,{"$f":"SUMIF(SOLICITUDES!$C$2:$C$1048576,BD!C1108,SOLICITUDES!$J$2:$J$1048576)","v":0},0,{"$f":"SUMIF(SOLICITUDES!$C$2:$C$1048576,BD!C1108,SOLICITUDES!$K$2:$K$1048576)","v":0},0]
[null,null,"T4170",150,13200,220,-76.596745836478007,2.4519751884619376,75,75,30,30,{"$f":"SUMIF(SOLICITUDES!$C$2:$C$1048576,BD!C1109,SOLICITUDES!$I$2:$I$1048576)","v":0},0,{"$f":"SUMIF(SOLICITUDES!$C$2:$C$1048576,BD!C1109,SOLICITUDES!$J$2:$J$1048576)","v":0},0,{"$f":"SUMIF(SOLICITUDES!$C$2:$C$1048576,BD!C1109,SOLICITUDES!$K$2:$K$1048576)","v":0},0]
[null,null,"T1286",112.5,13200,208,-76.596916470544286,2.4554108278871376,56.25,56.25,22.5,22.5,{"$f":"SUMIF(SOLICITUDES!$C$2:$C$1048576,BD!C1110,SOLICITUDES!$I$2:$I$1048576)","v":0},0,{"$f":"SUMIF(SOLICITUDES!$C$2:$C$1048576,BD!C1110,SOLICITUDES!$J$2:$J$1048576)","v":0},0,{"$f":"SUMIF(SOLICITUDES!$C$2:$C$1048576,BD!C1110,SOLICITUDES!$K$2:$K$1048576)","v":0},0]
[null,null,"T4180",30,13200,220,-76.597551885219801,2.4510685751436214,15,15,6,6,{"$f":"SUMIF(SOLICITUDES!$C$2:$C$1048576,BD!C1111,SOLICITUDES!$I$2:$I$1048576)","v":0},0,{"$f":"SUMIF(SOLICITUDES!$C$2:$C$1048576,BD!C1111,SOLICITUDES!$J$2:$J$1048576)","v":0},0,{"$f":"SUMIF(SOLICITUDES!$C$2:$C$1048576,BD!C1111,SOLICITUDES!$K$2:$K$1048576)","v":0},0]
[null,null,"T2423",75,13200,208,-76.598962949794441,2.4525431249554082,37.5,37.5,15,15,{"$f":"SUMIF(SOLICITUDES!$C$2:$C$1048576,BD!C1112,SOLICITUDES!$I$2:$I$1048576)","v":0},0,{"$f":"SUMIF(SOLICITUDES!$C$2:$C$1048576,BD!C1112,SOLICITUDES!$J$2:$J$1048576)","v":0},0,{"$f":"SUMIF(SOLICITUDES!$C$2:$C$1048576,BD!C1112,SOLICITUDES!$K$2:$K$1048576)","v":0},0]
[null,null,"T4146",150,13200,220,-76.595942282570149,2.4516648342597045,75,75,30,30,{"$f":"SUMIF(SOLICITUDES!$C$2:$C$1048576,BD!C1113,SOLICITUDES!$I$2:$I$1048576)","v":0},0,{"$f":"SUMIF(SOLICITUDES!$C$2:$C$1048576,BD!C1113,SOLICITUDES!$J$2:$J$1048576)","v":0},0,{"$f":"SUMIF(SOLICITUDES!$C$2:$C$1048576,BD!C1113,SOLICITUDES!$K$2:$K$1048576)","v":0},0]
[null,null,"T5635",500,13200,214,-76.596913512012151,2.4511135550991363,250,250,100,100,{"$f":"SUMIF(SOLICITUDES!$C$2:$C$1048576,BD!C1114,SOLICITUDES!$I$2:$I$1048576)","v":0},0,{"$f":"SUMIF(SOLICITUDES!$C$2:$C$1048576,BD!C1114,SOLICITUDES!$J$2:$J$1048576)","v":0},0,{"$f":"SUMIF(SOLICITUDES!$C$2:$C$1048576,BD!C1114,SOLICITUDES!$K$2:$K$1048576)","v":0},0]
[null,null,"T4191",45,13200,220,-76.597507001383306,2.4508876932734887,22.5,22.5,9,9,{"$f":"SUMIF(SOLICITUDES!$C$2:$C$1048576,BD!C1115,SOLICITUDES!$I$2:$I$1048576)","v":0},0,{"$f":"SUMIF(SOLICITUDES!$C$2:$C$1048576,BD!C1115,SOLICITUDES!$J$2:$J$1048576)","v":0},0,{"$f":"SUMIF(SOLICITUDES!$C$2:$C$1048576,BD!C1115,SOLICITUDES!$K$2:$K$1048576)","v":0},0]
[null,null,"T4176",15,13200,220,-76.595304024745744,2.4513752172972016,7.5,7.5,3,3,{"$f":"SUMIF(SOLICITUDES!$C$2:$C$1048576,BD!C1116,SOLICITUDES!$I$2:$I$1048576)","v":0},0,{"$f":"SUMIF(SOLICITUDES!$C$2:$C$1048576,BD!C1116,SOLICITUDES!$J$2:$J$1048576)","v":0},0,{"$f":"SUMIF(SOLICITUDES!$C$2:$C$1048576,BD!C1116,SOLICITUDES!$K$2:$K$1048576)","v":0},0]
[null,null,"T2429",112.5,13200,208,-76.600681079320083,2.4501563419863959,56.25,56.25,22.5,22.5,{"$f":"SUMIF(SOLICITUDES!$C$2:$C$1048576,BD!C1117,SOLICITUDES!$I$2:$I$1048576)","v":0},0,{"$f":"SUMIF(SOLICITUDES!$C$2:$C$1048576,BD!C1117,SOLICITUDES!$J$2:$J$1048576)","v":0},0,{"$f":"SUMIF(SOLICITUDES!$C$2:$C$1048576,BD!C1117,SOLICITUDES!$K$2:$K$1048576)","v":0},0]
[null,null,"T1264",30,13200,208,-76.597073421240623,2.4564671875767599,15,15,6,6,{"$f":"SUMIF(SOLICITUDES!$C$2:$C$1048576,BD!C1118,SOLICITUDES!$I$2:$I$1048576)","v":0},0,{"$f":"SUMIF(SOLICITUDES!$C$2:$C$1048576,BD!C1118,SOLICITUDES!$J$2:$J$1048576)","v":0},0,{"$f":"SUMIF(SOLICITUDES!$C$2:$C$1048576,BD!C1118,SOLICITUDES!$K$2:$K$1048576)","v":0},0]
[null,null,"T15105",45,13200,208,-76.600474397547785,2.4498488001759737,22.5,22.5,9,9,{"$f":"SUMIF(SOLICITUDES!$C$2:$C$1048576,BD!C1119,SOLICITUDES!$I$2:$I$1048576)","v":0},0,{"$f":"SUMIF(SOLICITUDES!$C$2:$C$1048576,BD!C1119,SOLICITUDES!$J$2:$J$1048576)","v":0},0,{"$f":"SUMIF(SOLICITUDES!$C$2:$C$1048576,BD!C1119,SOLICITUDES!$K$2:$K$1048576)","v":0},0]
[null,null,"T5765",112.5,13200,208,-76.597282213854669,2.4509237846819514,56.25,56.25,22.5,22.5,{"$f":"SUMIF(SOLICITUDES!$C$2:$C$1048576,BD!C1120,SOLICITUDES!$I$2:$I$1048576)","v":0},0,{"$f":"SUMIF(SOLICITUDES!$C$2:$C$1048576,BD!C1120,SOLICITUDES!$J$2:$J$1048576)","v":0},0,{"$f":"SUMIF(SOLICITUDES!$C$2:$C$1048576,BD!C1120,SOLICITUDES!$K$2:$K$1048576)","v":0},0]
[null,null,"T30142",30,13200,220,-76.600699070305552,2.4501253912346539,15,15,6,6,{"$f":"SUMIF(SOLICITUDES!$C$2:$C$1048576,BD!C1121,SOLICITUDES!$I$2:$I$1048576)","v":0},0,{"$f":"SUMIF(SOLICITUDES!$C$2:$C$1048576,BD!C1121,SOLICITUDES!$J$2:$J$1048576)","v":0},0,{"$f":"SUMIF(SOLICITUDES!$C$2:$C$1048576,BD!C1121,SOLICITUDES!$K$2:$K$1048576)","v":0},0]
[null,null,"T1290",112.5,13200,208,-76.596794268681407,2.4566834124393462,56.25,56.25,22.5,22.5,{"$f":"SUMIF(SOLICITUDES!$C$2:$C$1048576,BD!C1122,SOLICITUDES!$I$2:$I$1048576)","v":0},0,{"$f":"SUMIF(SOLICITUDES!$C$2:$C$1048576,BD!C1122,SOLICITUDES!$J$2:$J$1048576)","v":0},0,{"$f":"SUMIF(SOLICITUDES!$C$2:$C$1048576,BD!C1122,SOLICITUDES!$K$2:$K$1048576)","v":0},0]
[null,null,"T1508",15,13200,240,-76.601030094095549,2.450183098607472,7.5,7.5,3,3,{"$f":"SUMIF(SOLICITUDES!$C$2:$C$1048576,BD!C1123,SOLICITUDES!$I$2:$I$1048576)","v":0},0,{"$f":"SUMIF(SOLICITUDES!$C$2:$C$1048576,BD!C1123,SOLICITUDES!$J$2:$J$1048576)","v":0},0,{"$f":"SUMIF(SOLICITUDES!$C$2:$C$1048576,BD!C1123,SOLICITUDES!$K$2:$K$1048576)","v":0},0]
[null,null,"T29492",45,13200,226,-76.597270252533647,2.4563683122097011,22.5,22.5,9,9,{"$f":"SUMIF(SOLICITUDES!$C$2:$C$1048576,BD!C1124,SOLICITUDES!$I$2:$I$1048576)","v":0},0,{"$f":"SUMIF(SOLICITUDES!$C$2:$C$1048576,BD!C1124,SOLICITUDES!$J$2:$J$1048576)","v":0},0,{"$f":"SUMIF(SOLICITUDES!$C$2:$C$1048576,BD!C1124,SOLICITUDES!$K$2:$K$1048576)","v":0},0]
[null,null,"T1690",25,13200,240,-76.596920398619034,2.4569464212122361,12.5,12.5,5,5,{"$f":"SUMIF(SOLICITUDES!$C$2:$C$1048576,BD!C1125,SOLICITUDES!$I$2:$I$1048576)","v":0},0,{"$f":"SUMIF(SOLICITUDES!$C$2:$C$1048576,BD!C1125,SOLICITUDES!$J$2:$J$1048576)","v":0},0,{"$f":"SUMIF(SOLICITUDES!$C$2:$C$1048576,BD!C1125,SOLICITUDES!$K$2:$K$1048576)","v":0},0]
[null,null,"T1725",75,13200,208,-76.597135987889459,2.4575071830931652,37.5,37.5,15,15,{"$f":"SUMIF(SOLICITUDES!$C$2:$C$1048576,BD!C1126,SOLICITUDES!$I$2:$I$1048576)","v":0},0,{"$f":"SUMIF(SOLICITUDES!$C$2:$C$1048576,BD!C1126,SOLICITUDES!$J$2:$J$1048576)","v":0},0,{"$f":"SUMIF(SOLICITUDES!$C$2:$C$1048576,BD!C1126,SOLICITUDES!$K$2:$K$1048576)","v":0},0]
[null,null,"T4098",150,13200,208,-76.597264227865423,2.4509211202985055,75,75,30,30,{"$f":"SUMIF(SOLICITUDES!$C$2:$C$1048576,BD!C1127,SOLICITUDES!$I$2:$I$1048576)","v":0},0,{"$f":"SUMIF(SOLICITUDES!$C$2:$C$1048576,BD!C1127,SOLICITUDES!$J$2:$J$1048576)","v":0},0,{"$f":"SUMIF(SOLICITUDES!$C$2:$C$1048576,BD!C1127,SOLICITUDES!$K$2:$K$1048576)","v":0},0]
[null,null,"T1266",75,13200,208,-76.596940606793908,2.4541638823075838,37.5,37.5,15,15,{"$f":"SUMIF(SOLICITUDES!$C$2:$C$1048576,BD!C1128,SOLICITUDES!$I$2:$I$1048576)","v":0},0,{"$f":"SUMIF(SOLICITUDES!$C$2:$C$1048576,BD!C1128,SOLICITUDES!$J$2:$J$1048576)","v":0},0,{"$f":"SUMIF(SOLICITUDES!$C$2:$C$1048576,BD!C1128,SOLICITUDES!$K$2:$K$1048576)","v":0},0]
[null,null,"T1269",45,13200,208,-76.596315594195062,2.4572694086188593,22.5,22.5,9,9,{"$f":"SUMIF(SOLICITUDES!$C$2:$C$1048576,BD!C1129,SOLICITUDES!$I$2:$I$1048576)","v":0},0,{"$f":"SUMIF(SOLICITUDES!$C$2:$C$1048576,BD!C1129,SOLICITUDES!$J$2:$J$1048576)","v":0},0,{"$f":"SUMIF(SOLICITUDES!$C$2:$C$1048576,BD!C1129,SOLICITUDES!$K$2:$K$1048576)","v":0},0]
[null,null,"T1517",45,13200,208,-76.601112898497647,2.4494511272899815,22.5,22.5,9,9,{"$f":"SUMIF(SOLICITUDES!$C$2:$C$1048576,BD!C1130,SOLICITUDES!$I$2:$I$1048576)","v":0},0,{"$f":"SUMIF(SOLICITUDES!$C$2:$C$1048576,BD!C1130,SOLICITUDES!$J$2:$J$1048576)","v":0},0,{"$f":"SUMIF(SOLICITUDES!$C$2:$C$1048576,BD!C1130,SOLICITUDES!$K$2:$K$1048576)","v":0},0]
[null,null,"T1688",45,13200,208,-76.597551558090871,2.4586361951948299,22.5,22.5,9,9,{"$f":"SUMIF(SOLICITUDES!$C$2:$C$1048576,BD!C1131,SOLICITUDES!$I$2:$I$1048576)","v":0},0,{"$f":"SUMIF(SOLICITUDES!$C$2:$C$1048576,BD!C1131,SOLICITUDES!$J$2:$J$1048576)","v":0},0,{"$f":"SUMIF(SOLICITUDES!$C$2:$C$1048576,BD!C1131,SOLICITUDES!$K$2:$K$1048576)","v":0},0]
[null,null,"T1281",75,13200,214,-76.596931705936143,2.4547022508042713,37.5,37.5,15,15,{"$f":"SUMIF(SOLICITUDES!$C$2:$C$1048576,BD!C1132,SOLICITUDES!$I$2:$I$1048576)","v":0},0,{"$f":"SUMIF(SOLICITUDES!$C$2:$C$1048576,BD!C1132,SOLICITUDES!$J$2:$J$1048576)","v":0},0,{"$f":"SUMIF(SOLICITUDES!$C$2:$C$1048576,BD!C1132,SOLICITUDES!$K$2:$K$1048576)","v":0},0]
[null,null,"T1285",112.5,13200,208,-76.595662740072726,2.454525153494397,56.25,56.25,22.5,22.5,{"$f":"SUMIF(SOLICITUDES!$C$2:$C$1048576,BD!C1133,SOLICITUDES!$I$2:$I$1048576)","v":0},0,{"$f":"SUMIF(SOLICITUDES!$C$2:$C$1048576,BD!C1133,SOLICITUDES!$J$2:$J$1048576)","v":0},0,{"$f":"SUMIF(SOLICITUDES!$C$2:$C$1048576,BD!C1133,SOLICITUDES!$K$2:$K$1048576)","v":0},0]
[null,null,"T4951",15,13200,240,-76.596168312854118,2.4524873162293197,7.5,7.5,3,3,{"$f":"SUMIF(SOLICITUDES!$C$2:$C$1048576,BD!C1134,SOLICITUDES!$I$2:$I$1048576)","v":0},0,{"$f":"SUMIF(SOLICITUDES!$C$2:$C$1048576,BD!C1134,SOLICITUDES!$J$2:$J$1048576)","v":0},0,{"$f":"SUMIF(SOLICITUDES!$C$2:$C$1048576,BD!C1134,SOLICITUDES!$K$2:$K$1048576)","v":0},0]
[null,null,"T30891",45,13200,214,-76.59647482937514,2.4571301443924414,22.5,22.5,9,9,{"$f":"SUMIF(SOLICITUDES!$C$2:$C$1048576,BD!C1135,SOLICITUDES!$I$2:$I$1048576)","v":0},0,{"$f":"SUMIF(SOLICITUDES!$C$2:$C$1048576,BD!C1135,SOLICITUDES!$J$2:$J$1048576)","v":0},0,{"$f":"SUMIF(SOLICITUDES!$C$2:$C$1048576,BD!C1135,SOLICITUDES!$K$2:$K$1048576)","v":0},0]
[null,null,"T5077",0.5,13200,240,-76.596921272919985,2.4552374649177757,0.25,0.25,0.1,0.1,{"$f":"SUMIF(SOLICITUDES!$C$2:$C$1048576,BD!C1136,SOLICITUDES!$I$2:$I$1048576)","v":0},0,{"$f":"SUMIF(SOLICITUDES!$C$2:$C$1048576,BD!C1136,SOLICITUDES!$J$2:$J$1048576)","v":0},0,{"$f":"SUMIF(SOLICITUDES!$C$2:$C$1048576,BD!C1136,SOLICITUDES!$K$2:$K$1048576)","v":0},0]
[null,null,"T1733",112.5,13200,214,-76.596110992989196,2.4575339363632831,56.25,56.25,22.5,22.5,{"$f":"SUMIF(SOLICITUDES!$C$2:$C$1048576,BD!C1137,SOLICITUDES!$I$2:$I$1048576)","v":0},0,{"$f":"SUMIF(SOLICITUDES!$C$2:$C$1048576,BD!C1137,SOLICITUDES!$J$2:$J$1048576)","v":0},0,{"$f":"SUMIF(SOLICITUDES!$C$2:$C$1048576,BD!C1137,SOLICITUDES!$K$2:$K$1048576)","v":0},0]
[null,null,"T2422",45,13200,208,-76.601895388862246,2.4486917814080686,22.5,22.5,9,9,{"$f":"SUMIF(SOLICITUDES!$C$2:$C$1048576,BD!C1138,SOLICITUDES!$I$2:$I$1048576)","v":0},0,{"$f":"SUMIF(SOLICITUDES!$C$2:$C$1048576,BD!C1138,SOLICITUDES!$J$2:$J$1048576)","v":0},0,{"$f":"SUMIF(SOLICITUDES!$C$2:$C$1048576,BD!C1138,SOLICITUDES!$K$2:$K$1048576)","v":0},0]
[null,null,"T2005",75,13200,208,-76.595412783913432,2.4540601586735455,37.5,37.5,15,15,{"$f":"SUMIF(SOLICITUDES!$C$2:$C$1048576,BD!C1139,SOLICITUDES!$I$2:$I$1048576)","v":0},0,{"$f":"SUMIF(SOLICITUDES!$C$2:$C$1048576,BD!C1139,SOLICITUDES!$J$2:$J$1048576)","v":0},0,{"$f":"SUMIF(SOLICITUDES!$C$2:$C$1048576,BD!C1139,SOLICITUDES!$K$2:$K$1048576)","v":0},0]
[null,null,"T1267",75,13200,208,-76.597729730434793,2.4565849875422816,37.5,37.5,15,15,{"$f":"SUMIF(SOLICITUDES!$C$2:$C$1048576,BD!C1140,SOLICITUDES!$I$2:$I$1048576)","v":0},0,{"$f":"SUMIF(SOLICITUDES!$C$2:$C$1048576,BD!C1140,SOLICITUDES!$J$2:$J$1048576)","v":0},0,{"$f":"SUMIF(SOLICITUDES!$C$2:$C$1048576,BD!C1140,SOLICITUDES!$K$2:$K$1048576)","v":0},0]
[null,null,"T2904",37.5,13200,240,-76.595634313254664,2.4579678345528273,18.75,18.75,7.5,7.5,{"$f":"SUMIF(SOLICITUDES!$C$2:$C$1048576,BD!C1141,SOLICITUDES!$I$2:$I$1048576)","v":0},0,{"$f":"SUMIF(SOLICITUDES!$C$2:$C$1048576,BD!C1141,SOLICITUDES!$J$2:$J$1048576)","v":0},0,{"$f":"SUMIF(SOLICITUDES!$C$2:$C$1048576,BD!C1141,SOLICITUDES!$K$2:$K$1048576)","v":0},0]
[null,null,"T22008",225,13200,440,-76.601242941867298,2.4502163222022868,112.5,112.5,45,45,{"$f":"SUMIF(SOLICITUDES!$C$2:$C$1048576,BD!C1142,SOLICITUDES!$I$2:$I$1048576)","v":0},0,{"$f":"SUMIF(SOLICITUDES!$C$2:$C$1048576,BD!C1142,SOLICITUDES!$J$2:$J$1048576)","v":0},0,{"$f":"SUMIF(SOLICITUDES!$C$2:$C$1048576,BD!C1142,SOLICITUDES!$K$2:$K$1048576)","v":0},0]
[null,null,"T1730",112.5,13200,208,-76.59847591246033,2.4567661199459487,56.25,56.25,22.5,22.5,{"$f":"SUMIF(SOLICITUDES!$C$2:$C$1048576,BD!C1143,SOLICITUDES!$I$2:$I$1048576)","v":0},0,{"$f":"SUMIF(SOLICITUDES!$C$2:$C$1048576,BD!C1143,SOLICITUDES!$J$2:$J$1048576)","v":0},0,{"$f":"SUMIF(SOLICITUDES!$C$2:$C$1048576,BD!C1143,SOLICITUDES!$K$2:$K$1048576)","v":0},0]
[null,null,"T1738",30,13200,208,-76.598511705607862,2.4572635118966559,15,13,6,6,{"$f":"SUMIF(SOLICITUDES!$C$2:$C$1048576,BD!C1144,SOLICITUDES!$I$2:$I$1048576)","v":2},6.6666666666666666E-2,{"$f":"SUMIF(SOLICITUDES!$C$2:$C$1048576,BD!C1144,SOLICITUDES!$J$2:$J$1048576)","v":0},0,{"$f":"SUMIF(SOLICITUDES!$C$2:$C$1048576,BD!C1144,SOLICITUDES!$K$2:$K$1048576)","v":2},0.16666666666666666]
[null,null,"T1735",30,13200,208,-76.595178223269343,2.4584241091036754,15,15,6,6,{"$f":"SUMIF(SOLICITUDES!$C$2:$C$1048576,BD!C1145,SOLICITUDES!$I$2:$I$1048576)","v":0},0,{"$f":"SUMIF(SOLICITUDES!$C$2:$C$1048576,BD!C1145,SOLICITUDES!$J$2:$J$1048576)","v":0},0,{"$f":"SUMIF(SOLICITUDES!$C$2:$C$1048576,BD!C1145,SOLICITUDES!$K$2:$K$1048576)","v":0},0]
[null,null,"T29181",75,13200,214,-76.598245716342831,2.4563300243006174,37.5,37.5,15,15,{"$f":"SUMIF(SOLICITUDES!$C$2:$C$1048576,BD!C1146,SOLICITUDES!$I$2:$I$1048576)","v":0},0,{"$f":"SUMIF(SOLICITUDES!$C$2:$C$1048576,BD!C1146,SOLICITUDES!$J$2:$J$1048576)","v":0},0,{"$f":"SUMIF(SOLICITUDES!$C$2:$C$1048576,BD!C1146,SOLICITUDES!$K$2:$K$1048576)","v":0},0]
[null,null,"T40268",1250,13200,125,-76.595668300950322,2.4523445200372112,625,505,250,250,{"$f":"SUMIF(SOLICITUDES!$C$2:$C$1048576,BD!C1147,SOLICITUDES!$I$2:$I$1048576)","v":120},9.6000000000000002E-2,{"$f":"SUMIF(SOLICITUDES!$C$2:$C$1048576,BD!C1147,SOLICITUDES!$J$2:$J$1048576)","v":0},0,{"$f":"SUMIF(SOLICITUDES!$C$2:$C$1048576,BD!C1147,SOLICITUDES!$K$2:$K$1048576)","v":120},0.24]
[null,null,"T43041",45,13200,214,-76.599230695197463,2.4564224225433198,22.5,22.5,9,9,{"$f":"SUMIF(SOLICITUDES!$C$2:$C$1048576,BD!C1148,SOLICITUDES!$I$2:$I$1048576)","v":0},0,{"$f":"SUMIF(SOLICITUDES!$C$2:$C$1048576,BD!C1148,SOLICITUDES!$J$2:$J$1048576)","v":0},0,{"$f":"SUMIF(SOLICITUDES!$C$2:$C$1048576,BD!C1148,SOLICITUDES!$K$2:$K$1048576)","v":0},0]
[null,null,"T42776",0.5,13200,240,-76.599481690281095,2.4601667360294019,0.25,0.25,0.1,0.1,{"$f":"SUMIF(SOLICITUDES!$C$2:$C$1048576,BD!C1149,SOLICITUDES!$I$2:$I$1048576)","v":0},0,{"$f":"SUMIF(SOLICITUDES!$C$2:$C$1048576,BD!C1149,SOLICITUDES!$J$2:$J$1048576)","v":0},0,{"$f":"SUMIF(SOLICITUDES!$C$2:$C$1048576,BD!C1149,SOLICITUDES!$K$2:$K$1048576)","v":0},0]
[null,null,"T44894",112.5,13200,214,-76.599379468672254,2.4557884400497194,56.25,56.25,22.5,22.5,{"$f":"SUMIF(SOLICITUDES!$C$2:$C$1048576,BD!C1150,SOLICITUDES!$I$2:$I$1048576)","v":0},0,{"$f":"SUMIF(SOLICITUDES!$C$2:$C$1048576,BD!C1150,SOLICITUDES!$J$2:$J$1048576)","v":0},0,{"$f":"SUMIF(SOLICITUDES!$C$2:$C$1048576,BD!C1150,SOLICITUDES!$K$2:$K$1048576)","v":0},0]
[null,null,"T1506",15,13200,240,-76.598573486117118,2.4604738755789093,7.5,7.5,3,3,{"$f":"SUMIF(SOLICITUDES!$C$2:$C$1048576,BD!C1151,SOLICITUDES!$I$2:$I$1048576)","v":0},0,{"$f":"SUMIF(SOLICITUDES!$C$2:$C$1048576,BD!C1151,SOLICITUDES!$J$2:$J$1048576)","v":0},0,{"$f":"SUMIF(SOLICITUDES!$C$2:$C$1048576,BD!C1151,SOLICITUDES!$K$2:$K$1048576)","v":0},0]
[null,null,"T2427",45,13200,208,-76.602812851167698,2.4476250081335462,22.5,22.5,9,9,{"$f":"SUMIF(SOLICITUDES!$C$2:$C$1048576,BD!C1152,SOLICITUDES!$I$2:$I$1048576)","v":0},0,{"$f":"SUMIF(SOLICITUDES!$C$2:$C$1048576,BD!C1152,SOLICITUDES!$J$2:$J$1048576)","v":0},0,{"$f":"SUMIF(SOLICITUDES!$C$2:$C$1048576,BD!C1152,SOLICITUDES!$K$2:$K$1048576)","v":0},0]
[null,null,"T1751",75,13200,208,-76.594806607347877,2.4594325315621113,37.5,37.5,15,15,{"$f":"SUMIF(SOLICITUDES!$C$2:$C$1048576,BD!C1153,SOLICITUDES!$I$2:$I$1048576)","v":0},0,{"$f":"SUMIF(SOLICITUDES!$C$2:$C$1048576,BD!C1153,SOLICITUDES!$J$2:$J$1048576)","v":0},0,{"$f":"SUMIF(SOLICITUDES!$C$2:$C$1048576,BD!C1153,SOLICITUDES!$K$2:$K$1048576)","v":0},0]
[null,null,"T5254",45,13200,208,-76.606239919723592,2.4462445147003979,22.5,22.5,9,9,{"$f":"SUMIF(SOLICITUDES!$C$2:$C$1048576,BD!C1154,SOLICITUDES!$I$2:$I$1048576)","v":0},0,{"$f":"SUMIF(SOLICITUDES!$C$2:$C$1048576,BD!C1154,SOLICITUDES!$J$2:$J$1048576)","v":0},0,{"$f":"SUMIF(SOLICITUDES!$C$2:$C$1048576,BD!C1154,SOLICITUDES!$K$2:$K$1048576)","v":0},0]
[null,null,"T13136",112.5,13200,214,-76.605852389507533,2.4459621430690506,56.25,{"$f":"D1155*0.5-M1155","v":56.25},22.5,22.5,{"$f":"SUMIF(SOLICITUDES!$C$2:$C$1048576,BD!C1155,SOLICITUDES!$I$2:$I$1048576)","v":0},{"$f":"M1155/D1155","v":0},{"$f":"SUMIF(SOLICITUDES!$C$2:$C$1048576,BD!C1155,SOLICITUDES!$J$2:$J$1048576)","v":0},0,{"$f":"SUMIF(SOLICITUDES!$C$2:$C$1048576,BD!C1155,SOLICITUDES!$K$2:$K$1048576)","v":0},0]
[null,null,"T2021",112.5,13200,214,-76.596495630008206,2.4630142537462745,{"$f":"D1156*0.5","v":56.25},56.25,{"$f":"0.2*D1156","v":22.5},{"$f":"0.2*D1156","v":22.5},{"$f":"SUMIF(SOLICITUDES!$C$2:$C$1048576,BD!C1156,SOLICITUDES!$I$2:$I$1048576)","v":0},0,{"$f":"SUMIF(SOLICITUDES!$C$2:$C$1048576,BD!C1156,SOLICITUDES!$J$2:$J$1048576)","v":0},{"$f":"O1156/(2*K1156)","v":0},{"$f":"SUMIF(SOLICITUDES!$C$2:$C$1048576,BD!C1156,SOLICITUDES!$K$2:$K$1048576)","v":0},{"$f":"Q1156/(2*L1156)","v":0}]
[null,null,"T1777",75,13200,208,-76.60425659165935,2.4583507789672248,37.5,37.5,15,15,{"$f":"SUMIF(SOLICITUDES!$C$2:$C$1048576,BD!C1157,SOLICITUDES!$I$2:$I$1048576)","v":0},0,{"$f":"SUMIF(SOLICITUDES!$C$2:$C$1048576,BD!C1157,SOLICITUDES!$J$2:$J$1048576)","v":0},0,{"$f":"SUMIF(SOLICITUDES!$C$2:$C$1048576,BD!C1157,SOLICITUDES!$K$2:$K$1048576)","v":0},0]
[null,null,"T5236",112.5,13200,208,-76.604026563336276,2.4472952935192556,56.25,56.25,22.5,22.5,{"$f":"SUMIF(SOLICITUDES!$C$2:$C$1048576,BD!C1158,SOLICITUDES!$I$2:$I$1048576)","v":0},0,{"$f":"SUMIF(SOLICITUDES!$C$2:$C$1048576,BD!C1158,SOLICITUDES!$J$2:$J$1048576)","v":0},0,{"$f":"SUMIF(SOLICITUDES!$C$2:$C$1048576,BD!C1158,SOLICITUDES!$K$2:$K$1048576)","v":0},0]
[null,null,"T1513",630,13200,208,-76.594186106937883,2.4604940591551108,315,315,126,126,{"$f":"SUMIF(SOLICITUDES!$C$2:$C$1048576,BD!C1159,SOLICITUDES!$I$2:$I$1048576)","v":0},0,{"$f":"SUMIF(SOLICITUDES!$C$2:$C$1048576,BD!C1159,SOLICITUDES!$J$2:$J$1048576)","v":0},0,{"$f":"SUMIF(SOLICITUDES!$C$2:$C$1048576,BD!C1159,SOLICITUDES!$K$2:$K$1048576)","v":0},0]
[null,null,"T5249",75,13200,208,-76.60601249400095,2.4455125114218581,37.5,37.5,15,15,{"$f":"SUMIF(SOLICITUDES!$C$2:$C$1048576,BD!C1160,SOLICITUDES!$I$2:$I$1048576)","v":0},0,{"$f":"SUMIF(SOLICITUDES!$C$2:$C$1048576,BD!C1160,SOLICITUDES!$J$2:$J$1048576)","v":0},0,{"$f":"SUMIF(SOLICITUDES!$C$2:$C$1048576,BD!C1160,SOLICITUDES!$K$2:$K$1048576)","v":0},0]
[null,null,"T1279",45,13200,208,-76.606531334299504,2.4583515916754313,22.5,22.5,9,9,{"$f":"SUMIF(SOLICITUDES!$C$2:$C$1048576,BD!C1161,SOLICITUDES!$I$2:$I$1048576)","v":0},0,{"$f":"SUMIF(SOLICITUDES!$C$2:$C$1048576,BD!C1161,SOLICITUDES!$J$2:$J$1048576)","v":0},0,{"$f":"SUMIF(SOLICITUDES!$C$2:$C$1048576,BD!C1161,SOLICITUDES!$K$2:$K$1048576)","v":0},0]
[null,null,"T2013",45,13200,208,-76.59967857301838,2.462735073696233,22.5,22.5,9,9,{"$f":"SUMIF(SOLICITUDES!$C$2:$C$1048576,BD!C1162,SOLICITUDES!$I$2:$I$1048576)","v":0},0,{"$f":"SUMIF(SOLICITUDES!$C$2:$C$1048576,BD!C1162,SOLICITUDES!$J$2:$J$1048576)","v":0},0,{"$f":"SUMIF(SOLICITUDES!$C$2:$C$1048576,BD!C1162,SOLICITUDES!$K$2:$K$1048576)","v":0},0]
[null,null,"T1714",75,13200,208,-76.606009954792469,2.4580710665179044,37.5,37.5,15,15,{"$f":"SUMIF(SOLICITUDES!$C$2:$C$1048576,BD!C1163,SOLICITUDES!$I$2:$I$1048576)","v":0},0,{"$f":"SUMIF(SOLICITUDES!$C$2:$C$1048576,BD!C1163,SOLICITUDES!$J$2:$J$1048576)","v":0},0,{"$f":"SUMIF(SOLICITUDES!$C$2:$C$1048576,BD!C1163,SOLICITUDES!$K$2:$K$1048576)","v":0},0]
[null,null,"T12357",30,13200,208,-76.593427200082488,2.4607079847716524,15,15,6,6,{"$f":"SUMIF(SOLICITUDES!$C$2:$C$1048576,BD!C1164,SOLICITUDES!$I$2:$I$1048576)","v":0},0,{"$f":"SUMIF(SOLICITUDES!$C$2:$C$1048576,BD!C1164,SOLICITUDES!$J$2:$J$1048576)","v":0},0,{"$f":"SUMIF(SOLICITUDES!$C$2:$C$1048576,BD!C1164,SOLICITUDES!$K$2:$K$1048576)","v":0},0]
[null,null,"T20700",45,13200,208,-76.605276359528204,2.4469454127845891,22.5,22.5,9,9,{"$f":"SUMIF(SOLICITUDES!$C$2:$C$1048576,BD!C1165,SOLICITUDES!$I$2:$I$1048576)","v":0},0,{"$f":"SUMIF(SOLICITUDES!$C$2:$C$1048576,BD!C1165,SOLICITUDES!$J$2:$J$1048576)","v":0},0,{"$f":"SUMIF(SOLICITUDES!$C$2:$C$1048576,BD!C1165,SOLICITUDES!$K$2:$K$1048576)","v":0},0]
[null,null,"T14590",100,13200,208,-76.605348558795129,2.4455154354105368,50,50,20,20,{"$f":"SUMIF(SOLICITUDES!$C$2:$C$1048576,BD!C1166,SOLICITUDES!$I$2:$I$1048576)","v":0},0,{"$f":"SUMIF(SOLICITUDES!$C$2:$C$1048576,BD!C1166,SOLICITUDES!$J$2:$J$1048576)","v":0},0,{"$f":"SUMIF(SOLICITUDES!$C$2:$C$1048576,BD!C1166,SOLICITUDES!$K$2:$K$1048576)","v":0},0]
[null,null,"T30094",1000,13200,228,-76.594166135742825,2.4604780035736433,500,500,200,200,{"$f":"SUMIF(SOLICITUDES!$C$2:$C$1048576,BD!C1167,SOLICITUDES!$I$2:$I$1048576)","v":0},0,{"$f":"SUMIF(SOLICITUDES!$C$2:$C$1048576,BD!C1167,SOLICITUDES!$J$2:$J$1048576)","v":0},0,{"$f":"SUMIF(SOLICITUDES!$C$2:$C$1048576,BD!C1167,SOLICITUDES!$K$2:$K$1048576)","v":0},0]
[null,null,"T1292",75,13200,208,-76.606594085338358,2.458885159272707,37.5,37.5,15,15,{"$f":"SUMIF(SOLICITUDES!$C$2:$C$1048576,BD!C1168,SOLICITUDES!$I$2:$I$1048576)","v":0},0,{"$f":"SUMIF(SOLICITUDES!$C$2:$C$1048576,BD!C1168,SOLICITUDES!$J$2:$J$1048576)","v":0},0,{"$f":"SUMIF(SOLICITUDES!$C$2:$C$1048576,BD!C1168,SOLICITUDES!$K$2:$K$1048576)","v":0},0]
[null,null,"T1505",30,13200,208,-76.595433457171694,2.4631521640557215,15,15,6,6,{"$f":"SUMIF(SOLICITUDES!$C$2:$C$1048576,BD!C1169,SOLICITUDES!$I$2:$I$1048576)","v":0},0,{"$f":"SUMIF(SOLICITUDES!$C$2:$C$1048576,BD!C1169,SOLICITUDES!$J$2:$J$1048576)","v":0},0,{"$f":"SUMIF(SOLICITUDES!$C$2:$C$1048576,BD!C1169,SOLICITUDES!$K$2:$K$1048576)","v":0},0]
[null,null,"T2911",10,13200,214,-76.607038564641428,2.4597090970512321,5,5,2,2,{"$f":"SUMIF(SOLICITUDES!$C$2:$C$1048576,BD!C1170,SOLICITUDES!$I$2:$I$1048576)","v":0},0,{"$f":"SUMIF(SOLICITUDES!$C$2:$C$1048576,BD!C1170,SOLICITUDES!$J$2:$J$1048576)","v":0},0,{"$f":"SUMIF(SOLICITUDES!$C$2:$C$1048576,BD!C1170,SOLICITUDES!$K$2:$K$1048576)","v":0},0]
[null,null,"T15499",300,13200,208,-76.60479609521272,2.4462420829390381,150,150,60,60,{"$f":"SUMIF(SOLICITUDES!$C$2:$C$1048576,BD!C1171,SOLICITUDES!$I$2:$I$1048576)","v":0},0,{"$f":"SUMIF(SOLICITUDES!$C$2:$C$1048576,BD!C1171,SOLICITUDES!$J$2:$J$1048576)","v":0},0,{"$f":"SUMIF(SOLICITUDES!$C$2:$C$1048576,BD!C1171,SOLICITUDES!$K$2:$K$1048576)","v":0},0]
[null,null,"T1387",75,13200,208,-76.601818404127854,2.462880542035665,37.5,37.5,15,15,{"$f":"SUMIF(SOLICITUDES!$C$2:$C$1048576,BD!C1172,SOLICITUDES!$I$2:$I$1048576)","v":0},0,{"$f":"SUMIF(SOLICITUDES!$C$2:$C$1048576,BD!C1172,SOLICITUDES!$J$2:$J$1048576)","v":0},0,{"$f":"SUMIF(SOLICITUDES!$C$2:$C$1048576,BD!C1172,SOLICITUDES!$K$2:$K$1048576)","v":0},0]
[null,null,"T1516",75,13200,208,-76.595434878599079,2.4624803202530643,37.5,37.5,15,15,{"$f":"SUMIF(SOLICITUDES!$C$2:$C$1048576,BD!C1173,SOLICITUDES!$I$2:$I$1048576)","v":0},0,{"$f":"SUMIF(SOLICITUDES!$C$2:$C$1048576,BD!C1173,SOLICITUDES!$J$2:$J$1048576)","v":0},0,{"$f":"SUMIF(SOLICITUDES!$C$2:$C$1048576,BD!C1173,SOLICITUDES!$K$2:$K$1048576)","v":0},0]
[null,null,"T1715",75,13200,208,-76.605155899687034,2.4577813750362352,37.5,37.5,15,15,{"$f":"SUMIF(SOLICITUDES!$C$2:$C$1048576,BD!C1174,SOLICITUDES!$I$2:$I$1048576)","v":0},0,{"$f":"SUMIF(SOLICITUDES!$C$2:$C$1048576,BD!C1174,SOLICITUDES!$J$2:$J$1048576)","v":0},0,{"$f":"SUMIF(SOLICITUDES!$C$2:$C$1048576,BD!C1174,SOLICITUDES!$K$2:$K$1048576)","v":0},0]
[null,null,"T1719",75,13200,208,-76.605749514503074,2.4572028267135155,37.5,37.5,15,15,{"$f":"SUMIF(SOLICITUDES!$C$2:$C$1048576,BD!C1175,SOLICITUDES!$I$2:$I$1048576)","v":0},0,{"$f":"SUMIF(SOLICITUDES!$C$2:$C$1048576,BD!C1175,SOLICITUDES!$J$2:$J$1048576)","v":0},0,{"$f":"SUMIF(SOLICITUDES!$C$2:$C$1048576,BD!C1175,SOLICITUDES!$K$2:$K$1048576)","v":0},0]
[null,null,"T1718",75,13200,208,-76.60520977846943,2.4579713066016851,37.5,37.5,15,15,{"$f":"SUMIF(SOLICITUDES!$C$2:$C$1048576,BD!C1176,SOLICITUDES!$I$2:$I$1048576)","v":0},0,{"$f":"SUMIF(SOLICITUDES!$C$2:$C$1048576,BD!C1176,SOLICITUDES!$J$2:$J$1048576)","v":0},0,{"$f":"SUMIF(SOLICITUDES!$C$2:$C$1048576,BD!C1176,SOLICITUDES!$K$2:$K$1048576)","v":0},0]
[null,null,"T1766",75,13200,208,-76.603411389200048,2.4584951589781761,37.5,37.5,15,15,{"$f":"SUMIF(SOLICITUDES!$C$2:$C$1048576,BD!C1177,SOLICITUDES!$I$2:$I$1048576)","v":0},0,{"$f":"SUMIF(SOLICITUDES!$C$2:$C$1048576,BD!C1177,SOLICITUDES!$J$2:$J$1048576)","v":0},0,{"$f":"SUMIF(SOLICITUDES!$C$2:$C$1048576,BD!C1177,SOLICITUDES!$K$2:$K$1048576)","v":0},0]
[null,null,"T1390",45,13200,208,-76.603510506890913,2.4578892994084129,22.5,22.5,9,9,{"$f":"SUMIF(SOLICITUDES!$C$2:$C$1048576,BD!C1178,SOLICITUDES!$I$2:$I$1048576)","v":0},0,{"$f":"SUMIF(SOLICITUDES!$C$2:$C$1048576,BD!C1178,SOLICITUDES!$J$2:$J$1048576)","v":0},0,{"$f":"SUMIF(SOLICITUDES!$C$2:$C$1048576,BD!C1178,SOLICITUDES!$K$2:$K$1048576)","v":0},0]
[null,null,"T2023",112.5,13200,208,-76.595218713997127,2.4635382961455701,56.25,56.25,22.5,22.5,{"$f":"SUMIF(SOLICITUDES!$C$2:$C$1048576,BD!C1179,SOLICITUDES!$I$2:$I$1048576)","v":0},0,{"$f":"SUMIF(SOLICITUDES!$C$2:$C$1048576,BD!C1179,SOLICITUDES!$J$2:$J$1048576)","v":0},0,{"$f":"SUMIF(SOLICITUDES!$C$2:$C$1048576,BD!C1179,SOLICITUDES!$K$2:$K$1048576)","v":0},0]
[null,null,"T1519",75,13200,208,-76.595426097704944,2.4619015476568866,37.5,37.5,15,15,{"$f":"SUMIF(SOLICITUDES!$C$2:$C$1048576,BD!C1180,SOLICITUDES!$I$2:$I$1048576)","v":0},0,{"$f":"SUMIF(SOLICITUDES!$C$2:$C$1048576,BD!C1180,SOLICITUDES!$J$2:$J$1048576)","v":0},0,{"$f":"SUMIF(SOLICITUDES!$C$2:$C$1048576,BD!C1180,SOLICITUDES!$K$2:$K$1048576)","v":0},0]
[null,null,"T1691",30,13200,240,-76.601512588190644,2.4632059838738041,15,15,6,6,{"$f":"SUMIF(SOLICITUDES!$C$2:$C$1048576,BD!C1181,SOLICITUDES!$I$2:$I$1048576)","v":0},0,{"$f":"SUMIF(SOLICITUDES!$C$2:$C$1048576,BD!C1181,SOLICITUDES!$J$2:$J$1048576)","v":0},0,{"$f":"SUMIF(SOLICITUDES!$C$2:$C$1048576,BD!C1181,SOLICITUDES!$K$2:$K$1048576)","v":0},0]
[null,null,"T1773",75,13200,208,-76.603330557785895,2.4582328838531686,37.5,37.5,15,15,{"$f":"SUMIF(SOLICITUDES!$C$2:$C$1048576,BD!C1182,SOLICITUDES!$I$2:$I$1048576)","v":0},0,{"$f":"SUMIF(SOLICITUDES!$C$2:$C$1048576,BD!C1182,SOLICITUDES!$J$2:$J$1048576)","v":0},0,{"$f":"SUMIF(SOLICITUDES!$C$2:$C$1048576,BD!C1182,SOLICITUDES!$K$2:$K$1048576)","v":0},0]
[null,null,"T14071",300,13200,208,-76.605068380847442,2.4457132029420405,150,150,60,60,{"$f":"SUMIF(SOLICITUDES!$C$2:$C$1048576,BD!C1183,SOLICITUDES!$I$2:$I$1048576)","v":0},0,{"$f":"SUMIF(SOLICITUDES!$C$2:$C$1048576,BD!C1183,SOLICITUDES!$J$2:$J$1048576)","v":0},0,{"$f":"SUMIF(SOLICITUDES!$C$2:$C$1048576,BD!C1183,SOLICITUDES!$K$2:$K$1048576)","v":0},0]
[null,null,"T42569",15,13200,240,-76.60562960611739,2.4619626548466345,7.5,7.5,3,3,{"$f":"SUMIF(SOLICITUDES!$C$2:$C$1048576,BD!C1184,SOLICITUDES!$I$2:$I$1048576)","v":0},0,{"$f":"SUMIF(SOLICITUDES!$C$2:$C$1048576,BD!C1184,SOLICITUDES!$J$2:$J$1048576)","v":0},0,{"$f":"SUMIF(SOLICITUDES!$C$2:$C$1048576,BD!C1184,SOLICITUDES!$K$2:$K$1048576)","v":0},0]
[null,null,"T1528",45,13200,208,-76.595453263056442,2.4613589696233658,22.5,22.5,9,9,{"$f":"SUMIF(SOLICITUDES!$C$2:$C$1048576,BD!C1185,SOLICITUDES!$I$2:$I$1048576)","v":0},0,{"$f":"SUMIF(SOLICITUDES!$C$2:$C$1048576,BD!C1185,SOLICITUDES!$J$2:$J$1048576)","v":0},0,{"$f":"SUMIF(SOLICITUDES!$C$2:$C$1048576,BD!C1185,SOLICITUDES!$K$2:$K$1048576)","v":0},0]
[null,null,"T1774",75,13200,208,-76.603744359655266,2.457636176267501,37.5,37.5,15,15,{"$f":"SUMIF(SOLICITUDES!$C$2:$C$1048576,BD!C1186,SOLICITUDES!$I$2:$I$1048576)","v":0},0,{"$f":"SUMIF(SOLICITUDES!$C$2:$C$1048576,BD!C1186,SOLICITUDES!$J$2:$J$1048576)","v":0},0,{"$f":"SUMIF(SOLICITUDES!$C$2:$C$1048576,BD!C1186,SOLICITUDES!$K$2:$K$1048576)","v":0},0]
[null,null,"T1530",350,13200,208,-76.593760764271877,2.4605167271418082,175,175,70,70,{"$f":"SUMIF(SOLICITUDES!$C$2:$C$1048576,BD!C1187,SOLICITUDES!$I$2:$I$1048576)","v":0},0,{"$f":"SUMIF(SOLICITUDES!$C$2:$C$1048576,BD!C1187,SOLICITUDES!$J$2:$J$1048576)","v":0},0,{"$f":"SUMIF(SOLICITUDES!$C$2:$C$1048576,BD!C1187,SOLICITUDES!$K$2:$K$1048576)","v":0},0]
[null,null,"T1362",75,13200,208,-76.607308406026206,2.4585745158833539,37.5,37.5,15,15,{"$f":"SUMIF(SOLICITUDES!$C$2:$C$1048576,BD!C1188,SOLICITUDES!$I$2:$I$1048576)","v":0},0,{"$f":"SUMIF(SOLICITUDES!$C$2:$C$1048576,BD!C1188,SOLICITUDES!$J$2:$J$1048576)","v":0},0,{"$f":"SUMIF(SOLICITUDES!$C$2:$C$1048576,BD!C1188,SOLICITUDES!$K$2:$K$1048576)","v":0},0]
[null,null,"T1722",75,13200,208,-76.604535611108886,2.4575279455178243,37.5,37.5,15,15,{"$f":"SUMIF(SOLICITUDES!$C$2:$C$1048576,BD!C1189,SOLICITUDES!$I$2:$I$1048576)","v":0},0,{"$f":"SUMIF(SOLICITUDES!$C$2:$C$1048576,BD!C1189,SOLICITUDES!$J$2:$J$1048576)","v":0},0,{"$f":"SUMIF(SOLICITUDES!$C$2:$C$1048576,BD!C1189,SOLICITUDES!$K$2:$K$1048576)","v":0},0]
[null,null,"T2744",75,13200,208,-76.600593787782088,2.4628244590604154,37.5,37.5,15,15,{"$f":"SUMIF(SOLICITUDES!$C$2:$C$1048576,BD!C1190,SOLICITUDES!$I$2:$I$1048576)","v":0},0,{"$f":"SUMIF(SOLICITUDES!$C$2:$C$1048576,BD!C1190,SOLICITUDES!$J$2:$J$1048576)","v":0},0,{"$f":"SUMIF(SOLICITUDES!$C$2:$C$1048576,BD!C1190,SOLICITUDES!$K$2:$K$1048576)","v":0},0]
[null,null,"T6316",400,13200,208,-76.603521612756111,2.4475788476540066,200,200,80,80,{"$f":"SUMIF(SOLICITUDES!$C$2:$C$1048576,BD!C1191,SOLICITUDES!$I$2:$I$1048576)","v":0},0,{"$f":"SUMIF(SOLICITUDES!$C$2:$C$1048576,BD!C1191,SOLICITUDES!$J$2:$J$1048576)","v":0},0,{"$f":"SUMIF(SOLICITUDES!$C$2:$C$1048576,BD!C1191,SOLICITUDES!$K$2:$K$1048576)","v":0},0]
[null,null,"T15497",300,13200,208,-76.605015862634957,2.4469837274092852,150,150,60,60,{"$f":"SUMIF(SOLICITUDES!$C$2:$C$1048576,BD!C1192,SOLICITUDES!$I$2:$I$1048576)","v":0},0,{"$f":"SUMIF(SOLICITUDES!$C$2:$C$1048576,BD!C1192,SOLICITUDES!$J$2:$J$1048576)","v":0},0,{"$f":"SUMIF(SOLICITUDES!$C$2:$C$1048576,BD!C1192,SOLICITUDES!$K$2:$K$1048576)","v":0},0]
[null,null,"T30702",400,13200,480,-76.602698963362414,2.4604551154037191,200,200,80,80,{"$f":"SUMIF(SOLICITUDES!$C$2:$C$1048576,BD!C1193,SOLICITUDES!$I$2:$I$1048576)","v":0},0,{"$f":"SUMIF(SOLICITUDES!$C$2:$C$1048576,BD!C1193,SOLICITUDES!$J$2:$J$1048576)","v":0},0,{"$f":"SUMIF(SOLICITUDES!$C$2:$C$1048576,BD!C1193,SOLICITUDES!$K$2:$K$1048576)","v":0},0]
[null,null,"T30703",500,13200,500,-76.602677594744193,2.4604434659366574,250,250,100,100,{"$f":"SUMIF(SOLICITUDES!$C$2:$C$1048576,BD!C1194,SOLICITUDES!$I$2:$I$1048576)","v":0},0,{"$f":"SUMIF(SOLICITUDES!$C$2:$C$1048576,BD!C1194,SOLICITUDES!$J$2:$J$1048576)","v":0},0,{"$f":"SUMIF(SOLICITUDES!$C$2:$C$1048576,BD!C1194,SOLICITUDES!$K$2:$K$1048576)","v":0},0]
[null,null,"T30701",800,13200,208,-76.602658475016597,2.4604552637979165,400,400,160,160,{"$f":"SUMIF(SOLICITUDES!$C$2:$C$1048576,BD!C1195,SOLICITUDES!$I$2:$I$1048576)","v":0},0,{"$f":"SUMIF(SOLICITUDES!$C$2:$C$1048576,BD!C1195,SOLICITUDES!$J$2:$J$1048576)","v":0},0,{"$f":"SUMIF(SOLICITUDES!$C$2:$C$1048576,BD!C1195,SOLICITUDES!$K$2:$K$1048576)","v":0},0]
[null,null,"T1373",45,13200,208,-76.612726843977455,2.4564456672979165,22.5,22.5,9,9,{"$f":"SUMIF(SOLICITUDES!$C$2:$C$1048576,BD!C1196,SOLICITUDES!$I$2:$I$1048576)","v":0},0,{"$f":"SUMIF(SOLICITUDES!$C$2:$C$1048576,BD!C1196,SOLICITUDES!$J$2:$J$1048576)","v":0},0,{"$f":"SUMIF(SOLICITUDES!$C$2:$C$1048576,BD!C1196,SOLICITUDES!$K$2:$K$1048576)","v":0},0]
[null,null,"T1372",45,13200,208,-76.609237850234436,2.4577737852554327,22.5,22.5,9,9,{"$f":"SUMIF(SOLICITUDES!$C$2:$C$1048576,BD!C1197,SOLICITUDES!$I$2:$I$1048576)","v":0},0,{"$f":"SUMIF(SOLICITUDES!$C$2:$C$1048576,BD!C1197,SOLICITUDES!$J$2:$J$1048576)","v":0},0,{"$f":"SUMIF(SOLICITUDES!$C$2:$C$1048576,BD!C1197,SOLICITUDES!$K$2:$K$1048576)","v":0},0]
[null,null,"T1377",30,13200,208,-76.613257416378715,2.4561383926223632,15,15,6,6,{"$f":"SUMIF(SOLICITUDES!$C$2:$C$1048576,BD!C1198,SOLICITUDES!$I$2:$I$1048576)","v":0},0,{"$f":"SUMIF(SOLICITUDES!$C$2:$C$1048576,BD!C1198,SOLICITUDES!$J$2:$J$1048576)","v":0},0,{"$f":"SUMIF(SOLICITUDES!$C$2:$C$1048576,BD!C1198,SOLICITUDES!$K$2:$K$1048576)","v":0},0]
[null,null,"T1394",45,13200,208,-76.613491038984606,2.4565725429930128,22.5,22.5,9,9,{"$f":"SUMIF(SOLICITUDES!$C$2:$C$1048576,BD!C1199,SOLICITUDES!$I$2:$I$1048576)","v":0},0,{"$f":"SUMIF(SOLICITUDES!$C$2:$C$1048576,BD!C1199,SOLICITUDES!$J$2:$J$1048576)","v":0},0,{"$f":"SUMIF(SOLICITUDES!$C$2:$C$1048576,BD!C1199,SOLICITUDES!$K$2:$K$1048576)","v":0},0]
[null,null,"T29498",30,13200,214,-76.608923147315778,2.4578008089121521,15,15,6,6,{"$f":"SUMIF(SOLICITUDES!$C$2:$C$1048576,BD!C1200,SOLICITUDES!$I$2:$I$1048576)","v":0},0,{"$f":"SUMIF(SOLICITUDES!$C$2:$C$1048576,BD!C1200,SOLICITUDES!$J$2:$J$1048576)","v":0},0,{"$f":"SUMIF(SOLICITUDES!$C$2:$C$1048576,BD!C1200,SOLICITUDES!$K$2:$K$1048576)","v":0},0]
[null,null,"T1370",15,13200,240,-76.614156751040554,2.4554785505793895,7.5,7.5,3,3,{"$f":"SUMIF(SOLICITUDES!$C$2:$C$1048576,BD!C1201,SOLICITUDES!$I$2:$I$1048576)","v":0},0,{"$f":"SUMIF(SOLICITUDES!$C$2:$C$1048576,BD!C1201,SOLICITUDES!$J$2:$J$1048576)","v":0},0,{"$f":"SUMIF(SOLICITUDES!$C$2:$C$1048576,BD!C1201,SOLICITUDES!$K$2:$K$1048576)","v":0},0]
[null,null,"T1182",75,13200,208,-76.576671774227378,2.4829922622630134,37.5,37.5,15,15,{"$f":"SUMIF(SOLICITUDES!$C$2:$C$1048576,BD!C1202,SOLICITUDES!$I$2:$I$1048576)","v":0},0,{"$f":"SUMIF(SOLICITUDES!$C$2:$C$1048576,BD!C1202,SOLICITUDES!$J$2:$J$1048576)","v":0},0,{"$f":"SUMIF(SOLICITUDES!$C$2:$C$1048576,BD!C1202,SOLICITUDES!$K$2:$K$1048576)","v":0},0]
[null,null,"T1761",45,13200,208,-76.575695839335467,2.4835762996415358,22.5,22.5,9,9,{"$f":"SUMIF(SOLICITUDES!$C$2:$C$1048576,BD!C1203,SOLICITUDES!$I$2:$I$1048576)","v":0},0,{"$f":"SUMIF(SOLICITUDES!$C$2:$C$1048576,BD!C1203,SOLICITUDES!$J$2:$J$1048576)","v":0},0,{"$f":"SUMIF(SOLICITUDES!$C$2:$C$1048576,BD!C1203,SOLICITUDES!$K$2:$K$1048576)","v":0},0]
[null,null,"T1770",75,13200,208,-76.576459541417634,2.4835221344608867,37.5,37.5,15,15,{"$f":"SUMIF(SOLICITUDES!$C$2:$C$1048576,BD!C1204,SOLICITUDES!$I$2:$I$1048576)","v":0},0,{"$f":"SUMIF(SOLICITUDES!$C$2:$C$1048576,BD!C1204,SOLICITUDES!$J$2:$J$1048576)","v":0},0,{"$f":"SUMIF(SOLICITUDES!$C$2:$C$1048576,BD!C1204,SOLICITUDES!$K$2:$K$1048576)","v":0},0]
[null,null,"T30123",10,13200,220,-76.574499094828383,2.4839187995803975,5,5,2,2,{"$f":"SUMIF(SOLICITUDES!$C$2:$C$1048576,BD!C1205,SOLICITUDES!$I$2:$I$1048576)","v":0},0,{"$f":"SUMIF(SOLICITUDES!$C$2:$C$1048576,BD!C1205,SOLICITUDES!$J$2:$J$1048576)","v":0},0,{"$f":"SUMIF(SOLICITUDES!$C$2:$C$1048576,BD!C1205,SOLICITUDES!$K$2:$K$1048576)","v":0},0]
[null,null,"T1778",45,13200,208,-76.576362578688602,2.4837227136159878,22.5,22.5,9,9,{"$f":"SUMIF(SOLICITUDES!$C$2:$C$1048576,BD!C1206,SOLICITUDES!$I$2:$I$1048576)","v":0},0,{"$f":"SUMIF(SOLICITUDES!$C$2:$C$1048576,BD!C1206,SOLICITUDES!$J$2:$J$1048576)","v":0},0,{"$f":"SUMIF(SOLICITUDES!$C$2:$C$1048576,BD!C1206,SOLICITUDES!$K$2:$K$1048576)","v":0},0]
[null,null,"T5741",50,13200,240,-76.566075728437298,2.4711868479683883,25,25,10,10,{"$f":"SUMIF(SOLICITUDES!$C$2:$C$1048576,BD!C1207,SOLICITUDES!$I$2:$I$1048576)","v":0},0,{"$f":"SUMIF(SOLICITUDES!$C$2:$C$1048576,BD!C1207,SOLICITUDES!$J$2:$J$1048576)","v":0},0,{"$f":"SUMIF(SOLICITUDES!$C$2:$C$1048576,BD!C1207,SOLICITUDES!$K$2:$K$1048576)","v":0},0]
[null,null,"T1937",112.5,13200,208,-76.569166460837849,2.4761852190830433,56.25,56.25,22.5,22.5,{"$f":"SUMIF(SOLICITUDES!$C$2:$C$1048576,BD!C1208,SOLICITUDES!$I$2:$I$1048576)","v":0},0,{"$f":"SUMIF(SOLICITUDES!$C$2:$C$1048576,BD!C1208,SOLICITUDES!$J$2:$J$1048576)","v":0},0,{"$f":"SUMIF(SOLICITUDES!$C$2:$C$1048576,BD!C1208,SOLICITUDES!$K$2:$K$1048576)","v":0},0]
[null,null,"T1244",75,13200,208,-76.568447522799929,2.4760348904236813,37.5,37.5,15,15,{"$f":"SUMIF(SOLICITUDES!$C$2:$C$1048576,BD!C1209,SOLICITUDES!$I$2:$I$1048576)","v":0},0,{"$f":"SUMIF(SOLICITUDES!$C$2:$C$1048576,BD!C1209,SOLICITUDES!$J$2:$J$1048576)","v":0},0,{"$f":"SUMIF(SOLICITUDES!$C$2:$C$1048576,BD!C1209,SOLICITUDES!$K$2:$K$1048576)","v":0},0]
[null,null,"T5473",30,13200,208,-76.578750896579479,2.476526388930655,15,15,6,6,{"$f":"SUMIF(SOLICITUDES!$C$2:$C$1048576,BD!C1210,SOLICITUDES!$I$2:$I$1048576)","v":0},0,{"$f":"SUMIF(SOLICITUDES!$C$2:$C$1048576,BD!C1210,SOLICITUDES!$J$2:$J$1048576)","v":0},0,{"$f":"SUMIF(SOLICITUDES!$C$2:$C$1048576,BD!C1210,SOLICITUDES!$K$2:$K$1048576)","v":0},0]
[null,null,"T1765",75,13200,208,-76.576071674301417,2.4844018562831534,37.5,37.5,15,15,{"$f":"SUMIF(SOLICITUDES!$C$2:$C$1048576,BD!C1211,SOLICITUDES!$I$2:$I$1048576)","v":0},0,{"$f":"SUMIF(SOLICITUDES!$C$2:$C$1048576,BD!C1211,SOLICITUDES!$J$2:$J$1048576)","v":0},0,{"$f":"SUMIF(SOLICITUDES!$C$2:$C$1048576,BD!C1211,SOLICITUDES!$K$2:$K$1048576)","v":0},0]
[null,null,"T1215",10,13200,240,-76.570039544674088,2.4744800860887617,5,5,2,2,{"$f":"SUMIF(SOLICITUDES!$C$2:$C$1048576,BD!C1212,SOLICITUDES!$I$2:$I$1048576)","v":0},0,{"$f":"SUMIF(SOLICITUDES!$C$2:$C$1048576,BD!C1212,SOLICITUDES!$J$2:$J$1048576)","v":0},0,{"$f":"SUMIF(SOLICITUDES!$C$2:$C$1048576,BD!C1212,SOLICITUDES!$K$2:$K$1048576)","v":0},0]
[null,null,"T1754",75,13200,208,-76.575123297754828,2.484796123861968,37.5,37.5,15,15,{"$f":"SUMIF(SOLICITUDES!$C$2:$C$1048576,BD!C1213,SOLICITUDES!$I$2:$I$1048576)","v":0},0,{"$f":"SUMIF(SOLICITUDES!$C$2:$C$1048576,BD!C1213,SOLICITUDES!$J$2:$J$1048576)","v":0},0,{"$f":"SUMIF(SOLICITUDES!$C$2:$C$1048576,BD!C1213,SOLICITUDES!$K$2:$K$1048576)","v":0},0]
[null,null,"T1759",112.5,13200,208,-76.575900525230296,2.4848488842090228,56.25,56.25,22.5,22.5,{"$f":"SUMIF(SOLICITUDES!$C$2:$C$1048576,BD!C1214,SOLICITUDES!$I$2:$I$1048576)","v":0},0,{"$f":"SUMIF(SOLICITUDES!$C$2:$C$1048576,BD!C1214,SOLICITUDES!$J$2:$J$1048576)","v":0},0,{"$f":"SUMIF(SOLICITUDES!$C$2:$C$1048576,BD!C1214,SOLICITUDES!$K$2:$K$1048576)","v":0},0]
[null,null,"T1789",45,13200,208,-76.577094043047552,2.4838334444120673,22.5,22.5,9,9,{"$f":"SUMIF(SOLICITUDES!$C$2:$C$1048576,BD!C1215,SOLICITUDES!$I$2:$I$1048576)","v":0},0,{"$f":"SUMIF(SOLICITUDES!$C$2:$C$1048576,BD!C1215,SOLICITUDES!$J$2:$J$1048576)","v":0},0,{"$f":"SUMIF(SOLICITUDES!$C$2:$C$1048576,BD!C1215,SOLICITUDES!$K$2:$K$1048576)","v":0},0]
[null,null,"T1791",75,13200,208,-76.576644399259024,2.4840503003951748,37.5,37.5,15,15,{"$f":"SUMIF(SOLICITUDES!$C$2:$C$1048576,BD!C1216,SOLICITUDES!$I$2:$I$1048576)","v":0},0,{"$f":"SUMIF(SOLICITUDES!$C$2:$C$1048576,BD!C1216,SOLICITUDES!$J$2:$J$1048576)","v":0},0,{"$f":"SUMIF(SOLICITUDES!$C$2:$C$1048576,BD!C1216,SOLICITUDES!$K$2:$K$1048576)","v":0},0]
[null,null,"T21441",225,13200,214,-76.575212996134113,2.4802455086878767,112.5,112.5,45,45,{"$f":"SUMIF(SOLICITUDES!$C$2:$C$1048576,BD!C1217,SOLICITUDES!$I$2:$I$1048576)","v":0},0,{"$f":"SUMIF(SOLICITUDES!$C$2:$C$1048576,BD!C1217,SOLICITUDES!$J$2:$J$1048576)","v":0},0,{"$f":"SUMIF(SOLICITUDES!$C$2:$C$1048576,BD!C1217,SOLICITUDES!$K$2:$K$1048576)","v":0},0]
[null,null,"T1780",30,13200,208,-76.576302427123579,2.4848550129501308,15,15,6,6,{"$f":"SUMIF(SOLICITUDES!$C$2:$C$1048576,BD!C1218,SOLICITUDES!$I$2:$I$1048576)","v":0},0,{"$f":"SUMIF(SOLICITUDES!$C$2:$C$1048576,BD!C1218,SOLICITUDES!$J$2:$J$1048576)","v":0},0,{"$f":"SUMIF(SOLICITUDES!$C$2:$C$1048576,BD!C1218,SOLICITUDES!$K$2:$K$1048576)","v":0},0]
[null,null,"T1225",112.5,13200,208,-76.577633475929062,2.4839331277817234,56.25,{"$f":"D1219*0.5-M1219","v":56.25},22.5,22.5,{"$f":"SUMIF(SOLICITUDES!$C$2:$C$1048576,BD!C1219,SOLICITUDES!$I$2:$I$1048576)","v":0},{"$f":"M1219/D1219","v":0},{"$f":"SUMIF(SOLICITUDES!$C$2:$C$1048576,BD!C1219,SOLICITUDES!$J$2:$J$1048576)","v":0},0,{"$f":"SUMIF(SOLICITUDES!$C$2:$C$1048576,BD!C1219,SOLICITUDES!$K$2:$K$1048576)","v":0},0]
[null,null,"T1795",112.5,13200,208,-76.57671608773461,2.4846923990023502,{"$f":"D1220*0.5","v":56.25},56.25,{"$f":"0.2*D1220","v":22.5},{"$f":"0.2*D1220","v":22.5},{"$f":"SUMIF(SOLICITUDES!$C$2:$C$1048576,BD!C1220,SOLICITUDES!$I$2:$I$1048576)","v":0},0,{"$f":"SUMIF(SOLICITUDES!$C$2:$C$1048576,BD!C1220,SOLICITUDES!$J$2:$J$1048576)","v":0},{"$f":"O1220/(2*K1220)","v":0},{"$f":"SUMIF(SOLICITUDES!$C$2:$C$1048576,BD!C1220,SOLICITUDES!$K$2:$K$1048576)","v":0},{"$f":"Q1220/(2*L1220)","v":0}]
[null,null,"T5735",15,13200,240,-76.559567128555386,2.4687878442699662,7.5,7.5,3,3,{"$f":"SUMIF(SOLICITUDES!$C$2:$C$1048576,BD!C1221,SOLICITUDES!$I$2:$I$1048576)","v":0},0,{"$f":"SUMIF(SOLICITUDES!$C$2:$C$1048576,BD!C1221,SOLICITUDES!$J$2:$J$1048576)","v":0},0,{"$f":"SUMIF(SOLICITUDES!$C$2:$C$1048576,BD!C1221,SOLICITUDES!$K$2:$K$1048576)","v":0},0]
[null,null,"T42006",0.5,13200,240,-76.577345513504326,2.4845750790961425,0.25,0.25,0.1,0.1,{"$f":"SUMIF(SOLICITUDES!$C$2:$C$1048576,BD!C1222,SOLICITUDES!$I$2:$I$1048576)","v":0},0,{"$f":"SUMIF(SOLICITUDES!$C$2:$C$1048576,BD!C1222,SOLICITUDES!$J$2:$J$1048576)","v":0},0,{"$f":"SUMIF(SOLICITUDES!$C$2:$C$1048576,BD!C1222,SOLICITUDES!$K$2:$K$1048576)","v":0},0]
[null,null,"T1669",45,13200,208,-76.578887054710336,2.4847111708863676,22.5,22.5,9,9,{"$f":"SUMIF(SOLICITUDES!$C$2:$C$1048576,BD!C1223,SOLICITUDES!$I$2:$I$1048576)","v":0},0,{"$f":"SUMIF(SOLICITUDES!$C$2:$C$1048576,BD!C1223,SOLICITUDES!$J$2:$J$1048576)","v":0},0,{"$f":"SUMIF(SOLICITUDES!$C$2:$C$1048576,BD!C1223,SOLICITUDES!$K$2:$K$1048576)","v":0},0]
[null,null,"T29189",75,13200,214,-76.579469866371966,2.4844045401599995,37.5,37.5,15,15,{"$f":"SUMIF(SOLICITUDES!$C$2:$C$1048576,BD!C1224,SOLICITUDES!$I$2:$I$1048576)","v":0},0,{"$f":"SUMIF(SOLICITUDES!$C$2:$C$1048576,BD!C1224,SOLICITUDES!$J$2:$J$1048576)","v":0},0,{"$f":"SUMIF(SOLICITUDES!$C$2:$C$1048576,BD!C1224,SOLICITUDES!$K$2:$K$1048576)","v":0},0]
[null,null,"T13945",45,13200,208,-76.578124970957163,2.4837728168166944,22.5,22.5,9,9,{"$f":"SUMIF(SOLICITUDES!$C$2:$C$1048576,BD!C1225,SOLICITUDES!$I$2:$I$1048576)","v":0},0,{"$f":"SUMIF(SOLICITUDES!$C$2:$C$1048576,BD!C1225,SOLICITUDES!$J$2:$J$1048576)","v":0},0,{"$f":"SUMIF(SOLICITUDES!$C$2:$C$1048576,BD!C1225,SOLICITUDES!$K$2:$K$1048576)","v":0},0]
[null,null,"T42584",45,13200,220,-76.57812359600733,2.4839628356780996,22.5,22.5,9,9,{"$f":"SUMIF(SOLICITUDES!$C$2:$C$1048576,BD!C1226,SOLICITUDES!$I$2:$I$1048576)","v":0},0,{"$f":"SUMIF(SOLICITUDES!$C$2:$C$1048576,BD!C1226,SOLICITUDES!$J$2:$J$1048576)","v":0},0,{"$f":"SUMIF(SOLICITUDES!$C$2:$C$1048576,BD!C1226,SOLICITUDES!$K$2:$K$1048576)","v":0},0]
[null,null,"T28672",15,13200,240,-76.57849608028657,2.485380359013198,7.5,7.5,3,3,{"$f":"SUMIF(SOLICITUDES!$C$2:$C$1048576,BD!C1227,SOLICITUDES!$I$2:$I$1048576)","v":0},0,{"$f":"SUMIF(SOLICITUDES!$C$2:$C$1048576,BD!C1227,SOLICITUDES!$J$2:$J$1048576)","v":0},0,{"$f":"SUMIF(SOLICITUDES!$C$2:$C$1048576,BD!C1227,SOLICITUDES!$K$2:$K$1048576)","v":0},0]
[null,null,"T1673",45,13200,208,-76.578145265670216,2.4857871683633972,22.5,22.5,9,9,{"$f":"SUMIF(SOLICITUDES!$C$2:$C$1048576,BD!C1228,SOLICITUDES!$I$2:$I$1048576)","v":0},0,{"$f":"SUMIF(SOLICITUDES!$C$2:$C$1048576,BD!C1228,SOLICITUDES!$J$2:$J$1048576)","v":0},0,{"$f":"SUMIF(SOLICITUDES!$C$2:$C$1048576,BD!C1228,SOLICITUDES!$K$2:$K$1048576)","v":0},0]
[null,null,"T1245",75,13200,208,-76.578523389178997,2.4845031868167076,37.5,37.5,15,15,{"$f":"SUMIF(SOLICITUDES!$C$2:$C$1048576,BD!C1229,SOLICITUDES!$I$2:$I$1048576)","v":0},0,{"$f":"SUMIF(SOLICITUDES!$C$2:$C$1048576,BD!C1229,SOLICITUDES!$J$2:$J$1048576)","v":0},0,{"$f":"SUMIF(SOLICITUDES!$C$2:$C$1048576,BD!C1229,SOLICITUDES!$K$2:$K$1048576)","v":0},0]
[null,null,"T1644",112.5,13200,208,-76.579215202781512,2.4858418353944387,56.25,56.25,22.5,22.5,{"$f":"SUMIF(SOLICITUDES!$C$2:$C$1048576,BD!C1230,SOLICITUDES!$I$2:$I$1048576)","v":0},0,{"$f":"SUMIF(SOLICITUDES!$C$2:$C$1048576,BD!C1230,SOLICITUDES!$J$2:$J$1048576)","v":0},0,{"$f":"SUMIF(SOLICITUDES!$C$2:$C$1048576,BD!C1230,SOLICITUDES!$K$2:$K$1048576)","v":0},0]
[null,null,"T1934",30,13200,208,-76.581103417765163,2.4856888229398755,15,15,6,6,{"$f":"SUMIF(SOLICITUDES!$C$2:$C$1048576,BD!C1231,SOLICITUDES!$I$2:$I$1048576)","v":0},0,{"$f":"SUMIF(SOLICITUDES!$C$2:$C$1048576,BD!C1231,SOLICITUDES!$J$2:$J$1048576)","v":0},0,{"$f":"SUMIF(SOLICITUDES!$C$2:$C$1048576,BD!C1231,SOLICITUDES!$K$2:$K$1048576)","v":0},0]
[null,null,"T28462",225,13200,208,-76.581429154401263,2.4852302503975494,112.5,112.5,45,45,{"$f":"SUMIF(SOLICITUDES!$C$2:$C$1048576,BD!C1232,SOLICITUDES!$I$2:$I$1048576)","v":0},0,{"$f":"SUMIF(SOLICITUDES!$C$2:$C$1048576,BD!C1232,SOLICITUDES!$J$2:$J$1048576)","v":0},0,{"$f":"SUMIF(SOLICITUDES!$C$2:$C$1048576,BD!C1232,SOLICITUDES!$K$2:$K$1048576)","v":0},0]
[null,null,"T1658",112.5,13200,208,-76.579089160202102,2.4862758583359215,56.25,56.25,22.5,22.5,{"$f":"SUMIF(SOLICITUDES!$C$2:$C$1048576,BD!C1233,SOLICITUDES!$I$2:$I$1048576)","v":0},0,{"$f":"SUMIF(SOLICITUDES!$C$2:$C$1048576,BD!C1233,SOLICITUDES!$J$2:$J$1048576)","v":0},0,{"$f":"SUMIF(SOLICITUDES!$C$2:$C$1048576,BD!C1233,SOLICITUDES!$K$2:$K$1048576)","v":0},0]
[null,null,"T1936",112.5,13200,208,-76.58095044961081,2.4860052739518803,56.25,56.25,22.5,22.5,{"$f":"SUMIF(SOLICITUDES!$C$2:$C$1048576,BD!C1234,SOLICITUDES!$I$2:$I$1048576)","v":0},0,{"$f":"SUMIF(SOLICITUDES!$C$2:$C$1048576,BD!C1234,SOLICITUDES!$J$2:$J$1048576)","v":0},0,{"$f":"SUMIF(SOLICITUDES!$C$2:$C$1048576,BD!C1234,SOLICITUDES!$K$2:$K$1048576)","v":0},0]
[null,null,"T10153",112.5,13200,208,-76.580443444259544,2.4864451906587393,56.25,56.25,22.5,22.5,{"$f":"SUMIF(SOLICITUDES!$C$2:$C$1048576,BD!C1235,SOLICITUDES!$I$2:$I$1048576)","v":0},0,{"$f":"SUMIF(SOLICITUDES!$C$2:$C$1048576,BD!C1235,SOLICITUDES!$J$2:$J$1048576)","v":0},0,{"$f":"SUMIF(SOLICITUDES!$C$2:$C$1048576,BD!C1235,SOLICITUDES!$K$2:$K$1048576)","v":0},0]
[null,null,"T29718",112.5,13200,208,-76.59105940346619,2.4883448628389964,56.25,56.25,22.5,22.5,{"$f":"SUMIF(SOLICITUDES!$C$2:$C$1048576,BD!C1236,SOLICITUDES!$I$2:$I$1048576)","v":0},0,{"$f":"SUMIF(SOLICITUDES!$C$2:$C$1048576,BD!C1236,SOLICITUDES!$J$2:$J$1048576)","v":0},0,{"$f":"SUMIF(SOLICITUDES!$C$2:$C$1048576,BD!C1236,SOLICITUDES!$K$2:$K$1048576)","v":0},0]
[null,null,"T25449",5,13200,240,-76.583996121426978,2.4809164076124133,2.5,2.5,1,1,{"$f":"SUMIF(SOLICITUDES!$C$2:$C$1048576,BD!C1237,SOLICITUDES!$I$2:$I$1048576)","v":0},0,{"$f":"SUMIF(SOLICITUDES!$C$2:$C$1048576,BD!C1237,SOLICITUDES!$J$2:$J$1048576)","v":0},0,{"$f":"SUMIF(SOLICITUDES!$C$2:$C$1048576,BD!C1237,SOLICITUDES!$K$2:$K$1048576)","v":0},0]
[null,null,"T5737",45,13200,220,-76.601000854853865,2.4860760631648313,22.5,22.5,9,9,{"$f":"SUMIF(SOLICITUDES!$C$2:$C$1048576,BD!C1238,SOLICITUDES!$I$2:$I$1048576)","v":0},0,{"$f":"SUMIF(SOLICITUDES!$C$2:$C$1048576,BD!C1238,SOLICITUDES!$J$2:$J$1048576)","v":0},0,{"$f":"SUMIF(SOLICITUDES!$C$2:$C$1048576,BD!C1238,SOLICITUDES!$K$2:$K$1048576)","v":0},0]
[null,null,"T12396",45,13200,214,-76.593509811203262,2.4913768684197639,22.5,22.5,9,9,{"$f":"SUMIF(SOLICITUDES!$C$2:$C$1048576,BD!C1239,SOLICITUDES!$I$2:$I$1048576)","v":0},0,{"$f":"SUMIF(SOLICITUDES!$C$2:$C$1048576,BD!C1239,SOLICITUDES!$J$2:$J$1048576)","v":0},0,{"$f":"SUMIF(SOLICITUDES!$C$2:$C$1048576,BD!C1239,SOLICITUDES!$K$2:$K$1048576)","v":0},0]
[null,null,"T1864",75,13200,208,-76.595167035818335,2.4572713400789734,37.5,37.5,15,15,{"$f":"SUMIF(SOLICITUDES!$C$2:$C$1048576,BD!C1240,SOLICITUDES!$I$2:$I$1048576)","v":0},0,{"$f":"SUMIF(SOLICITUDES!$C$2:$C$1048576,BD!C1240,SOLICITUDES!$J$2:$J$1048576)","v":0},0,{"$f":"SUMIF(SOLICITUDES!$C$2:$C$1048576,BD!C1240,SOLICITUDES!$K$2:$K$1048576)","v":0},0]
[null,null,"T1811",15,13200,240,-76.583272349813683,2.4802094842646998,7.5,7.5,3,3,{"$f":"SUMIF(SOLICITUDES!$C$2:$C$1048576,BD!C1241,SOLICITUDES!$I$2:$I$1048576)","v":0},0,{"$f":"SUMIF(SOLICITUDES!$C$2:$C$1048576,BD!C1241,SOLICITUDES!$J$2:$J$1048576)","v":0},0,{"$f":"SUMIF(SOLICITUDES!$C$2:$C$1048576,BD!C1241,SOLICITUDES!$K$2:$K$1048576)","v":0},0]
[null,null,"T5733",15,13200,220,-76.604929981817904,2.4862040983139972,7.5,7.5,3,3,{"$f":"SUMIF(SOLICITUDES!$C$2:$C$1048576,BD!C1242,SOLICITUDES!$I$2:$I$1048576)","v":0},0,{"$f":"SUMIF(SOLICITUDES!$C$2:$C$1048576,BD!C1242,SOLICITUDES!$J$2:$J$1048576)","v":0},0,{"$f":"SUMIF(SOLICITUDES!$C$2:$C$1048576,BD!C1242,SOLICITUDES!$K$2:$K$1048576)","v":0},0]
[null,null,"T42089",0.5,13200,240,-76.595086598776518,2.4585213839476814,0.25,0.25,0.1,0.1,{"$f":"SUMIF(SOLICITUDES!$C$2:$C$1048576,BD!C1243,SOLICITUDES!$I$2:$I$1048576)","v":0},0,{"$f":"SUMIF(SOLICITUDES!$C$2:$C$1048576,BD!C1243,SOLICITUDES!$J$2:$J$1048576)","v":0},0,{"$f":"SUMIF(SOLICITUDES!$C$2:$C$1048576,BD!C1243,SOLICITUDES!$K$2:$K$1048576)","v":0},0]
[null,null,"T1865",75,13200,208,-76.595355911725406,2.4570905481440568,37.5,37.5,15,15,{"$f":"SUMIF(SOLICITUDES!$C$2:$C$1048576,BD!C1244,SOLICITUDES!$I$2:$I$1048576)","v":0},0,{"$f":"SUMIF(SOLICITUDES!$C$2:$C$1048576,BD!C1244,SOLICITUDES!$J$2:$J$1048576)","v":0},0,{"$f":"SUMIF(SOLICITUDES!$C$2:$C$1048576,BD!C1244,SOLICITUDES!$K$2:$K$1048576)","v":0},0]
[null,null,"T13925",5,13200,240,-76.582695910985464,2.4811845258104333,2.5,2.5,1,1,{"$f":"SUMIF(SOLICITUDES!$C$2:$C$1048576,BD!C1245,SOLICITUDES!$I$2:$I$1048576)","v":0},0,{"$f":"SUMIF(SOLICITUDES!$C$2:$C$1048576,BD!C1245,SOLICITUDES!$J$2:$J$1048576)","v":0},0,{"$f":"SUMIF(SOLICITUDES!$C$2:$C$1048576,BD!C1245,SOLICITUDES!$K$2:$K$1048576)","v":0},0]
[null,null,"T1252",30,13200,208,-76.584558259555607,2.479757805863156,15,15,6,6,{"$f":"SUMIF(SOLICITUDES!$C$2:$C$1048576,BD!C1246,SOLICITUDES!$I$2:$I$1048576)","v":0},0,{"$f":"SUMIF(SOLICITUDES!$C$2:$C$1048576,BD!C1246,SOLICITUDES!$J$2:$J$1048576)","v":0},0,{"$f":"SUMIF(SOLICITUDES!$C$2:$C$1048576,BD!C1246,SOLICITUDES!$K$2:$K$1048576)","v":0},0]
[null,null,"T2856",30,13200,208,-76.584541330668443,2.4808325764380141,15,15,6,6,{"$f":"SUMIF(SOLICITUDES!$C$2:$C$1048576,BD!C1247,SOLICITUDES!$I$2:$I$1048576)","v":0},0,{"$f":"SUMIF(SOLICITUDES!$C$2:$C$1048576,BD!C1247,SOLICITUDES!$J$2:$J$1048576)","v":0},0,{"$f":"SUMIF(SOLICITUDES!$C$2:$C$1048576,BD!C1247,SOLICITUDES!$K$2:$K$1048576)","v":0},0]
[null,null,"T1227",15,13200,240,-76.585933561840648,2.4806716852621427,7.5,7.5,3,3,{"$f":"SUMIF(SOLICITUDES!$C$2:$C$1048576,BD!C1248,SOLICITUDES!$I$2:$I$1048576)","v":0},0,{"$f":"SUMIF(SOLICITUDES!$C$2:$C$1048576,BD!C1248,SOLICITUDES!$J$2:$J$1048576)","v":0},0,{"$f":"SUMIF(SOLICITUDES!$C$2:$C$1048576,BD!C1248,SOLICITUDES!$K$2:$K$1048576)","v":0},0]
[null,null,"T5762",500,13200,208,-76.59331653657317,2.457657572016108,250,250,100,100,{"$f":"SUMIF(SOLICITUDES!$C$2:$C$1048576,BD!C1249,SOLICITUDES!$I$2:$I$1048576)","v":0},0,{"$f":"SUMIF(SOLICITUDES!$C$2:$C$1048576,BD!C1249,SOLICITUDES!$J$2:$J$1048576)","v":0},0,{"$f":"SUMIF(SOLICITUDES!$C$2:$C$1048576,BD!C1249,SOLICITUDES!$K$2:$K$1048576)","v":0},0]
[null,null,"T46785",0.5,13200,240,-76.590798149536113,2.4796364471382035,0.25,0.25,0.1,0.1,{"$f":"SUMIF(SOLICITUDES!$C$2:$C$1048576,BD!C1250,SOLICITUDES!$I$2:$I$1048576)","v":0},0,{"$f":"SUMIF(SOLICITUDES!$C$2:$C$1048576,BD!C1250,SOLICITUDES!$J$2:$J$1048576)","v":0},0,{"$f":"SUMIF(SOLICITUDES!$C$2:$C$1048576,BD!C1250,SOLICITUDES!$K$2:$K$1048576)","v":0},0]
[null,null,"T22579",10,13200,240,-76.582346822144814,2.4811427388729679,5,5,2,2,{"$f":"SUMIF(SOLICITUDES!$C$2:$C$1048576,BD!C1251,SOLICITUDES!$I$2:$I$1048576)","v":0},0,{"$f":"SUMIF(SOLICITUDES!$C$2:$C$1048576,BD!C1251,SOLICITUDES!$J$2:$J$1048576)","v":0},0,{"$f":"SUMIF(SOLICITUDES!$C$2:$C$1048576,BD!C1251,SOLICITUDES!$K$2:$K$1048576)","v":0},0]
[null,null,"T1783",15,13200,240,-76.581995942960219,2.4810774494445793,7.5,7.5,3,3,{"$f":"SUMIF(SOLICITUDES!$C$2:$C$1048576,BD!C1252,SOLICITUDES!$I$2:$I$1048576)","v":0},0,{"$f":"SUMIF(SOLICITUDES!$C$2:$C$1048576,BD!C1252,SOLICITUDES!$J$2:$J$1048576)","v":0},0,{"$f":"SUMIF(SOLICITUDES!$C$2:$C$1048576,BD!C1252,SOLICITUDES!$K$2:$K$1048576)","v":0},0]
[null,null,"T29182",75,13200,214,-76.595881363764136,2.4566891305827347,37.5,37.5,15,15,{"$f":"SUMIF(SOLICITUDES!$C$2:$C$1048576,BD!C1253,SOLICITUDES!$I$2:$I$1048576)","v":0},0,{"$f":"SUMIF(SOLICITUDES!$C$2:$C$1048576,BD!C1253,SOLICITUDES!$J$2:$J$1048576)","v":0},0,{"$f":"SUMIF(SOLICITUDES!$C$2:$C$1048576,BD!C1253,SOLICITUDES!$K$2:$K$1048576)","v":0},0]
[null,null,"T1805",30,13200,208,-76.581702615303783,2.4810312995005726,15,15,6,6,{"$f":"SUMIF(SOLICITUDES!$C$2:$C$1048576,BD!C1254,SOLICITUDES!$I$2:$I$1048576)","v":0},0,{"$f":"SUMIF(SOLICITUDES!$C$2:$C$1048576,BD!C1254,SOLICITUDES!$J$2:$J$1048576)","v":0},0,{"$f":"SUMIF(SOLICITUDES!$C$2:$C$1048576,BD!C1254,SOLICITUDES!$K$2:$K$1048576)","v":0},0]
[null,null,"T1863",45,13200,208,-76.596120347792436,2.4565301459575553,22.5,22.5,9,9,{"$f":"SUMIF(SOLICITUDES!$C$2:$C$1048576,BD!C1255,SOLICITUDES!$I$2:$I$1048576)","v":0},0,{"$f":"SUMIF(SOLICITUDES!$C$2:$C$1048576,BD!C1255,SOLICITUDES!$J$2:$J$1048576)","v":0},0,{"$f":"SUMIF(SOLICITUDES!$C$2:$C$1048576,BD!C1255,SOLICITUDES!$K$2:$K$1048576)","v":0},0]
[null,null,"T17319",630,13200,208,-76.594743756315481,2.4591973822287638,315,315,126,126,{"$f":"SUMIF(SOLICITUDES!$C$2:$C$1048576,BD!C1256,SOLICITUDES!$I$2:$I$1048576)","v":0},0,{"$f":"SUMIF(SOLICITUDES!$C$2:$C$1048576,BD!C1256,SOLICITUDES!$J$2:$J$1048576)","v":0},0,{"$f":"SUMIF(SOLICITUDES!$C$2:$C$1048576,BD!C1256,SOLICITUDES!$K$2:$K$1048576)","v":0},0]
[null,null,"T5738",75,13200,208,-76.610711414748479,2.4860343697321046,37.5,37.5,15,15,{"$f":"SUMIF(SOLICITUDES!$C$2:$C$1048576,BD!C1257,SOLICITUDES!$I$2:$I$1048576)","v":0},0,{"$f":"SUMIF(SOLICITUDES!$C$2:$C$1048576,BD!C1257,SOLICITUDES!$J$2:$J$1048576)","v":0},0,{"$f":"SUMIF(SOLICITUDES!$C$2:$C$1048576,BD!C1257,SOLICITUDES!$K$2:$K$1048576)","v":0},0]
[null,null,"T1862",50,13200,240,-76.595825456644405,2.4571449694126759,25,25,10,10,{"$f":"SUMIF(SOLICITUDES!$C$2:$C$1048576,BD!C1258,SOLICITUDES!$I$2:$I$1048576)","v":0},0,{"$f":"SUMIF(SOLICITUDES!$C$2:$C$1048576,BD!C1258,SOLICITUDES!$J$2:$J$1048576)","v":0},0,{"$f":"SUMIF(SOLICITUDES!$C$2:$C$1048576,BD!C1258,SOLICITUDES!$K$2:$K$1048576)","v":0},0]
[null,null,"T30926",112.5,13200,208,-76.594878328366107,2.4927573407339425,56.25,56.25,22.5,22.5,{"$f":"SUMIF(SOLICITUDES!$C$2:$C$1048576,BD!C1259,SOLICITUDES!$I$2:$I$1048576)","v":0},0,{"$f":"SUMIF(SOLICITUDES!$C$2:$C$1048576,BD!C1259,SOLICITUDES!$J$2:$J$1048576)","v":0},0,{"$f":"SUMIF(SOLICITUDES!$C$2:$C$1048576,BD!C1259,SOLICITUDES!$K$2:$K$1048576)","v":0},0]
[null,null,"T17320",800,13200,214,-76.594130277173548,2.4590844135789904,400,400,160,160,{"$f":"SUMIF(SOLICITUDES!$C$2:$C$1048576,BD!C1260,SOLICITUDES!$I$2:$I$1048576)","v":0},0,{"$f":"SUMIF(SOLICITUDES!$C$2:$C$1048576,BD!C1260,SOLICITUDES!$J$2:$J$1048576)","v":0},0,{"$f":"SUMIF(SOLICITUDES!$C$2:$C$1048576,BD!C1260,SOLICITUDES!$K$2:$K$1048576)","v":0},0]
[null,null,"T12839",800,13200,214,-76.592700084741807,2.4903995214375465,400,400,160,160,{"$f":"SUMIF(SOLICITUDES!$C$2:$C$1048576,BD!C1261,SOLICITUDES!$I$2:$I$1048576)","v":0},0,{"$f":"SUMIF(SOLICITUDES!$C$2:$C$1048576,BD!C1261,SOLICITUDES!$J$2:$J$1048576)","v":0},0,{"$f":"SUMIF(SOLICITUDES!$C$2:$C$1048576,BD!C1261,SOLICITUDES!$K$2:$K$1048576)","v":0},0]
[null,null,"T41523",400,13200,213,-76.594607597594944,2.4907851556732266,200,200,80,80,{"$f":"SUMIF(SOLICITUDES!$C$2:$C$1048576,BD!C1262,SOLICITUDES!$I$2:$I$1048576)","v":0},0,{"$f":"SUMIF(SOLICITUDES!$C$2:$C$1048576,BD!C1262,SOLICITUDES!$J$2:$J$1048576)","v":0},0,{"$f":"SUMIF(SOLICITUDES!$C$2:$C$1048576,BD!C1262,SOLICITUDES!$K$2:$K$1048576)","v":0},0]
[null,null,"T17321",350,13200,208,-76.594100409171489,2.4590858512135103,175,175,70,70,{"$f":"SUMIF(SOLICITUDES!$C$2:$C$1048576,BD!C1263,SOLICITUDES!$I$2:$I$1048576)","v":0},0,{"$f":"SUMIF(SOLICITUDES!$C$2:$C$1048576,BD!C1263,SOLICITUDES!$J$2:$J$1048576)","v":0},0,{"$f":"SUMIF(SOLICITUDES!$C$2:$C$1048576,BD!C1263,SOLICITUDES!$K$2:$K$1048576)","v":0},0]
[null,null,"T1781",112.5,13200,208,-76.580798510802211,2.4805397763414052,56.25,56.25,22.5,22.5,{"$f":"SUMIF(SOLICITUDES!$C$2:$C$1048576,BD!C1264,SOLICITUDES!$I$2:$I$1048576)","v":0},0,{"$f":"SUMIF(SOLICITUDES!$C$2:$C$1048576,BD!C1264,SOLICITUDES!$J$2:$J$1048576)","v":0},0,{"$f":"SUMIF(SOLICITUDES!$C$2:$C$1048576,BD!C1264,SOLICITUDES!$K$2:$K$1048576)","v":0},0]
[null,null,"T1861",75,13200,208,-76.597703292140508,2.4555379853026458,37.5,37.5,15,15,{"$f":"SUMIF(SOLICITUDES!$C$2:$C$1048576,BD!C1265,SOLICITUDES!$I$2:$I$1048576)","v":0},0,{"$f":"SUMIF(SOLICITUDES!$C$2:$C$1048576,BD!C1265,SOLICITUDES!$J$2:$J$1048576)","v":0},0,{"$f":"SUMIF(SOLICITUDES!$C$2:$C$1048576,BD!C1265,SOLICITUDES!$K$2:$K$1048576)","v":0},0]
[null,null,"T30993",37.5,13200,240,-76.582092707973459,2.4800002121712592,18.75,18.75,7.5,7.5,{"$f":"SUMIF(SOLICITUDES!$C$2:$C$1048576,BD!C1266,SOLICITUDES!$I$2:$I$1048576)","v":0},0,{"$f":"SUMIF(SOLICITUDES!$C$2:$C$1048576,BD!C1266,SOLICITUDES!$J$2:$J$1048576)","v":0},0,{"$f":"SUMIF(SOLICITUDES!$C$2:$C$1048576,BD!C1266,SOLICITUDES!$K$2:$K$1048576)","v":0},0]
[null,null,"T2858",112.5,13200,208,-76.580346831797669,2.4801689848738668,56.25,56.25,22.5,22.5,{"$f":"SUMIF(SOLICITUDES!$C$2:$C$1048576,BD!C1267,SOLICITUDES!$I$2:$I$1048576)","v":0},0,{"$f":"SUMIF(SOLICITUDES!$C$2:$C$1048576,BD!C1267,SOLICITUDES!$J$2:$J$1048576)","v":0},0,{"$f":"SUMIF(SOLICITUDES!$C$2:$C$1048576,BD!C1267,SOLICITUDES!$K$2:$K$1048576)","v":0},0]
[null,null,"T2857",50,13200,240,-76.582421639544052,2.480066676690539,25,25,10,10,{"$f":"SUMIF(SOLICITUDES!$C$2:$C$1048576,BD!C1268,SOLICITUDES!$I$2:$I$1048576)","v":0},0,{"$f":"SUMIF(SOLICITUDES!$C$2:$C$1048576,BD!C1268,SOLICITUDES!$J$2:$J$1048576)","v":0},0,{"$f":"SUMIF(SOLICITUDES!$C$2:$C$1048576,BD!C1268,SOLICITUDES!$K$2:$K$1048576)","v":0},0]
[null,null,"T5763",630,13200,208,-76.594592603033504,2.4594190604759318,315,315,126,126,{"$f":"SUMIF(SOLICITUDES!$C$2:$C$1048576,BD!C1269,SOLICITUDES!$I$2:$I$1048576)","v":0},0,{"$f":"SUMIF(SOLICITUDES!$C$2:$C$1048576,BD!C1269,SOLICITUDES!$J$2:$J$1048576)","v":0},0,{"$f":"SUMIF(SOLICITUDES!$C$2:$C$1048576,BD!C1269,SOLICITUDES!$K$2:$K$1048576)","v":0},0]
[null,null,"T1860",45,13200,208,-76.59800420664854,2.4554151277783922,22.5,22.5,9,9,{"$f":"SUMIF(SOLICITUDES!$C$2:$C$1048576,BD!C1270,SOLICITUDES!$I$2:$I$1048576)","v":0},0,{"$f":"SUMIF(SOLICITUDES!$C$2:$C$1048576,BD!C1270,SOLICITUDES!$J$2:$J$1048576)","v":0},0,{"$f":"SUMIF(SOLICITUDES!$C$2:$C$1048576,BD!C1270,SOLICITUDES!$K$2:$K$1048576)","v":0},0]
[null,null,"T25697",75,13200,208,-76.579543730671958,2.479578129540509,37.5,37.5,15,15,{"$f":"SUMIF(SOLICITUDES!$C$2:$C$1048576,BD!C1271,SOLICITUDES!$I$2:$I$1048576)","v":0},0,{"$f":"SUMIF(SOLICITUDES!$C$2:$C$1048576,BD!C1271,SOLICITUDES!$J$2:$J$1048576)","v":0},0,{"$f":"SUMIF(SOLICITUDES!$C$2:$C$1048576,BD!C1271,SOLICITUDES!$K$2:$K$1048576)","v":0},0]
[null,null,"T28570",30,13200,214,-76.598090794284133,2.4553773389325104,15,15,6,6,{"$f":"SUMIF(SOLICITUDES!$C$2:$C$1048576,BD!C1272,SOLICITUDES!$I$2:$I$1048576)","v":0},0,{"$f":"SUMIF(SOLICITUDES!$C$2:$C$1048576,BD!C1272,SOLICITUDES!$J$2:$J$1048576)","v":0},0,{"$f":"SUMIF(SOLICITUDES!$C$2:$C$1048576,BD!C1272,SOLICITUDES!$K$2:$K$1048576)","v":0},0]
[null,null,"T16703",15,13200,240,-76.613121739814758,2.4841271109414023,7.5,7.5,3,3,{"$f":"SUMIF(SOLICITUDES!$C$2:$C$1048576,BD!C1273,SOLICITUDES!$I$2:$I$1048576)","v":0},0,{"$f":"SUMIF(SOLICITUDES!$C$2:$C$1048576,BD!C1273,SOLICITUDES!$J$2:$J$1048576)","v":0},0,{"$f":"SUMIF(SOLICITUDES!$C$2:$C$1048576,BD!C1273,SOLICITUDES!$K$2:$K$1048576)","v":0},0]
[null,null,"T5767",45,13200,208,-76.616016979071773,2.4839653548341776,22.5,22.5,9,9,{"$f":"SUMIF(SOLICITUDES!$C$2:$C$1048576,BD!C1274,SOLICITUDES!$I$2:$I$1048576)","v":0},0,{"$f":"SUMIF(SOLICITUDES!$C$2:$C$1048576,BD!C1274,SOLICITUDES!$J$2:$J$1048576)","v":0},0,{"$f":"SUMIF(SOLICITUDES!$C$2:$C$1048576,BD!C1274,SOLICITUDES!$K$2:$K$1048576)","v":0},0]
[null,null,"T5780",37.5,13200,240,-76.598179725880243,2.4553371959257797,18.75,18.75,7.5,7.5,{"$f":"SUMIF(SOLICITUDES!$C$2:$C$1048576,BD!C1275,SOLICITUDES!$I$2:$I$1048576)","v":0},0,{"$f":"SUMIF(SOLICITUDES!$C$2:$C$1048576,BD!C1275,SOLICITUDES!$J$2:$J$1048576)","v":0},0,{"$f":"SUMIF(SOLICITUDES!$C$2:$C$1048576,BD!C1275,SOLICITUDES!$K$2:$K$1048576)","v":0},0]
[null,null,"T2936",112.5,13200,208,-76.579111828779432,2.4792864006183644,56.25,56.25,22.5,22.5,{"$f":"SUMIF(SOLICITUDES!$C$2:$C$1048576,BD!C1276,SOLICITUDES!$I$2:$I$1048576)","v":0},0,{"$f":"SUMIF(SOLICITUDES!$C$2:$C$1048576,BD!C1276,SOLICITUDES!$J$2:$J$1048576)","v":0},0,{"$f":"SUMIF(SOLICITUDES!$C$2:$C$1048576,BD!C1276,SOLICITUDES!$K$2:$K$1048576)","v":0},0]
[null,null,"T14735",75,13200,208,-76.598719110850155,2.4555544261173496,37.5,37.5,15,15,{"$f":"SUMIF(SOLICITUDES!$C$2:$C$1048576,BD!C1277,SOLICITUDES!$I$2:$I$1048576)","v":0},0,{"$f":"SUMIF(SOLICITUDES!$C$2:$C$1048576,BD!C1277,SOLICITUDES!$J$2:$J$1048576)","v":0},0,{"$f":"SUMIF(SOLICITUDES!$C$2:$C$1048576,BD!C1277,SOLICITUDES!$K$2:$K$1048576)","v":0},0]
[null,null,"T2937",112.5,13200,208,-76.578261878509778,2.4786851545033519,56.25,56.25,22.5,22.5,{"$f":"SUMIF(SOLICITUDES!$C$2:$C$1048576,BD!C1278,SOLICITUDES!$I$2:$I$1048576)","v":0},0,{"$f":"SUMIF(SOLICITUDES!$C$2:$C$1048576,BD!C1278,SOLICITUDES!$J$2:$J$1048576)","v":0},0,{"$f":"SUMIF(SOLICITUDES!$C$2:$C$1048576,BD!C1278,SOLICITUDES!$K$2:$K$1048576)","v":0},0]
[null,null,"T28717",0.5,13200,240,-76.629146771918414,2.4513149044331537,0.25,0.25,0.1,0.1,{"$f":"SUMIF(SOLICITUDES!$C$2:$C$1048576,BD!C1279,SOLICITUDES!$I$2:$I$1048576)","v":0},0,{"$f":"SUMIF(SOLICITUDES!$C$2:$C$1048576,BD!C1279,SOLICITUDES!$J$2:$J$1048576)","v":0},0,{"$f":"SUMIF(SOLICITUDES!$C$2:$C$1048576,BD!C1279,SOLICITUDES!$K$2:$K$1048576)","v":0},0]
[null,null,"T29703",75,13200,208,-76.641853900848872,2.4566390659482789,37.5,37.5,15,15,{"$f":"SUMIF(SOLICITUDES!$C$2:$C$1048576,BD!C1280,SOLICITUDES!$I$2:$I$1048576)","v":0},0,{"$f":"SUMIF(SOLICITUDES!$C$2:$C$1048576,BD!C1280,SOLICITUDES!$J$2:$J$1048576)","v":0},0,{"$f":"SUMIF(SOLICITUDES!$C$2:$C$1048576,BD!C1280,SOLICITUDES!$K$2:$K$1048576)","v":0},0]
[null,null,"T28726",0.5,13200,240,-76.643847318900001,2.4580165986482565,0.25,0.25,0.1,0.1,{"$f":"SUMIF(SOLICITUDES!$C$2:$C$1048576,BD!C1281,SOLICITUDES!$I$2:$I$1048576)","v":0},0,{"$f":"SUMIF(SOLICITUDES!$C$2:$C$1048576,BD!C1281,SOLICITUDES!$J$2:$J$1048576)","v":0},0,{"$f":"SUMIF(SOLICITUDES!$C$2:$C$1048576,BD!C1281,SOLICITUDES!$K$2:$K$1048576)","v":0},0]
[null,null,"T29704",45,13200,208,-76.641587399349987,2.4571832214579019,22.5,22.5,9,9,{"$f":"SUMIF(SOLICITUDES!$C$2:$C$1048576,BD!C1282,SOLICITUDES!$I$2:$I$1048576)","v":0},0,{"$f":"SUMIF(SOLICITUDES!$C$2:$C$1048576,BD!C1282,SOLICITUDES!$J$2:$J$1048576)","v":0},0,{"$f":"SUMIF(SOLICITUDES!$C$2:$C$1048576,BD!C1282,SOLICITUDES!$K$2:$K$1048576)","v":0},0]
[null,null,"T10003",37.5,13200,240,-76.644082749670659,2.4639411609282007,18.75,{"$f":"D1283*0.5-M1283","v":18.75},7.5,7.5,{"$f":"SUMIF(SOLICITUDES!$C$2:$C$1048576,BD!C1283,SOLICITUDES!$I$2:$I$1048576)","v":0},{"$f":"M1283/D1283","v":0},{"$f":"SUMIF(SOLICITUDES!$C$2:$C$1048576,BD!C1283,SOLICITUDES!$J$2:$J$1048576)","v":0},0,{"$f":"SUMIF(SOLICITUDES!$C$2:$C$1048576,BD!C1283,SOLICITUDES!$K$2:$K$1048576)","v":0},0]
[null,null,"T10004",30,13200,208,-76.64478618942394,2.4651471665358273,{"$f":"D1284*0.5","v":15},15,{"$f":"0.2*D1284","v":6},{"$f":"0.2*D1284","v":6},{"$f":"SUMIF(SOLICITUDES!$C$2:$C$1048576,BD!C1284,SOLICITUDES!$I$2:$I$1048576)","v":0},0,{"$f":"SUMIF(SOLICITUDES!$C$2:$C$1048576,BD!C1284,SOLICITUDES!$J$2:$J$1048576)","v":0},{"$f":"O1284/(2*K1284)","v":0},{"$f":"SUMIF(SOLICITUDES!$C$2:$C$1048576,BD!C1284,SOLICITUDES!$K$2:$K$1048576)","v":0},{"$f":"Q1284/(2*L1284)","v":0}]
[null,null,"T1642",50,13200,240,-76.650415237736382,2.463548309825272,25,25,10,10,{"$f":"SUMIF(SOLICITUDES!$C$2:$C$1048576,BD!C1285,SOLICITUDES!$I$2:$I$1048576)","v":0},0,{"$f":"SUMIF(SOLICITUDES!$C$2:$C$1048576,BD!C1285,SOLICITUDES!$J$2:$J$1048576)","v":0},0,{"$f":"SUMIF(SOLICITUDES!$C$2:$C$1048576,BD!C1285,SOLICITUDES!$K$2:$K$1048576)","v":0},0]
[null,null,"T1632",45,13200,208,-76.645190459819915,2.4661601405839972,22.5,22.5,9,9,{"$f":"SUMIF(SOLICITUDES!$C$2:$C$1048576,BD!C1286,SOLICITUDES!$I$2:$I$1048576)","v":0},0,{"$f":"SUMIF(SOLICITUDES!$C$2:$C$1048576,BD!C1286,SOLICITUDES!$J$2:$J$1048576)","v":0},0,{"$f":"SUMIF(SOLICITUDES!$C$2:$C$1048576,BD!C1286,SOLICITUDES!$K$2:$K$1048576)","v":0},0]
[null,null,"T10005",37.5,13200,240,-76.644488482850775,2.4664392967424988,18.75,18.75,7.5,7.5,{"$f":"SUMIF(SOLICITUDES!$C$2:$C$1048576,BD!C1287,SOLICITUDES!$I$2:$I$1048576)","v":0},0,{"$f":"SUMIF(SOLICITUDES!$C$2:$C$1048576,BD!C1287,SOLICITUDES!$J$2:$J$1048576)","v":0},0,{"$f":"SUMIF(SOLICITUDES!$C$2:$C$1048576,BD!C1287,SOLICITUDES!$K$2:$K$1048576)","v":0},0]
[null,null,"T1636",112.5,13200,208,-76.652203956503683,2.4650048669737754,56.25,56.25,22.5,22.5,{"$f":"SUMIF(SOLICITUDES!$C$2:$C$1048576,BD!C1288,SOLICITUDES!$I$2:$I$1048576)","v":0},0,{"$f":"SUMIF(SOLICITUDES!$C$2:$C$1048576,BD!C1288,SOLICITUDES!$J$2:$J$1048576)","v":0},0,{"$f":"SUMIF(SOLICITUDES!$C$2:$C$1048576,BD!C1288,SOLICITUDES!$K$2:$K$1048576)","v":0},0]
[null,null,"T3149",15,13200,240,-76.642843365255928,2.4676153200600015,7.5,7.5,3,3,{"$f":"SUMIF(SOLICITUDES!$C$2:$C$1048576,BD!C1289,SOLICITUDES!$I$2:$I$1048576)","v":0},0,{"$f":"SUMIF(SOLICITUDES!$C$2:$C$1048576,BD!C1289,SOLICITUDES!$J$2:$J$1048576)","v":0},0,{"$f":"SUMIF(SOLICITUDES!$C$2:$C$1048576,BD!C1289,SOLICITUDES!$K$2:$K$1048576)","v":0},0]
[null,null,"T3150",75,13200,208,-76.640937451377511,2.4668640973118072,37.5,37.5,15,15,{"$f":"SUMIF(SOLICITUDES!$C$2:$C$1048576,BD!C1290,SOLICITUDES!$I$2:$I$1048576)","v":0},0,{"$f":"SUMIF(SOLICITUDES!$C$2:$C$1048576,BD!C1290,SOLICITUDES!$J$2:$J$1048576)","v":0},0,{"$f":"SUMIF(SOLICITUDES!$C$2:$C$1048576,BD!C1290,SOLICITUDES!$K$2:$K$1048576)","v":0},0]
[null,null,"T1637",30,13200,208,-76.653219334819894,2.4670398948750569,15,15,6,6,{"$f":"SUMIF(SOLICITUDES!$C$2:$C$1048576,BD!C1291,SOLICITUDES!$I$2:$I$1048576)","v":0},0,{"$f":"SUMIF(SOLICITUDES!$C$2:$C$1048576,BD!C1291,SOLICITUDES!$J$2:$J$1048576)","v":0},0,{"$f":"SUMIF(SOLICITUDES!$C$2:$C$1048576,BD!C1291,SOLICITUDES!$K$2:$K$1048576)","v":0},0]
[null,null,"T41484",15,13200,240,-76.63881452083811,2.4698837987434588,7.5,7.5,3,3,{"$f":"SUMIF(SOLICITUDES!$C$2:$C$1048576,BD!C1292,SOLICITUDES!$I$2:$I$1048576)","v":0},0,{"$f":"SUMIF(SOLICITUDES!$C$2:$C$1048576,BD!C1292,SOLICITUDES!$J$2:$J$1048576)","v":0},0,{"$f":"SUMIF(SOLICITUDES!$C$2:$C$1048576,BD!C1292,SOLICITUDES!$K$2:$K$1048576)","v":0},0]
[null,null,"T14070",30,13200,208,-76.653960129646634,2.4680615022506025,15,15,6,6,{"$f":"SUMIF(SOLICITUDES!$C$2:$C$1048576,BD!C1293,SOLICITUDES!$I$2:$I$1048576)","v":0},0,{"$f":"SUMIF(SOLICITUDES!$C$2:$C$1048576,BD!C1293,SOLICITUDES!$J$2:$J$1048576)","v":0},0,{"$f":"SUMIF(SOLICITUDES!$C$2:$C$1048576,BD!C1293,SOLICITUDES!$K$2:$K$1048576)","v":0},0]
[null,null,"T1634",15,13200,240,-76.657562279053323,2.4664534620100946,7.5,7.5,3,3,{"$f":"SUMIF(SOLICITUDES!$C$2:$C$1048576,BD!C1294,SOLICITUDES!$I$2:$I$1048576)","v":0},0,{"$f":"SUMIF(SOLICITUDES!$C$2:$C$1048576,BD!C1294,SOLICITUDES!$J$2:$J$1048576)","v":0},0,{"$f":"SUMIF(SOLICITUDES!$C$2:$C$1048576,BD!C1294,SOLICITUDES!$K$2:$K$1048576)","v":0},0]
[null,null,"T3136",50,13200,240,-76.644486771379675,2.4735120213666999,25,25,10,10,{"$f":"SUMIF(SOLICITUDES!$C$2:$C$1048576,BD!C1295,SOLICITUDES!$I$2:$I$1048576)","v":0},0,{"$f":"SUMIF(SOLICITUDES!$C$2:$C$1048576,BD!C1295,SOLICITUDES!$J$2:$J$1048576)","v":0},0,{"$f":"SUMIF(SOLICITUDES!$C$2:$C$1048576,BD!C1295,SOLICITUDES!$K$2:$K$1048576)","v":0},0]
[null,null,"T3138",10,13200,240,-76.635811220030888,2.4706876838870944,5,5,2,2,{"$f":"SUMIF(SOLICITUDES!$C$2:$C$1048576,BD!C1296,SOLICITUDES!$I$2:$I$1048576)","v":0},0,{"$f":"SUMIF(SOLICITUDES!$C$2:$C$1048576,BD!C1296,SOLICITUDES!$J$2:$J$1048576)","v":0},0,{"$f":"SUMIF(SOLICITUDES!$C$2:$C$1048576,BD!C1296,SOLICITUDES!$K$2:$K$1048576)","v":0},0]
[null,null,"T31287",45,13200,208,-76.657034924507258,2.472258144765012,22.5,22.5,9,9,{"$f":"SUMIF(SOLICITUDES!$C$2:$C$1048576,BD!C1297,SOLICITUDES!$I$2:$I$1048576)","v":0},0,{"$f":"SUMIF(SOLICITUDES!$C$2:$C$1048576,BD!C1297,SOLICITUDES!$J$2:$J$1048576)","v":0},0,{"$f":"SUMIF(SOLICITUDES!$C$2:$C$1048576,BD!C1297,SOLICITUDES!$K$2:$K$1048576)","v":0},0]
[null,null,"T47145",45,13200,240,-76.657001283383082,2.4722905893111653,22.5,22.5,9,9,{"$f":"SUMIF(SOLICITUDES!$C$2:$C$1048576,BD!C1298,SOLICITUDES!$I$2:$I$1048576)","v":0},0,{"$f":"SUMIF(SOLICITUDES!$C$2:$C$1048576,BD!C1298,SOLICITUDES!$J$2:$J$1048576)","v":0},0,{"$f":"SUMIF(SOLICITUDES!$C$2:$C$1048576,BD!C1298,SOLICITUDES!$K$2:$K$1048576)","v":0},0]
[null,null,"T3144",37.5,13200,240,-76.646635683734857,2.4734223441361114,18.75,18.75,7.5,7.5,{"$f":"SUMIF(SOLICITUDES!$C$2:$C$1048576,BD!C1299,SOLICITUDES!$I$2:$I$1048576)","v":0},0,{"$f":"SUMIF(SOLICITUDES!$C$2:$C$1048576,BD!C1299,SOLICITUDES!$J$2:$J$1048576)","v":0},0,{"$f":"SUMIF(SOLICITUDES!$C$2:$C$1048576,BD!C1299,SOLICITUDES!$K$2:$K$1048576)","v":0},0]
[null,null,"T1635",50,13200,240,-76.656259816220285,2.4690982481614276,25,25,10,10,{"$f":"SUMIF(SOLICITUDES!$C$2:$C$1048576,BD!C1300,SOLICITUDES!$I$2:$I$1048576)","v":0},0,{"$f":"SUMIF(SOLICITUDES!$C$2:$C$1048576,BD!C1300,SOLICITUDES!$J$2:$J$1048576)","v":0},0,{"$f":"SUMIF(SOLICITUDES!$C$2:$C$1048576,BD!C1300,SOLICITUDES!$K$2:$K$1048576)","v":0},0]
[null,null,"T28727",0.5,13200,240,-76.659232333755199,2.4735620210040552,0.25,0.25,0.1,0.1,{"$f":"SUMIF(SOLICITUDES!$C$2:$C$1048576,BD!C1301,SOLICITUDES!$I$2:$I$1048576)","v":0},0,{"$f":"SUMIF(SOLICITUDES!$C$2:$C$1048576,BD!C1301,SOLICITUDES!$J$2:$J$1048576)","v":0},0,{"$f":"SUMIF(SOLICITUDES!$C$2:$C$1048576,BD!C1301,SOLICITUDES!$K$2:$K$1048576)","v":0},0]
[null,null,"T1631",30,13200,208,-76.668647352139786,2.469812102090303,15,15,6,6,{"$f":"SUMIF(SOLICITUDES!$C$2:$C$1048576,BD!C1302,SOLICITUDES!$I$2:$I$1048576)","v":0},0,{"$f":"SUMIF(SOLICITUDES!$C$2:$C$1048576,BD!C1302,SOLICITUDES!$J$2:$J$1048576)","v":0},0,{"$f":"SUMIF(SOLICITUDES!$C$2:$C$1048576,BD!C1302,SOLICITUDES!$K$2:$K$1048576)","v":0},0]
[null,null,"T30033",10,13200,208,-76.644510030984932,2.4707142334780374,5,5,2,2,{"$f":"SUMIF(SOLICITUDES!$C$2:$C$1048576,BD!C1303,SOLICITUDES!$I$2:$I$1048576)","v":0},0,{"$f":"SUMIF(SOLICITUDES!$C$2:$C$1048576,BD!C1303,SOLICITUDES!$J$2:$J$1048576)","v":0},0,{"$f":"SUMIF(SOLICITUDES!$C$2:$C$1048576,BD!C1303,SOLICITUDES!$K$2:$K$1048576)","v":0},0]
[null,null,"T1633",15,13200,240,-76.664394319548023,2.4703895455208076,7.5,7.5,3,3,{"$f":"SUMIF(SOLICITUDES!$C$2:$C$1048576,BD!C1304,SOLICITUDES!$I$2:$I$1048576)","v":0},0,{"$f":"SUMIF(SOLICITUDES!$C$2:$C$1048576,BD!C1304,SOLICITUDES!$J$2:$J$1048576)","v":0},0,{"$f":"SUMIF(SOLICITUDES!$C$2:$C$1048576,BD!C1304,SOLICITUDES!$K$2:$K$1048576)","v":0},0]
[null,null,"T45056",45,13200,225,-76.640853890850835,2.4749668375434064,22.5,22.5,9,9,{"$f":"SUMIF(SOLICITUDES!$C$2:$C$1048576,BD!C1305,SOLICITUDES!$I$2:$I$1048576)","v":0},0,{"$f":"SUMIF(SOLICITUDES!$C$2:$C$1048576,BD!C1305,SOLICITUDES!$J$2:$J$1048576)","v":0},0,{"$f":"SUMIF(SOLICITUDES!$C$2:$C$1048576,BD!C1305,SOLICITUDES!$K$2:$K$1048576)","v":0},0]
[null,null,"T44899",10,13200,240,-76.661298622202196,2.4649507127682093,5,5,2,2,{"$f":"SUMIF(SOLICITUDES!$C$2:$C$1048576,BD!C1306,SOLICITUDES!$I$2:$I$1048576)","v":0},0,{"$f":"SUMIF(SOLICITUDES!$C$2:$C$1048576,BD!C1306,SOLICITUDES!$J$2:$J$1048576)","v":0},0,{"$f":"SUMIF(SOLICITUDES!$C$2:$C$1048576,BD!C1306,SOLICITUDES!$K$2:$K$1048576)","v":0},0]
[null,null,"T3137",50,13200,214,-76.645141883354583,2.4768673114966138,25,25,10,10,{"$f":"SUMIF(SOLICITUDES!$C$2:$C$1048576,BD!C1307,SOLICITUDES!$I$2:$I$1048576)","v":0},0,{"$f":"SUMIF(SOLICITUDES!$C$2:$C$1048576,BD!C1307,SOLICITUDES!$J$2:$J$1048576)","v":0},0,{"$f":"SUMIF(SOLICITUDES!$C$2:$C$1048576,BD!C1307,SOLICITUDES!$K$2:$K$1048576)","v":0},0]
[null,null,"T45124",45,13200,214,-76.632922247738122,2.4724197343880192,22.5,22.5,9,9,{"$f":"SUMIF(SOLICITUDES!$C$2:$C$1048576,BD!C1308,SOLICITUDES!$I$2:$I$1048576)","v":0},0,{"$f":"SUMIF(SOLICITUDES!$C$2:$C$1048576,BD!C1308,SOLICITUDES!$J$2:$J$1048576)","v":0},0,{"$f":"SUMIF(SOLICITUDES!$C$2:$C$1048576,BD!C1308,SOLICITUDES!$K$2:$K$1048576)","v":0},0]
[null,null,"T28567",30,13200,214,-76.645276484028528,2.4782509559518333,15,15,6,6,{"$f":"SUMIF(SOLICITUDES!$C$2:$C$1048576,BD!C1309,SOLICITUDES!$I$2:$I$1048576)","v":0},0,{"$f":"SUMIF(SOLICITUDES!$C$2:$C$1048576,BD!C1309,SOLICITUDES!$J$2:$J$1048576)","v":0},0,{"$f":"SUMIF(SOLICITUDES!$C$2:$C$1048576,BD!C1309,SOLICITUDES!$K$2:$K$1048576)","v":0},0]
[null,null,"T3147",25,13200,240,-76.646130885081604,2.4774825559445417,12.5,12.5,5,5,{"$f":"SUMIF(SOLICITUDES!$C$2:$C$1048576,BD!C1310,SOLICITUDES!$I$2:$I$1048576)","v":0},0,{"$f":"SUMIF(SOLICITUDES!$C$2:$C$1048576,BD!C1310,SOLICITUDES!$J$2:$J$1048576)","v":0},0,{"$f":"SUMIF(SOLICITUDES!$C$2:$C$1048576,BD!C1310,SOLICITUDES!$K$2:$K$1048576)","v":0},0]
[null,null,"T2094",15,13200,240,-76.680869828138626,2.4884992978569116,7.5,7.5,3,3,{"$f":"SUMIF(SOLICITUDES!$C$2:$C$1048576,BD!C1311,SOLICITUDES!$I$2:$I$1048576)","v":0},0,{"$f":"SUMIF(SOLICITUDES!$C$2:$C$1048576,BD!C1311,SOLICITUDES!$J$2:$J$1048576)","v":0},0,{"$f":"SUMIF(SOLICITUDES!$C$2:$C$1048576,BD!C1311,SOLICITUDES!$K$2:$K$1048576)","v":0},0]
[null,null,"T2587",15,13200,240,-76.686590244754541,2.4819717084719386,7.5,7.5,3,3,{"$f":"SUMIF(SOLICITUDES!$C$2:$C$1048576,BD!C1312,SOLICITUDES!$I$2:$I$1048576)","v":0},0,{"$f":"SUMIF(SOLICITUDES!$C$2:$C$1048576,BD!C1312,SOLICITUDES!$J$2:$J$1048576)","v":0},0,{"$f":"SUMIF(SOLICITUDES!$C$2:$C$1048576,BD!C1312,SOLICITUDES!$K$2:$K$1048576)","v":0},0]
[null,null,"T5659",25,13200,220,-76.671802592171787,2.472146255024374,12.5,12.5,5,5,{"$f":"SUMIF(SOLICITUDES!$C$2:$C$1048576,BD!C1313,SOLICITUDES!$I$2:$I$1048576)","v":0},0,{"$f":"SUMIF(SOLICITUDES!$C$2:$C$1048576,BD!C1313,SOLICITUDES!$J$2:$J$1048576)","v":0},0,{"$f":"SUMIF(SOLICITUDES!$C$2:$C$1048576,BD!C1313,SOLICITUDES!$K$2:$K$1048576)","v":0},0]
[null,null,"T4081",50,13200,220,-76.647610620097794,2.4841486433859181,25,25,10,10,{"$f":"SUMIF(SOLICITUDES!$C$2:$C$1048576,BD!C1314,SOLICITUDES!$I$2:$I$1048576)","v":0},0,{"$f":"SUMIF(SOLICITUDES!$C$2:$C$1048576,BD!C1314,SOLICITUDES!$J$2:$J$1048576)","v":0},0,{"$f":"SUMIF(SOLICITUDES!$C$2:$C$1048576,BD!C1314,SOLICITUDES!$K$2:$K$1048576)","v":0},0]
[null,null,"T5658",25,13200,220,-76.674329995189765,2.4692531847698587,12.5,12.5,5,5,{"$f":"SUMIF(SOLICITUDES!$C$2:$C$1048576,BD!C1315,SOLICITUDES!$I$2:$I$1048576)","v":0},0,{"$f":"SUMIF(SOLICITUDES!$C$2:$C$1048576,BD!C1315,SOLICITUDES!$J$2:$J$1048576)","v":0},0,{"$f":"SUMIF(SOLICITUDES!$C$2:$C$1048576,BD!C1315,SOLICITUDES!$K$2:$K$1048576)","v":0},0]
[null,null,"T2608",10,13200,240,-76.692407943846575,2.4809334921790671,5,5,2,2,{"$f":"SUMIF(SOLICITUDES!$C$2:$C$1048576,BD!C1316,SOLICITUDES!$I$2:$I$1048576)","v":0},0,{"$f":"SUMIF(SOLICITUDES!$C$2:$C$1048576,BD!C1316,SOLICITUDES!$J$2:$J$1048576)","v":0},0,{"$f":"SUMIF(SOLICITUDES!$C$2:$C$1048576,BD!C1316,SOLICITUDES!$K$2:$K$1048576)","v":0},0]
[null,null,"T2575",25,13200,240,-76.68911569749875,2.4855807735286195,12.5,12.5,5,5,{"$f":"SUMIF(SOLICITUDES!$C$2:$C$1048576,BD!C1317,SOLICITUDES!$I$2:$I$1048576)","v":0},0,{"$f":"SUMIF(SOLICITUDES!$C$2:$C$1048576,BD!C1317,SOLICITUDES!$J$2:$J$1048576)","v":0},0,{"$f":"SUMIF(SOLICITUDES!$C$2:$C$1048576,BD!C1317,SOLICITUDES!$K$2:$K$1048576)","v":0},0]
[null,null,"T3142",45,13200,214,-76.628281998255829,2.4812113874917099,22.5,22.5,9,9,{"$f":"SUMIF(SOLICITUDES!$C$2:$C$1048576,BD!C1318,SOLICITUDES!$I$2:$I$1048576)","v":0},0,{"$f":"SUMIF(SOLICITUDES!$C$2:$C$1048576,BD!C1318,SOLICITUDES!$J$2:$J$1048576)","v":0},0,{"$f":"SUMIF(SOLICITUDES!$C$2:$C$1048576,BD!C1318,SOLICITUDES!$K$2:$K$1048576)","v":0},0]
[null,null,"T2594",5,13200,240,-76.698612050430839,2.4803837211904201,2.5,2.5,1,1,{"$f":"SUMIF(SOLICITUDES!$C$2:$C$1048576,BD!C1319,SOLICITUDES!$I$2:$I$1048576)","v":0},0,{"$f":"SUMIF(SOLICITUDES!$C$2:$C$1048576,BD!C1319,SOLICITUDES!$J$2:$J$1048576)","v":0},0,{"$f":"SUMIF(SOLICITUDES!$C$2:$C$1048576,BD!C1319,SOLICITUDES!$K$2:$K$1048576)","v":0},0]
[null,null,"T5664",25,13200,240,-76.67311726814566,2.4655178575325349,12.5,12.5,5,5,{"$f":"SUMIF(SOLICITUDES!$C$2:$C$1048576,BD!C1320,SOLICITUDES!$I$2:$I$1048576)","v":0},0,{"$f":"SUMIF(SOLICITUDES!$C$2:$C$1048576,BD!C1320,SOLICITUDES!$J$2:$J$1048576)","v":0},0,{"$f":"SUMIF(SOLICITUDES!$C$2:$C$1048576,BD!C1320,SOLICITUDES!$K$2:$K$1048576)","v":0},0]
[null,null,"T31327",10,13200,240,-76.672450761556263,2.4644737758350663,5,5,2,2,{"$f":"SUMIF(SOLICITUDES!$C$2:$C$1048576,BD!C1321,SOLICITUDES!$I$2:$I$1048576)","v":0},0,{"$f":"SUMIF(SOLICITUDES!$C$2:$C$1048576,BD!C1321,SOLICITUDES!$J$2:$J$1048576)","v":0},0,{"$f":"SUMIF(SOLICITUDES!$C$2:$C$1048576,BD!C1321,SOLICITUDES!$K$2:$K$1048576)","v":0},0]
[null,null,"T2600",15,13200,240,-76.701884839369271,2.4806740276429946,7.5,7.5,3,3,{"$f":"SUMIF(SOLICITUDES!$C$2:$C$1048576,BD!C1322,SOLICITUDES!$I$2:$I$1048576)","v":0},0,{"$f":"SUMIF(SOLICITUDES!$C$2:$C$1048576,BD!C1322,SOLICITUDES!$J$2:$J$1048576)","v":0},0,{"$f":"SUMIF(SOLICITUDES!$C$2:$C$1048576,BD!C1322,SOLICITUDES!$K$2:$K$1048576)","v":0},0]
[null,null,"T5661",15,13200,220,-76.680707825323196,2.4688395195580077,7.5,7.5,3,3,{"$f":"SUMIF(SOLICITUDES!$C$2:$C$1048576,BD!C1323,SOLICITUDES!$I$2:$I$1048576)","v":0},0,{"$f":"SUMIF(SOLICITUDES!$C$2:$C$1048576,BD!C1323,SOLICITUDES!$J$2:$J$1048576)","v":0},0,{"$f":"SUMIF(SOLICITUDES!$C$2:$C$1048576,BD!C1323,SOLICITUDES!$K$2:$K$1048576)","v":0},0]
[null,null,"T2597",25,13200,240,-76.703710880598237,2.477816837984629,12.5,12.5,5,5,{"$f":"SUMIF(SOLICITUDES!$C$2:$C$1048576,BD!C1324,SOLICITUDES!$I$2:$I$1048576)","v":0},0,{"$f":"SUMIF(SOLICITUDES!$C$2:$C$1048576,BD!C1324,SOLICITUDES!$J$2:$J$1048576)","v":0},0,{"$f":"SUMIF(SOLICITUDES!$C$2:$C$1048576,BD!C1324,SOLICITUDES!$K$2:$K$1048576)","v":0},0]
[null,null,"T4069",15,13200,220,-76.654679982676655,2.4824953424931433,7.5,7.5,3,3,{"$f":"SUMIF(SOLICITUDES!$C$2:$C$1048576,BD!C1325,SOLICITUDES!$I$2:$I$1048576)","v":0},0,{"$f":"SUMIF(SOLICITUDES!$C$2:$C$1048576,BD!C1325,SOLICITUDES!$J$2:$J$1048576)","v":0},0,{"$f":"SUMIF(SOLICITUDES!$C$2:$C$1048576,BD!C1325,SOLICITUDES!$K$2:$K$1048576)","v":0},0]
[null,null,"T2582",10,13200,240,-76.694861071740064,2.4860617925839348,5,5,2,2,{"$f":"SUMIF(SOLICITUDES!$C$2:$C$1048576,BD!C1326,SOLICITUDES!$I$2:$I$1048576)","v":0},0,{"$f":"SUMIF(SOLICITUDES!$C$2:$C$1048576,BD!C1326,SOLICITUDES!$J$2:$J$1048576)","v":0},0,{"$f":"SUMIF(SOLICITUDES!$C$2:$C$1048576,BD!C1326,SOLICITUDES!$K$2:$K$1048576)","v":0},0]
[null,null,"T3145",45,13200,208,-76.627659788534814,2.4866462049280877,22.5,22.5,9,9,{"$f":"SUMIF(SOLICITUDES!$C$2:$C$1048576,BD!C1327,SOLICITUDES!$I$2:$I$1048576)","v":0},0,{"$f":"SUMIF(SOLICITUDES!$C$2:$C$1048576,BD!C1327,SOLICITUDES!$J$2:$J$1048576)","v":0},0,{"$f":"SUMIF(SOLICITUDES!$C$2:$C$1048576,BD!C1327,SOLICITUDES!$K$2:$K$1048576)","v":0},0]
[null,null,"T5656",25,13200,220,-76.666842107945939,2.4616610261079934,12.5,12.5,5,5,{"$f":"SUMIF(SOLICITUDES!$C$2:$C$1048576,BD!C1328,SOLICITUDES!$I$2:$I$1048576)","v":0},0,{"$f":"SUMIF(SOLICITUDES!$C$2:$C$1048576,BD!C1328,SOLICITUDES!$J$2:$J$1048576)","v":0},0,{"$f":"SUMIF(SOLICITUDES!$C$2:$C$1048576,BD!C1328,SOLICITUDES!$K$2:$K$1048576)","v":0},0]
[null,null,"T2580",25,13200,240,-76.707055692495857,2.4829591261830357,12.5,12.5,5,5,{"$f":"SUMIF(SOLICITUDES!$C$2:$C$1048576,BD!C1329,SOLICITUDES!$I$2:$I$1048576)","v":0},0,{"$f":"SUMIF(SOLICITUDES!$C$2:$C$1048576,BD!C1329,SOLICITUDES!$J$2:$J$1048576)","v":0},0,{"$f":"SUMIF(SOLICITUDES!$C$2:$C$1048576,BD!C1329,SOLICITUDES!$K$2:$K$1048576)","v":0},0]
[null,null,"T5657",10,13200,240,-76.678206340804778,2.4633100529944341,5,5,2,2,{"$f":"SUMIF(SOLICITUDES!$C$2:$C$1048576,BD!C1330,SOLICITUDES!$I$2:$I$1048576)","v":0},0,{"$f":"SUMIF(SOLICITUDES!$C$2:$C$1048576,BD!C1330,SOLICITUDES!$J$2:$J$1048576)","v":0},0,{"$f":"SUMIF(SOLICITUDES!$C$2:$C$1048576,BD!C1330,SOLICITUDES!$K$2:$K$1048576)","v":0},0]
[null,null,"T2609",15,13200,240,-76.69834905069213,2.4884683717209302,7.5,7.5,3,3,{"$f":"SUMIF(SOLICITUDES!$C$2:$C$1048576,BD!C1331,SOLICITUDES!$I$2:$I$1048576)","v":0},0,{"$f":"SUMIF(SOLICITUDES!$C$2:$C$1048576,BD!C1331,SOLICITUDES!$J$2:$J$1048576)","v":0},0,{"$f":"SUMIF(SOLICITUDES!$C$2:$C$1048576,BD!C1331,SOLICITUDES!$K$2:$K$1048576)","v":0},0]
[null,null,"T2602",15,13200,240,-76.69856787437908,2.4777520387639527,7.5,7.5,3,3,{"$f":"SUMIF(SOLICITUDES!$C$2:$C$1048576,BD!C1332,SOLICITUDES!$I$2:$I$1048576)","v":0},0,{"$f":"SUMIF(SOLICITUDES!$C$2:$C$1048576,BD!C1332,SOLICITUDES!$J$2:$J$1048576)","v":0},0,{"$f":"SUMIF(SOLICITUDES!$C$2:$C$1048576,BD!C1332,SOLICITUDES!$K$2:$K$1048576)","v":0},0]
[null,null,"T4077",50,13200,240,-76.651783141210203,2.4876310083856819,25,25,10,10,{"$f":"SUMIF(SOLICITUDES!$C$2:$C$1048576,BD!C1333,SOLICITUDES!$I$2:$I$1048576)","v":0},0,{"$f":"SUMIF(SOLICITUDES!$C$2:$C$1048576,BD!C1333,SOLICITUDES!$J$2:$J$1048576)","v":0},0,{"$f":"SUMIF(SOLICITUDES!$C$2:$C$1048576,BD!C1333,SOLICITUDES!$K$2:$K$1048576)","v":0},0]
[null,null,"T2576",10,13200,240,-76.699689705328311,2.4719917046485724,5,5,2,2,{"$f":"SUMIF(SOLICITUDES!$C$2:$C$1048576,BD!C1334,SOLICITUDES!$I$2:$I$1048576)","v":0},0,{"$f":"SUMIF(SOLICITUDES!$C$2:$C$1048576,BD!C1334,SOLICITUDES!$J$2:$J$1048576)","v":0},0,{"$f":"SUMIF(SOLICITUDES!$C$2:$C$1048576,BD!C1334,SOLICITUDES!$K$2:$K$1048576)","v":0},0]
[null,null,"T2591",10,13200,240,-76.691407119062362,2.4903834652279673,5,5,2,2,{"$f":"SUMIF(SOLICITUDES!$C$2:$C$1048576,BD!C1335,SOLICITUDES!$I$2:$I$1048576)","v":0},0,{"$f":"SUMIF(SOLICITUDES!$C$2:$C$1048576,BD!C1335,SOLICITUDES!$J$2:$J$1048576)","v":0},0,{"$f":"SUMIF(SOLICITUDES!$C$2:$C$1048576,BD!C1335,SOLICITUDES!$K$2:$K$1048576)","v":0},0]
[null,null,"T2598",15,13200,240,-76.701146117049035,2.4903274537027418,7.5,7.5,3,3,{"$f":"SUMIF(SOLICITUDES!$C$2:$C$1048576,BD!C1336,SOLICITUDES!$I$2:$I$1048576)","v":0},0,{"$f":"SUMIF(SOLICITUDES!$C$2:$C$1048576,BD!C1336,SOLICITUDES!$J$2:$J$1048576)","v":0},0,{"$f":"SUMIF(SOLICITUDES!$C$2:$C$1048576,BD!C1336,SOLICITUDES!$K$2:$K$1048576)","v":0},0]
[null,null,"T4062",15,13200,220,-76.620380319725555,2.476515278592315,7.5,7.5,3,3,{"$f":"SUMIF(SOLICITUDES!$C$2:$C$1048576,BD!C1337,SOLICITUDES!$I$2:$I$1048576)","v":0},0,{"$f":"SUMIF(SOLICITUDES!$C$2:$C$1048576,BD!C1337,SOLICITUDES!$J$2:$J$1048576)","v":0},0,{"$f":"SUMIF(SOLICITUDES!$C$2:$C$1048576,BD!C1337,SOLICITUDES!$K$2:$K$1048576)","v":0},0]
[null,null,"T2599",15,13200,240,-76.695412592224756,2.4755445958152054,7.5,7.5,3,3,{"$f":"SUMIF(SOLICITUDES!$C$2:$C$1048576,BD!C1338,SOLICITUDES!$I$2:$I$1048576)","v":0},0,{"$f":"SUMIF(SOLICITUDES!$C$2:$C$1048576,BD!C1338,SOLICITUDES!$J$2:$J$1048576)","v":0},0,{"$f":"SUMIF(SOLICITUDES!$C$2:$C$1048576,BD!C1338,SOLICITUDES!$K$2:$K$1048576)","v":0},0]
[null,null,"T2590",25,13200,240,-76.715219630876334,2.4782903194302004,12.5,12.5,5,5,{"$f":"SUMIF(SOLICITUDES!$C$2:$C$1048576,BD!C1339,SOLICITUDES!$I$2:$I$1048576)","v":0},0,{"$f":"SUMIF(SOLICITUDES!$C$2:$C$1048576,BD!C1339,SOLICITUDES!$J$2:$J$1048576)","v":0},0,{"$f":"SUMIF(SOLICITUDES!$C$2:$C$1048576,BD!C1339,SOLICITUDES!$K$2:$K$1048576)","v":0},0]
[null,null,"T5654",25,13200,220,-76.686854207893546,2.4710837046734166,12.5,12.5,5,5,{"$f":"SUMIF(SOLICITUDES!$C$2:$C$1048576,BD!C1340,SOLICITUDES!$I$2:$I$1048576)","v":0},0,{"$f":"SUMIF(SOLICITUDES!$C$2:$C$1048576,BD!C1340,SOLICITUDES!$J$2:$J$1048576)","v":0},0,{"$f":"SUMIF(SOLICITUDES!$C$2:$C$1048576,BD!C1340,SOLICITUDES!$K$2:$K$1048576)","v":0},0]
[null,null,"T4076",15,13200,220,-76.618149606183877,2.4726549686244623,7.5,7.5,3,3,{"$f":"SUMIF(SOLICITUDES!$C$2:$C$1048576,BD!C1341,SOLICITUDES!$I$2:$I$1048576)","v":0},0,{"$f":"SUMIF(SOLICITUDES!$C$2:$C$1048576,BD!C1341,SOLICITUDES!$J$2:$J$1048576)","v":0},0,{"$f":"SUMIF(SOLICITUDES!$C$2:$C$1048576,BD!C1341,SOLICITUDES!$K$2:$K$1048576)","v":0},0]
[null,null,"T5663",37.5,13200,220,-76.664686036608288,2.4575390781275934,18.75,18.75,7.5,7.5,{"$f":"SUMIF(SOLICITUDES!$C$2:$C$1048576,BD!C1342,SOLICITUDES!$I$2:$I$1048576)","v":0},0,{"$f":"SUMIF(SOLICITUDES!$C$2:$C$1048576,BD!C1342,SOLICITUDES!$J$2:$J$1048576)","v":0},0,{"$f":"SUMIF(SOLICITUDES!$C$2:$C$1048576,BD!C1342,SOLICITUDES!$K$2:$K$1048576)","v":0},0]
[null,null,"T2601",5,13200,240,-76.706196900783482,2.4939689731711274,2.5,2.5,1,1,{"$f":"SUMIF(SOLICITUDES!$C$2:$C$1048576,BD!C1343,SOLICITUDES!$I$2:$I$1048576)","v":0},0,{"$f":"SUMIF(SOLICITUDES!$C$2:$C$1048576,BD!C1343,SOLICITUDES!$J$2:$J$1048576)","v":0},0,{"$f":"SUMIF(SOLICITUDES!$C$2:$C$1048576,BD!C1343,SOLICITUDES!$K$2:$K$1048576)","v":0},0]
[null,null,"T2579",10,13200,240,-76.70876725487723,2.4981748241074686,5,5,2,2,{"$f":"SUMIF(SOLICITUDES!$C$2:$C$1048576,BD!C1344,SOLICITUDES!$I$2:$I$1048576)","v":0},0,{"$f":"SUMIF(SOLICITUDES!$C$2:$C$1048576,BD!C1344,SOLICITUDES!$J$2:$J$1048576)","v":0},0,{"$f":"SUMIF(SOLICITUDES!$C$2:$C$1048576,BD!C1344,SOLICITUDES!$K$2:$K$1048576)","v":0},0]
[null,null,"T3140",10,13200,240,-76.618748390897764,2.4896182544674761,5,5,2,2,{"$f":"SUMIF(SOLICITUDES!$C$2:$C$1048576,BD!C1345,SOLICITUDES!$I$2:$I$1048576)","v":0},0,{"$f":"SUMIF(SOLICITUDES!$C$2:$C$1048576,BD!C1345,SOLICITUDES!$J$2:$J$1048576)","v":0},0,{"$f":"SUMIF(SOLICITUDES!$C$2:$C$1048576,BD!C1345,SOLICITUDES!$K$2:$K$1048576)","v":0},0]
[null,null,"T4074",25,13200,220,-76.656071325437637,2.4896490532227089,12.5,12.5,5,5,{"$f":"SUMIF(SOLICITUDES!$C$2:$C$1048576,BD!C1346,SOLICITUDES!$I$2:$I$1048576)","v":0},0,{"$f":"SUMIF(SOLICITUDES!$C$2:$C$1048576,BD!C1346,SOLICITUDES!$J$2:$J$1048576)","v":0},0,{"$f":"SUMIF(SOLICITUDES!$C$2:$C$1048576,BD!C1346,SOLICITUDES!$K$2:$K$1048576)","v":0},0]
[null,null,"T2595",15,13200,240,-76.713329163094485,2.4865916207294601,7.5,{"$f":"D1347*0.5-M1347","v":7.5},3,3,{"$f":"SUMIF(SOLICITUDES!$C$2:$C$1048576,BD!C1347,SOLICITUDES!$I$2:$I$1048576)","v":0},{"$f":"M1347/D1347","v":0},{"$f":"SUMIF(SOLICITUDES!$C$2:$C$1048576,BD!C1347,SOLICITUDES!$J$2:$J$1048576)","v":0},0,{"$f":"SUMIF(SOLICITUDES!$C$2:$C$1048576,BD!C1347,SOLICITUDES!$K$2:$K$1048576)","v":0},0]
[null,null,"T4053",15,13200,220,-76.620035761328126,2.4783681580881618,{"$f":"D1348*0.5","v":7.5},7.5,{"$f":"0.2*D1348","v":3},{"$f":"0.2*D1348","v":3},{"$f":"SUMIF(SOLICITUDES!$C$2:$C$1048576,BD!C1348,SOLICITUDES!$I$2:$I$1048576)","v":0},0,{"$f":"SUMIF(SOLICITUDES!$C$2:$C$1048576,BD!C1348,SOLICITUDES!$J$2:$J$1048576)","v":0},{"$f":"O1348/(2*K1348)","v":0},{"$f":"SUMIF(SOLICITUDES!$C$2:$C$1048576,BD!C1348,SOLICITUDES!$K$2:$K$1048576)","v":0},{"$f":"Q1348/(2*L1348)","v":0}]
[null,null,"T2593",10,13200,240,-76.701885564947943,2.4935000388551827,5,5,2,2,{"$f":"SUMIF(SOLICITUDES!$C$2:$C$1048576,BD!C1349,SOLICITUDES!$I$2:$I$1048576)","v":0},0,{"$f":"SUMIF(SOLICITUDES!$C$2:$C$1048576,BD!C1349,SOLICITUDES!$J$2:$J$1048576)","v":0},0,{"$f":"SUMIF(SOLICITUDES!$C$2:$C$1048576,BD!C1349,SOLICITUDES!$K$2:$K$1048576)","v":0},0]
[null,null,"T25724",45,13200,240,-76.656781547381328,2.489857238135492,22.5,22.5,9,9,{"$f":"SUMIF(SOLICITUDES!$C$2:$C$1048576,BD!C1350,SOLICITUDES!$I$2:$I$1048576)","v":0},0,{"$f":"SUMIF(SOLICITUDES!$C$2:$C$1048576,BD!C1350,SOLICITUDES!$J$2:$J$1048576)","v":0},0,{"$f":"SUMIF(SOLICITUDES!$C$2:$C$1048576,BD!C1350,SOLICITUDES!$K$2:$K$1048576)","v":0},0]
[null,null,"T42778",0.5,13200,240,-76.715118197015684,2.4875506539343788,0.25,0.25,0.1,0.1,{"$f":"SUMIF(SOLICITUDES!$C$2:$C$1048576,BD!C1351,SOLICITUDES!$I$2:$I$1048576)","v":0},0,{"$f":"SUMIF(SOLICITUDES!$C$2:$C$1048576,BD!C1351,SOLICITUDES!$J$2:$J$1048576)","v":0},0,{"$f":"SUMIF(SOLICITUDES!$C$2:$C$1048576,BD!C1351,SOLICITUDES!$K$2:$K$1048576)","v":0},0]
[null,null,"T42436",10,13200,240,-76.665098796930835,2.4551972464421619,5,5,2,2,{"$f":"SUMIF(SOLICITUDES!$C$2:$C$1048576,BD!C1352,SOLICITUDES!$I$2:$I$1048576)","v":0},0,{"$f":"SUMIF(SOLICITUDES!$C$2:$C$1048576,BD!C1352,SOLICITUDES!$J$2:$J$1048576)","v":0},0,{"$f":"SUMIF(SOLICITUDES!$C$2:$C$1048576,BD!C1352,SOLICITUDES!$K$2:$K$1048576)","v":0},0]
[null,null,"T4064",30,13200,208,-76.621458702742558,2.4781253522209536,15,15,6,6,{"$f":"SUMIF(SOLICITUDES!$C$2:$C$1048576,BD!C1353,SOLICITUDES!$I$2:$I$1048576)","v":0},0,{"$f":"SUMIF(SOLICITUDES!$C$2:$C$1048576,BD!C1353,SOLICITUDES!$J$2:$J$1048576)","v":0},0,{"$f":"SUMIF(SOLICITUDES!$C$2:$C$1048576,BD!C1353,SOLICITUDES!$K$2:$K$1048576)","v":0},0]
[null,null,"T4067",15,13200,220,-76.619621944074055,2.4781968401937164,7.5,7.5,3,3,{"$f":"SUMIF(SOLICITUDES!$C$2:$C$1048576,BD!C1354,SOLICITUDES!$I$2:$I$1048576)","v":0},0,{"$f":"SUMIF(SOLICITUDES!$C$2:$C$1048576,BD!C1354,SOLICITUDES!$J$2:$J$1048576)","v":0},0,{"$f":"SUMIF(SOLICITUDES!$C$2:$C$1048576,BD!C1354,SOLICITUDES!$K$2:$K$1048576)","v":0},0]
[null,null,"T4059",15,13200,208,-76.619874618377168,2.4789471414202957,7.5,7.5,3,3,{"$f":"SUMIF(SOLICITUDES!$C$2:$C$1048576,BD!C1355,SOLICITUDES!$I$2:$I$1048576)","v":0},0,{"$f":"SUMIF(SOLICITUDES!$C$2:$C$1048576,BD!C1355,SOLICITUDES!$J$2:$J$1048576)","v":0},0,{"$f":"SUMIF(SOLICITUDES!$C$2:$C$1048576,BD!C1355,SOLICITUDES!$K$2:$K$1048576)","v":0},0]
[null,null,"T30886",45,13200,208,-76.713187769532553,2.474191842225566,22.5,22.5,9,9,{"$f":"SUMIF(SOLICITUDES!$C$2:$C$1048576,BD!C1356,SOLICITUDES!$I$2:$I$1048576)","v":0},0,{"$f":"SUMIF(SOLICITUDES!$C$2:$C$1048576,BD!C1356,SOLICITUDES!$J$2:$J$1048576)","v":0},0,{"$f":"SUMIF(SOLICITUDES!$C$2:$C$1048576,BD!C1356,SOLICITUDES!$K$2:$K$1048576)","v":0},0]
[null,null,"T45067",75,13200,448,-76.715934437879724,2.4750488295069801,37.5,37.5,15,15,{"$f":"SUMIF(SOLICITUDES!$C$2:$C$1048576,BD!C1357,SOLICITUDES!$I$2:$I$1048576)","v":0},0,{"$f":"SUMIF(SOLICITUDES!$C$2:$C$1048576,BD!C1357,SOLICITUDES!$J$2:$J$1048576)","v":0},0,{"$f":"SUMIF(SOLICITUDES!$C$2:$C$1048576,BD!C1357,SOLICITUDES!$K$2:$K$1048576)","v":0},0]
[null,null,"T40009",112.5,13200,214,-76.701044950164359,2.4937117824710127,56.25,56.25,22.5,22.5,{"$f":"SUMIF(SOLICITUDES!$C$2:$C$1048576,BD!C1358,SOLICITUDES!$I$2:$I$1048576)","v":0},0,{"$f":"SUMIF(SOLICITUDES!$C$2:$C$1048576,BD!C1358,SOLICITUDES!$J$2:$J$1048576)","v":0},0,{"$f":"SUMIF(SOLICITUDES!$C$2:$C$1048576,BD!C1358,SOLICITUDES!$K$2:$K$1048576)","v":0},0]
[null,null,"T42427",10,13200,240,-76.661594311260302,2.4568656042043351,5,5,2,2,{"$f":"SUMIF(SOLICITUDES!$C$2:$C$1048576,BD!C1359,SOLICITUDES!$I$2:$I$1048576)","v":0},0,{"$f":"SUMIF(SOLICITUDES!$C$2:$C$1048576,BD!C1359,SOLICITUDES!$J$2:$J$1048576)","v":0},0,{"$f":"SUMIF(SOLICITUDES!$C$2:$C$1048576,BD!C1359,SOLICITUDES!$K$2:$K$1048576)","v":0},0]
[null,null,"T42836",15,13200,240,-76.619830243865209,2.4794265024486082,7.5,7.5,3,3,{"$f":"SUMIF(SOLICITUDES!$C$2:$C$1048576,BD!C1360,SOLICITUDES!$I$2:$I$1048576)","v":0},0,{"$f":"SUMIF(SOLICITUDES!$C$2:$C$1048576,BD!C1360,SOLICITUDES!$J$2:$J$1048576)","v":0},0,{"$f":"SUMIF(SOLICITUDES!$C$2:$C$1048576,BD!C1360,SOLICITUDES!$K$2:$K$1048576)","v":0},0]
[null,null,"T4068",30,13200,220,-76.621091958253231,2.4726359845868524,15,15,6,6,{"$f":"SUMIF(SOLICITUDES!$C$2:$C$1048576,BD!C1361,SOLICITUDES!$I$2:$I$1048576)","v":0},0,{"$f":"SUMIF(SOLICITUDES!$C$2:$C$1048576,BD!C1361,SOLICITUDES!$J$2:$J$1048576)","v":0},0,{"$f":"SUMIF(SOLICITUDES!$C$2:$C$1048576,BD!C1361,SOLICITUDES!$K$2:$K$1048576)","v":0},0]
[null,null,"T2603",15,13200,240,-76.723509636976104,2.4783559105392361,7.5,7.5,3,3,{"$f":"SUMIF(SOLICITUDES!$C$2:$C$1048576,BD!C1362,SOLICITUDES!$I$2:$I$1048576)","v":0},0,{"$f":"SUMIF(SOLICITUDES!$C$2:$C$1048576,BD!C1362,SOLICITUDES!$J$2:$J$1048576)","v":0},0,{"$f":"SUMIF(SOLICITUDES!$C$2:$C$1048576,BD!C1362,SOLICITUDES!$K$2:$K$1048576)","v":0},0]
[null,null,"T2611",5,13200,240,-76.713170810089451,2.4739308716748138,2.5,2.5,1,1,{"$f":"SUMIF(SOLICITUDES!$C$2:$C$1048576,BD!C1363,SOLICITUDES!$I$2:$I$1048576)","v":0},0,{"$f":"SUMIF(SOLICITUDES!$C$2:$C$1048576,BD!C1363,SOLICITUDES!$J$2:$J$1048576)","v":0},0,{"$f":"SUMIF(SOLICITUDES!$C$2:$C$1048576,BD!C1363,SOLICITUDES!$K$2:$K$1048576)","v":0},0]
[null,null,"T3146",5,13200,240,-76.614990092181117,2.4893276177976502,2.5,2.5,1,1,{"$f":"SUMIF(SOLICITUDES!$C$2:$C$1048576,BD!C1364,SOLICITUDES!$I$2:$I$1048576)","v":0},0,{"$f":"SUMIF(SOLICITUDES!$C$2:$C$1048576,BD!C1364,SOLICITUDES!$J$2:$J$1048576)","v":0},0,{"$f":"SUMIF(SOLICITUDES!$C$2:$C$1048576,BD!C1364,SOLICITUDES!$K$2:$K$1048576)","v":0},0]
[null,null,"T2606",25,13200,240,-76.718687616264347,2.4879947904948869,12.5,12.5,5,5,{"$f":"SUMIF(SOLICITUDES!$C$2:$C$1048576,BD!C1365,SOLICITUDES!$I$2:$I$1048576)","v":0},0,{"$f":"SUMIF(SOLICITUDES!$C$2:$C$1048576,BD!C1365,SOLICITUDES!$J$2:$J$1048576)","v":0},0,{"$f":"SUMIF(SOLICITUDES!$C$2:$C$1048576,BD!C1365,SOLICITUDES!$K$2:$K$1048576)","v":0},0]
[null,null,"T4082",15,13200,220,-76.618299755827181,2.4778367244067225,7.5,7.5,3,3,{"$f":"SUMIF(SOLICITUDES!$C$2:$C$1048576,BD!C1366,SOLICITUDES!$I$2:$I$1048576)","v":0},0,{"$f":"SUMIF(SOLICITUDES!$C$2:$C$1048576,BD!C1366,SOLICITUDES!$J$2:$J$1048576)","v":0},0,{"$f":"SUMIF(SOLICITUDES!$C$2:$C$1048576,BD!C1366,SOLICITUDES!$K$2:$K$1048576)","v":0},0]
[null,null,"T4070",15,13200,220,-76.661475998694641,2.4868021580387212,7.5,7.5,3,3,{"$f":"SUMIF(SOLICITUDES!$C$2:$C$1048576,BD!C1367,SOLICITUDES!$I$2:$I$1048576)","v":0},0,{"$f":"SUMIF(SOLICITUDES!$C$2:$C$1048576,BD!C1367,SOLICITUDES!$J$2:$J$1048576)","v":0},0,{"$f":"SUMIF(SOLICITUDES!$C$2:$C$1048576,BD!C1367,SOLICITUDES!$K$2:$K$1048576)","v":0},0]
[null,null,"T30155",45,13200,214,-76.721079251346026,2.4882034432898394,22.5,22.5,9,9,{"$f":"SUMIF(SOLICITUDES!$C$2:$C$1048576,BD!C1368,SOLICITUDES!$I$2:$I$1048576)","v":0},0,{"$f":"SUMIF(SOLICITUDES!$C$2:$C$1048576,BD!C1368,SOLICITUDES!$J$2:$J$1048576)","v":0},0,{"$f":"SUMIF(SOLICITUDES!$C$2:$C$1048576,BD!C1368,SOLICITUDES!$K$2:$K$1048576)","v":0},0]
[null,null,"T2578",25,13200,240,-76.722607351227495,2.4901210944112275,12.5,12.5,5,5,{"$f":"SUMIF(SOLICITUDES!$C$2:$C$1048576,BD!C1369,SOLICITUDES!$I$2:$I$1048576)","v":0},0,{"$f":"SUMIF(SOLICITUDES!$C$2:$C$1048576,BD!C1369,SOLICITUDES!$J$2:$J$1048576)","v":0},0,{"$f":"SUMIF(SOLICITUDES!$C$2:$C$1048576,BD!C1369,SOLICITUDES!$K$2:$K$1048576)","v":0},0]
[null,null,"T31361",15,13200,240,-76.616095184722951,2.4710309151099517,7.5,7.5,3,3,{"$f":"SUMIF(SOLICITUDES!$C$2:$C$1048576,BD!C1370,SOLICITUDES!$I$2:$I$1048576)","v":0},0,{"$f":"SUMIF(SOLICITUDES!$C$2:$C$1048576,BD!C1370,SOLICITUDES!$J$2:$J$1048576)","v":0},0,{"$f":"SUMIF(SOLICITUDES!$C$2:$C$1048576,BD!C1370,SOLICITUDES!$K$2:$K$1048576)","v":0},0]
[null,null,"T2577",5,13200,240,-76.711301936727082,2.4690921652387718,2.5,2.5,1,1,{"$f":"SUMIF(SOLICITUDES!$C$2:$C$1048576,BD!C1371,SOLICITUDES!$I$2:$I$1048576)","v":0},0,{"$f":"SUMIF(SOLICITUDES!$C$2:$C$1048576,BD!C1371,SOLICITUDES!$J$2:$J$1048576)","v":0},0,{"$f":"SUMIF(SOLICITUDES!$C$2:$C$1048576,BD!C1371,SOLICITUDES!$K$2:$K$1048576)","v":0},0]
[null,null,"T2605",5,13200,240,-76.725708315434531,2.4940738822068544,2.5,2.5,1,1,{"$f":"SUMIF(SOLICITUDES!$C$2:$C$1048576,BD!C1372,SOLICITUDES!$I$2:$I$1048576)","v":0},0,{"$f":"SUMIF(SOLICITUDES!$C$2:$C$1048576,BD!C1372,SOLICITUDES!$J$2:$J$1048576)","v":0},0,{"$f":"SUMIF(SOLICITUDES!$C$2:$C$1048576,BD!C1372,SOLICITUDES!$K$2:$K$1048576)","v":0},0]
[null,null,"T4054",37.5,13200,220,-76.659154731955397,2.4915039224657809,18.75,18.75,7.5,7.5,{"$f":"SUMIF(SOLICITUDES!$C$2:$C$1048576,BD!C1373,SOLICITUDES!$I$2:$I$1048576)","v":0},0,{"$f":"SUMIF(SOLICITUDES!$C$2:$C$1048576,BD!C1373,SOLICITUDES!$J$2:$J$1048576)","v":0},0,{"$f":"SUMIF(SOLICITUDES!$C$2:$C$1048576,BD!C1373,SOLICITUDES!$K$2:$K$1048576)","v":0},0]
[null,null,"T2607",15,13200,240,-76.72607102977949,2.4824713832024008,7.5,7.5,3,3,{"$f":"SUMIF(SOLICITUDES!$C$2:$C$1048576,BD!C1374,SOLICITUDES!$I$2:$I$1048576)","v":0},0,{"$f":"SUMIF(SOLICITUDES!$C$2:$C$1048576,BD!C1374,SOLICITUDES!$J$2:$J$1048576)","v":0},0,{"$f":"SUMIF(SOLICITUDES!$C$2:$C$1048576,BD!C1374,SOLICITUDES!$K$2:$K$1048576)","v":0},0]
[null,null,"T29473",5,13200,240,-76.719467518952158,2.4918676783212663,2.5,2.5,1,1,{"$f":"SUMIF(SOLICITUDES!$C$2:$C$1048576,BD!C1375,SOLICITUDES!$I$2:$I$1048576)","v":0},0,{"$f":"SUMIF(SOLICITUDES!$C$2:$C$1048576,BD!C1375,SOLICITUDES!$J$2:$J$1048576)","v":0},0,{"$f":"SUMIF(SOLICITUDES!$C$2:$C$1048576,BD!C1375,SOLICITUDES!$K$2:$K$1048576)","v":0},0]
[null,null,"T43572",25,13200,208,-76.656838020396066,2.4930992072288571,12.5,12.5,5,5,{"$f":"SUMIF(SOLICITUDES!$C$2:$C$1048576,BD!C1376,SOLICITUDES!$I$2:$I$1048576)","v":0},0,{"$f":"SUMIF(SOLICITUDES!$C$2:$C$1048576,BD!C1376,SOLICITUDES!$J$2:$J$1048576)","v":0},0,{"$f":"SUMIF(SOLICITUDES!$C$2:$C$1048576,BD!C1376,SOLICITUDES!$K$2:$K$1048576)","v":0},0]
[null,null,"T42789",0.5,13200,240,-76.639139111179105,2.4563185364422719,0.25,0.25,0.1,0.1,{"$f":"SUMIF(SOLICITUDES!$C$2:$C$1048576,BD!C1377,SOLICITUDES!$I$2:$I$1048576)","v":0},0,{"$f":"SUMIF(SOLICITUDES!$C$2:$C$1048576,BD!C1377,SOLICITUDES!$J$2:$J$1048576)","v":0},0,{"$f":"SUMIF(SOLICITUDES!$C$2:$C$1048576,BD!C1377,SOLICITUDES!$K$2:$K$1048576)","v":0},0]
[null,null,"T3878",75,13200,208,-76.63982615682059,2.4564775856583276,37.5,37.5,15,15,{"$f":"SUMIF(SOLICITUDES!$C$2:$C$1048576,BD!C1378,SOLICITUDES!$I$2:$I$1048576)","v":0},0,{"$f":"SUMIF(SOLICITUDES!$C$2:$C$1048576,BD!C1378,SOLICITUDES!$J$2:$J$1048576)","v":0},0,{"$f":"SUMIF(SOLICITUDES!$C$2:$C$1048576,BD!C1378,SOLICITUDES!$K$2:$K$1048576)","v":0},0]
[null,null,"T1318",25,13200,240,-76.639066254629682,2.4589052201949011,12.5,12.5,5,5,{"$f":"SUMIF(SOLICITUDES!$C$2:$C$1048576,BD!C1379,SOLICITUDES!$I$2:$I$1048576)","v":0},0,{"$f":"SUMIF(SOLICITUDES!$C$2:$C$1048576,BD!C1379,SOLICITUDES!$J$2:$J$1048576)","v":0},0,{"$f":"SUMIF(SOLICITUDES!$C$2:$C$1048576,BD!C1379,SOLICITUDES!$K$2:$K$1048576)","v":0},0]
[null,null,"T1314",112.5,13200,208,-76.63200512080347,2.4521658308027789,56.25,56.25,22.5,22.5,{"$f":"SUMIF(SOLICITUDES!$C$2:$C$1048576,BD!C1380,SOLICITUDES!$I$2:$I$1048576)","v":0},0,{"$f":"SUMIF(SOLICITUDES!$C$2:$C$1048576,BD!C1380,SOLICITUDES!$J$2:$J$1048576)","v":0},0,{"$f":"SUMIF(SOLICITUDES!$C$2:$C$1048576,BD!C1380,SOLICITUDES!$K$2:$K$1048576)","v":0},0]
[null,null,"T1440",75,13200,220,-76.632145326870656,2.4511536588921281,37.5,37.5,15,15,{"$f":"SUMIF(SOLICITUDES!$C$2:$C$1048576,BD!C1381,SOLICITUDES!$I$2:$I$1048576)","v":0},0,{"$f":"SUMIF(SOLICITUDES!$C$2:$C$1048576,BD!C1381,SOLICITUDES!$J$2:$J$1048576)","v":0},0,{"$f":"SUMIF(SOLICITUDES!$C$2:$C$1048576,BD!C1381,SOLICITUDES!$K$2:$K$1048576)","v":0},0]
[null,null,"T1335",112.5,13200,208,-76.632511003728666,2.4522978418875008,56.25,56.25,22.5,22.5,{"$f":"SUMIF(SOLICITUDES!$C$2:$C$1048576,BD!C1382,SOLICITUDES!$I$2:$I$1048576)","v":0},0,{"$f":"SUMIF(SOLICITUDES!$C$2:$C$1048576,BD!C1382,SOLICITUDES!$J$2:$J$1048576)","v":0},0,{"$f":"SUMIF(SOLICITUDES!$C$2:$C$1048576,BD!C1382,SOLICITUDES!$K$2:$K$1048576)","v":0},0]
[null,null,"T3160",15,13200,240,-76.633039601777185,2.4506378719336195,7.5,7.5,3,3,{"$f":"SUMIF(SOLICITUDES!$C$2:$C$1048576,BD!C1383,SOLICITUDES!$I$2:$I$1048576)","v":0},0,{"$f":"SUMIF(SOLICITUDES!$C$2:$C$1048576,BD!C1383,SOLICITUDES!$J$2:$J$1048576)","v":0},0,{"$f":"SUMIF(SOLICITUDES!$C$2:$C$1048576,BD!C1383,SOLICITUDES!$K$2:$K$1048576)","v":0},0]
[null,null,"T1852",75,13200,208,-76.633269546892976,2.4503137798145551,37.5,37.5,15,15,{"$f":"SUMIF(SOLICITUDES!$C$2:$C$1048576,BD!C1384,SOLICITUDES!$I$2:$I$1048576)","v":0},0,{"$f":"SUMIF(SOLICITUDES!$C$2:$C$1048576,BD!C1384,SOLICITUDES!$J$2:$J$1048576)","v":0},0,{"$f":"SUMIF(SOLICITUDES!$C$2:$C$1048576,BD!C1384,SOLICITUDES!$K$2:$K$1048576)","v":0},0]
[null,null,"T1301",112.5,13200,208,-76.633029854273772,2.4528986769854679,56.25,56.25,22.5,22.5,{"$f":"SUMIF(SOLICITUDES!$C$2:$C$1048576,BD!C1385,SOLICITUDES!$I$2:$I$1048576)","v":0},0,{"$f":"SUMIF(SOLICITUDES!$C$2:$C$1048576,BD!C1385,SOLICITUDES!$J$2:$J$1048576)","v":0},0,{"$f":"SUMIF(SOLICITUDES!$C$2:$C$1048576,BD!C1385,SOLICITUDES!$K$2:$K$1048576)","v":0},0]
[null,null,"T29503",150,13200,220,-76.632424433792806,2.451124133500977,75,75,30,30,{"$f":"SUMIF(SOLICITUDES!$C$2:$C$1048576,BD!C1386,SOLICITUDES!$I$2:$I$1048576)","v":0},0,{"$f":"SUMIF(SOLICITUDES!$C$2:$C$1048576,BD!C1386,SOLICITUDES!$J$2:$J$1048576)","v":0},0,{"$f":"SUMIF(SOLICITUDES!$C$2:$C$1048576,BD!C1386,SOLICITUDES!$K$2:$K$1048576)","v":0},0]
[null,null,"T6140",150,13200,208,-76.632227148172959,2.4519778885629031,75,75,30,30,{"$f":"SUMIF(SOLICITUDES!$C$2:$C$1048576,BD!C1387,SOLICITUDES!$I$2:$I$1048576)","v":0},0,{"$f":"SUMIF(SOLICITUDES!$C$2:$C$1048576,BD!C1387,SOLICITUDES!$J$2:$J$1048576)","v":0},0,{"$f":"SUMIF(SOLICITUDES!$C$2:$C$1048576,BD!C1387,SOLICITUDES!$K$2:$K$1048576)","v":0},0]
[null,null,"T1441",75,13200,220,-76.632306372727001,2.4497684547899548,37.5,37.5,15,15,{"$f":"SUMIF(SOLICITUDES!$C$2:$C$1048576,BD!C1388,SOLICITUDES!$I$2:$I$1048576)","v":0},0,{"$f":"SUMIF(SOLICITUDES!$C$2:$C$1048576,BD!C1388,SOLICITUDES!$J$2:$J$1048576)","v":0},0,{"$f":"SUMIF(SOLICITUDES!$C$2:$C$1048576,BD!C1388,SOLICITUDES!$K$2:$K$1048576)","v":0},0]
[null,null,"T1853",75,13200,208,-76.634019591473063,2.4507467198263981,37.5,37.5,15,15,{"$f":"SUMIF(SOLICITUDES!$C$2:$C$1048576,BD!C1389,SOLICITUDES!$I$2:$I$1048576)","v":0},0,{"$f":"SUMIF(SOLICITUDES!$C$2:$C$1048576,BD!C1389,SOLICITUDES!$J$2:$J$1048576)","v":0},0,{"$f":"SUMIF(SOLICITUDES!$C$2:$C$1048576,BD!C1389,SOLICITUDES!$K$2:$K$1048576)","v":0},0]
[null,null,"T1850",75,13200,208,-76.634253266624185,2.4510000116253163,37.5,37.5,15,15,{"$f":"SUMIF(SOLICITUDES!$C$2:$C$1048576,BD!C1390,SOLICITUDES!$I$2:$I$1048576)","v":0},0,{"$f":"SUMIF(SOLICITUDES!$C$2:$C$1048576,BD!C1390,SOLICITUDES!$J$2:$J$1048576)","v":0},0,{"$f":"SUMIF(SOLICITUDES!$C$2:$C$1048576,BD!C1390,SOLICITUDES!$K$2:$K$1048576)","v":0},0]
[null,null,"T41989",0.5,13200,208,-76.631707909265074,2.449206693183084,0.25,0.25,0.1,0.1,{"$f":"SUMIF(SOLICITUDES!$C$2:$C$1048576,BD!C1391,SOLICITUDES!$I$2:$I$1048576)","v":0},0,{"$f":"SUMIF(SOLICITUDES!$C$2:$C$1048576,BD!C1391,SOLICITUDES!$J$2:$J$1048576)","v":0},0,{"$f":"SUMIF(SOLICITUDES!$C$2:$C$1048576,BD!C1391,SOLICITUDES!$K$2:$K$1048576)","v":0},0]
[null,null,"T1348",75,13200,208,-76.632239798224774,2.449416763624785,37.5,37.5,15,15,{"$f":"SUMIF(SOLICITUDES!$C$2:$C$1048576,BD!C1392,SOLICITUDES!$I$2:$I$1048576)","v":0},0,{"$f":"SUMIF(SOLICITUDES!$C$2:$C$1048576,BD!C1392,SOLICITUDES!$J$2:$J$1048576)","v":0},0,{"$f":"SUMIF(SOLICITUDES!$C$2:$C$1048576,BD!C1392,SOLICITUDES!$K$2:$K$1048576)","v":0},0]
[null,null,"T1828",45,13200,214,-76.634351906204415,2.4518048937944514,22.5,22.5,9,9,{"$f":"SUMIF(SOLICITUDES!$C$2:$C$1048576,BD!C1393,SOLICITUDES!$I$2:$I$1048576)","v":0},0,{"$f":"SUMIF(SOLICITUDES!$C$2:$C$1048576,BD!C1393,SOLICITUDES!$J$2:$J$1048576)","v":0},0,{"$f":"SUMIF(SOLICITUDES!$C$2:$C$1048576,BD!C1393,SOLICITUDES!$K$2:$K$1048576)","v":0},0]
[null,null,"T1848",112.5,13200,208,-76.633866453408857,2.4516148174197898,56.25,56.25,22.5,22.5,{"$f":"SUMIF(SOLICITUDES!$C$2:$C$1048576,BD!C1394,SOLICITUDES!$I$2:$I$1048576)","v":0},0,{"$f":"SUMIF(SOLICITUDES!$C$2:$C$1048576,BD!C1394,SOLICITUDES!$J$2:$J$1048576)","v":0},0,{"$f":"SUMIF(SOLICITUDES!$C$2:$C$1048576,BD!C1394,SOLICITUDES!$K$2:$K$1048576)","v":0},0]
[null,null,"T1858",112.5,13200,208,-76.635035255953994,2.4517056438286833,56.25,56.25,22.5,22.5,{"$f":"SUMIF(SOLICITUDES!$C$2:$C$1048576,BD!C1395,SOLICITUDES!$I$2:$I$1048576)","v":0},0,{"$f":"SUMIF(SOLICITUDES!$C$2:$C$1048576,BD!C1395,SOLICITUDES!$J$2:$J$1048576)","v":0},0,{"$f":"SUMIF(SOLICITUDES!$C$2:$C$1048576,BD!C1395,SOLICITUDES!$K$2:$K$1048576)","v":0},0]
[null,null,"T18842",45,13200,220,-76.631162684350954,2.4494631642527978,22.5,22.5,9,9,{"$f":"SUMIF(SOLICITUDES!$C$2:$C$1048576,BD!C1396,SOLICITUDES!$I$2:$I$1048576)","v":0},0,{"$f":"SUMIF(SOLICITUDES!$C$2:$C$1048576,BD!C1396,SOLICITUDES!$J$2:$J$1048576)","v":0},0,{"$f":"SUMIF(SOLICITUDES!$C$2:$C$1048576,BD!C1396,SOLICITUDES!$K$2:$K$1048576)","v":0},0]
[null,null,"T31349",15,13200,240,-76.634240302555213,2.4526830328424469,7.5,7.5,3,3,{"$f":"SUMIF(SOLICITUDES!$C$2:$C$1048576,BD!C1397,SOLICITUDES!$I$2:$I$1048576)","v":0},0,{"$f":"SUMIF(SOLICITUDES!$C$2:$C$1048576,BD!C1397,SOLICITUDES!$J$2:$J$1048576)","v":0},0,{"$f":"SUMIF(SOLICITUDES!$C$2:$C$1048576,BD!C1397,SOLICITUDES!$K$2:$K$1048576)","v":0},0]
[null,null,"T1829",75,13200,208,-76.634495656007104,2.4521214552804493,37.5,37.5,15,15,{"$f":"SUMIF(SOLICITUDES!$C$2:$C$1048576,BD!C1398,SOLICITUDES!$I$2:$I$1048576)","v":0},0,{"$f":"SUMIF(SOLICITUDES!$C$2:$C$1048576,BD!C1398,SOLICITUDES!$J$2:$J$1048576)","v":0},0,{"$f":"SUMIF(SOLICITUDES!$C$2:$C$1048576,BD!C1398,SOLICITUDES!$K$2:$K$1048576)","v":0},0]
[null,null,"T1827",75,13200,208,-76.635410844975723,2.4529027886218473,37.5,37.5,15,15,{"$f":"SUMIF(SOLICITUDES!$C$2:$C$1048576,BD!C1399,SOLICITUDES!$I$2:$I$1048576)","v":0},0,{"$f":"SUMIF(SOLICITUDES!$C$2:$C$1048576,BD!C1399,SOLICITUDES!$J$2:$J$1048576)","v":0},0,{"$f":"SUMIF(SOLICITUDES!$C$2:$C$1048576,BD!C1399,SOLICITUDES!$K$2:$K$1048576)","v":0},0]
[null,null,"T2951",75,13200,208,-76.634639002315254,2.4536678998629813,37.5,37.5,15,15,{"$f":"SUMIF(SOLICITUDES!$C$2:$C$1048576,BD!C1400,SOLICITUDES!$I$2:$I$1048576)","v":0},0,{"$f":"SUMIF(SOLICITUDES!$C$2:$C$1048576,BD!C1400,SOLICITUDES!$J$2:$J$1048576)","v":0},0,{"$f":"SUMIF(SOLICITUDES!$C$2:$C$1048576,BD!C1400,SOLICITUDES!$K$2:$K$1048576)","v":0},0]
[null,null,"T1358",30,13200,208,-76.634369308201542,2.4535411978244572,15,15,6,6,{"$f":"SUMIF(SOLICITUDES!$C$2:$C$1048576,BD!C1401,SOLICITUDES!$I$2:$I$1048576)","v":0},0,{"$f":"SUMIF(SOLICITUDES!$C$2:$C$1048576,BD!C1401,SOLICITUDES!$J$2:$J$1048576)","v":0},0,{"$f":"SUMIF(SOLICITUDES!$C$2:$C$1048576,BD!C1401,SOLICITUDES!$K$2:$K$1048576)","v":0},0]
[null,null,"T1859",75,13200,208,-76.63526093584052,2.4542808512116729,37.5,37.5,15,15,{"$f":"SUMIF(SOLICITUDES!$C$2:$C$1048576,BD!C1402,SOLICITUDES!$I$2:$I$1048576)","v":0},0,{"$f":"SUMIF(SOLICITUDES!$C$2:$C$1048576,BD!C1402,SOLICITUDES!$J$2:$J$1048576)","v":0},0,{"$f":"SUMIF(SOLICITUDES!$C$2:$C$1048576,BD!C1402,SOLICITUDES!$K$2:$K$1048576)","v":0},0]
[null,null,"T1855",75,13200,208,-76.634063625946538,2.4535139636658223,37.5,37.5,15,15,{"$f":"SUMIF(SOLICITUDES!$C$2:$C$1048576,BD!C1403,SOLICITUDES!$I$2:$I$1048576)","v":0},0,{"$f":"SUMIF(SOLICITUDES!$C$2:$C$1048576,BD!C1403,SOLICITUDES!$J$2:$J$1048576)","v":0},0,{"$f":"SUMIF(SOLICITUDES!$C$2:$C$1048576,BD!C1403,SOLICITUDES!$K$2:$K$1048576)","v":0},0]
[null,null,"T1317",25,13200,240,-76.634845108055515,2.4473605248897683,12.5,12.5,5,5,{"$f":"SUMIF(SOLICITUDES!$C$2:$C$1048576,BD!C1404,SOLICITUDES!$I$2:$I$1048576)","v":0},0,{"$f":"SUMIF(SOLICITUDES!$C$2:$C$1048576,BD!C1404,SOLICITUDES!$J$2:$J$1048576)","v":0},0,{"$f":"SUMIF(SOLICITUDES!$C$2:$C$1048576,BD!C1404,SOLICITUDES!$K$2:$K$1048576)","v":0},0]
[null,null,"T1849",75,13200,208,-76.635875663639297,2.4535888049378172,37.5,37.5,15,15,{"$f":"SUMIF(SOLICITUDES!$C$2:$C$1048576,BD!C1405,SOLICITUDES!$I$2:$I$1048576)","v":0},0,{"$f":"SUMIF(SOLICITUDES!$C$2:$C$1048576,BD!C1405,SOLICITUDES!$J$2:$J$1048576)","v":0},0,{"$f":"SUMIF(SOLICITUDES!$C$2:$C$1048576,BD!C1405,SOLICITUDES!$K$2:$K$1048576)","v":0},0]
[null,null,"T28711",0.5,13200,240,-76.634782413994998,2.4550153881190986,0.25,0.25,0.1,0.1,{"$f":"SUMIF(SOLICITUDES!$C$2:$C$1048576,BD!C1406,SOLICITUDES!$I$2:$I$1048576)","v":0},0,{"$f":"SUMIF(SOLICITUDES!$C$2:$C$1048576,BD!C1406,SOLICITUDES!$J$2:$J$1048576)","v":0},0,{"$f":"SUMIF(SOLICITUDES!$C$2:$C$1048576,BD!C1406,SOLICITUDES!$K$2:$K$1048576)","v":0},0]
[null,null,"T1857",112.5,13200,208,-76.63358708540035,2.453540937738846,56.25,56.25,22.5,22.5,{"$f":"SUMIF(SOLICITUDES!$C$2:$C$1048576,BD!C1407,SOLICITUDES!$I$2:$I$1048576)","v":0},0,{"$f":"SUMIF(SOLICITUDES!$C$2:$C$1048576,BD!C1407,SOLICITUDES!$J$2:$J$1048576)","v":0},0,{"$f":"SUMIF(SOLICITUDES!$C$2:$C$1048576,BD!C1407,SOLICITUDES!$K$2:$K$1048576)","v":0},0]
[null,null,"T1330",25,13200,240,-76.636318971779318,2.4464227476730085,12.5,12.5,5,5,{"$f":"SUMIF(SOLICITUDES!$C$2:$C$1048576,BD!C1408,SOLICITUDES!$I$2:$I$1048576)","v":0},0,{"$f":"SUMIF(SOLICITUDES!$C$2:$C$1048576,BD!C1408,SOLICITUDES!$J$2:$J$1048576)","v":0},0,{"$f":"SUMIF(SOLICITUDES!$C$2:$C$1048576,BD!C1408,SOLICITUDES!$K$2:$K$1048576)","v":0},0]
[null,null,"T1331",45,13200,208,-76.636072131634151,2.4480281901735546,22.5,22.5,9,9,{"$f":"SUMIF(SOLICITUDES!$C$2:$C$1048576,BD!C1409,SOLICITUDES!$I$2:$I$1048576)","v":0},0,{"$f":"SUMIF(SOLICITUDES!$C$2:$C$1048576,BD!C1409,SOLICITUDES!$J$2:$J$1048576)","v":0},0,{"$f":"SUMIF(SOLICITUDES!$C$2:$C$1048576,BD!C1409,SOLICITUDES!$K$2:$K$1048576)","v":0},0]
[null,null,"T5775",75,13200,208,-76.63610793408067,2.448198172112535,37.5,37.5,15,15,{"$f":"SUMIF(SOLICITUDES!$C$2:$C$1048576,BD!C1410,SOLICITUDES!$I$2:$I$1048576)","v":0},0,{"$f":"SUMIF(SOLICITUDES!$C$2:$C$1048576,BD!C1410,SOLICITUDES!$J$2:$J$1048576)","v":0},0,{"$f":"SUMIF(SOLICITUDES!$C$2:$C$1048576,BD!C1410,SOLICITUDES!$K$2:$K$1048576)","v":0},0]
[null,null,"T1306",37.5,13200,240,-76.636648965595299,2.448355940176818,18.75,{"$f":"D1411*0.5-M1411","v":18.75},7.5,7.5,{"$f":"SUMIF(SOLICITUDES!$C$2:$C$1048576,BD!C1411,SOLICITUDES!$I$2:$I$1048576)","v":0},{"$f":"M1411/D1411","v":0},{"$f":"SUMIF(SOLICITUDES!$C$2:$C$1048576,BD!C1411,SOLICITUDES!$J$2:$J$1048576)","v":0},0,{"$f":"SUMIF(SOLICITUDES!$C$2:$C$1048576,BD!C1411,SOLICITUDES!$K$2:$K$1048576)","v":0},0]
[null,null,"T1356",25,13200,240,-76.636466901454142,2.4442244659902483,{"$f":"D1412*0.5","v":12.5},12.5,{"$f":"0.2*D1412","v":5},{"$f":"0.2*D1412","v":5},{"$f":"SUMIF(SOLICITUDES!$C$2:$C$1048576,BD!C1412,SOLICITUDES!$I$2:$I$1048576)","v":0},0,{"$f":"SUMIF(SOLICITUDES!$C$2:$C$1048576,BD!C1412,SOLICITUDES!$J$2:$J$1048576)","v":0},{"$f":"O1412/(2*K1412)","v":0},{"$f":"SUMIF(SOLICITUDES!$C$2:$C$1048576,BD!C1412,SOLICITUDES!$K$2:$K$1048576)","v":0},{"$f":"Q1412/(2*L1412)","v":0}]
[null,null,"T1303",75,13200,208,-76.635921714034154,2.4473654989554308,37.5,37.5,15,15,{"$f":"SUMIF(SOLICITUDES!$C$2:$C$1048576,BD!C1413,SOLICITUDES!$I$2:$I$1048576)","v":0},0,{"$f":"SUMIF(SOLICITUDES!$C$2:$C$1048576,BD!C1413,SOLICITUDES!$J$2:$J$1048576)","v":0},0,{"$f":"SUMIF(SOLICITUDES!$C$2:$C$1048576,BD!C1413,SOLICITUDES!$K$2:$K$1048576)","v":0},0]
[null,null,"T2254",25,13200,240,-76.636289443131005,2.4382497042415379,12.5,12.5,5,5,{"$f":"SUMIF(SOLICITUDES!$C$2:$C$1048576,BD!C1414,SOLICITUDES!$I$2:$I$1048576)","v":0},0,{"$f":"SUMIF(SOLICITUDES!$C$2:$C$1048576,BD!C1414,SOLICITUDES!$J$2:$J$1048576)","v":0},0,{"$f":"SUMIF(SOLICITUDES!$C$2:$C$1048576,BD!C1414,SOLICITUDES!$K$2:$K$1048576)","v":0},0]
[null,null,"T1321",30,13200,208,-76.636357368491076,2.4504129046028247,15,15,6,6,{"$f":"SUMIF(SOLICITUDES!$C$2:$C$1048576,BD!C1415,SOLICITUDES!$I$2:$I$1048576)","v":0},0,{"$f":"SUMIF(SOLICITUDES!$C$2:$C$1048576,BD!C1415,SOLICITUDES!$J$2:$J$1048576)","v":0},0,{"$f":"SUMIF(SOLICITUDES!$C$2:$C$1048576,BD!C1415,SOLICITUDES!$K$2:$K$1048576)","v":0},0]
[null,null,"T1319",75,13200,208,-76.638962536106149,2.4572142984162748,37.5,37.5,15,15,{"$f":"SUMIF(SOLICITUDES!$C$2:$C$1048576,BD!C1416,SOLICITUDES!$I$2:$I$1048576)","v":0},0,{"$f":"SUMIF(SOLICITUDES!$C$2:$C$1048576,BD!C1416,SOLICITUDES!$J$2:$J$1048576)","v":0},0,{"$f":"SUMIF(SOLICITUDES!$C$2:$C$1048576,BD!C1416,SOLICITUDES!$K$2:$K$1048576)","v":0},0]
[null,null,"T3232",37.5,13200,240,-76.673696663612404,2.4524143781736516,18.75,18.75,7.5,7.5,{"$f":"SUMIF(SOLICITUDES!$C$2:$C$1048576,BD!C1417,SOLICITUDES!$I$2:$I$1048576)","v":0},0,{"$f":"SUMIF(SOLICITUDES!$C$2:$C$1048576,BD!C1417,SOLICITUDES!$J$2:$J$1048576)","v":0},0,{"$f":"SUMIF(SOLICITUDES!$C$2:$C$1048576,BD!C1417,SOLICITUDES!$K$2:$K$1048576)","v":0},0]
[null,null,"T3237",15,13200,240,-76.673550271674372,2.4459398291787284,7.5,7.5,3,3,{"$f":"SUMIF(SOLICITUDES!$C$2:$C$1048576,BD!C1418,SOLICITUDES!$I$2:$I$1048576)","v":0},0,{"$f":"SUMIF(SOLICITUDES!$C$2:$C$1048576,BD!C1418,SOLICITUDES!$J$2:$J$1048576)","v":0},0,{"$f":"SUMIF(SOLICITUDES!$C$2:$C$1048576,BD!C1418,SOLICITUDES!$K$2:$K$1048576)","v":0},0]
[null,null,"T28307",75,13200,226,-76.640493024803845,2.457475310603396,37.5,37.5,15,15,{"$f":"SUMIF(SOLICITUDES!$C$2:$C$1048576,BD!C1419,SOLICITUDES!$I$2:$I$1048576)","v":0},0,{"$f":"SUMIF(SOLICITUDES!$C$2:$C$1048576,BD!C1419,SOLICITUDES!$J$2:$J$1048576)","v":0},0,{"$f":"SUMIF(SOLICITUDES!$C$2:$C$1048576,BD!C1419,SOLICITUDES!$K$2:$K$1048576)","v":0},0]
[null,null,"T19588",50,13200,240,-76.639705334508861,2.4503319363522809,25,25,10,10,{"$f":"SUMIF(SOLICITUDES!$C$2:$C$1048576,BD!C1420,SOLICITUDES!$I$2:$I$1048576)","v":0},0,{"$f":"SUMIF(SOLICITUDES!$C$2:$C$1048576,BD!C1420,SOLICITUDES!$J$2:$J$1048576)","v":0},0,{"$f":"SUMIF(SOLICITUDES!$C$2:$C$1048576,BD!C1420,SOLICITUDES!$K$2:$K$1048576)","v":0},0]
[null,null,"T10036",50,13200,240,-76.641046080524291,2.4505996346505077,25,25,10,10,{"$f":"SUMIF(SOLICITUDES!$C$2:$C$1048576,BD!C1421,SOLICITUDES!$I$2:$I$1048576)","v":0},0,{"$f":"SUMIF(SOLICITUDES!$C$2:$C$1048576,BD!C1421,SOLICITUDES!$J$2:$J$1048576)","v":0},0,{"$f":"SUMIF(SOLICITUDES!$C$2:$C$1048576,BD!C1421,SOLICITUDES!$K$2:$K$1048576)","v":0},0]
[null,null,"T13051",225,13200,440,-76.645330105923478,2.4531771913523248,112.5,112.5,45,45,{"$f":"SUMIF(SOLICITUDES!$C$2:$C$1048576,BD!C1422,SOLICITUDES!$I$2:$I$1048576)","v":0},0,{"$f":"SUMIF(SOLICITUDES!$C$2:$C$1048576,BD!C1422,SOLICITUDES!$J$2:$J$1048576)","v":0},0,{"$f":"SUMIF(SOLICITUDES!$C$2:$C$1048576,BD!C1422,SOLICITUDES!$K$2:$K$1048576)","v":0},0]
[null,null,"T43481",15,13200,240,-76.67357218825002,2.4459079331829288,7.5,7.5,3,3,{"$f":"SUMIF(SOLICITUDES!$C$2:$C$1048576,BD!C1423,SOLICITUDES!$I$2:$I$1048576)","v":0},0,{"$f":"SUMIF(SOLICITUDES!$C$2:$C$1048576,BD!C1423,SOLICITUDES!$J$2:$J$1048576)","v":0},0,{"$f":"SUMIF(SOLICITUDES!$C$2:$C$1048576,BD!C1423,SOLICITUDES!$K$2:$K$1048576)","v":0},0]
[null,null,"T45264",37.5,13200,240,-76.639443896956649,2.4506277342329472,18.75,18.75,7.5,7.5,{"$f":"SUMIF(SOLICITUDES!$C$2:$C$1048576,BD!C1424,SOLICITUDES!$I$2:$I$1048576)","v":0},0,{"$f":"SUMIF(SOLICITUDES!$C$2:$C$1048576,BD!C1424,SOLICITUDES!$J$2:$J$1048576)","v":0},0,{"$f":"SUMIF(SOLICITUDES!$C$2:$C$1048576,BD!C1424,SOLICITUDES!$K$2:$K$1048576)","v":0},0]
[null,null,"T40163",10,13200,220,-76.644569119622403,2.4529076890327093,5,5,2,2,{"$f":"SUMIF(SOLICITUDES!$C$2:$C$1048576,BD!C1425,SOLICITUDES!$I$2:$I$1048576)","v":0},0,{"$f":"SUMIF(SOLICITUDES!$C$2:$C$1048576,BD!C1425,SOLICITUDES!$J$2:$J$1048576)","v":0},0,{"$f":"SUMIF(SOLICITUDES!$C$2:$C$1048576,BD!C1425,SOLICITUDES!$K$2:$K$1048576)","v":0},0]
[null,null,"T2240",75,13200,208,-76.645723661571282,2.4577772107405593,37.5,37.5,15,15,{"$f":"SUMIF(SOLICITUDES!$C$2:$C$1048576,BD!C1426,SOLICITUDES!$I$2:$I$1048576)","v":0},0,{"$f":"SUMIF(SOLICITUDES!$C$2:$C$1048576,BD!C1426,SOLICITUDES!$J$2:$J$1048576)","v":0},0,{"$f":"SUMIF(SOLICITUDES!$C$2:$C$1048576,BD!C1426,SOLICITUDES!$K$2:$K$1048576)","v":0},0]
[null,null,"T23473",30,13200,208,-76.639234452210218,2.4597502026818394,15,15,6,6,{"$f":"SUMIF(SOLICITUDES!$C$2:$C$1048576,BD!C1427,SOLICITUDES!$I$2:$I$1048576)","v":0},0,{"$f":"SUMIF(SOLICITUDES!$C$2:$C$1048576,BD!C1427,SOLICITUDES!$J$2:$J$1048576)","v":0},0,{"$f":"SUMIF(SOLICITUDES!$C$2:$C$1048576,BD!C1427,SOLICITUDES!$K$2:$K$1048576)","v":0},0]
[null,null,"T45141",112.5,13200,208,-76.647800590619937,2.4533581309023149,56.25,56.25,22.5,22.5,{"$f":"SUMIF(SOLICITUDES!$C$2:$C$1048576,BD!C1428,SOLICITUDES!$I$2:$I$1048576)","v":0},0,{"$f":"SUMIF(SOLICITUDES!$C$2:$C$1048576,BD!C1428,SOLICITUDES!$J$2:$J$1048576)","v":0},0,{"$f":"SUMIF(SOLICITUDES!$C$2:$C$1048576,BD!C1428,SOLICITUDES!$K$2:$K$1048576)","v":0},0]
[null,null,"T19589",50,13200,240,-76.640023879561753,2.4498697866405368,25,25,10,10,{"$f":"SUMIF(SOLICITUDES!$C$2:$C$1048576,BD!C1429,SOLICITUDES!$I$2:$I$1048576)","v":0},0,{"$f":"SUMIF(SOLICITUDES!$C$2:$C$1048576,BD!C1429,SOLICITUDES!$J$2:$J$1048576)","v":0},0,{"$f":"SUMIF(SOLICITUDES!$C$2:$C$1048576,BD!C1429,SOLICITUDES!$K$2:$K$1048576)","v":0},0]
[null,null,"T29279",75,13200,226,-76.640589354791075,2.4579960839617137,37.5,37.5,15,15,{"$f":"SUMIF(SOLICITUDES!$C$2:$C$1048576,BD!C1430,SOLICITUDES!$I$2:$I$1048576)","v":0},0,{"$f":"SUMIF(SOLICITUDES!$C$2:$C$1048576,BD!C1430,SOLICITUDES!$J$2:$J$1048576)","v":0},0,{"$f":"SUMIF(SOLICITUDES!$C$2:$C$1048576,BD!C1430,SOLICITUDES!$K$2:$K$1048576)","v":0},0]
[null,null,"T3233",15,13200,240,-76.678936705954968,2.4583212415207849,7.5,7.5,3,3,{"$f":"SUMIF(SOLICITUDES!$C$2:$C$1048576,BD!C1431,SOLICITUDES!$I$2:$I$1048576)","v":0},0,{"$f":"SUMIF(SOLICITUDES!$C$2:$C$1048576,BD!C1431,SOLICITUDES!$J$2:$J$1048576)","v":0},0,{"$f":"SUMIF(SOLICITUDES!$C$2:$C$1048576,BD!C1431,SOLICITUDES!$K$2:$K$1048576)","v":0},0]
[null,null,"T31291",500,13200,440,-76.644518958993558,2.4529382544467846,250,250,100,100,{"$f":"SUMIF(SOLICITUDES!$C$2:$C$1048576,BD!C1432,SOLICITUDES!$I$2:$I$1048576)","v":0},0,{"$f":"SUMIF(SOLICITUDES!$C$2:$C$1048576,BD!C1432,SOLICITUDES!$J$2:$J$1048576)","v":0},0,{"$f":"SUMIF(SOLICITUDES!$C$2:$C$1048576,BD!C1432,SOLICITUDES!$K$2:$K$1048576)","v":0},0]
[null,null,"T43733",10,13200,240,-76.639058800588742,2.4600980673298283,5,5,2,2,{"$f":"SUMIF(SOLICITUDES!$C$2:$C$1048576,BD!C1433,SOLICITUDES!$I$2:$I$1048576)","v":0},0,{"$f":"SUMIF(SOLICITUDES!$C$2:$C$1048576,BD!C1433,SOLICITUDES!$J$2:$J$1048576)","v":0},0,{"$f":"SUMIF(SOLICITUDES!$C$2:$C$1048576,BD!C1433,SOLICITUDES!$K$2:$K$1048576)","v":0},0]
[null,null,"T3235",25,13200,220,-76.686282693238695,2.4576090298161857,12.5,12.5,5,5,{"$f":"SUMIF(SOLICITUDES!$C$2:$C$1048576,BD!C1434,SOLICITUDES!$I$2:$I$1048576)","v":0},0,{"$f":"SUMIF(SOLICITUDES!$C$2:$C$1048576,BD!C1434,SOLICITUDES!$J$2:$J$1048576)","v":0},0,{"$f":"SUMIF(SOLICITUDES!$C$2:$C$1048576,BD!C1434,SOLICITUDES!$K$2:$K$1048576)","v":0},0]
[null,null,"T2239",75,13200,208,-76.644239924666934,2.4584007107169925,37.5,37.5,15,15,{"$f":"SUMIF(SOLICITUDES!$C$2:$C$1048576,BD!C1435,SOLICITUDES!$I$2:$I$1048576)","v":0},0,{"$f":"SUMIF(SOLICITUDES!$C$2:$C$1048576,BD!C1435,SOLICITUDES!$J$2:$J$1048576)","v":0},0,{"$f":"SUMIF(SOLICITUDES!$C$2:$C$1048576,BD!C1435,SOLICITUDES!$K$2:$K$1048576)","v":0},0]
[null,null,"T20807",45,13200,213,-76.639240995812528,2.4603154091404433,22.5,22.5,9,9,{"$f":"SUMIF(SOLICITUDES!$C$2:$C$1048576,BD!C1436,SOLICITUDES!$I$2:$I$1048576)","v":0},0,{"$f":"SUMIF(SOLICITUDES!$C$2:$C$1048576,BD!C1436,SOLICITUDES!$J$2:$J$1048576)","v":0},0,{"$f":"SUMIF(SOLICITUDES!$C$2:$C$1048576,BD!C1436,SOLICITUDES!$K$2:$K$1048576)","v":0},0]
[null,null,"T10037",50,13200,240,-76.642132325815837,2.4504951375323984,25,25,10,10,{"$f":"SUMIF(SOLICITUDES!$C$2:$C$1048576,BD!C1437,SOLICITUDES!$I$2:$I$1048576)","v":0},0,{"$f":"SUMIF(SOLICITUDES!$C$2:$C$1048576,BD!C1437,SOLICITUDES!$J$2:$J$1048576)","v":0},0,{"$f":"SUMIF(SOLICITUDES!$C$2:$C$1048576,BD!C1437,SOLICITUDES!$K$2:$K$1048576)","v":0},0]
[null,null,"T41524",75,13200,213,-76.640563920180568,2.4589323090221811,37.5,37.5,15,15,{"$f":"SUMIF(SOLICITUDES!$C$2:$C$1048576,BD!C1438,SOLICITUDES!$I$2:$I$1048576)","v":0},0,{"$f":"SUMIF(SOLICITUDES!$C$2:$C$1048576,BD!C1438,SOLICITUDES!$J$2:$J$1048576)","v":0},0,{"$f":"SUMIF(SOLICITUDES!$C$2:$C$1048576,BD!C1438,SOLICITUDES!$K$2:$K$1048576)","v":0},0]
[null,null,"T31301",30,13200,240,-76.644249395712379,2.4569266592916441,15,15,6,6,{"$f":"SUMIF(SOLICITUDES!$C$2:$C$1048576,BD!C1439,SOLICITUDES!$I$2:$I$1048576)","v":0},0,{"$f":"SUMIF(SOLICITUDES!$C$2:$C$1048576,BD!C1439,SOLICITUDES!$J$2:$J$1048576)","v":0},0,{"$f":"SUMIF(SOLICITUDES!$C$2:$C$1048576,BD!C1439,SOLICITUDES!$K$2:$K$1048576)","v":0},0]
[null,null,"T2241",112.5,13200,208,-76.644374531390753,2.4592146498220302,56.25,56.25,22.5,22.5,{"$f":"SUMIF(SOLICITUDES!$C$2:$C$1048576,BD!C1440,SOLICITUDES!$I$2:$I$1048576)","v":0},0,{"$f":"SUMIF(SOLICITUDES!$C$2:$C$1048576,BD!C1440,SOLICITUDES!$J$2:$J$1048576)","v":0},0,{"$f":"SUMIF(SOLICITUDES!$C$2:$C$1048576,BD!C1440,SOLICITUDES!$K$2:$K$1048576)","v":0},0]
[null,null,"T23437",30,13200,208,-76.639241628715254,2.4608335246991655,15,15,6,6,{"$f":"SUMIF(SOLICITUDES!$C$2:$C$1048576,BD!C1441,SOLICITUDES!$I$2:$I$1048576)","v":0},0,{"$f":"SUMIF(SOLICITUDES!$C$2:$C$1048576,BD!C1441,SOLICITUDES!$J$2:$J$1048576)","v":0},0,{"$f":"SUMIF(SOLICITUDES!$C$2:$C$1048576,BD!C1441,SOLICITUDES!$K$2:$K$1048576)","v":0},0]
[null,null,"T3234",10,13200,240,-76.691888741384133,2.4632402476914068,5,5,2,2,{"$f":"SUMIF(SOLICITUDES!$C$2:$C$1048576,BD!C1442,SOLICITUDES!$I$2:$I$1048576)","v":0},0,{"$f":"SUMIF(SOLICITUDES!$C$2:$C$1048576,BD!C1442,SOLICITUDES!$J$2:$J$1048576)","v":0},0,{"$f":"SUMIF(SOLICITUDES!$C$2:$C$1048576,BD!C1442,SOLICITUDES!$K$2:$K$1048576)","v":0},0]
[null,null,"T2238",112.5,13200,208,-76.644869756604407,2.4570082586836901,56.25,56.25,22.5,22.5,{"$f":"SUMIF(SOLICITUDES!$C$2:$C$1048576,BD!C1443,SOLICITUDES!$I$2:$I$1048576)","v":0},0,{"$f":"SUMIF(SOLICITUDES!$C$2:$C$1048576,BD!C1443,SOLICITUDES!$J$2:$J$1048576)","v":0},0,{"$f":"SUMIF(SOLICITUDES!$C$2:$C$1048576,BD!C1443,SOLICITUDES!$K$2:$K$1048576)","v":0},0]
[null,null,"T2255",15,13200,240,-76.64914989676565,2.4558340308837643,7.5,7.5,3,3,{"$f":"SUMIF(SOLICITUDES!$C$2:$C$1048576,BD!C1444,SOLICITUDES!$I$2:$I$1048576)","v":0},0,{"$f":"SUMIF(SOLICITUDES!$C$2:$C$1048576,BD!C1444,SOLICITUDES!$J$2:$J$1048576)","v":0},0,{"$f":"SUMIF(SOLICITUDES!$C$2:$C$1048576,BD!C1444,SOLICITUDES!$K$2:$K$1048576)","v":0},0]
[null,null,"T4974",45,13200,220,-76.644348519626575,2.4562394092728579,22.5,22.5,9,9,{"$f":"SUMIF(SOLICITUDES!$C$2:$C$1048576,BD!C1445,SOLICITUDES!$I$2:$I$1048576)","v":0},0,{"$f":"SUMIF(SOLICITUDES!$C$2:$C$1048576,BD!C1445,SOLICITUDES!$J$2:$J$1048576)","v":0},0,{"$f":"SUMIF(SOLICITUDES!$C$2:$C$1048576,BD!C1445,SOLICITUDES!$K$2:$K$1048576)","v":0},0]
[null,null,"T40022",75,13200,214,-76.640414071956556,2.4597862661130772,37.5,37.5,15,15,{"$f":"SUMIF(SOLICITUDES!$C$2:$C$1048576,BD!C1446,SOLICITUDES!$I$2:$I$1048576)","v":0},0,{"$f":"SUMIF(SOLICITUDES!$C$2:$C$1048576,BD!C1446,SOLICITUDES!$J$2:$J$1048576)","v":0},0,{"$f":"SUMIF(SOLICITUDES!$C$2:$C$1048576,BD!C1446,SOLICITUDES!$K$2:$K$1048576)","v":0},0]
[null,null,"T2232",112.5,13200,208,-76.644086701230165,2.4595581947906546,56.25,56.25,22.5,22.5,{"$f":"SUMIF(SOLICITUDES!$C$2:$C$1048576,BD!C1447,SOLICITUDES!$I$2:$I$1048576)","v":0},0,{"$f":"SUMIF(SOLICITUDES!$C$2:$C$1048576,BD!C1447,SOLICITUDES!$J$2:$J$1048576)","v":0},0,{"$f":"SUMIF(SOLICITUDES!$C$2:$C$1048576,BD!C1447,SOLICITUDES!$K$2:$K$1048576)","v":0},0]
[null,null,"T23471",45,13200,213,-76.639246524552746,2.4613597559866229,22.5,22.5,9,9,{"$f":"SUMIF(SOLICITUDES!$C$2:$C$1048576,BD!C1448,SOLICITUDES!$I$2:$I$1048576)","v":0},0,{"$f":"SUMIF(SOLICITUDES!$C$2:$C$1048576,BD!C1448,SOLICITUDES!$J$2:$J$1048576)","v":0},0,{"$f":"SUMIF(SOLICITUDES!$C$2:$C$1048576,BD!C1448,SOLICITUDES!$K$2:$K$1048576)","v":0},0]
[null,null,"T2253",30,13200,208,-76.644447609678267,2.4556787580414916,15,15,6,6,{"$f":"SUMIF(SOLICITUDES!$C$2:$C$1048576,BD!C1449,SOLICITUDES!$I$2:$I$1048576)","v":0},0,{"$f":"SUMIF(SOLICITUDES!$C$2:$C$1048576,BD!C1449,SOLICITUDES!$J$2:$J$1048576)","v":0},0,{"$f":"SUMIF(SOLICITUDES!$C$2:$C$1048576,BD!C1449,SOLICITUDES!$K$2:$K$1048576)","v":0},0]
[null,null,"T2245",15,13200,240,-76.651002846730606,2.4533839044938657,7.5,7.5,3,3,{"$f":"SUMIF(SOLICITUDES!$C$2:$C$1048576,BD!C1450,SOLICITUDES!$I$2:$I$1048576)","v":0},0,{"$f":"SUMIF(SOLICITUDES!$C$2:$C$1048576,BD!C1450,SOLICITUDES!$J$2:$J$1048576)","v":0},0,{"$f":"SUMIF(SOLICITUDES!$C$2:$C$1048576,BD!C1450,SOLICITUDES!$K$2:$K$1048576)","v":0},0]
[null,null,"T2242",112.5,13200,208,-76.645577862743593,2.4571190948874015,56.25,56.25,22.5,22.5,{"$f":"SUMIF(SOLICITUDES!$C$2:$C$1048576,BD!C1451,SOLICITUDES!$I$2:$I$1048576)","v":0},0,{"$f":"SUMIF(SOLICITUDES!$C$2:$C$1048576,BD!C1451,SOLICITUDES!$J$2:$J$1048576)","v":0},0,{"$f":"SUMIF(SOLICITUDES!$C$2:$C$1048576,BD!C1451,SOLICITUDES!$K$2:$K$1048576)","v":0},0]
[null,null,"T35897",37.5,13200,240,-76.640384001985367,2.4480642567997055,18.75,18.75,7.5,7.5,{"$f":"SUMIF(SOLICITUDES!$C$2:$C$1048576,BD!C1452,SOLICITUDES!$I$2:$I$1048576)","v":0},0,{"$f":"SUMIF(SOLICITUDES!$C$2:$C$1048576,BD!C1452,SOLICITUDES!$J$2:$J$1048576)","v":0},0,{"$f":"SUMIF(SOLICITUDES!$C$2:$C$1048576,BD!C1452,SOLICITUDES!$K$2:$K$1048576)","v":0},0]
[null,null,"T2076",112.5,13200,208,-76.642793642723035,2.4588622231388877,56.25,56.25,22.5,22.5,{"$f":"SUMIF(SOLICITUDES!$C$2:$C$1048576,BD!C1453,SOLICITUDES!$I$2:$I$1048576)","v":0},0,{"$f":"SUMIF(SOLICITUDES!$C$2:$C$1048576,BD!C1453,SOLICITUDES!$J$2:$J$1048576)","v":0},0,{"$f":"SUMIF(SOLICITUDES!$C$2:$C$1048576,BD!C1453,SOLICITUDES!$K$2:$K$1048576)","v":0},0]
[null,null,"T2252",15,13200,240,-76.651012088851616,2.4526061894721503,7.5,7.5,3,3,{"$f":"SUMIF(SOLICITUDES!$C$2:$C$1048576,BD!C1454,SOLICITUDES!$I$2:$I$1048576)","v":0},0,{"$f":"SUMIF(SOLICITUDES!$C$2:$C$1048576,BD!C1454,SOLICITUDES!$J$2:$J$1048576)","v":0},0,{"$f":"SUMIF(SOLICITUDES!$C$2:$C$1048576,BD!C1454,SOLICITUDES!$K$2:$K$1048576)","v":0},0]
[null,null,"T2234",75,13200,208,-76.643935048518131,2.455886585703297,37.5,37.5,15,15,{"$f":"SUMIF(SOLICITUDES!$C$2:$C$1048576,BD!C1455,SOLICITUDES!$I$2:$I$1048576)","v":0},0,{"$f":"SUMIF(SOLICITUDES!$C$2:$C$1048576,BD!C1455,SOLICITUDES!$J$2:$J$1048576)","v":0},0,{"$f":"SUMIF(SOLICITUDES!$C$2:$C$1048576,BD!C1455,SOLICITUDES!$K$2:$K$1048576)","v":0},0]
[null,null,"T2085",25,13200,240,-76.696548036197655,2.4665287525538675,12.5,12.5,5,5,{"$f":"SUMIF(SOLICITUDES!$C$2:$C$1048576,BD!C1456,SOLICITUDES!$I$2:$I$1048576)","v":0},0,{"$f":"SUMIF(SOLICITUDES!$C$2:$C$1048576,BD!C1456,SOLICITUDES!$J$2:$J$1048576)","v":0},0,{"$f":"SUMIF(SOLICITUDES!$C$2:$C$1048576,BD!C1456,SOLICITUDES!$K$2:$K$1048576)","v":0},0]
[null,null,"T24768",30,13200,214,-76.639252216395803,2.4621840216407715,15,15,6,6,{"$f":"SUMIF(SOLICITUDES!$C$2:$C$1048576,BD!C1457,SOLICITUDES!$I$2:$I$1048576)","v":0},0,{"$f":"SUMIF(SOLICITUDES!$C$2:$C$1048576,BD!C1457,SOLICITUDES!$J$2:$J$1048576)","v":0},0,{"$f":"SUMIF(SOLICITUDES!$C$2:$C$1048576,BD!C1457,SOLICITUDES!$K$2:$K$1048576)","v":0},0]
[null,null,"T1322",75,13200,214,-76.630256308936268,2.4480776374852011,37.5,37.5,15,15,{"$f":"SUMIF(SOLICITUDES!$C$2:$C$1048576,BD!C1458,SOLICITUDES!$I$2:$I$1048576)","v":0},0,{"$f":"SUMIF(SOLICITUDES!$C$2:$C$1048576,BD!C1458,SOLICITUDES!$J$2:$J$1048576)","v":0},0,{"$f":"SUMIF(SOLICITUDES!$C$2:$C$1048576,BD!C1458,SOLICITUDES!$K$2:$K$1048576)","v":0},0]
[null,null,"T1106",75,13200,208,-76.628545392484142,2.4467387155995612,37.5,37.5,15,15,{"$f":"SUMIF(SOLICITUDES!$C$2:$C$1048576,BD!C1459,SOLICITUDES!$I$2:$I$1048576)","v":0},0,{"$f":"SUMIF(SOLICITUDES!$C$2:$C$1048576,BD!C1459,SOLICITUDES!$J$2:$J$1048576)","v":0},0,{"$f":"SUMIF(SOLICITUDES!$C$2:$C$1048576,BD!C1459,SOLICITUDES!$K$2:$K$1048576)","v":0},0]
[null,null,"T24779",37.5,13200,240,-76.631008534150695,2.4479061214463083,18.75,18.75,7.5,7.5,{"$f":"SUMIF(SOLICITUDES!$C$2:$C$1048576,BD!C1460,SOLICITUDES!$I$2:$I$1048576)","v":0},0,{"$f":"SUMIF(SOLICITUDES!$C$2:$C$1048576,BD!C1460,SOLICITUDES!$J$2:$J$1048576)","v":0},0,{"$f":"SUMIF(SOLICITUDES!$C$2:$C$1048576,BD!C1460,SOLICITUDES!$K$2:$K$1048576)","v":0},0]
[null,null,"T5067",0.5,13200,240,-76.628578100251843,2.4466696738981764,0.25,0.25,0.1,0.1,{"$f":"SUMIF(SOLICITUDES!$C$2:$C$1048576,BD!C1461,SOLICITUDES!$I$2:$I$1048576)","v":0},0,{"$f":"SUMIF(SOLICITUDES!$C$2:$C$1048576,BD!C1461,SOLICITUDES!$J$2:$J$1048576)","v":0},0,{"$f":"SUMIF(SOLICITUDES!$C$2:$C$1048576,BD!C1461,SOLICITUDES!$K$2:$K$1048576)","v":0},0]
[null,null,"T1070",75,13200,228,-76.631503064195982,2.4478339464166394,37.5,37.5,15,15,{"$f":"SUMIF(SOLICITUDES!$C$2:$C$1048576,BD!C1462,SOLICITUDES!$I$2:$I$1048576)","v":0},0,{"$f":"SUMIF(SOLICITUDES!$C$2:$C$1048576,BD!C1462,SOLICITUDES!$J$2:$J$1048576)","v":0},0,{"$f":"SUMIF(SOLICITUDES!$C$2:$C$1048576,BD!C1462,SOLICITUDES!$K$2:$K$1048576)","v":0},0]
[null,null,"T1098",30,13200,208,-76.628230370531497,2.4477333588572598,15,15,6,6,{"$f":"SUMIF(SOLICITUDES!$C$2:$C$1048576,BD!C1463,SOLICITUDES!$I$2:$I$1048576)","v":0},0,{"$f":"SUMIF(SOLICITUDES!$C$2:$C$1048576,BD!C1463,SOLICITUDES!$J$2:$J$1048576)","v":0},0,{"$f":"SUMIF(SOLICITUDES!$C$2:$C$1048576,BD!C1463,SOLICITUDES!$K$2:$K$1048576)","v":0},0]
[null,null,"T1082",50,13200,240,-76.631251081510754,2.4485301949636047,25,25,10,10,{"$f":"SUMIF(SOLICITUDES!$C$2:$C$1048576,BD!C1464,SOLICITUDES!$I$2:$I$1048576)","v":0},0,{"$f":"SUMIF(SOLICITUDES!$C$2:$C$1048576,BD!C1464,SOLICITUDES!$J$2:$J$1048576)","v":0},0,{"$f":"SUMIF(SOLICITUDES!$C$2:$C$1048576,BD!C1464,SOLICITUDES!$K$2:$K$1048576)","v":0},0]
[null,null,"T1083",75,13200,208,-76.628797332147883,2.446169075628307,37.5,37.5,15,15,{"$f":"SUMIF(SOLICITUDES!$C$2:$C$1048576,BD!C1465,SOLICITUDES!$I$2:$I$1048576)","v":0},0,{"$f":"SUMIF(SOLICITUDES!$C$2:$C$1048576,BD!C1465,SOLICITUDES!$J$2:$J$1048576)","v":0},0,{"$f":"SUMIF(SOLICITUDES!$C$2:$C$1048576,BD!C1465,SOLICITUDES!$K$2:$K$1048576)","v":0},0]
[null,null,"T1107",75,13200,208,-76.629093851093089,2.4467027220957869,37.5,37.5,15,15,{"$f":"SUMIF(SOLICITUDES!$C$2:$C$1048576,BD!C1466,SOLICITUDES!$I$2:$I$1048576)","v":0},0,{"$f":"SUMIF(SOLICITUDES!$C$2:$C$1048576,BD!C1466,SOLICITUDES!$J$2:$J$1048576)","v":0},0,{"$f":"SUMIF(SOLICITUDES!$C$2:$C$1048576,BD!C1466,SOLICITUDES!$K$2:$K$1048576)","v":0},0]
[null,null,"T42790",0.5,13200,240,-76.62833364888138,2.4461725716565113,0.25,0.25,0.1,0.1,{"$f":"SUMIF(SOLICITUDES!$C$2:$C$1048576,BD!C1467,SOLICITUDES!$I$2:$I$1048576)","v":0},0,{"$f":"SUMIF(SOLICITUDES!$C$2:$C$1048576,BD!C1467,SOLICITUDES!$J$2:$J$1048576)","v":0},0,{"$f":"SUMIF(SOLICITUDES!$C$2:$C$1048576,BD!C1467,SOLICITUDES!$K$2:$K$1048576)","v":0},0]
[null,null,"T1089",75,13200,208,-76.63231275423675,2.4473375725081885,37.5,37.5,15,15,{"$f":"SUMIF(SOLICITUDES!$C$2:$C$1048576,BD!C1468,SOLICITUDES!$I$2:$I$1048576)","v":0},0,{"$f":"SUMIF(SOLICITUDES!$C$2:$C$1048576,BD!C1468,SOLICITUDES!$J$2:$J$1048576)","v":0},0,{"$f":"SUMIF(SOLICITUDES!$C$2:$C$1048576,BD!C1468,SOLICITUDES!$K$2:$K$1048576)","v":0},0]
[null,null,"T1084",75,13200,208,-76.633409526265922,2.4467313126087471,37.5,37.5,15,15,{"$f":"SUMIF(SOLICITUDES!$C$2:$C$1048576,BD!C1469,SOLICITUDES!$I$2:$I$1048576)","v":0},0,{"$f":"SUMIF(SOLICITUDES!$C$2:$C$1048576,BD!C1469,SOLICITUDES!$J$2:$J$1048576)","v":0},0,{"$f":"SUMIF(SOLICITUDES!$C$2:$C$1048576,BD!C1469,SOLICITUDES!$K$2:$K$1048576)","v":0},0]
[null,null,"T2961",45,13200,208,-76.628024185863822,2.4459246423069758,22.5,22.5,9,9,{"$f":"SUMIF(SOLICITUDES!$C$2:$C$1048576,BD!C1470,SOLICITUDES!$I$2:$I$1048576)","v":0},0,{"$f":"SUMIF(SOLICITUDES!$C$2:$C$1048576,BD!C1470,SOLICITUDES!$J$2:$J$1048576)","v":0},0,{"$f":"SUMIF(SOLICITUDES!$C$2:$C$1048576,BD!C1470,SOLICITUDES!$K$2:$K$1048576)","v":0},0]
[null,null,"T1854",25,13200,240,-76.629732999119156,2.4443607388518438,12.5,12.5,5,5,{"$f":"SUMIF(SOLICITUDES!$C$2:$C$1048576,BD!C1471,SOLICITUDES!$I$2:$I$1048576)","v":0},0,{"$f":"SUMIF(SOLICITUDES!$C$2:$C$1048576,BD!C1471,SOLICITUDES!$J$2:$J$1048576)","v":0},0,{"$f":"SUMIF(SOLICITUDES!$C$2:$C$1048576,BD!C1471,SOLICITUDES!$K$2:$K$1048576)","v":0},0]
[null,null,"T2967",45,13200,208,-76.62786092897538,2.4441246180322969,22.5,22.5,9,9,{"$f":"SUMIF(SOLICITUDES!$C$2:$C$1048576,BD!C1472,SOLICITUDES!$I$2:$I$1048576)","v":0},0,{"$f":"SUMIF(SOLICITUDES!$C$2:$C$1048576,BD!C1472,SOLICITUDES!$J$2:$J$1048576)","v":0},0,{"$f":"SUMIF(SOLICITUDES!$C$2:$C$1048576,BD!C1472,SOLICITUDES!$K$2:$K$1048576)","v":0},0]
[null,null,"T1851",75,13200,208,-76.629103441995369,2.4449121646013867,37.5,37.5,15,15,{"$f":"SUMIF(SOLICITUDES!$C$2:$C$1048576,BD!C1473,SOLICITUDES!$I$2:$I$1048576)","v":0},0,{"$f":"SUMIF(SOLICITUDES!$C$2:$C$1048576,BD!C1473,SOLICITUDES!$J$2:$J$1048576)","v":0},0,{"$f":"SUMIF(SOLICITUDES!$C$2:$C$1048576,BD!C1473,SOLICITUDES!$K$2:$K$1048576)","v":0},0]
[null,null,"T2965",112.5,13200,208,-76.626993851529363,2.4483776793746661,56.25,56.25,22.5,22.5,{"$f":"SUMIF(SOLICITUDES!$C$2:$C$1048576,BD!C1474,SOLICITUDES!$I$2:$I$1048576)","v":0},0,{"$f":"SUMIF(SOLICITUDES!$C$2:$C$1048576,BD!C1474,SOLICITUDES!$J$2:$J$1048576)","v":0},0,{"$f":"SUMIF(SOLICITUDES!$C$2:$C$1048576,BD!C1474,SOLICITUDES!$K$2:$K$1048576)","v":0},0]
[null,null,"T1062",45,13200,208,-76.627514994194527,2.4466559319833494,22.5,{"$f":"D1475*0.5-M1475","v":22.5},9,9,{"$f":"SUMIF(SOLICITUDES!$C$2:$C$1048576,BD!C1475,SOLICITUDES!$I$2:$I$1048576)","v":0},{"$f":"M1475/D1475","v":0},{"$f":"SUMIF(SOLICITUDES!$C$2:$C$1048576,BD!C1475,SOLICITUDES!$J$2:$J$1048576)","v":0},0,{"$f":"SUMIF(SOLICITUDES!$C$2:$C$1048576,BD!C1475,SOLICITUDES!$K$2:$K$1048576)","v":0},0]
[null,null,"T31350",112.5,13200,240,-76.627474827134961,2.4486283836609148,{"$f":"D1476*0.5","v":56.25},56.25,{"$f":"0.2*D1476","v":22.5},{"$f":"0.2*D1476","v":22.5},{"$f":"SUMIF(SOLICITUDES!$C$2:$C$1048576,BD!C1476,SOLICITUDES!$I$2:$I$1048576)","v":0},0,{"$f":"SUMIF(SOLICITUDES!$C$2:$C$1048576,BD!C1476,SOLICITUDES!$J$2:$J$1048576)","v":0},{"$f":"O1476/(2*K1476)","v":0},{"$f":"SUMIF(SOLICITUDES!$C$2:$C$1048576,BD!C1476,SOLICITUDES!$K$2:$K$1048576)","v":0},{"$f":"Q1476/(2*L1476)","v":0}]
[null,null,"T2963",75,13200,208,-76.627435352443072,2.4470757374026744,37.5,37.5,15,15,{"$f":"SUMIF(SOLICITUDES!$C$2:$C$1048576,BD!C1477,SOLICITUDES!$I$2:$I$1048576)","v":0},0,{"$f":"SUMIF(SOLICITUDES!$C$2:$C$1048576,BD!C1477,SOLICITUDES!$J$2:$J$1048576)","v":0},0,{"$f":"SUMIF(SOLICITUDES!$C$2:$C$1048576,BD!C1477,SOLICITUDES!$K$2:$K$1048576)","v":0},0]
[null,null,"T40055",15,13200,240,-76.630443331352396,2.4442253319304919,7.5,7.5,3,3,{"$f":"SUMIF(SOLICITUDES!$C$2:$C$1048576,BD!C1478,SOLICITUDES!$I$2:$I$1048576)","v":0},0,{"$f":"SUMIF(SOLICITUDES!$C$2:$C$1048576,BD!C1478,SOLICITUDES!$J$2:$J$1048576)","v":0},0,{"$f":"SUMIF(SOLICITUDES!$C$2:$C$1048576,BD!C1478,SOLICITUDES!$K$2:$K$1048576)","v":0},0]
[null,null,"T3277",37.5,13200,240,-76.628059153632634,2.4488908355087786,18.75,18.75,7.5,7.5,{"$f":"SUMIF(SOLICITUDES!$C$2:$C$1048576,BD!C1479,SOLICITUDES!$I$2:$I$1048576)","v":0},0,{"$f":"SUMIF(SOLICITUDES!$C$2:$C$1048576,BD!C1479,SOLICITUDES!$J$2:$J$1048576)","v":0},0,{"$f":"SUMIF(SOLICITUDES!$C$2:$C$1048576,BD!C1479,SOLICITUDES!$K$2:$K$1048576)","v":0},0]
[null,null,"T1094",75,13200,208,-76.633598820962135,2.4452844527889535,37.5,37.5,15,15,{"$f":"SUMIF(SOLICITUDES!$C$2:$C$1048576,BD!C1480,SOLICITUDES!$I$2:$I$1048576)","v":0},0,{"$f":"SUMIF(SOLICITUDES!$C$2:$C$1048576,BD!C1480,SOLICITUDES!$J$2:$J$1048576)","v":0},0,{"$f":"SUMIF(SOLICITUDES!$C$2:$C$1048576,BD!C1480,SOLICITUDES!$K$2:$K$1048576)","v":0},0]
[null,null,"T16534",75,13200,208,-76.633621168580419,2.4483779217103443,37.5,37.5,15,15,{"$f":"SUMIF(SOLICITUDES!$C$2:$C$1048576,BD!C1481,SOLICITUDES!$I$2:$I$1048576)","v":0},0,{"$f":"SUMIF(SOLICITUDES!$C$2:$C$1048576,BD!C1481,SOLICITUDES!$J$2:$J$1048576)","v":0},0,{"$f":"SUMIF(SOLICITUDES!$C$2:$C$1048576,BD!C1481,SOLICITUDES!$K$2:$K$1048576)","v":0},0]
[null,null,"T2959",75,13200,208,-76.626836656858416,2.448049402608425,37.5,37.5,15,15,{"$f":"SUMIF(SOLICITUDES!$C$2:$C$1048576,BD!C1482,SOLICITUDES!$I$2:$I$1048576)","v":0},0,{"$f":"SUMIF(SOLICITUDES!$C$2:$C$1048576,BD!C1482,SOLICITUDES!$J$2:$J$1048576)","v":0},0,{"$f":"SUMIF(SOLICITUDES!$C$2:$C$1048576,BD!C1482,SOLICITUDES!$K$2:$K$1048576)","v":0},0]
[null,null,"T1831",75,13200,208,-76.63062299012509,2.4447137314366545,37.5,37.5,15,15,{"$f":"SUMIF(SOLICITUDES!$C$2:$C$1048576,BD!C1483,SOLICITUDES!$I$2:$I$1048576)","v":0},0,{"$f":"SUMIF(SOLICITUDES!$C$2:$C$1048576,BD!C1483,SOLICITUDES!$J$2:$J$1048576)","v":0},0,{"$f":"SUMIF(SOLICITUDES!$C$2:$C$1048576,BD!C1483,SOLICITUDES!$K$2:$K$1048576)","v":0},0]
[null,null,"T1835",75,13200,208,-76.629867799740097,2.4462413642886185,37.5,37.5,15,15,{"$f":"SUMIF(SOLICITUDES!$C$2:$C$1048576,BD!C1484,SOLICITUDES!$I$2:$I$1048576)","v":0},0,{"$f":"SUMIF(SOLICITUDES!$C$2:$C$1048576,BD!C1484,SOLICITUDES!$J$2:$J$1048576)","v":0},0,{"$f":"SUMIF(SOLICITUDES!$C$2:$C$1048576,BD!C1484,SOLICITUDES!$K$2:$K$1048576)","v":0},0]
[null,null,"T1090",45,13200,208,-76.630865294773201,2.4460612565083544,22.5,22.5,9,9,{"$f":"SUMIF(SOLICITUDES!$C$2:$C$1048576,BD!C1485,SOLICITUDES!$I$2:$I$1048576)","v":0},0,{"$f":"SUMIF(SOLICITUDES!$C$2:$C$1048576,BD!C1485,SOLICITUDES!$J$2:$J$1048576)","v":0},0,{"$f":"SUMIF(SOLICITUDES!$C$2:$C$1048576,BD!C1485,SOLICITUDES!$K$2:$K$1048576)","v":0},0]
[null,null,"T1856",45,13200,208,-76.630377765117288,2.4432696794847786,22.5,22.5,9,9,{"$f":"SUMIF(SOLICITUDES!$C$2:$C$1048576,BD!C1486,SOLICITUDES!$I$2:$I$1048576)","v":0},0,{"$f":"SUMIF(SOLICITUDES!$C$2:$C$1048576,BD!C1486,SOLICITUDES!$J$2:$J$1048576)","v":0},0,{"$f":"SUMIF(SOLICITUDES!$C$2:$C$1048576,BD!C1486,SOLICITUDES!$K$2:$K$1048576)","v":0},0]
[null,null,"T11536",45,13200,208,-76.62637639803566,2.449975893331596,22.5,22.5,9,9,{"$f":"SUMIF(SOLICITUDES!$C$2:$C$1048576,BD!C1487,SOLICITUDES!$I$2:$I$1048576)","v":0},0,{"$f":"SUMIF(SOLICITUDES!$C$2:$C$1048576,BD!C1487,SOLICITUDES!$J$2:$J$1048576)","v":0},0,{"$f":"SUMIF(SOLICITUDES!$C$2:$C$1048576,BD!C1487,SOLICITUDES!$K$2:$K$1048576)","v":0},0]
[null,null,"T2960",75,13200,208,-76.625982286975301,2.4490919659192678,37.5,37.5,15,15,{"$f":"SUMIF(SOLICITUDES!$C$2:$C$1048576,BD!C1488,SOLICITUDES!$I$2:$I$1048576)","v":0},0,{"$f":"SUMIF(SOLICITUDES!$C$2:$C$1048576,BD!C1488,SOLICITUDES!$J$2:$J$1048576)","v":0},0,{"$f":"SUMIF(SOLICITUDES!$C$2:$C$1048576,BD!C1488,SOLICITUDES!$K$2:$K$1048576)","v":0},0]
[null,null,"T2964",45,13200,208,-76.627708149380055,2.4499306953739795,22.5,22.5,9,9,{"$f":"SUMIF(SOLICITUDES!$C$2:$C$1048576,BD!C1489,SOLICITUDES!$I$2:$I$1048576)","v":0},0,{"$f":"SUMIF(SOLICITUDES!$C$2:$C$1048576,BD!C1489,SOLICITUDES!$J$2:$J$1048576)","v":0},0,{"$f":"SUMIF(SOLICITUDES!$C$2:$C$1048576,BD!C1489,SOLICITUDES!$K$2:$K$1048576)","v":0},0]
[null,null,"T1612",75,13200,208,-76.631402018939838,2.4447006524510475,37.5,37.5,15,15,{"$f":"SUMIF(SOLICITUDES!$C$2:$C$1048576,BD!C1490,SOLICITUDES!$I$2:$I$1048576)","v":0},0,{"$f":"SUMIF(SOLICITUDES!$C$2:$C$1048576,BD!C1490,SOLICITUDES!$J$2:$J$1048576)","v":0},0,{"$f":"SUMIF(SOLICITUDES!$C$2:$C$1048576,BD!C1490,SOLICITUDES!$K$2:$K$1048576)","v":0},0]
[null,null,"T1108",75,13200,208,-76.627027857294351,2.4458803687061637,37.5,37.5,15,15,{"$f":"SUMIF(SOLICITUDES!$C$2:$C$1048576,BD!C1491,SOLICITUDES!$I$2:$I$1048576)","v":0},0,{"$f":"SUMIF(SOLICITUDES!$C$2:$C$1048576,BD!C1491,SOLICITUDES!$J$2:$J$1048576)","v":0},0,{"$f":"SUMIF(SOLICITUDES!$C$2:$C$1048576,BD!C1491,SOLICITUDES!$K$2:$K$1048576)","v":0},0]
[null,null,"T1627",45,13200,208,-76.629121949459318,2.443356735742606,22.5,22.5,9,9,{"$f":"SUMIF(SOLICITUDES!$C$2:$C$1048576,BD!C1492,SOLICITUDES!$I$2:$I$1048576)","v":0},0,{"$f":"SUMIF(SOLICITUDES!$C$2:$C$1048576,BD!C1492,SOLICITUDES!$J$2:$J$1048576)","v":0},0,{"$f":"SUMIF(SOLICITUDES!$C$2:$C$1048576,BD!C1492,SOLICITUDES!$K$2:$K$1048576)","v":0},0]
[null,null,"T21799",45,13200,208,-76.634147506856053,2.4445611817676176,22.5,22.5,9,9,{"$f":"SUMIF(SOLICITUDES!$C$2:$C$1048576,BD!C1493,SOLICITUDES!$I$2:$I$1048576)","v":0},0,{"$f":"SUMIF(SOLICITUDES!$C$2:$C$1048576,BD!C1493,SOLICITUDES!$J$2:$J$1048576)","v":0},0,{"$f":"SUMIF(SOLICITUDES!$C$2:$C$1048576,BD!C1493,SOLICITUDES!$K$2:$K$1048576)","v":0},0]
[null,null,"T28716",0.5,13200,240,-76.626163922616882,2.4504730745489773,0.25,0.25,0.1,0.1,{"$f":"SUMIF(SOLICITUDES!$C$2:$C$1048576,BD!C1494,SOLICITUDES!$I$2:$I$1048576)","v":0},0,{"$f":"SUMIF(SOLICITUDES!$C$2:$C$1048576,BD!C1494,SOLICITUDES!$J$2:$J$1048576)","v":0},0,{"$f":"SUMIF(SOLICITUDES!$C$2:$C$1048576,BD!C1494,SOLICITUDES!$K$2:$K$1048576)","v":0},0]
[null,null,"T21134",30,13200,208,-76.632816885730875,2.4444250867610871,15,15,6,6,{"$f":"SUMIF(SOLICITUDES!$C$2:$C$1048576,BD!C1495,SOLICITUDES!$I$2:$I$1048576)","v":0},0,{"$f":"SUMIF(SOLICITUDES!$C$2:$C$1048576,BD!C1495,SOLICITUDES!$J$2:$J$1048576)","v":0},0,{"$f":"SUMIF(SOLICITUDES!$C$2:$C$1048576,BD!C1495,SOLICITUDES!$K$2:$K$1048576)","v":0},0]
[null,null,"T2966",75,13200,208,-76.625883546505364,2.4482208994408725,37.5,37.5,15,15,{"$f":"SUMIF(SOLICITUDES!$C$2:$C$1048576,BD!C1496,SOLICITUDES!$I$2:$I$1048576)","v":0},0,{"$f":"SUMIF(SOLICITUDES!$C$2:$C$1048576,BD!C1496,SOLICITUDES!$J$2:$J$1048576)","v":0},0,{"$f":"SUMIF(SOLICITUDES!$C$2:$C$1048576,BD!C1496,SOLICITUDES!$K$2:$K$1048576)","v":0},0]
[null,null,"T1069",45,13200,208,-76.62645084835323,2.4456528143476954,22.5,22.5,9,9,{"$f":"SUMIF(SOLICITUDES!$C$2:$C$1048576,BD!C1497,SOLICITUDES!$I$2:$I$1048576)","v":0},0,{"$f":"SUMIF(SOLICITUDES!$C$2:$C$1048576,BD!C1497,SOLICITUDES!$J$2:$J$1048576)","v":0},0,{"$f":"SUMIF(SOLICITUDES!$C$2:$C$1048576,BD!C1497,SOLICITUDES!$K$2:$K$1048576)","v":0},0]
[null,null,"T1104",75,13200,208,-76.626882539235751,2.4452821833421314,37.5,37.5,15,15,{"$f":"SUMIF(SOLICITUDES!$C$2:$C$1048576,BD!C1498,SOLICITUDES!$I$2:$I$1048576)","v":0},0,{"$f":"SUMIF(SOLICITUDES!$C$2:$C$1048576,BD!C1498,SOLICITUDES!$J$2:$J$1048576)","v":0},0,{"$f":"SUMIF(SOLICITUDES!$C$2:$C$1048576,BD!C1498,SOLICITUDES!$K$2:$K$1048576)","v":0},0]
[null,null,"T11523",45,13200,208,-76.633379780812803,2.455087262191527,22.5,22.5,9,9,{"$f":"SUMIF(SOLICITUDES!$C$2:$C$1048576,BD!C1499,SOLICITUDES!$I$2:$I$1048576)","v":0},0,{"$f":"SUMIF(SOLICITUDES!$C$2:$C$1048576,BD!C1499,SOLICITUDES!$J$2:$J$1048576)","v":0},0,{"$f":"SUMIF(SOLICITUDES!$C$2:$C$1048576,BD!C1499,SOLICITUDES!$K$2:$K$1048576)","v":0},0]
[null,null,"T1039",75,13200,208,-76.63416185604575,2.4554684323536282,37.5,37.5,15,15,{"$f":"SUMIF(SOLICITUDES!$C$2:$C$1048576,BD!C1500,SOLICITUDES!$I$2:$I$1048576)","v":0},0,{"$f":"SUMIF(SOLICITUDES!$C$2:$C$1048576,BD!C1500,SOLICITUDES!$J$2:$J$1048576)","v":0},0,{"$f":"SUMIF(SOLICITUDES!$C$2:$C$1048576,BD!C1500,SOLICITUDES!$K$2:$K$1048576)","v":0},0]
[null,null,"T1007",112.5,13200,208,-76.632651309986272,2.4556748335640348,56.25,56.25,22.5,22.5,{"$f":"SUMIF(SOLICITUDES!$C$2:$C$1048576,BD!C1501,SOLICITUDES!$I$2:$I$1048576)","v":0},0,{"$f":"SUMIF(SOLICITUDES!$C$2:$C$1048576,BD!C1501,SOLICITUDES!$J$2:$J$1048576)","v":0},0,{"$f":"SUMIF(SOLICITUDES!$C$2:$C$1048576,BD!C1501,SOLICITUDES!$K$2:$K$1048576)","v":0},0]
[null,null,"T1030",75,13200,208,-76.632615128450482,2.4563259259613339,37.5,37.5,15,15,{"$f":"SUMIF(SOLICITUDES!$C$2:$C$1048576,BD!C1502,SOLICITUDES!$I$2:$I$1048576)","v":0},0,{"$f":"SUMIF(SOLICITUDES!$C$2:$C$1048576,BD!C1502,SOLICITUDES!$J$2:$J$1048576)","v":0},0,{"$f":"SUMIF(SOLICITUDES!$C$2:$C$1048576,BD!C1502,SOLICITUDES!$K$2:$K$1048576)","v":0},0]
[null,null,"T1027",75,13200,208,-76.632003588761904,2.4567507524226584,37.5,37.5,15,15,{"$f":"SUMIF(SOLICITUDES!$C$2:$C$1048576,BD!C1503,SOLICITUDES!$I$2:$I$1048576)","v":0},0,{"$f":"SUMIF(SOLICITUDES!$C$2:$C$1048576,BD!C1503,SOLICITUDES!$J$2:$J$1048576)","v":0},0,{"$f":"SUMIF(SOLICITUDES!$C$2:$C$1048576,BD!C1503,SOLICITUDES!$K$2:$K$1048576)","v":0},0]
[null,null,"T41529",75,13200,214,-76.631976347501606,2.4575375041121079,37.5,37.5,15,15,{"$f":"SUMIF(SOLICITUDES!$C$2:$C$1048576,BD!C1504,SOLICITUDES!$I$2:$I$1048576)","v":0},0,{"$f":"SUMIF(SOLICITUDES!$C$2:$C$1048576,BD!C1504,SOLICITUDES!$J$2:$J$1048576)","v":0},0,{"$f":"SUMIF(SOLICITUDES!$C$2:$C$1048576,BD!C1504,SOLICITUDES!$K$2:$K$1048576)","v":0},0]
[null,null,"T1004",112.5,13200,214,-76.631572194700013,2.4562170574989128,56.25,56.25,22.5,22.5,{"$f":"SUMIF(SOLICITUDES!$C$2:$C$1048576,BD!C1505,SOLICITUDES!$I$2:$I$1048576)","v":0},0,{"$f":"SUMIF(SOLICITUDES!$C$2:$C$1048576,BD!C1505,SOLICITUDES!$J$2:$J$1048576)","v":0},0,{"$f":"SUMIF(SOLICITUDES!$C$2:$C$1048576,BD!C1505,SOLICITUDES!$K$2:$K$1048576)","v":0},0]
[null,null,"T43645",45,13200,214,-76.626361363937221,2.4583063239113305,22.5,22.5,9,9,{"$f":"SUMIF(SOLICITUDES!$C$2:$C$1048576,BD!C1506,SOLICITUDES!$I$2:$I$1048576)","v":0},0,{"$f":"SUMIF(SOLICITUDES!$C$2:$C$1048576,BD!C1506,SOLICITUDES!$J$2:$J$1048576)","v":0},0,{"$f":"SUMIF(SOLICITUDES!$C$2:$C$1048576,BD!C1506,SOLICITUDES!$K$2:$K$1048576)","v":0},0]
[null,null,"T1016",75,13200,208,-76.631014153774416,2.4579983927844173,37.5,37.5,15,15,{"$f":"SUMIF(SOLICITUDES!$C$2:$C$1048576,BD!C1507,SOLICITUDES!$I$2:$I$1048576)","v":0},0,{"$f":"SUMIF(SOLICITUDES!$C$2:$C$1048576,BD!C1507,SOLICITUDES!$J$2:$J$1048576)","v":0},0,{"$f":"SUMIF(SOLICITUDES!$C$2:$C$1048576,BD!C1507,SOLICITUDES!$K$2:$K$1048576)","v":0},0]
[null,null,"T1419",45,13200,208,-76.630852203802519,2.4583329378512775,22.5,22.5,9,9,{"$f":"SUMIF(SOLICITUDES!$C$2:$C$1048576,BD!C1508,SOLICITUDES!$I$2:$I$1048576)","v":0},0,{"$f":"SUMIF(SOLICITUDES!$C$2:$C$1048576,BD!C1508,SOLICITUDES!$J$2:$J$1048576)","v":0},0,{"$f":"SUMIF(SOLICITUDES!$C$2:$C$1048576,BD!C1508,SOLICITUDES!$K$2:$K$1048576)","v":0},0]
[null,null,"T1025",75,13200,208,-76.631428661899221,2.4559834962338107,37.5,37.5,15,15,{"$f":"SUMIF(SOLICITUDES!$C$2:$C$1048576,BD!C1509,SOLICITUDES!$I$2:$I$1048576)","v":0},0,{"$f":"SUMIF(SOLICITUDES!$C$2:$C$1048576,BD!C1509,SOLICITUDES!$J$2:$J$1048576)","v":0},0,{"$f":"SUMIF(SOLICITUDES!$C$2:$C$1048576,BD!C1509,SOLICITUDES!$K$2:$K$1048576)","v":0},0]
[null,null,"T1401",75,13200,208,-76.633327718101754,2.4604317485773031,37.5,37.5,15,15,{"$f":"SUMIF(SOLICITUDES!$C$2:$C$1048576,BD!C1510,SOLICITUDES!$I$2:$I$1048576)","v":0},0,{"$f":"SUMIF(SOLICITUDES!$C$2:$C$1048576,BD!C1510,SOLICITUDES!$J$2:$J$1048576)","v":0},0,{"$f":"SUMIF(SOLICITUDES!$C$2:$C$1048576,BD!C1510,SOLICITUDES!$K$2:$K$1048576)","v":0},0]
[null,null,"T1026",45,13200,208,-76.630699248131165,2.4586403505317538,22.5,22.5,9,9,{"$f":"SUMIF(SOLICITUDES!$C$2:$C$1048576,BD!C1511,SOLICITUDES!$I$2:$I$1048576)","v":0},0,{"$f":"SUMIF(SOLICITUDES!$C$2:$C$1048576,BD!C1511,SOLICITUDES!$J$2:$J$1048576)","v":0},0,{"$f":"SUMIF(SOLICITUDES!$C$2:$C$1048576,BD!C1511,SOLICITUDES!$K$2:$K$1048576)","v":0},0]
[null,null,"T12833",15,13200,480,-76.627616841587539,2.467652547344271,7.5,7.5,3,3,{"$f":"SUMIF(SOLICITUDES!$C$2:$C$1048576,BD!C1512,SOLICITUDES!$I$2:$I$1048576)","v":0},0,{"$f":"SUMIF(SOLICITUDES!$C$2:$C$1048576,BD!C1512,SOLICITUDES!$J$2:$J$1048576)","v":0},0,{"$f":"SUMIF(SOLICITUDES!$C$2:$C$1048576,BD!C1512,SOLICITUDES!$K$2:$K$1048576)","v":0},0]
[null,null,"T41776",75,13200,214,-76.630107130420896,2.4576447762616933,37.5,37.5,15,15,{"$f":"SUMIF(SOLICITUDES!$C$2:$C$1048576,BD!C1513,SOLICITUDES!$I$2:$I$1048576)","v":0},0,{"$f":"SUMIF(SOLICITUDES!$C$2:$C$1048576,BD!C1513,SOLICITUDES!$J$2:$J$1048576)","v":0},0,{"$f":"SUMIF(SOLICITUDES!$C$2:$C$1048576,BD!C1513,SOLICITUDES!$K$2:$K$1048576)","v":0},0]
[null,null,"T1021",112.5,13200,208,-76.633512935986715,2.4602148302100693,56.25,56.25,22.5,22.5,{"$f":"SUMIF(SOLICITUDES!$C$2:$C$1048576,BD!C1514,SOLICITUDES!$I$2:$I$1048576)","v":0},0,{"$f":"SUMIF(SOLICITUDES!$C$2:$C$1048576,BD!C1514,SOLICITUDES!$J$2:$J$1048576)","v":0},0,{"$f":"SUMIF(SOLICITUDES!$C$2:$C$1048576,BD!C1514,SOLICITUDES!$K$2:$K$1048576)","v":0},0]
[null,null,"T1056",15,13200,240,-76.633045067350693,2.4612003837475656,7.5,7.5,3,3,{"$f":"SUMIF(SOLICITUDES!$C$2:$C$1048576,BD!C1515,SOLICITUDES!$I$2:$I$1048576)","v":0},0,{"$f":"SUMIF(SOLICITUDES!$C$2:$C$1048576,BD!C1515,SOLICITUDES!$J$2:$J$1048576)","v":0},0,{"$f":"SUMIF(SOLICITUDES!$C$2:$C$1048576,BD!C1515,SOLICITUDES!$K$2:$K$1048576)","v":0},0]
[null,null,"T44103",75,13200,214,-76.630397032891821,2.4572187260436138,37.5,37.5,15,15,{"$f":"SUMIF(SOLICITUDES!$C$2:$C$1048576,BD!C1516,SOLICITUDES!$I$2:$I$1048576)","v":0},0,{"$f":"SUMIF(SOLICITUDES!$C$2:$C$1048576,BD!C1516,SOLICITUDES!$J$2:$J$1048576)","v":0},0,{"$f":"SUMIF(SOLICITUDES!$C$2:$C$1048576,BD!C1516,SOLICITUDES!$K$2:$K$1048576)","v":0},0]
[null,null,"T40027",45,13200,214,-76.630457607910515,2.4568708759043618,22.5,22.5,9,9,{"$f":"SUMIF(SOLICITUDES!$C$2:$C$1048576,BD!C1517,SOLICITUDES!$I$2:$I$1048576)","v":0},0,{"$f":"SUMIF(SOLICITUDES!$C$2:$C$1048576,BD!C1517,SOLICITUDES!$J$2:$J$1048576)","v":0},0,{"$f":"SUMIF(SOLICITUDES!$C$2:$C$1048576,BD!C1517,SOLICITUDES!$K$2:$K$1048576)","v":0},0]
[null,null,"T25777",37.5,13200,240,-76.632703409949983,2.4612997127622962,18.75,18.75,7.5,7.5,{"$f":"SUMIF(SOLICITUDES!$C$2:$C$1048576,BD!C1518,SOLICITUDES!$I$2:$I$1048576)","v":0},0,{"$f":"SUMIF(SOLICITUDES!$C$2:$C$1048576,BD!C1518,SOLICITUDES!$J$2:$J$1048576)","v":0},0,{"$f":"SUMIF(SOLICITUDES!$C$2:$C$1048576,BD!C1518,SOLICITUDES!$K$2:$K$1048576)","v":0},0]
[null,null,"T1826",75,13200,208,-76.629673371689051,2.4586974085136077,37.5,34.200000000000003,15,15,{"$f":"SUMIF(SOLICITUDES!$C$2:$C$1048576,BD!C1519,SOLICITUDES!$I$2:$I$1048576)","v":3.3},4.3999999999999997E-2,{"$f":"SUMIF(SOLICITUDES!$C$2:$C$1048576,BD!C1519,SOLICITUDES!$J$2:$J$1048576)","v":0},0,{"$f":"SUMIF(SOLICITUDES!$C$2:$C$1048576,BD!C1519,SOLICITUDES!$K$2:$K$1048576)","v":3.3},0.11]
[null,null,"T27045",50,13200,240,-76.62956156666236,2.4589214170228937,25,25,10,10,{"$f":"SUMIF(SOLICITUDES!$C$2:$C$1048576,BD!C1520,SOLICITUDES!$I$2:$I$1048576)","v":0},0,{"$f":"SUMIF(SOLICITUDES!$C$2:$C$1048576,BD!C1520,SOLICITUDES!$J$2:$J$1048576)","v":0},0,{"$f":"SUMIF(SOLICITUDES!$C$2:$C$1048576,BD!C1520,SOLICITUDES!$K$2:$K$1048576)","v":0},0]
[null,null,"T20602",10,13200,220,-76.627136213480668,2.4616023587381712,5,5,2,2,{"$f":"SUMIF(SOLICITUDES!$C$2:$C$1048576,BD!C1521,SOLICITUDES!$I$2:$I$1048576)","v":0},0,{"$f":"SUMIF(SOLICITUDES!$C$2:$C$1048576,BD!C1521,SOLICITUDES!$J$2:$J$1048576)","v":0},0,{"$f":"SUMIF(SOLICITUDES!$C$2:$C$1048576,BD!C1521,SOLICITUDES!$K$2:$K$1048576)","v":0},0]
[null,null,"T20603",500,13200,456,-76.627111733804512,2.461731484557844,250,250,100,100,{"$f":"SUMIF(SOLICITUDES!$C$2:$C$1048576,BD!C1522,SOLICITUDES!$I$2:$I$1048576)","v":0},0,{"$f":"SUMIF(SOLICITUDES!$C$2:$C$1048576,BD!C1522,SOLICITUDES!$J$2:$J$1048576)","v":0},0,{"$f":"SUMIF(SOLICITUDES!$C$2:$C$1048576,BD!C1522,SOLICITUDES!$K$2:$K$1048576)","v":0},0]
[null,null,"T42794",75,13200,214,-76.637433706187892,2.4581820324556651,37.5,37.5,15,15,{"$f":"SUMIF(SOLICITUDES!$C$2:$C$1048576,BD!C1523,SOLICITUDES!$I$2:$I$1048576)","v":0},0,{"$f":"SUMIF(SOLICITUDES!$C$2:$C$1048576,BD!C1523,SOLICITUDES!$J$2:$J$1048576)","v":0},0,{"$f":"SUMIF(SOLICITUDES!$C$2:$C$1048576,BD!C1523,SOLICITUDES!$K$2:$K$1048576)","v":0},0]
[null,null,"T42181",75,13200,213,-76.637695076287059,2.4586633456314,37.5,37.5,15,15,{"$f":"SUMIF(SOLICITUDES!$C$2:$C$1048576,BD!C1524,SOLICITUDES!$I$2:$I$1048576)","v":0},0,{"$f":"SUMIF(SOLICITUDES!$C$2:$C$1048576,BD!C1524,SOLICITUDES!$J$2:$J$1048576)","v":0},0,{"$f":"SUMIF(SOLICITUDES!$C$2:$C$1048576,BD!C1524,SOLICITUDES!$K$2:$K$1048576)","v":0},0]
[null,null,"T51958",75,13200,214,-76.637724377474726,2.4583229958036044,37.5,37.5,15,15,{"$f":"SUMIF(SOLICITUDES!$C$2:$C$1048576,BD!C1525,SOLICITUDES!$I$2:$I$1048576)","v":0},0,{"$f":"SUMIF(SOLICITUDES!$C$2:$C$1048576,BD!C1525,SOLICITUDES!$J$2:$J$1048576)","v":0},0,{"$f":"SUMIF(SOLICITUDES!$C$2:$C$1048576,BD!C1525,SOLICITUDES!$K$2:$K$1048576)","v":0},0]
[null,null,"T51957",75,13200,214,-76.637745296331033,2.4577888373217394,37.5,37.5,15,15,{"$f":"SUMIF(SOLICITUDES!$C$2:$C$1048576,BD!C1526,SOLICITUDES!$I$2:$I$1048576)","v":0},0,{"$f":"SUMIF(SOLICITUDES!$C$2:$C$1048576,BD!C1526,SOLICITUDES!$J$2:$J$1048576)","v":0},0,{"$f":"SUMIF(SOLICITUDES!$C$2:$C$1048576,BD!C1526,SOLICITUDES!$K$2:$K$1048576)","v":0},0]
[null,null,"T21187",75,13200,226,-76.616358885586948,2.4765692776603645,37.5,37.5,15,15,{"$f":"SUMIF(SOLICITUDES!$C$2:$C$1048576,BD!C1527,SOLICITUDES!$I$2:$I$1048576)","v":0},0,{"$f":"SUMIF(SOLICITUDES!$C$2:$C$1048576,BD!C1527,SOLICITUDES!$J$2:$J$1048576)","v":0},0,{"$f":"SUMIF(SOLICITUDES!$C$2:$C$1048576,BD!C1527,SOLICITUDES!$K$2:$K$1048576)","v":0},0]
[null,null,"T3143",30,13200,208,-76.622025505066574,2.4662468737920009,15,15,6,6,{"$f":"SUMIF(SOLICITUDES!$C$2:$C$1048576,BD!C1528,SOLICITUDES!$I$2:$I$1048576)","v":0},0,{"$f":"SUMIF(SOLICITUDES!$C$2:$C$1048576,BD!C1528,SOLICITUDES!$J$2:$J$1048576)","v":0},0,{"$f":"SUMIF(SOLICITUDES!$C$2:$C$1048576,BD!C1528,SOLICITUDES!$K$2:$K$1048576)","v":0},0]
[null,null,"T41490",225,13200,214,-76.63459539523609,2.4663085493753072,112.5,112.5,45,45,{"$f":"SUMIF(SOLICITUDES!$C$2:$C$1048576,BD!C1529,SOLICITUDES!$I$2:$I$1048576)","v":0},0,{"$f":"SUMIF(SOLICITUDES!$C$2:$C$1048576,BD!C1529,SOLICITUDES!$J$2:$J$1048576)","v":0},0,{"$f":"SUMIF(SOLICITUDES!$C$2:$C$1048576,BD!C1529,SOLICITUDES!$K$2:$K$1048576)","v":0},0]
[null,null,"T30146",75,13200,208,-76.627263511295155,2.464630432014284,37.5,37.5,15,15,{"$f":"SUMIF(SOLICITUDES!$C$2:$C$1048576,BD!C1530,SOLICITUDES!$I$2:$I$1048576)","v":0},0,{"$f":"SUMIF(SOLICITUDES!$C$2:$C$1048576,BD!C1530,SOLICITUDES!$J$2:$J$1048576)","v":0},0,{"$f":"SUMIF(SOLICITUDES!$C$2:$C$1048576,BD!C1530,SOLICITUDES!$K$2:$K$1048576)","v":0},0]
[null,null,"T3616",75,34500,220,-76.494625919336244,2.3834122550989525,37.5,37.5,15,15,{"$f":"SUMIF(SOLICITUDES!$C$2:$C$1048576,BD!C1531,SOLICITUDES!$I$2:$I$1048576)","v":0},0,{"$f":"SUMIF(SOLICITUDES!$C$2:$C$1048576,BD!C1531,SOLICITUDES!$J$2:$J$1048576)","v":0},0,{"$f":"SUMIF(SOLICITUDES!$C$2:$C$1048576,BD!C1531,SOLICITUDES!$K$2:$K$1048576)","v":0},0]
[null,null,"T41508",15,13200,240,-76.492214769891817,2.3775913298588893,7.5,7.5,3,3,{"$f":"SUMIF(SOLICITUDES!$C$2:$C$1048576,BD!C1532,SOLICITUDES!$I$2:$I$1048576)","v":0},0,{"$f":"SUMIF(SOLICITUDES!$C$2:$C$1048576,BD!C1532,SOLICITUDES!$J$2:$J$1048576)","v":0},0,{"$f":"SUMIF(SOLICITUDES!$C$2:$C$1048576,BD!C1532,SOLICITUDES!$K$2:$K$1048576)","v":0},0]
[null,null,"T3766",75,13200,208,-76.603365216385484,2.4365382252205401,37.5,37.5,15,15,{"$f":"SUMIF(SOLICITUDES!$C$2:$C$1048576,BD!C1533,SOLICITUDES!$I$2:$I$1048576)","v":0},0,{"$f":"SUMIF(SOLICITUDES!$C$2:$C$1048576,BD!C1533,SOLICITUDES!$J$2:$J$1048576)","v":0},0,{"$f":"SUMIF(SOLICITUDES!$C$2:$C$1048576,BD!C1533,SOLICITUDES!$K$2:$K$1048576)","v":0},0]
[null,null,"T3730",112.5,13200,208,-76.609568557450089,2.4359905864944831,56.25,56.25,22.5,22.5,{"$f":"SUMIF(SOLICITUDES!$C$2:$C$1048576,BD!C1534,SOLICITUDES!$I$2:$I$1048576)","v":0},0,{"$f":"SUMIF(SOLICITUDES!$C$2:$C$1048576,BD!C1534,SOLICITUDES!$J$2:$J$1048576)","v":0},0,{"$f":"SUMIF(SOLICITUDES!$C$2:$C$1048576,BD!C1534,SOLICITUDES!$K$2:$K$1048576)","v":0},0]
[null,null,"T41753",75,13200,460,-76.609407994298223,2.4363412719485957,37.5,37.5,15,15,{"$f":"SUMIF(SOLICITUDES!$C$2:$C$1048576,BD!C1535,SOLICITUDES!$I$2:$I$1048576)","v":0},0,{"$f":"SUMIF(SOLICITUDES!$C$2:$C$1048576,BD!C1535,SOLICITUDES!$J$2:$J$1048576)","v":0},0,{"$f":"SUMIF(SOLICITUDES!$C$2:$C$1048576,BD!C1535,SOLICITUDES!$K$2:$K$1048576)","v":0},0]
[null,null,"T3760",150,13200,208,-76.59838271513317,2.4408590978046991,75,75,30,30,{"$f":"SUMIF(SOLICITUDES!$C$2:$C$1048576,BD!C1536,SOLICITUDES!$I$2:$I$1048576)","v":0},0,{"$f":"SUMIF(SOLICITUDES!$C$2:$C$1048576,BD!C1536,SOLICITUDES!$J$2:$J$1048576)","v":0},0,{"$f":"SUMIF(SOLICITUDES!$C$2:$C$1048576,BD!C1536,SOLICITUDES!$K$2:$K$1048576)","v":0},0]
[null,null,"T3763",75,13200,208,-76.601143191736156,2.44044227647754,37.5,37.5,15,15,{"$f":"SUMIF(SOLICITUDES!$C$2:$C$1048576,BD!C1537,SOLICITUDES!$I$2:$I$1048576)","v":0},0,{"$f":"SUMIF(SOLICITUDES!$C$2:$C$1048576,BD!C1537,SOLICITUDES!$J$2:$J$1048576)","v":0},0,{"$f":"SUMIF(SOLICITUDES!$C$2:$C$1048576,BD!C1537,SOLICITUDES!$K$2:$K$1048576)","v":0},0]
[null,null,"T3770",75,13200,208,-76.599866226091947,2.4408234554113535,37.5,37.5,15,15,{"$f":"SUMIF(SOLICITUDES!$C$2:$C$1048576,BD!C1538,SOLICITUDES!$I$2:$I$1048576)","v":0},0,{"$f":"SUMIF(SOLICITUDES!$C$2:$C$1048576,BD!C1538,SOLICITUDES!$J$2:$J$1048576)","v":0},0,{"$f":"SUMIF(SOLICITUDES!$C$2:$C$1048576,BD!C1538,SOLICITUDES!$K$2:$K$1048576)","v":0},0]
[null,null,"T3777",45,13200,208,-76.601071423764566,2.4396754012922202,22.5,{"$f":"D1539*0.5-M1539","v":22.5},9,9,{"$f":"SUMIF(SOLICITUDES!$C$2:$C$1048576,BD!C1539,SOLICITUDES!$I$2:$I$1048576)","v":0},{"$f":"M1539/D1539","v":0},{"$f":"SUMIF(SOLICITUDES!$C$2:$C$1048576,BD!C1539,SOLICITUDES!$J$2:$J$1048576)","v":0},0,{"$f":"SUMIF(SOLICITUDES!$C$2:$C$1048576,BD!C1539,SOLICITUDES!$K$2:$K$1048576)","v":0},0]
[null,null,"T3788",75,13200,208,-76.601313984716313,2.4402090363860571,{"$f":"D1540*0.5","v":37.5},37.5,{"$f":"0.2*D1540","v":15},{"$f":"0.2*D1540","v":15},{"$f":"SUMIF(SOLICITUDES!$C$2:$C$1048576,BD!C1540,SOLICITUDES!$I$2:$I$1048576)","v":0},0,{"$f":"SUMIF(SOLICITUDES!$C$2:$C$1048576,BD!C1540,SOLICITUDES!$J$2:$J$1048576)","v":0},{"$f":"O1540/(2*K1540)","v":0},{"$f":"SUMIF(SOLICITUDES!$C$2:$C$1048576,BD!C1540,SOLICITUDES!$K$2:$K$1048576)","v":0},{"$f":"Q1540/(2*L1540)","v":0}]
[null,null,"T17470",75,13200,208,-76.60081937185474,2.44054346414954,37.5,37.5,15,15,{"$f":"SUMIF(SOLICITUDES!$C$2:$C$1048576,BD!C1541,SOLICITUDES!$I$2:$I$1048576)","v":0},0,{"$f":"SUMIF(SOLICITUDES!$C$2:$C$1048576,BD!C1541,SOLICITUDES!$J$2:$J$1048576)","v":0},0,{"$f":"SUMIF(SOLICITUDES!$C$2:$C$1048576,BD!C1541,SOLICITUDES!$K$2:$K$1048576)","v":0},0]
[null,null,"T3772",75,13200,208,-76.602375829511871,2.4376230585184655,37.5,37.5,15,15,{"$f":"SUMIF(SOLICITUDES!$C$2:$C$1048576,BD!C1542,SOLICITUDES!$I$2:$I$1048576)","v":0},0,{"$f":"SUMIF(SOLICITUDES!$C$2:$C$1048576,BD!C1542,SOLICITUDES!$J$2:$J$1048576)","v":0},0,{"$f":"SUMIF(SOLICITUDES!$C$2:$C$1048576,BD!C1542,SOLICITUDES!$K$2:$K$1048576)","v":0},0]
[null,null,"T3780",75,13200,208,-76.602609561062863,2.4377316637288269,37.5,37.5,15,15,{"$f":"SUMIF(SOLICITUDES!$C$2:$C$1048576,BD!C1543,SOLICITUDES!$I$2:$I$1048576)","v":0},0,{"$f":"SUMIF(SOLICITUDES!$C$2:$C$1048576,BD!C1543,SOLICITUDES!$J$2:$J$1048576)","v":0},0,{"$f":"SUMIF(SOLICITUDES!$C$2:$C$1048576,BD!C1543,SOLICITUDES!$K$2:$K$1048576)","v":0},0]
[null,null,"T42783",0.5,13200,240,-76.602906222780476,2.4378402839701789,0.25,0.25,0.1,0.1,{"$f":"SUMIF(SOLICITUDES!$C$2:$C$1048576,BD!C1544,SOLICITUDES!$I$2:$I$1048576)","v":0},0,{"$f":"SUMIF(SOLICITUDES!$C$2:$C$1048576,BD!C1544,SOLICITUDES!$J$2:$J$1048576)","v":0},0,{"$f":"SUMIF(SOLICITUDES!$C$2:$C$1048576,BD!C1544,SOLICITUDES!$K$2:$K$1048576)","v":0},0]
[null,null,"T30177",75,13200,220,-76.602194452404206,2.4398076037101437,37.5,37.5,15,15,{"$f":"SUMIF(SOLICITUDES!$C$2:$C$1048576,BD!C1545,SOLICITUDES!$I$2:$I$1048576)","v":0},0,{"$f":"SUMIF(SOLICITUDES!$C$2:$C$1048576,BD!C1545,SOLICITUDES!$J$2:$J$1048576)","v":0},0,{"$f":"SUMIF(SOLICITUDES!$C$2:$C$1048576,BD!C1545,SOLICITUDES!$K$2:$K$1048576)","v":0},0]
[null,null,"T3792",75,13200,208,-76.602861107335613,2.4382833929118335,37.5,37.5,15,15,{"$f":"SUMIF(SOLICITUDES!$C$2:$C$1048576,BD!C1546,SOLICITUDES!$I$2:$I$1048576)","v":0},0,{"$f":"SUMIF(SOLICITUDES!$C$2:$C$1048576,BD!C1546,SOLICITUDES!$J$2:$J$1048576)","v":0},0,{"$f":"SUMIF(SOLICITUDES!$C$2:$C$1048576,BD!C1546,SOLICITUDES!$K$2:$K$1048576)","v":0},0]
[null,null,"T28707",0.5,13200,240,-76.603688325185132,2.438138997870031,0.25,0.25,0.1,0.1,{"$f":"SUMIF(SOLICITUDES!$C$2:$C$1048576,BD!C1547,SOLICITUDES!$I$2:$I$1048576)","v":0},0,{"$f":"SUMIF(SOLICITUDES!$C$2:$C$1048576,BD!C1547,SOLICITUDES!$J$2:$J$1048576)","v":0},0,{"$f":"SUMIF(SOLICITUDES!$C$2:$C$1048576,BD!C1547,SOLICITUDES!$K$2:$K$1048576)","v":0},0]
[null,null,"T3765",75,13200,208,-76.602554916462367,2.4397030620369944,37.5,37.5,15,15,{"$f":"SUMIF(SOLICITUDES!$C$2:$C$1048576,BD!C1548,SOLICITUDES!$I$2:$I$1048576)","v":0},0,{"$f":"SUMIF(SOLICITUDES!$C$2:$C$1048576,BD!C1548,SOLICITUDES!$J$2:$J$1048576)","v":0},0,{"$f":"SUMIF(SOLICITUDES!$C$2:$C$1048576,BD!C1548,SOLICITUDES!$K$2:$K$1048576)","v":0},0]
[null,null,"T3753",75,13200,208,-76.60241103864054,2.439757269885825,37.5,37.5,15,15,{"$f":"SUMIF(SOLICITUDES!$C$2:$C$1048576,BD!C1549,SOLICITUDES!$I$2:$I$1048576)","v":0},0,{"$f":"SUMIF(SOLICITUDES!$C$2:$C$1048576,BD!C1549,SOLICITUDES!$J$2:$J$1048576)","v":0},0,{"$f":"SUMIF(SOLICITUDES!$C$2:$C$1048576,BD!C1549,SOLICITUDES!$K$2:$K$1048576)","v":0},0]
[null,null,"T30251",112.5,13200,240,-76.60313022889828,2.4400016977433916,56.25,56.25,22.5,22.5,{"$f":"SUMIF(SOLICITUDES!$C$2:$C$1048576,BD!C1550,SOLICITUDES!$I$2:$I$1048576)","v":0},0,{"$f":"SUMIF(SOLICITUDES!$C$2:$C$1048576,BD!C1550,SOLICITUDES!$J$2:$J$1048576)","v":0},0,{"$f":"SUMIF(SOLICITUDES!$C$2:$C$1048576,BD!C1550,SOLICITUDES!$K$2:$K$1048576)","v":0},0]
[null,null,"T3757",112.5,13200,208,-76.602699642678715,2.4372433643320863,56.25,56.25,22.5,22.5,{"$f":"SUMIF(SOLICITUDES!$C$2:$C$1048576,BD!C1551,SOLICITUDES!$I$2:$I$1048576)","v":0},0,{"$f":"SUMIF(SOLICITUDES!$C$2:$C$1048576,BD!C1551,SOLICITUDES!$J$2:$J$1048576)","v":0},0,{"$f":"SUMIF(SOLICITUDES!$C$2:$C$1048576,BD!C1551,SOLICITUDES!$K$2:$K$1048576)","v":0},0]
[null,null,"T3764",75,13200,208,-76.603887217505118,2.4350281973343488,37.5,37.5,15,15,{"$f":"SUMIF(SOLICITUDES!$C$2:$C$1048576,BD!C1552,SOLICITUDES!$I$2:$I$1048576)","v":0},0,{"$f":"SUMIF(SOLICITUDES!$C$2:$C$1048576,BD!C1552,SOLICITUDES!$J$2:$J$1048576)","v":0},0,{"$f":"SUMIF(SOLICITUDES!$C$2:$C$1048576,BD!C1552,SOLICITUDES!$K$2:$K$1048576)","v":0},0]
[null,null,"T3787",112.5,13200,208,-76.602375940666235,2.4373065504504292,56.25,56.25,22.5,22.5,{"$f":"SUMIF(SOLICITUDES!$C$2:$C$1048576,BD!C1553,SOLICITUDES!$I$2:$I$1048576)","v":0},0,{"$f":"SUMIF(SOLICITUDES!$C$2:$C$1048576,BD!C1553,SOLICITUDES!$J$2:$J$1048576)","v":0},0,{"$f":"SUMIF(SOLICITUDES!$C$2:$C$1048576,BD!C1553,SOLICITUDES!$K$2:$K$1048576)","v":0},0]
[null,null,"T3773",75,13200,208,-76.601324045143244,2.4371976575720753,37.5,37.5,15,15,{"$f":"SUMIF(SOLICITUDES!$C$2:$C$1048576,BD!C1554,SOLICITUDES!$I$2:$I$1048576)","v":0},0,{"$f":"SUMIF(SOLICITUDES!$C$2:$C$1048576,BD!C1554,SOLICITUDES!$J$2:$J$1048576)","v":0},0,{"$f":"SUMIF(SOLICITUDES!$C$2:$C$1048576,BD!C1554,SOLICITUDES!$K$2:$K$1048576)","v":0},0]
[null,null,"T3752",45,13200,208,-76.603122842041003,2.4354620016270343,22.5,22.5,9,9,{"$f":"SUMIF(SOLICITUDES!$C$2:$C$1048576,BD!C1555,SOLICITUDES!$I$2:$I$1048576)","v":0},0,{"$f":"SUMIF(SOLICITUDES!$C$2:$C$1048576,BD!C1555,SOLICITUDES!$J$2:$J$1048576)","v":0},0,{"$f":"SUMIF(SOLICITUDES!$C$2:$C$1048576,BD!C1555,SOLICITUDES!$K$2:$K$1048576)","v":0},0]
[null,null,"T3769",112.5,13200,208,-76.604075084578113,2.4377050569975167,56.25,56.25,22.5,22.5,{"$f":"SUMIF(SOLICITUDES!$C$2:$C$1048576,BD!C1556,SOLICITUDES!$I$2:$I$1048576)","v":0},0,{"$f":"SUMIF(SOLICITUDES!$C$2:$C$1048576,BD!C1556,SOLICITUDES!$J$2:$J$1048576)","v":0},0,{"$f":"SUMIF(SOLICITUDES!$C$2:$C$1048576,BD!C1556,SOLICITUDES!$K$2:$K$1048576)","v":0},0]
[null,null,"T3781",75,13200,208,-76.600937412664933,2.4372608191451506,37.5,37.5,15,15,{"$f":"SUMIF(SOLICITUDES!$C$2:$C$1048576,BD!C1557,SOLICITUDES!$I$2:$I$1048576)","v":0},0,{"$f":"SUMIF(SOLICITUDES!$C$2:$C$1048576,BD!C1557,SOLICITUDES!$J$2:$J$1048576)","v":0},0,{"$f":"SUMIF(SOLICITUDES!$C$2:$C$1048576,BD!C1557,SOLICITUDES!$K$2:$K$1048576)","v":0},0]
[null,null,"T5783",112.5,13200,208,-76.603643106665771,2.438889561891076,56.25,56.25,22.5,22.5,{"$f":"SUMIF(SOLICITUDES!$C$2:$C$1048576,BD!C1558,SOLICITUDES!$I$2:$I$1048576)","v":0},0,{"$f":"SUMIF(SOLICITUDES!$C$2:$C$1048576,BD!C1558,SOLICITUDES!$J$2:$J$1048576)","v":0},0,{"$f":"SUMIF(SOLICITUDES!$C$2:$C$1048576,BD!C1558,SOLICITUDES!$K$2:$K$1048576)","v":0},0]
[null,null,"T3782",75,13200,208,-76.604328186973206,2.4370119332135012,37.5,37.5,15,15,{"$f":"SUMIF(SOLICITUDES!$C$2:$C$1048576,BD!C1559,SOLICITUDES!$I$2:$I$1048576)","v":0},0,{"$f":"SUMIF(SOLICITUDES!$C$2:$C$1048576,BD!C1559,SOLICITUDES!$J$2:$J$1048576)","v":0},0,{"$f":"SUMIF(SOLICITUDES!$C$2:$C$1048576,BD!C1559,SOLICITUDES!$K$2:$K$1048576)","v":0},0]
[null,null,"T3755",225,13200,208,-76.603529128339389,2.4391893941691682,112.5,112.5,45,45,{"$f":"SUMIF(SOLICITUDES!$C$2:$C$1048576,BD!C1560,SOLICITUDES!$I$2:$I$1048576)","v":0},0,{"$f":"SUMIF(SOLICITUDES!$C$2:$C$1048576,BD!C1560,SOLICITUDES!$J$2:$J$1048576)","v":0},0,{"$f":"SUMIF(SOLICITUDES!$C$2:$C$1048576,BD!C1560,SOLICITUDES!$K$2:$K$1048576)","v":0},0]
[null,null,"T3728",112.5,13200,208,-76.604883952523124,2.4386096675437869,56.25,56.25,22.5,22.5,{"$f":"SUMIF(SOLICITUDES!$C$2:$C$1048576,BD!C1561,SOLICITUDES!$I$2:$I$1048576)","v":0},0,{"$f":"SUMIF(SOLICITUDES!$C$2:$C$1048576,BD!C1561,SOLICITUDES!$J$2:$J$1048576)","v":0},0,{"$f":"SUMIF(SOLICITUDES!$C$2:$C$1048576,BD!C1561,SOLICITUDES!$K$2:$K$1048576)","v":0},0]
[null,null,"T3733",112.5,13200,208,-76.604821112737227,2.4383293011755596,56.25,56.25,22.5,22.5,{"$f":"SUMIF(SOLICITUDES!$C$2:$C$1048576,BD!C1562,SOLICITUDES!$I$2:$I$1048576)","v":0},0,{"$f":"SUMIF(SOLICITUDES!$C$2:$C$1048576,BD!C1562,SOLICITUDES!$J$2:$J$1048576)","v":0},0,{"$f":"SUMIF(SOLICITUDES!$C$2:$C$1048576,BD!C1562,SOLICITUDES!$K$2:$K$1048576)","v":0},0]
[null,null,"T3722",112.5,13200,208,-76.604713101129306,2.4386638626278478,56.25,56.25,22.5,22.5,{"$f":"SUMIF(SOLICITUDES!$C$2:$C$1048576,BD!C1563,SOLICITUDES!$I$2:$I$1048576)","v":0},0,{"$f":"SUMIF(SOLICITUDES!$C$2:$C$1048576,BD!C1563,SOLICITUDES!$J$2:$J$1048576)","v":0},0,{"$f":"SUMIF(SOLICITUDES!$C$2:$C$1048576,BD!C1563,SOLICITUDES!$K$2:$K$1048576)","v":0},0]
[null,null,"T3778",75,13200,208,-76.600838181118093,2.438201273979502,37.5,37.5,15,15,{"$f":"SUMIF(SOLICITUDES!$C$2:$C$1048576,BD!C1564,SOLICITUDES!$I$2:$I$1048576)","v":0},0,{"$f":"SUMIF(SOLICITUDES!$C$2:$C$1048576,BD!C1564,SOLICITUDES!$J$2:$J$1048576)","v":0},0,{"$f":"SUMIF(SOLICITUDES!$C$2:$C$1048576,BD!C1564,SOLICITUDES!$K$2:$K$1048576)","v":0},0]
[null,null,"T3793",75,13200,208,-76.602817535223153,2.4343676662745781,37.5,37.5,15,15,{"$f":"SUMIF(SOLICITUDES!$C$2:$C$1048576,BD!C1565,SOLICITUDES!$I$2:$I$1048576)","v":0},0,{"$f":"SUMIF(SOLICITUDES!$C$2:$C$1048576,BD!C1565,SOLICITUDES!$J$2:$J$1048576)","v":0},0,{"$f":"SUMIF(SOLICITUDES!$C$2:$C$1048576,BD!C1565,SOLICITUDES!$K$2:$K$1048576)","v":0},0]
[null,null,"T3759",150,13200,208,-76.602439525246524,2.4354798479404813,75,75,30,30,{"$f":"SUMIF(SOLICITUDES!$C$2:$C$1048576,BD!C1566,SOLICITUDES!$I$2:$I$1048576)","v":0},0,{"$f":"SUMIF(SOLICITUDES!$C$2:$C$1048576,BD!C1566,SOLICITUDES!$J$2:$J$1048576)","v":0},0,{"$f":"SUMIF(SOLICITUDES!$C$2:$C$1048576,BD!C1566,SOLICITUDES!$K$2:$K$1048576)","v":0},0]
[null,null,"T3754",45,13200,208,-76.600560115387893,2.4363744448158564,22.5,22.5,9,9,{"$f":"SUMIF(SOLICITUDES!$C$2:$C$1048576,BD!C1567,SOLICITUDES!$I$2:$I$1048576)","v":0},0,{"$f":"SUMIF(SOLICITUDES!$C$2:$C$1048576,BD!C1567,SOLICITUDES!$J$2:$J$1048576)","v":0},0,{"$f":"SUMIF(SOLICITUDES!$C$2:$C$1048576,BD!C1567,SOLICITUDES!$K$2:$K$1048576)","v":0},0]
[null,null,"T3775",75,13200,208,-76.602448938548505,2.4342771011060211,37.5,37.5,15,15,{"$f":"SUMIF(SOLICITUDES!$C$2:$C$1048576,BD!C1568,SOLICITUDES!$I$2:$I$1048576)","v":0},0,{"$f":"SUMIF(SOLICITUDES!$C$2:$C$1048576,BD!C1568,SOLICITUDES!$J$2:$J$1048576)","v":0},0,{"$f":"SUMIF(SOLICITUDES!$C$2:$C$1048576,BD!C1568,SOLICITUDES!$K$2:$K$1048576)","v":0},0]
[null,null,"T3783",45,13200,208,-76.60203520079196,2.4347381590546089,22.5,22.5,9,9,{"$f":"SUMIF(SOLICITUDES!$C$2:$C$1048576,BD!C1569,SOLICITUDES!$I$2:$I$1048576)","v":0},0,{"$f":"SUMIF(SOLICITUDES!$C$2:$C$1048576,BD!C1569,SOLICITUDES!$J$2:$J$1048576)","v":0},0,{"$f":"SUMIF(SOLICITUDES!$C$2:$C$1048576,BD!C1569,SOLICITUDES!$K$2:$K$1048576)","v":0},0]
[null,null,"T3786",75,13200,240,-76.604427509675773,2.4367351074618746,37.5,37.5,15,15,{"$f":"SUMIF(SOLICITUDES!$C$2:$C$1048576,BD!C1570,SOLICITUDES!$I$2:$I$1048576)","v":0},0,{"$f":"SUMIF(SOLICITUDES!$C$2:$C$1048576,BD!C1570,SOLICITUDES!$J$2:$J$1048576)","v":0},0,{"$f":"SUMIF(SOLICITUDES!$C$2:$C$1048576,BD!C1570,SOLICITUDES!$K$2:$K$1048576)","v":0},0]
[null,null,"T3767",45,13200,208,-76.601917566985406,2.4354605308023536,22.5,22.5,9,9,{"$f":"SUMIF(SOLICITUDES!$C$2:$C$1048576,BD!C1571,SOLICITUDES!$I$2:$I$1048576)","v":0},0,{"$f":"SUMIF(SOLICITUDES!$C$2:$C$1048576,BD!C1571,SOLICITUDES!$J$2:$J$1048576)","v":0},0,{"$f":"SUMIF(SOLICITUDES!$C$2:$C$1048576,BD!C1571,SOLICITUDES!$K$2:$K$1048576)","v":0},0]
[null,null,"T11447",112.5,13200,214,-76.60512430432793,2.4387886594192612,56.25,56.25,22.5,22.5,{"$f":"SUMIF(SOLICITUDES!$C$2:$C$1048576,BD!C1572,SOLICITUDES!$I$2:$I$1048576)","v":0},0,{"$f":"SUMIF(SOLICITUDES!$C$2:$C$1048576,BD!C1572,SOLICITUDES!$J$2:$J$1048576)","v":0},0,{"$f":"SUMIF(SOLICITUDES!$C$2:$C$1048576,BD!C1572,SOLICITUDES!$K$2:$K$1048576)","v":0},0]
[null,null,"T3723",112.5,13200,208,-76.60715070820514,2.4356352545456867,56.25,56.25,22.5,22.5,{"$f":"SUMIF(SOLICITUDES!$C$2:$C$1048576,BD!C1573,SOLICITUDES!$I$2:$I$1048576)","v":0},0,{"$f":"SUMIF(SOLICITUDES!$C$2:$C$1048576,BD!C1573,SOLICITUDES!$J$2:$J$1048576)","v":0},0,{"$f":"SUMIF(SOLICITUDES!$C$2:$C$1048576,BD!C1573,SOLICITUDES!$K$2:$K$1048576)","v":0},0]
[null,null,"T3742",30,13200,208,-76.608175565393708,2.4359430892238541,15,15,6,6,{"$f":"SUMIF(SOLICITUDES!$C$2:$C$1048576,BD!C1574,SOLICITUDES!$I$2:$I$1048576)","v":0},0,{"$f":"SUMIF(SOLICITUDES!$C$2:$C$1048576,BD!C1574,SOLICITUDES!$J$2:$J$1048576)","v":0},0,{"$f":"SUMIF(SOLICITUDES!$C$2:$C$1048576,BD!C1574,SOLICITUDES!$K$2:$K$1048576)","v":0},0]
[null,null,"T3751",75,13200,208,-76.609946156403339,2.4377252225804265,37.5,37.5,15,15,{"$f":"SUMIF(SOLICITUDES!$C$2:$C$1048576,BD!C1575,SOLICITUDES!$I$2:$I$1048576)","v":0},0,{"$f":"SUMIF(SOLICITUDES!$C$2:$C$1048576,BD!C1575,SOLICITUDES!$J$2:$J$1048576)","v":0},0,{"$f":"SUMIF(SOLICITUDES!$C$2:$C$1048576,BD!C1575,SOLICITUDES!$K$2:$K$1048576)","v":0},0]
[null,null,"T3746",112.5,13200,208,-76.60906516227152,2.4373903129498986,56.25,56.25,22.5,22.5,{"$f":"SUMIF(SOLICITUDES!$C$2:$C$1048576,BD!C1576,SOLICITUDES!$I$2:$I$1048576)","v":0},0,{"$f":"SUMIF(SOLICITUDES!$C$2:$C$1048576,BD!C1576,SOLICITUDES!$J$2:$J$1048576)","v":0},0,{"$f":"SUMIF(SOLICITUDES!$C$2:$C$1048576,BD!C1576,SOLICITUDES!$K$2:$K$1048576)","v":0},0]
[null,null,"T3727",112.5,13200,208,-76.610610468712721,2.4406283300790754,56.25,56.25,22.5,22.5,{"$f":"SUMIF(SOLICITUDES!$C$2:$C$1048576,BD!C1577,SOLICITUDES!$I$2:$I$1048576)","v":0},0,{"$f":"SUMIF(SOLICITUDES!$C$2:$C$1048576,BD!C1577,SOLICITUDES!$J$2:$J$1048576)","v":0},0,{"$f":"SUMIF(SOLICITUDES!$C$2:$C$1048576,BD!C1577,SOLICITUDES!$K$2:$K$1048576)","v":0},0]
[null,null,"T28720",0.5,13200,240,-76.609290147124625,2.4367664070481578,0.25,0.25,0.1,0.1,{"$f":"SUMIF(SOLICITUDES!$C$2:$C$1048576,BD!C1578,SOLICITUDES!$I$2:$I$1048576)","v":0},0,{"$f":"SUMIF(SOLICITUDES!$C$2:$C$1048576,BD!C1578,SOLICITUDES!$J$2:$J$1048576)","v":0},0,{"$f":"SUMIF(SOLICITUDES!$C$2:$C$1048576,BD!C1578,SOLICITUDES!$K$2:$K$1048576)","v":0},0]
[null,null,"T3735",45,13200,208,-76.611024024694785,2.4407279532264816,22.5,22.5,9,9,{"$f":"SUMIF(SOLICITUDES!$C$2:$C$1048576,BD!C1579,SOLICITUDES!$I$2:$I$1048576)","v":0},0,{"$f":"SUMIF(SOLICITUDES!$C$2:$C$1048576,BD!C1579,SOLICITUDES!$J$2:$J$1048576)","v":0},0,{"$f":"SUMIF(SOLICITUDES!$C$2:$C$1048576,BD!C1579,SOLICITUDES!$K$2:$K$1048576)","v":0},0]
[null,null,"T3729",75,13200,208,-76.609917337433657,2.4403774731576857,37.5,37.5,15,15,{"$f":"SUMIF(SOLICITUDES!$C$2:$C$1048576,BD!C1580,SOLICITUDES!$I$2:$I$1048576)","v":0},0,{"$f":"SUMIF(SOLICITUDES!$C$2:$C$1048576,BD!C1580,SOLICITUDES!$J$2:$J$1048576)","v":0},0,{"$f":"SUMIF(SOLICITUDES!$C$2:$C$1048576,BD!C1580,SOLICITUDES!$K$2:$K$1048576)","v":0},0]
[null,null,"T4330",225,13200,208,-76.605415614210585,2.4402372373297636,112.5,112.5,45,45,{"$f":"SUMIF(SOLICITUDES!$C$2:$C$1048576,BD!C1581,SOLICITUDES!$I$2:$I$1048576)","v":0},0,{"$f":"SUMIF(SOLICITUDES!$C$2:$C$1048576,BD!C1581,SOLICITUDES!$J$2:$J$1048576)","v":0},0,{"$f":"SUMIF(SOLICITUDES!$C$2:$C$1048576,BD!C1581,SOLICITUDES!$K$2:$K$1048576)","v":0},0]
[null,null,"T4322",225,13200,216,-76.6046072325952,2.4397974951055388,112.5,112.5,45,45,{"$f":"SUMIF(SOLICITUDES!$C$2:$C$1048576,BD!C1582,SOLICITUDES!$I$2:$I$1048576)","v":0},0,{"$f":"SUMIF(SOLICITUDES!$C$2:$C$1048576,BD!C1582,SOLICITUDES!$J$2:$J$1048576)","v":0},0,{"$f":"SUMIF(SOLICITUDES!$C$2:$C$1048576,BD!C1582,SOLICITUDES!$K$2:$K$1048576)","v":0},0]
[null,null,"T4324",45,13200,208,-76.607339261645905,2.4414732009257323,22.5,22.5,9,9,{"$f":"SUMIF(SOLICITUDES!$C$2:$C$1048576,BD!C1583,SOLICITUDES!$I$2:$I$1048576)","v":0},0,{"$f":"SUMIF(SOLICITUDES!$C$2:$C$1048576,BD!C1583,SOLICITUDES!$J$2:$J$1048576)","v":0},0,{"$f":"SUMIF(SOLICITUDES!$C$2:$C$1048576,BD!C1583,SOLICITUDES!$K$2:$K$1048576)","v":0},0]
[null,null,"T4620",630,13200,208,-76.607135530707822,2.4420735054103155,315,315,126,126,{"$f":"SUMIF(SOLICITUDES!$C$2:$C$1048576,BD!C1584,SOLICITUDES!$I$2:$I$1048576)","v":0},0,{"$f":"SUMIF(SOLICITUDES!$C$2:$C$1048576,BD!C1584,SOLICITUDES!$J$2:$J$1048576)","v":0},0,{"$f":"SUMIF(SOLICITUDES!$C$2:$C$1048576,BD!C1584,SOLICITUDES!$K$2:$K$1048576)","v":0},0]
[null,null,"T4327",45,13200,208,-76.606648989526875,2.441843786525923,22.5,22.5,9,9,{"$f":"SUMIF(SOLICITUDES!$C$2:$C$1048576,BD!C1585,SOLICITUDES!$I$2:$I$1048576)","v":0},0,{"$f":"SUMIF(SOLICITUDES!$C$2:$C$1048576,BD!C1585,SOLICITUDES!$J$2:$J$1048576)","v":0},0,{"$f":"SUMIF(SOLICITUDES!$C$2:$C$1048576,BD!C1585,SOLICITUDES!$K$2:$K$1048576)","v":0},0]
[null,null,"T4328",112.5,13200,208,-76.606331931883375,2.4418690736091526,56.25,56.25,22.5,22.5,{"$f":"SUMIF(SOLICITUDES!$C$2:$C$1048576,BD!C1586,SOLICITUDES!$I$2:$I$1048576)","v":0},0,{"$f":"SUMIF(SOLICITUDES!$C$2:$C$1048576,BD!C1586,SOLICITUDES!$J$2:$J$1048576)","v":0},0,{"$f":"SUMIF(SOLICITUDES!$C$2:$C$1048576,BD!C1586,SOLICITUDES!$K$2:$K$1048576)","v":0},0]
[null,null,"T4326",112.5,13200,208,-76.607284719637548,2.4431591794031942,56.25,56.25,22.5,22.5,{"$f":"SUMIF(SOLICITUDES!$C$2:$C$1048576,BD!C1587,SOLICITUDES!$I$2:$I$1048576)","v":0},0,{"$f":"SUMIF(SOLICITUDES!$C$2:$C$1048576,BD!C1587,SOLICITUDES!$J$2:$J$1048576)","v":0},0,{"$f":"SUMIF(SOLICITUDES!$C$2:$C$1048576,BD!C1587,SOLICITUDES!$K$2:$K$1048576)","v":0},0]
[null,null,"T4325",30,13200,208,-76.606763078616467,2.4416229136727039,15,15,6,6,{"$f":"SUMIF(SOLICITUDES!$C$2:$C$1048576,BD!C1588,SOLICITUDES!$I$2:$I$1048576)","v":0},0,{"$f":"SUMIF(SOLICITUDES!$C$2:$C$1048576,BD!C1588,SOLICITUDES!$J$2:$J$1048576)","v":0},0,{"$f":"SUMIF(SOLICITUDES!$C$2:$C$1048576,BD!C1588,SOLICITUDES!$K$2:$K$1048576)","v":0},0]
[null,null,"T4323",45,13200,208,-76.607086456317745,2.4433366811103676,22.5,22.5,9,9,{"$f":"SUMIF(SOLICITUDES!$C$2:$C$1048576,BD!C1589,SOLICITUDES!$I$2:$I$1048576)","v":0},0,{"$f":"SUMIF(SOLICITUDES!$C$2:$C$1048576,BD!C1589,SOLICITUDES!$J$2:$J$1048576)","v":0},0,{"$f":"SUMIF(SOLICITUDES!$C$2:$C$1048576,BD!C1589,SOLICITUDES!$K$2:$K$1048576)","v":0},0]
[null,null,"T4329",150,13200,208,-76.607172379718719,2.4436561687634137,75,75,30,30,{"$f":"SUMIF(SOLICITUDES!$C$2:$C$1048576,BD!C1590,SOLICITUDES!$I$2:$I$1048576)","v":0},0,{"$f":"SUMIF(SOLICITUDES!$C$2:$C$1048576,BD!C1590,SOLICITUDES!$J$2:$J$1048576)","v":0},0,{"$f":"SUMIF(SOLICITUDES!$C$2:$C$1048576,BD!C1590,SOLICITUDES!$K$2:$K$1048576)","v":0},0]
[null,null,"T4321",300,13200,208,-76.607285179057214,2.443454750114566,150,150,60,60,{"$f":"SUMIF(SOLICITUDES!$C$2:$C$1048576,BD!C1591,SOLICITUDES!$I$2:$I$1048576)","v":0},0,{"$f":"SUMIF(SOLICITUDES!$C$2:$C$1048576,BD!C1591,SOLICITUDES!$J$2:$J$1048576)","v":0},0,{"$f":"SUMIF(SOLICITUDES!$C$2:$C$1048576,BD!C1591,SOLICITUDES!$K$2:$K$1048576)","v":0},0]
[null,null,"T4198",100,13200,220,-76.600737886153411,2.4421259940197837,50,50,20,20,{"$f":"SUMIF(SOLICITUDES!$C$2:$C$1048576,BD!C1592,SOLICITUDES!$I$2:$I$1048576)","v":0},0,{"$f":"SUMIF(SOLICITUDES!$C$2:$C$1048576,BD!C1592,SOLICITUDES!$J$2:$J$1048576)","v":0},0,{"$f":"SUMIF(SOLICITUDES!$C$2:$C$1048576,BD!C1592,SOLICITUDES!$K$2:$K$1048576)","v":0},0]
[null,null,"T4200",75,13200,214,-76.601268292929021,2.4423070446773449,37.5,37.5,15,15,{"$f":"SUMIF(SOLICITUDES!$C$2:$C$1048576,BD!C1593,SOLICITUDES!$I$2:$I$1048576)","v":0},0,{"$f":"SUMIF(SOLICITUDES!$C$2:$C$1048576,BD!C1593,SOLICITUDES!$J$2:$J$1048576)","v":0},0,{"$f":"SUMIF(SOLICITUDES!$C$2:$C$1048576,BD!C1593,SOLICITUDES!$K$2:$K$1048576)","v":0},0]
[null,null,"T4116",75,13200,220,-76.601313107829924,2.4426959202450234,37.5,37.5,15,15,{"$f":"SUMIF(SOLICITUDES!$C$2:$C$1048576,BD!C1594,SOLICITUDES!$I$2:$I$1048576)","v":0},0,{"$f":"SUMIF(SOLICITUDES!$C$2:$C$1048576,BD!C1594,SOLICITUDES!$J$2:$J$1048576)","v":0},0,{"$f":"SUMIF(SOLICITUDES!$C$2:$C$1048576,BD!C1594,SOLICITUDES!$K$2:$K$1048576)","v":0},0]
[null,null,"T4193",112.5,13200,220,-76.60144808689121,2.4423704148219594,56.25,56.25,22.5,22.5,{"$f":"SUMIF(SOLICITUDES!$C$2:$C$1048576,BD!C1595,SOLICITUDES!$I$2:$I$1048576)","v":0},0,{"$f":"SUMIF(SOLICITUDES!$C$2:$C$1048576,BD!C1595,SOLICITUDES!$J$2:$J$1048576)","v":0},0,{"$f":"SUMIF(SOLICITUDES!$C$2:$C$1048576,BD!C1595,SOLICITUDES!$K$2:$K$1048576)","v":0},0]
[null,null,"T4169",75,13200,208,-76.601817957283728,2.4414390592688857,37.5,37.5,15,15,{"$f":"SUMIF(SOLICITUDES!$C$2:$C$1048576,BD!C1596,SOLICITUDES!$I$2:$I$1048576)","v":0},0,{"$f":"SUMIF(SOLICITUDES!$C$2:$C$1048576,BD!C1596,SOLICITUDES!$J$2:$J$1048576)","v":0},0,{"$f":"SUMIF(SOLICITUDES!$C$2:$C$1048576,BD!C1596,SOLICITUDES!$K$2:$K$1048576)","v":0},0]
[null,null,"T4107",100,13200,220,-76.600377973397784,2.4428945349079014,50,50,20,20,{"$f":"SUMIF(SOLICITUDES!$C$2:$C$1048576,BD!C1597,SOLICITUDES!$I$2:$I$1048576)","v":0},0,{"$f":"SUMIF(SOLICITUDES!$C$2:$C$1048576,BD!C1597,SOLICITUDES!$J$2:$J$1048576)","v":0},0,{"$f":"SUMIF(SOLICITUDES!$C$2:$C$1048576,BD!C1597,SOLICITUDES!$K$2:$K$1048576)","v":0},0]
[null,null,"T4224",75,13200,220,-76.600836070263355,2.4441517076389476,37.5,37.5,15,15,{"$f":"SUMIF(SOLICITUDES!$C$2:$C$1048576,BD!C1598,SOLICITUDES!$I$2:$I$1048576)","v":0},0,{"$f":"SUMIF(SOLICITUDES!$C$2:$C$1048576,BD!C1598,SOLICITUDES!$J$2:$J$1048576)","v":0},0,{"$f":"SUMIF(SOLICITUDES!$C$2:$C$1048576,BD!C1598,SOLICITUDES!$K$2:$K$1048576)","v":0},0]
[null,null,"T4215",75,13200,220,-76.600225160642296,2.4428221339273759,37.5,37.5,15,15,{"$f":"SUMIF(SOLICITUDES!$C$2:$C$1048576,BD!C1599,SOLICITUDES!$I$2:$I$1048576)","v":0},0,{"$f":"SUMIF(SOLICITUDES!$C$2:$C$1048576,BD!C1599,SOLICITUDES!$J$2:$J$1048576)","v":0},0,{"$f":"SUMIF(SOLICITUDES!$C$2:$C$1048576,BD!C1599,SOLICITUDES!$K$2:$K$1048576)","v":0},0]
[null,null,"T41988",0.5,13200,240,-76.601069869865995,2.4441571248226519,0.25,0.25,0.1,0.1,{"$f":"SUMIF(SOLICITUDES!$C$2:$C$1048576,BD!C1600,SOLICITUDES!$I$2:$I$1048576)","v":0},0,{"$f":"SUMIF(SOLICITUDES!$C$2:$C$1048576,BD!C1600,SOLICITUDES!$J$2:$J$1048576)","v":0},0,{"$f":"SUMIF(SOLICITUDES!$C$2:$C$1048576,BD!C1600,SOLICITUDES!$K$2:$K$1048576)","v":0},0]
[null,null,"T4171",30,13200,208,-76.599128378760525,2.4424961857570233,15,15,6,6,{"$f":"SUMIF(SOLICITUDES!$C$2:$C$1048576,BD!C1601,SOLICITUDES!$I$2:$I$1048576)","v":0},0,{"$f":"SUMIF(SOLICITUDES!$C$2:$C$1048576,BD!C1601,SOLICITUDES!$J$2:$J$1048576)","v":0},0,{"$f":"SUMIF(SOLICITUDES!$C$2:$C$1048576,BD!C1601,SOLICITUDES!$K$2:$K$1048576)","v":0},0]
[null,null,"T4144",30,13200,220,-76.59907446582217,2.4423966891181039,15,15,6,6,{"$f":"SUMIF(SOLICITUDES!$C$2:$C$1048576,BD!C1602,SOLICITUDES!$I$2:$I$1048576)","v":0},0,{"$f":"SUMIF(SOLICITUDES!$C$2:$C$1048576,BD!C1602,SOLICITUDES!$J$2:$J$1048576)","v":0},0,{"$f":"SUMIF(SOLICITUDES!$C$2:$C$1048576,BD!C1602,SOLICITUDES!$K$2:$K$1048576)","v":0},0]
[null,null,"T4091",15,13200,240,-76.60036803882636,2.4455441884973181,7.5,{"$f":"D1603*0.5-M1603","v":7.5},3,3,{"$f":"SUMIF(SOLICITUDES!$C$2:$C$1048576,BD!C1603,SOLICITUDES!$I$2:$I$1048576)","v":0},{"$f":"M1603/D1603","v":0},{"$f":"SUMIF(SOLICITUDES!$C$2:$C$1048576,BD!C1603,SOLICITUDES!$J$2:$J$1048576)","v":0},0,{"$f":"SUMIF(SOLICITUDES!$C$2:$C$1048576,BD!C1603,SOLICITUDES!$K$2:$K$1048576)","v":0},0]
[null,null,"T4177",112.5,13200,220,-76.59982009704828,2.4441332552966375,{"$f":"D1604*0.5","v":56.25},56.25,{"$f":"0.2*D1604","v":22.5},{"$f":"0.2*D1604","v":22.5},{"$f":"SUMIF(SOLICITUDES!$C$2:$C$1048576,BD!C1604,SOLICITUDES!$I$2:$I$1048576)","v":0},0,{"$f":"SUMIF(SOLICITUDES!$C$2:$C$1048576,BD!C1604,SOLICITUDES!$J$2:$J$1048576)","v":0},{"$f":"O1604/(2*K1604)","v":0},{"$f":"SUMIF(SOLICITUDES!$C$2:$C$1048576,BD!C1604,SOLICITUDES!$K$2:$K$1048576)","v":0},{"$f":"Q1604/(2*L1604)","v":0}]
[null,null,"T4167",75,13200,220,-76.600934322946074,2.4459603834183761,37.5,37.5,15,15,{"$f":"SUMIF(SOLICITUDES!$C$2:$C$1048576,BD!C1605,SOLICITUDES!$I$2:$I$1048576)","v":0},0,{"$f":"SUMIF(SOLICITUDES!$C$2:$C$1048576,BD!C1605,SOLICITUDES!$J$2:$J$1048576)","v":0},0,{"$f":"SUMIF(SOLICITUDES!$C$2:$C$1048576,BD!C1605,SOLICITUDES!$K$2:$K$1048576)","v":0},0]
[null,null,"T4122",75,13200,220,-76.599856226701434,2.443672060202156,37.5,37.5,15,15,{"$f":"SUMIF(SOLICITUDES!$C$2:$C$1048576,BD!C1606,SOLICITUDES!$I$2:$I$1048576)","v":0},0,{"$f":"SUMIF(SOLICITUDES!$C$2:$C$1048576,BD!C1606,SOLICITUDES!$J$2:$J$1048576)","v":0},0,{"$f":"SUMIF(SOLICITUDES!$C$2:$C$1048576,BD!C1606,SOLICITUDES!$K$2:$K$1048576)","v":0},0]
[null,null,"T4219",37.5,13200,220,-76.600192611314498,2.4458805407506032,18.75,18.75,7.5,7.5,{"$f":"SUMIF(SOLICITUDES!$C$2:$C$1048576,BD!C1607,SOLICITUDES!$I$2:$I$1048576)","v":0},0,{"$f":"SUMIF(SOLICITUDES!$C$2:$C$1048576,BD!C1607,SOLICITUDES!$J$2:$J$1048576)","v":0},0,{"$f":"SUMIF(SOLICITUDES!$C$2:$C$1048576,BD!C1607,SOLICITUDES!$K$2:$K$1048576)","v":0},0]
[null,null,"T4150",45,13200,220,-76.601211158866832,2.4461202225504404,22.5,22.5,9,9,{"$f":"SUMIF(SOLICITUDES!$C$2:$C$1048576,BD!C1608,SOLICITUDES!$I$2:$I$1048576)","v":0},0,{"$f":"SUMIF(SOLICITUDES!$C$2:$C$1048576,BD!C1608,SOLICITUDES!$J$2:$J$1048576)","v":0},0,{"$f":"SUMIF(SOLICITUDES!$C$2:$C$1048576,BD!C1608,SOLICITUDES!$K$2:$K$1048576)","v":0},0]
[null,null,"T14403",112.5,13200,208,-76.60207734343301,2.4426871543242541,56.25,56.25,22.5,22.5,{"$f":"SUMIF(SOLICITUDES!$C$2:$C$1048576,BD!C1609,SOLICITUDES!$I$2:$I$1048576)","v":0},0,{"$f":"SUMIF(SOLICITUDES!$C$2:$C$1048576,BD!C1609,SOLICITUDES!$J$2:$J$1048576)","v":0},0,{"$f":"SUMIF(SOLICITUDES!$C$2:$C$1048576,BD!C1609,SOLICITUDES!$K$2:$K$1048576)","v":0},0]
[null,null,"T20190",25,13200,240,-76.594696121519704,2.4417168656800676,12.5,12.5,5,5,{"$f":"SUMIF(SOLICITUDES!$C$2:$C$1048576,BD!C1610,SOLICITUDES!$I$2:$I$1048576)","v":0},0,{"$f":"SUMIF(SOLICITUDES!$C$2:$C$1048576,BD!C1610,SOLICITUDES!$J$2:$J$1048576)","v":0},0,{"$f":"SUMIF(SOLICITUDES!$C$2:$C$1048576,BD!C1610,SOLICITUDES!$K$2:$K$1048576)","v":0},0]
[null,null,"T4153",45,13200,220,-76.601608677922187,2.4458792398930771,22.5,22.5,9,9,{"$f":"SUMIF(SOLICITUDES!$C$2:$C$1048576,BD!C1611,SOLICITUDES!$I$2:$I$1048576)","v":0},0,{"$f":"SUMIF(SOLICITUDES!$C$2:$C$1048576,BD!C1611,SOLICITUDES!$J$2:$J$1048576)","v":0},0,{"$f":"SUMIF(SOLICITUDES!$C$2:$C$1048576,BD!C1611,SOLICITUDES!$K$2:$K$1048576)","v":0},0]
[null,null,"T4140",45,13200,220,-76.60133910542001,2.4454450634358915,22.5,22.5,9,9,{"$f":"SUMIF(SOLICITUDES!$C$2:$C$1048576,BD!C1612,SOLICITUDES!$I$2:$I$1048576)","v":0},0,{"$f":"SUMIF(SOLICITUDES!$C$2:$C$1048576,BD!C1612,SOLICITUDES!$J$2:$J$1048576)","v":0},0,{"$f":"SUMIF(SOLICITUDES!$C$2:$C$1048576,BD!C1612,SOLICITUDES!$K$2:$K$1048576)","v":0},0]
[null,null,"T4968",15,13200,220,-76.594678139689194,2.4417176287096112,7.5,7.5,3,3,{"$f":"SUMIF(SOLICITUDES!$C$2:$C$1048576,BD!C1613,SOLICITUDES!$I$2:$I$1048576)","v":0},0,{"$f":"SUMIF(SOLICITUDES!$C$2:$C$1048576,BD!C1613,SOLICITUDES!$J$2:$J$1048576)","v":0},0,{"$f":"SUMIF(SOLICITUDES!$C$2:$C$1048576,BD!C1613,SOLICITUDES!$K$2:$K$1048576)","v":0},0]
[null,null,"T4209",100,13200,208,-76.601918670460947,2.4444747672553508,50,50,20,20,{"$f":"SUMIF(SOLICITUDES!$C$2:$C$1048576,BD!C1614,SOLICITUDES!$I$2:$I$1048576)","v":0},0,{"$f":"SUMIF(SOLICITUDES!$C$2:$C$1048576,BD!C1614,SOLICITUDES!$J$2:$J$1048576)","v":0},0,{"$f":"SUMIF(SOLICITUDES!$C$2:$C$1048576,BD!C1614,SOLICITUDES!$K$2:$K$1048576)","v":0},0]
[null,null,"T4197",45,13200,220,-76.601465092958435,2.4451195595885475,22.5,22.5,9,9,{"$f":"SUMIF(SOLICITUDES!$C$2:$C$1048576,BD!C1615,SOLICITUDES!$I$2:$I$1048576)","v":0},0,{"$f":"SUMIF(SOLICITUDES!$C$2:$C$1048576,BD!C1615,SOLICITUDES!$J$2:$J$1048576)","v":0},0,{"$f":"SUMIF(SOLICITUDES!$C$2:$C$1048576,BD!C1615,SOLICITUDES!$K$2:$K$1048576)","v":0},0]
[null,null,"T4121",45,13200,214,-76.593966792754983,2.4446646770320664,22.5,22.5,9,9,{"$f":"SUMIF(SOLICITUDES!$C$2:$C$1048576,BD!C1616,SOLICITUDES!$I$2:$I$1048576)","v":0},0,{"$f":"SUMIF(SOLICITUDES!$C$2:$C$1048576,BD!C1616,SOLICITUDES!$J$2:$J$1048576)","v":0},0,{"$f":"SUMIF(SOLICITUDES!$C$2:$C$1048576,BD!C1616,SOLICITUDES!$K$2:$K$1048576)","v":0},0]
[null,null,"T4210",45,13200,220,-76.593595513782816,2.4425090715593791,22.5,22.5,9,9,{"$f":"SUMIF(SOLICITUDES!$C$2:$C$1048576,BD!C1617,SOLICITUDES!$I$2:$I$1048576)","v":0},0,{"$f":"SUMIF(SOLICITUDES!$C$2:$C$1048576,BD!C1617,SOLICITUDES!$J$2:$J$1048576)","v":0},0,{"$f":"SUMIF(SOLICITUDES!$C$2:$C$1048576,BD!C1617,SOLICITUDES!$K$2:$K$1048576)","v":0},0]
[null,null,"T4148",30,13200,220,-76.594102974651562,2.4410112741686358,15,15,6,6,{"$f":"SUMIF(SOLICITUDES!$C$2:$C$1048576,BD!C1618,SOLICITUDES!$I$2:$I$1048576)","v":0},0,{"$f":"SUMIF(SOLICITUDES!$C$2:$C$1048576,BD!C1618,SOLICITUDES!$J$2:$J$1048576)","v":0},0,{"$f":"SUMIF(SOLICITUDES!$C$2:$C$1048576,BD!C1618,SOLICITUDES!$K$2:$K$1048576)","v":0},0]
[null,null,"T4154",150,13200,220,-76.594532417787235,2.4468985570522488,75,75,30,30,{"$f":"SUMIF(SOLICITUDES!$C$2:$C$1048576,BD!C1619,SOLICITUDES!$I$2:$I$1048576)","v":0},0,{"$f":"SUMIF(SOLICITUDES!$C$2:$C$1048576,BD!C1619,SOLICITUDES!$J$2:$J$1048576)","v":0},0,{"$f":"SUMIF(SOLICITUDES!$C$2:$C$1048576,BD!C1619,SOLICITUDES!$K$2:$K$1048576)","v":0},0]
[null,null,"T4165",112.5,13200,220,-76.594333875514053,2.448942248883645,56.25,56.25,22.5,22.5,{"$f":"SUMIF(SOLICITUDES!$C$2:$C$1048576,BD!C1620,SOLICITUDES!$I$2:$I$1048576)","v":0},0,{"$f":"SUMIF(SOLICITUDES!$C$2:$C$1048576,BD!C1620,SOLICITUDES!$J$2:$J$1048576)","v":0},0,{"$f":"SUMIF(SOLICITUDES!$C$2:$C$1048576,BD!C1620,SOLICITUDES!$K$2:$K$1048576)","v":0},0]
[null,null,"T16178",150,13200,214,-76.599291883488135,2.4498096053004903,75,75,30,30,{"$f":"SUMIF(SOLICITUDES!$C$2:$C$1048576,BD!C1621,SOLICITUDES!$I$2:$I$1048576)","v":0},0,{"$f":"SUMIF(SOLICITUDES!$C$2:$C$1048576,BD!C1621,SOLICITUDES!$J$2:$J$1048576)","v":0},0,{"$f":"SUMIF(SOLICITUDES!$C$2:$C$1048576,BD!C1621,SOLICITUDES!$K$2:$K$1048576)","v":0},0]
[null,null,"T16214",37.5,13200,240,-76.599293148418369,2.4496556362750725,18.75,18.75,7.5,7.5,{"$f":"SUMIF(SOLICITUDES!$C$2:$C$1048576,BD!C1622,SOLICITUDES!$I$2:$I$1048576)","v":0},0,{"$f":"SUMIF(SOLICITUDES!$C$2:$C$1048576,BD!C1622,SOLICITUDES!$J$2:$J$1048576)","v":0},0,{"$f":"SUMIF(SOLICITUDES!$C$2:$C$1048576,BD!C1622,SOLICITUDES!$K$2:$K$1048576)","v":0},0]
[null,null,"T4106",112.5,13200,220,-76.595043813819274,2.4499101261374712,56.25,56.25,22.5,22.5,{"$f":"SUMIF(SOLICITUDES!$C$2:$C$1048576,BD!C1623,SOLICITUDES!$I$2:$I$1048576)","v":0},0,{"$f":"SUMIF(SOLICITUDES!$C$2:$C$1048576,BD!C1623,SOLICITUDES!$J$2:$J$1048576)","v":0},0,{"$f":"SUMIF(SOLICITUDES!$C$2:$C$1048576,BD!C1623,SOLICITUDES!$K$2:$K$1048576)","v":0},0]
[null,null,"T4160",112.5,13200,220,-76.59410893013191,2.4494304944421565,56.25,56.25,22.5,22.5,{"$f":"SUMIF(SOLICITUDES!$C$2:$C$1048576,BD!C1624,SOLICITUDES!$I$2:$I$1048576)","v":0},0,{"$f":"SUMIF(SOLICITUDES!$C$2:$C$1048576,BD!C1624,SOLICITUDES!$J$2:$J$1048576)","v":0},0,{"$f":"SUMIF(SOLICITUDES!$C$2:$C$1048576,BD!C1624,SOLICITUDES!$K$2:$K$1048576)","v":0},0]
[null,null,"T12834",15,13200,480,-76.593281792002784,2.4493397630860603,7.5,7.5,3,3,{"$f":"SUMIF(SOLICITUDES!$C$2:$C$1048576,BD!C1625,SOLICITUDES!$I$2:$I$1048576)","v":0},0,{"$f":"SUMIF(SOLICITUDES!$C$2:$C$1048576,BD!C1625,SOLICITUDES!$J$2:$J$1048576)","v":0},0,{"$f":"SUMIF(SOLICITUDES!$C$2:$C$1048576,BD!C1625,SOLICITUDES!$K$2:$K$1048576)","v":0},0]
[null,null,"T4135",75,13200,220,-76.592921763030432,2.4504248154271262,37.5,37.5,15,15,{"$f":"SUMIF(SOLICITUDES!$C$2:$C$1048576,BD!C1626,SOLICITUDES!$I$2:$I$1048576)","v":0},0,{"$f":"SUMIF(SOLICITUDES!$C$2:$C$1048576,BD!C1626,SOLICITUDES!$J$2:$J$1048576)","v":0},0,{"$f":"SUMIF(SOLICITUDES!$C$2:$C$1048576,BD!C1626,SOLICITUDES!$K$2:$K$1048576)","v":0},0]
[null,null,"T5766",630,13200,214,-76.599332951417622,2.4497146432896919,315,315,126,126,{"$f":"SUMIF(SOLICITUDES!$C$2:$C$1048576,BD!C1627,SOLICITUDES!$I$2:$I$1048576)","v":0},0,{"$f":"SUMIF(SOLICITUDES!$C$2:$C$1048576,BD!C1627,SOLICITUDES!$J$2:$J$1048576)","v":0},0,{"$f":"SUMIF(SOLICITUDES!$C$2:$C$1048576,BD!C1627,SOLICITUDES!$K$2:$K$1048576)","v":0},0]
[null,null,"T4155",150,13200,220,-76.591339406977781,2.4502433739600198,75,75,30,30,{"$f":"SUMIF(SOLICITUDES!$C$2:$C$1048576,BD!C1628,SOLICITUDES!$I$2:$I$1048576)","v":0},0,{"$f":"SUMIF(SOLICITUDES!$C$2:$C$1048576,BD!C1628,SOLICITUDES!$J$2:$J$1048576)","v":0},0,{"$f":"SUMIF(SOLICITUDES!$C$2:$C$1048576,BD!C1628,SOLICITUDES!$K$2:$K$1048576)","v":0},0]
[null,null,"T4114",75,13200,220,-76.59311044097754,2.4507685284483061,37.5,37.5,15,15,{"$f":"SUMIF(SOLICITUDES!$C$2:$C$1048576,BD!C1629,SOLICITUDES!$I$2:$I$1048576)","v":0},0,{"$f":"SUMIF(SOLICITUDES!$C$2:$C$1048576,BD!C1629,SOLICITUDES!$J$2:$J$1048576)","v":0},0,{"$f":"SUMIF(SOLICITUDES!$C$2:$C$1048576,BD!C1629,SOLICITUDES!$K$2:$K$1048576)","v":0},0]
[null,null,"T4120",112.5,13200,220,-76.591429766558093,2.449013528922567,56.25,56.25,22.5,22.5,{"$f":"SUMIF(SOLICITUDES!$C$2:$C$1048576,BD!C1630,SOLICITUDES!$I$2:$I$1048576)","v":0},0,{"$f":"SUMIF(SOLICITUDES!$C$2:$C$1048576,BD!C1630,SOLICITUDES!$J$2:$J$1048576)","v":0},0,{"$f":"SUMIF(SOLICITUDES!$C$2:$C$1048576,BD!C1630,SOLICITUDES!$K$2:$K$1048576)","v":0},0]
[null,null,"T51225",30,13200,208,-76.592004621977949,2.4505872505204493,15,15,6,6,{"$f":"SUMIF(SOLICITUDES!$C$2:$C$1048576,BD!C1631,SOLICITUDES!$I$2:$I$1048576)","v":0},0,{"$f":"SUMIF(SOLICITUDES!$C$2:$C$1048576,BD!C1631,SOLICITUDES!$J$2:$J$1048576)","v":0},0,{"$f":"SUMIF(SOLICITUDES!$C$2:$C$1048576,BD!C1631,SOLICITUDES!$K$2:$K$1048576)","v":0},0]
[null,null,"T4163",75,13200,220,-76.593236462006473,2.450370665569606,37.5,37.5,15,15,{"$f":"SUMIF(SOLICITUDES!$C$2:$C$1048576,BD!C1632,SOLICITUDES!$I$2:$I$1048576)","v":0},0,{"$f":"SUMIF(SOLICITUDES!$C$2:$C$1048576,BD!C1632,SOLICITUDES!$J$2:$J$1048576)","v":0},0,{"$f":"SUMIF(SOLICITUDES!$C$2:$C$1048576,BD!C1632,SOLICITUDES!$K$2:$K$1048576)","v":0},0]
[null,null,"T4113",75,13200,220,-76.593416216815314,2.4505516036800628,37.5,37.5,15,15,{"$f":"SUMIF(SOLICITUDES!$C$2:$C$1048576,BD!C1633,SOLICITUDES!$I$2:$I$1048576)","v":0},0,{"$f":"SUMIF(SOLICITUDES!$C$2:$C$1048576,BD!C1633,SOLICITUDES!$J$2:$J$1048576)","v":0},0,{"$f":"SUMIF(SOLICITUDES!$C$2:$C$1048576,BD!C1633,SOLICITUDES!$K$2:$K$1048576)","v":0},0]
[null,null,"T4181",75,13200,124,-76.591842736812481,2.450713801821069,37.5,37.5,15,15,{"$f":"SUMIF(SOLICITUDES!$C$2:$C$1048576,BD!C1634,SOLICITUDES!$I$2:$I$1048576)","v":0},0,{"$f":"SUMIF(SOLICITUDES!$C$2:$C$1048576,BD!C1634,SOLICITUDES!$J$2:$J$1048576)","v":0},0,{"$f":"SUMIF(SOLICITUDES!$C$2:$C$1048576,BD!C1634,SOLICITUDES!$K$2:$K$1048576)","v":0},0]
[null,null,"T4222",150,13200,220,-76.591339146456519,2.4509668299136362,75,75,30,30,{"$f":"SUMIF(SOLICITUDES!$C$2:$C$1048576,BD!C1635,SOLICITUDES!$I$2:$I$1048576)","v":0},0,{"$f":"SUMIF(SOLICITUDES!$C$2:$C$1048576,BD!C1635,SOLICITUDES!$J$2:$J$1048576)","v":0},0,{"$f":"SUMIF(SOLICITUDES!$C$2:$C$1048576,BD!C1635,SOLICITUDES!$K$2:$K$1048576)","v":0},0]
[null,null,"T5058",112.5,13200,220,-76.604369716271819,2.4435929230489259,56.25,56.25,22.5,22.5,{"$f":"SUMIF(SOLICITUDES!$C$2:$C$1048576,BD!C1636,SOLICITUDES!$I$2:$I$1048576)","v":0},0,{"$f":"SUMIF(SOLICITUDES!$C$2:$C$1048576,BD!C1636,SOLICITUDES!$J$2:$J$1048576)","v":0},0,{"$f":"SUMIF(SOLICITUDES!$C$2:$C$1048576,BD!C1636,SOLICITUDES!$K$2:$K$1048576)","v":0},0]
[null,null,"T20608",75,13200,208,-76.589972691612431,2.45049607584982,37.5,37.5,15,15,{"$f":"SUMIF(SOLICITUDES!$C$2:$C$1048576,BD!C1637,SOLICITUDES!$I$2:$I$1048576)","v":0},0,{"$f":"SUMIF(SOLICITUDES!$C$2:$C$1048576,BD!C1637,SOLICITUDES!$J$2:$J$1048576)","v":0},0,{"$f":"SUMIF(SOLICITUDES!$C$2:$C$1048576,BD!C1637,SOLICITUDES!$K$2:$K$1048576)","v":0},0]
[null,null,"T4139",112.5,13200,220,-76.593092749123556,2.4499727183324,56.25,56.25,22.5,22.5,{"$f":"SUMIF(SOLICITUDES!$C$2:$C$1048576,BD!C1638,SOLICITUDES!$I$2:$I$1048576)","v":0},0,{"$f":"SUMIF(SOLICITUDES!$C$2:$C$1048576,BD!C1638,SOLICITUDES!$J$2:$J$1048576)","v":0},0,{"$f":"SUMIF(SOLICITUDES!$C$2:$C$1048576,BD!C1638,SOLICITUDES!$K$2:$K$1048576)","v":0},0]
[null,null,"T4129",150,13200,220,-76.590628757522694,2.4512469013207987,75,75,30,30,{"$f":"SUMIF(SOLICITUDES!$C$2:$C$1048576,BD!C1639,SOLICITUDES!$I$2:$I$1048576)","v":0},0,{"$f":"SUMIF(SOLICITUDES!$C$2:$C$1048576,BD!C1639,SOLICITUDES!$J$2:$J$1048576)","v":0},0,{"$f":"SUMIF(SOLICITUDES!$C$2:$C$1048576,BD!C1639,SOLICITUDES!$K$2:$K$1048576)","v":0},0]
[null,null,"T5051",75,13200,208,-76.594450327061168,2.4501540741205945,37.5,37.5,15,15,{"$f":"SUMIF(SOLICITUDES!$C$2:$C$1048576,BD!C1640,SOLICITUDES!$I$2:$I$1048576)","v":0},0,{"$f":"SUMIF(SOLICITUDES!$C$2:$C$1048576,BD!C1640,SOLICITUDES!$J$2:$J$1048576)","v":0},0,{"$f":"SUMIF(SOLICITUDES!$C$2:$C$1048576,BD!C1640,SOLICITUDES!$K$2:$K$1048576)","v":0},0]
[null,null,"T4172",45,13200,208,-76.590287052015313,2.4513733779743361,22.5,22.5,9,9,{"$f":"SUMIF(SOLICITUDES!$C$2:$C$1048576,BD!C1641,SOLICITUDES!$I$2:$I$1048576)","v":0},0,{"$f":"SUMIF(SOLICITUDES!$C$2:$C$1048576,BD!C1641,SOLICITUDES!$J$2:$J$1048576)","v":0},0,{"$f":"SUMIF(SOLICITUDES!$C$2:$C$1048576,BD!C1641,SOLICITUDES!$K$2:$K$1048576)","v":0},0]
[null,null,"T4220",150,13200,220,-76.589891380794185,2.4515540995554241,75,75,30,30,{"$f":"SUMIF(SOLICITUDES!$C$2:$C$1048576,BD!C1642,SOLICITUDES!$I$2:$I$1048576)","v":0},0,{"$f":"SUMIF(SOLICITUDES!$C$2:$C$1048576,BD!C1642,SOLICITUDES!$J$2:$J$1048576)","v":0},0,{"$f":"SUMIF(SOLICITUDES!$C$2:$C$1048576,BD!C1642,SOLICITUDES!$K$2:$K$1048576)","v":0},0]
[null,null,"T4194",150,13200,220,-76.589424674368445,2.4524411249900866,75,75,30,30,{"$f":"SUMIF(SOLICITUDES!$C$2:$C$1048576,BD!C1643,SOLICITUDES!$I$2:$I$1048576)","v":0},0,{"$f":"SUMIF(SOLICITUDES!$C$2:$C$1048576,BD!C1643,SOLICITUDES!$J$2:$J$1048576)","v":0},0,{"$f":"SUMIF(SOLICITUDES!$C$2:$C$1048576,BD!C1643,SOLICITUDES!$K$2:$K$1048576)","v":0},0]
[null,null,"T42784",0.5,13200,240,-76.58972835337795,2.4548095847821867,0.25,0.25,0.1,0.1,{"$f":"SUMIF(SOLICITUDES!$C$2:$C$1048576,BD!C1644,SOLICITUDES!$I$2:$I$1048576)","v":0},0,{"$f":"SUMIF(SOLICITUDES!$C$2:$C$1048576,BD!C1644,SOLICITUDES!$J$2:$J$1048576)","v":0},0,{"$f":"SUMIF(SOLICITUDES!$C$2:$C$1048576,BD!C1644,SOLICITUDES!$K$2:$K$1048576)","v":0},0]
[null,null,"T4094",112.5,13200,220,-76.589566506252325,2.454854743330336,56.25,56.25,22.5,22.5,{"$f":"SUMIF(SOLICITUDES!$C$2:$C$1048576,BD!C1645,SOLICITUDES!$I$2:$I$1048576)","v":0},0,{"$f":"SUMIF(SOLICITUDES!$C$2:$C$1048576,BD!C1645,SOLICITUDES!$J$2:$J$1048576)","v":0},0,{"$f":"SUMIF(SOLICITUDES!$C$2:$C$1048576,BD!C1645,SOLICITUDES!$K$2:$K$1048576)","v":0},0]
[null,null,"T4128",45,13200,213,-76.588668565914546,2.4516802531897564,22.5,22.5,9,9,{"$f":"SUMIF(SOLICITUDES!$C$2:$C$1048576,BD!C1646,SOLICITUDES!$I$2:$I$1048576)","v":0},0,{"$f":"SUMIF(SOLICITUDES!$C$2:$C$1048576,BD!C1646,SOLICITUDES!$J$2:$J$1048576)","v":0},0,{"$f":"SUMIF(SOLICITUDES!$C$2:$C$1048576,BD!C1646,SOLICITUDES!$K$2:$K$1048576)","v":0},0]
[null,null,"T4115",75,13200,220,-76.589413623088205,2.4549451184720597,37.5,37.5,15,15,{"$f":"SUMIF(SOLICITUDES!$C$2:$C$1048576,BD!C1647,SOLICITUDES!$I$2:$I$1048576)","v":0},0,{"$f":"SUMIF(SOLICITUDES!$C$2:$C$1048576,BD!C1647,SOLICITUDES!$J$2:$J$1048576)","v":0},0,{"$f":"SUMIF(SOLICITUDES!$C$2:$C$1048576,BD!C1647,SOLICITUDES!$K$2:$K$1048576)","v":0},0]
[null,null,"T4227",37.5,13200,220,-76.590411243698952,2.4559854556828915,18.75,18.75,7.5,7.5,{"$f":"SUMIF(SOLICITUDES!$C$2:$C$1048576,BD!C1648,SOLICITUDES!$I$2:$I$1048576)","v":0},0,{"$f":"SUMIF(SOLICITUDES!$C$2:$C$1048576,BD!C1648,SOLICITUDES!$J$2:$J$1048576)","v":0},0,{"$f":"SUMIF(SOLICITUDES!$C$2:$C$1048576,BD!C1648,SOLICITUDES!$K$2:$K$1048576)","v":0},0]
[null,null,"T28731",0.5,13200,240,-76.590408440357507,2.4555690531637109,0.25,0.25,0.1,0.1,{"$f":"SUMIF(SOLICITUDES!$C$2:$C$1048576,BD!C1649,SOLICITUDES!$I$2:$I$1048576)","v":0},0,{"$f":"SUMIF(SOLICITUDES!$C$2:$C$1048576,BD!C1649,SOLICITUDES!$J$2:$J$1048576)","v":0},0,{"$f":"SUMIF(SOLICITUDES!$C$2:$C$1048576,BD!C1649,SOLICITUDES!$K$2:$K$1048576)","v":0},0]
[null,null,"T23824",15,13200,240,-76.587954692529834,2.4504780264305599,7.5,7.5,3,3,{"$f":"SUMIF(SOLICITUDES!$C$2:$C$1048576,BD!C1650,SOLICITUDES!$I$2:$I$1048576)","v":0},0,{"$f":"SUMIF(SOLICITUDES!$C$2:$C$1048576,BD!C1650,SOLICITUDES!$J$2:$J$1048576)","v":0},0,{"$f":"SUMIF(SOLICITUDES!$C$2:$C$1048576,BD!C1650,SOLICITUDES!$K$2:$K$1048576)","v":0},0]
[null,null,"T18432",75,13200,208,-76.589540828794,2.4513007621898919,37.5,37.5,15,15,{"$f":"SUMIF(SOLICITUDES!$C$2:$C$1048576,BD!C1651,SOLICITUDES!$I$2:$I$1048576)","v":0},0,{"$f":"SUMIF(SOLICITUDES!$C$2:$C$1048576,BD!C1651,SOLICITUDES!$J$2:$J$1048576)","v":0},0,{"$f":"SUMIF(SOLICITUDES!$C$2:$C$1048576,BD!C1651,SOLICITUDES!$K$2:$K$1048576)","v":0},0]
[null,null,"T4199",50,13200,220,-76.58347320555238,2.4478078333643509,25,25,10,10,{"$f":"SUMIF(SOLICITUDES!$C$2:$C$1048576,BD!C1652,SOLICITUDES!$I$2:$I$1048576)","v":0},0,{"$f":"SUMIF(SOLICITUDES!$C$2:$C$1048576,BD!C1652,SOLICITUDES!$J$2:$J$1048576)","v":0},0,{"$f":"SUMIF(SOLICITUDES!$C$2:$C$1048576,BD!C1652,SOLICITUDES!$K$2:$K$1048576)","v":0},0]
[null,null,"T10054",37.5,13200,214,-76.589444978866112,2.4484024842979388,18.75,18.75,7.5,7.5,{"$f":"SUMIF(SOLICITUDES!$C$2:$C$1048576,BD!C1653,SOLICITUDES!$I$2:$I$1048576)","v":0},0,{"$f":"SUMIF(SOLICITUDES!$C$2:$C$1048576,BD!C1653,SOLICITUDES!$J$2:$J$1048576)","v":0},0,{"$f":"SUMIF(SOLICITUDES!$C$2:$C$1048576,BD!C1653,SOLICITUDES!$K$2:$K$1048576)","v":0},0]
[null,null,"T16934",225,13200,208,-76.605917081966723,2.4436252664103977,112.5,112.5,45,45,{"$f":"SUMIF(SOLICITUDES!$C$2:$C$1048576,BD!C1654,SOLICITUDES!$I$2:$I$1048576)","v":0},0,{"$f":"SUMIF(SOLICITUDES!$C$2:$C$1048576,BD!C1654,SOLICITUDES!$J$2:$J$1048576)","v":0},0,{"$f":"SUMIF(SOLICITUDES!$C$2:$C$1048576,BD!C1654,SOLICITUDES!$K$2:$K$1048576)","v":0},0]
[null,null,"T15102",30,13200,208,-76.592250525870185,2.4543787573233935,15,15,6,6,{"$f":"SUMIF(SOLICITUDES!$C$2:$C$1048576,BD!C1655,SOLICITUDES!$I$2:$I$1048576)","v":0},0,{"$f":"SUMIF(SOLICITUDES!$C$2:$C$1048576,BD!C1655,SOLICITUDES!$J$2:$J$1048576)","v":0},0,{"$f":"SUMIF(SOLICITUDES!$C$2:$C$1048576,BD!C1655,SOLICITUDES!$K$2:$K$1048576)","v":0},0]
[null,null,"T4152",37.5,13200,220,-76.581914865934863,2.4471074043403114,18.75,18.75,7.5,7.5,{"$f":"SUMIF(SOLICITUDES!$C$2:$C$1048576,BD!C1656,SOLICITUDES!$I$2:$I$1048576)","v":0},0,{"$f":"SUMIF(SOLICITUDES!$C$2:$C$1048576,BD!C1656,SOLICITUDES!$J$2:$J$1048576)","v":0},0,{"$f":"SUMIF(SOLICITUDES!$C$2:$C$1048576,BD!C1656,SOLICITUDES!$K$2:$K$1048576)","v":0},0]
[null,null,"T1817",30,13200,208,-76.592308311800807,2.456085630508789,15,15,6,6,{"$f":"SUMIF(SOLICITUDES!$C$2:$C$1048576,BD!C1657,SOLICITUDES!$I$2:$I$1048576)","v":0},0,{"$f":"SUMIF(SOLICITUDES!$C$2:$C$1048576,BD!C1657,SOLICITUDES!$J$2:$J$1048576)","v":0},0,{"$f":"SUMIF(SOLICITUDES!$C$2:$C$1048576,BD!C1657,SOLICITUDES!$K$2:$K$1048576)","v":0},0]
[null,null,"T3873",45,13200,208,-76.592811798018914,2.4561310321514651,22.5,22.5,9,9,{"$f":"SUMIF(SOLICITUDES!$C$2:$C$1048576,BD!C1658,SOLICITUDES!$I$2:$I$1048576)","v":0},0,{"$f":"SUMIF(SOLICITUDES!$C$2:$C$1048576,BD!C1658,SOLICITUDES!$J$2:$J$1048576)","v":0},0,{"$f":"SUMIF(SOLICITUDES!$C$2:$C$1048576,BD!C1658,SOLICITUDES!$K$2:$K$1048576)","v":0},0]
[null,null,"T4142",75,13200,220,-76.587434856330063,2.4569610181460604,37.5,37.5,15,15,{"$f":"SUMIF(SOLICITUDES!$C$2:$C$1048576,BD!C1659,SOLICITUDES!$I$2:$I$1048576)","v":0},0,{"$f":"SUMIF(SOLICITUDES!$C$2:$C$1048576,BD!C1659,SOLICITUDES!$J$2:$J$1048576)","v":0},0,{"$f":"SUMIF(SOLICITUDES!$C$2:$C$1048576,BD!C1659,SOLICITUDES!$K$2:$K$1048576)","v":0},0]
[null,null,"T2431",45,13200,208,-76.593719190455488,2.4537638576005003,22.5,22.5,9,9,{"$f":"SUMIF(SOLICITUDES!$C$2:$C$1048576,BD!C1660,SOLICITUDES!$I$2:$I$1048576)","v":0},0,{"$f":"SUMIF(SOLICITUDES!$C$2:$C$1048576,BD!C1660,SOLICITUDES!$J$2:$J$1048576)","v":0},0,{"$f":"SUMIF(SOLICITUDES!$C$2:$C$1048576,BD!C1660,SOLICITUDES!$K$2:$K$1048576)","v":0},0]
[null,null,"T44917",30,13200,214,-76.593256058996943,2.4549863979166222,15,15,6,6,{"$f":"SUMIF(SOLICITUDES!$C$2:$C$1048576,BD!C1661,SOLICITUDES!$I$2:$I$1048576)","v":0},0,{"$f":"SUMIF(SOLICITUDES!$C$2:$C$1048576,BD!C1661,SOLICITUDES!$J$2:$J$1048576)","v":0},0,{"$f":"SUMIF(SOLICITUDES!$C$2:$C$1048576,BD!C1661,SOLICITUDES!$K$2:$K$1048576)","v":0},0]
[null,null,"T3874",112.5,13200,208,-76.593543917398137,2.454619414824013,56.25,56.25,22.5,22.5,{"$f":"SUMIF(SOLICITUDES!$C$2:$C$1048576,BD!C1662,SOLICITUDES!$I$2:$I$1048576)","v":0},0,{"$f":"SUMIF(SOLICITUDES!$C$2:$C$1048576,BD!C1662,SOLICITUDES!$J$2:$J$1048576)","v":0},0,{"$f":"SUMIF(SOLICITUDES!$C$2:$C$1048576,BD!C1662,SOLICITUDES!$K$2:$K$1048576)","v":0},0]
[null,null,"T5779",75,13200,208,-76.591870840941112,2.4567008511275028,37.5,37.5,15,15,{"$f":"SUMIF(SOLICITUDES!$C$2:$C$1048576,BD!C1663,SOLICITUDES!$I$2:$I$1048576)","v":0},0,{"$f":"SUMIF(SOLICITUDES!$C$2:$C$1048576,BD!C1663,SOLICITUDES!$J$2:$J$1048576)","v":0},0,{"$f":"SUMIF(SOLICITUDES!$C$2:$C$1048576,BD!C1663,SOLICITUDES!$K$2:$K$1048576)","v":0},0]
[null,null,"T3876",112.5,13200,208,-76.594259800902321,2.454901685787521,56.25,56.25,22.5,22.5,{"$f":"SUMIF(SOLICITUDES!$C$2:$C$1048576,BD!C1664,SOLICITUDES!$I$2:$I$1048576)","v":0},0,{"$f":"SUMIF(SOLICITUDES!$C$2:$C$1048576,BD!C1664,SOLICITUDES!$J$2:$J$1048576)","v":0},0,{"$f":"SUMIF(SOLICITUDES!$C$2:$C$1048576,BD!C1664,SOLICITUDES!$K$2:$K$1048576)","v":0},0]
[null,null,"T3872",45,13200,208,-76.591471712259633,2.4572880720092982,22.5,22.5,9,9,{"$f":"SUMIF(SOLICITUDES!$C$2:$C$1048576,BD!C1665,SOLICITUDES!$I$2:$I$1048576)","v":0},0,{"$f":"SUMIF(SOLICITUDES!$C$2:$C$1048576,BD!C1665,SOLICITUDES!$J$2:$J$1048576)","v":0},0,{"$f":"SUMIF(SOLICITUDES!$C$2:$C$1048576,BD!C1665,SOLICITUDES!$K$2:$K$1048576)","v":0},0]
[null,null,"T3875",45,13200,208,-76.593692922814228,2.4561132721729111,22.5,22.5,9,9,{"$f":"SUMIF(SOLICITUDES!$C$2:$C$1048576,BD!C1666,SOLICITUDES!$I$2:$I$1048576)","v":0},0,{"$f":"SUMIF(SOLICITUDES!$C$2:$C$1048576,BD!C1666,SOLICITUDES!$J$2:$J$1048576)","v":0},0,{"$f":"SUMIF(SOLICITUDES!$C$2:$C$1048576,BD!C1666,SOLICITUDES!$K$2:$K$1048576)","v":0},0]
[null,null,"T4214",112.5,13200,220,-76.584001855916213,2.4527094407245662,56.25,{"$f":"D1667*0.5-M1667","v":56.25},22.5,22.5,{"$f":"SUMIF(SOLICITUDES!$C$2:$C$1048576,BD!C1667,SOLICITUDES!$I$2:$I$1048576)","v":0},{"$f":"M1667/D1667","v":0},{"$f":"SUMIF(SOLICITUDES!$C$2:$C$1048576,BD!C1667,SOLICITUDES!$J$2:$J$1048576)","v":0},0,{"$f":"SUMIF(SOLICITUDES!$C$2:$C$1048576,BD!C1667,SOLICITUDES!$K$2:$K$1048576)","v":0},0]
[null,null,"T4133",37.5,13200,240,-76.58050681239844,2.4461246944081858,{"$f":"D1668*0.5","v":18.75},18.75,{"$f":"0.2*D1668","v":7.5},{"$f":"0.2*D1668","v":7.5},{"$f":"SUMIF(SOLICITUDES!$C$2:$C$1048576,BD!C1668,SOLICITUDES!$I$2:$I$1048576)","v":0},0,{"$f":"SUMIF(SOLICITUDES!$C$2:$C$1048576,BD!C1668,SOLICITUDES!$J$2:$J$1048576)","v":0},{"$f":"O1668/(2*K1668)","v":0},{"$f":"SUMIF(SOLICITUDES!$C$2:$C$1048576,BD!C1668,SOLICITUDES!$K$2:$K$1048576)","v":0},{"$f":"Q1668/(2*L1668)","v":0}]
[null,null,"T3877",50,13200,240,-76.594358461076581,2.4555437920979615,25,25,10,10,{"$f":"SUMIF(SOLICITUDES!$C$2:$C$1048576,BD!C1669,SOLICITUDES!$I$2:$I$1048576)","v":0},0,{"$f":"SUMIF(SOLICITUDES!$C$2:$C$1048576,BD!C1669,SOLICITUDES!$J$2:$J$1048576)","v":0},0,{"$f":"SUMIF(SOLICITUDES!$C$2:$C$1048576,BD!C1669,SOLICITUDES!$K$2:$K$1048576)","v":0},0]
[null,null,"T5053",150,13200,208,-76.605061990568998,2.4436648832019245,75,75,30,30,{"$f":"SUMIF(SOLICITUDES!$C$2:$C$1048576,BD!C1670,SOLICITUDES!$I$2:$I$1048576)","v":0},0,{"$f":"SUMIF(SOLICITUDES!$C$2:$C$1048576,BD!C1670,SOLICITUDES!$J$2:$J$1048576)","v":0},0,{"$f":"SUMIF(SOLICITUDES!$C$2:$C$1048576,BD!C1670,SOLICITUDES!$K$2:$K$1048576)","v":0},0]
[null,null,"T16945",112.5,13200,208,-76.605284796314137,2.4434079946183642,56.25,56.25,22.5,22.5,{"$f":"SUMIF(SOLICITUDES!$C$2:$C$1048576,BD!C1671,SOLICITUDES!$I$2:$I$1048576)","v":0},0,{"$f":"SUMIF(SOLICITUDES!$C$2:$C$1048576,BD!C1671,SOLICITUDES!$J$2:$J$1048576)","v":0},0,{"$f":"SUMIF(SOLICITUDES!$C$2:$C$1048576,BD!C1671,SOLICITUDES!$K$2:$K$1048576)","v":0},0]
[null,null,"T2797",75,13200,208,-76.594445123384929,2.4556597541394116,37.5,37.5,15,15,{"$f":"SUMIF(SOLICITUDES!$C$2:$C$1048576,BD!C1672,SOLICITUDES!$I$2:$I$1048576)","v":0},0,{"$f":"SUMIF(SOLICITUDES!$C$2:$C$1048576,BD!C1672,SOLICITUDES!$J$2:$J$1048576)","v":0},0,{"$f":"SUMIF(SOLICITUDES!$C$2:$C$1048576,BD!C1672,SOLICITUDES!$K$2:$K$1048576)","v":0},0]
[null,null,"T4179",75,13200,208,-76.590601906483428,2.454258333419121,37.5,37.5,15,15,{"$f":"SUMIF(SOLICITUDES!$C$2:$C$1048576,BD!C1673,SOLICITUDES!$I$2:$I$1048576)","v":0},0,{"$f":"SUMIF(SOLICITUDES!$C$2:$C$1048576,BD!C1673,SOLICITUDES!$J$2:$J$1048576)","v":0},0,{"$f":"SUMIF(SOLICITUDES!$C$2:$C$1048576,BD!C1673,SOLICITUDES!$K$2:$K$1048576)","v":0},0]
[null,null,"T4112",75,13200,220,-76.593127687168504,2.4528213326360166,37.5,37.5,15,15,{"$f":"SUMIF(SOLICITUDES!$C$2:$C$1048576,BD!C1674,SOLICITUDES!$I$2:$I$1048576)","v":0},0,{"$f":"SUMIF(SOLICITUDES!$C$2:$C$1048576,BD!C1674,SOLICITUDES!$J$2:$J$1048576)","v":0},0,{"$f":"SUMIF(SOLICITUDES!$C$2:$C$1048576,BD!C1674,SOLICITUDES!$K$2:$K$1048576)","v":0},0]
[null,null,"T18777",75,13200,214,-76.583457516303781,2.4520714327460893,37.5,37.5,15,15,{"$f":"SUMIF(SOLICITUDES!$C$2:$C$1048576,BD!C1675,SOLICITUDES!$I$2:$I$1048576)","v":0},0,{"$f":"SUMIF(SOLICITUDES!$C$2:$C$1048576,BD!C1675,SOLICITUDES!$J$2:$J$1048576)","v":0},0,{"$f":"SUMIF(SOLICITUDES!$C$2:$C$1048576,BD!C1675,SOLICITUDES!$K$2:$K$1048576)","v":0},0]
[null,null,"T4168",225,13200,220,-76.590430277607126,2.4531097236477826,112.5,112.5,45,45,{"$f":"SUMIF(SOLICITUDES!$C$2:$C$1048576,BD!C1676,SOLICITUDES!$I$2:$I$1048576)","v":0},0,{"$f":"SUMIF(SOLICITUDES!$C$2:$C$1048576,BD!C1676,SOLICITUDES!$J$2:$J$1048576)","v":0},0,{"$f":"SUMIF(SOLICITUDES!$C$2:$C$1048576,BD!C1676,SOLICITUDES!$K$2:$K$1048576)","v":0},0]
[null,null,"T4217",75,13200,220,-76.593658272115405,2.4524869328396757,37.5,37.5,15,15,{"$f":"SUMIF(SOLICITUDES!$C$2:$C$1048576,BD!C1677,SOLICITUDES!$I$2:$I$1048576)","v":0},0,{"$f":"SUMIF(SOLICITUDES!$C$2:$C$1048576,BD!C1677,SOLICITUDES!$J$2:$J$1048576)","v":0},0,{"$f":"SUMIF(SOLICITUDES!$C$2:$C$1048576,BD!C1677,SOLICITUDES!$K$2:$K$1048576)","v":0},0]
[null,null,"T4090",37.5,13200,220,-76.576452478433566,2.4445677406492723,18.75,18.75,7.5,7.5,{"$f":"SUMIF(SOLICITUDES!$C$2:$C$1048576,BD!C1678,SOLICITUDES!$I$2:$I$1048576)","v":0},0,{"$f":"SUMIF(SOLICITUDES!$C$2:$C$1048576,BD!C1678,SOLICITUDES!$J$2:$J$1048576)","v":0},0,{"$f":"SUMIF(SOLICITUDES!$C$2:$C$1048576,BD!C1678,SOLICITUDES!$K$2:$K$1048576)","v":0},0]
[null,null,"T4208",15,13200,220,-76.568378617967753,2.4446098787538784,7.5,7.5,3,3,{"$f":"SUMIF(SOLICITUDES!$C$2:$C$1048576,BD!C1679,SOLICITUDES!$I$2:$I$1048576)","v":0},0,{"$f":"SUMIF(SOLICITUDES!$C$2:$C$1048576,BD!C1679,SOLICITUDES!$J$2:$J$1048576)","v":0},0,{"$f":"SUMIF(SOLICITUDES!$C$2:$C$1048576,BD!C1679,SOLICITUDES!$K$2:$K$1048576)","v":0},0]
[null,null,"T4159",75,13200,220,-76.59426975187273,2.4522429900285845,37.5,37.5,15,15,{"$f":"SUMIF(SOLICITUDES!$C$2:$C$1048576,BD!C1680,SOLICITUDES!$I$2:$I$1048576)","v":0},0,{"$f":"SUMIF(SOLICITUDES!$C$2:$C$1048576,BD!C1680,SOLICITUDES!$J$2:$J$1048576)","v":0},0,{"$f":"SUMIF(SOLICITUDES!$C$2:$C$1048576,BD!C1680,SOLICITUDES!$K$2:$K$1048576)","v":0},0]
[null,null,"T4110",75,13200,220,-76.594548280495445,2.4527675940828924,37.5,37.5,15,15,{"$f":"SUMIF(SOLICITUDES!$C$2:$C$1048576,BD!C1681,SOLICITUDES!$I$2:$I$1048576)","v":0},0,{"$f":"SUMIF(SOLICITUDES!$C$2:$C$1048576,BD!C1681,SOLICITUDES!$J$2:$J$1048576)","v":0},0,{"$f":"SUMIF(SOLICITUDES!$C$2:$C$1048576,BD!C1681,SOLICITUDES!$K$2:$K$1048576)","v":0},0]
[null,null,"T10621",30,13200,208,-76.595022487036346,2.4530163948729582,15,15,6,6,{"$f":"SUMIF(SOLICITUDES!$C$2:$C$1048576,BD!C1682,SOLICITUDES!$I$2:$I$1048576)","v":0},0,{"$f":"SUMIF(SOLICITUDES!$C$2:$C$1048576,BD!C1682,SOLICITUDES!$J$2:$J$1048576)","v":0},0,{"$f":"SUMIF(SOLICITUDES!$C$2:$C$1048576,BD!C1682,SOLICITUDES!$K$2:$K$1048576)","v":0},0]
[null,null,"T4149",75,13200,220,-76.593442848605747,2.451501144808403,37.5,37.5,15,15,{"$f":"SUMIF(SOLICITUDES!$C$2:$C$1048576,BD!C1683,SOLICITUDES!$I$2:$I$1048576)","v":0},0,{"$f":"SUMIF(SOLICITUDES!$C$2:$C$1048576,BD!C1683,SOLICITUDES!$J$2:$J$1048576)","v":0},0,{"$f":"SUMIF(SOLICITUDES!$C$2:$C$1048576,BD!C1683,SOLICITUDES!$K$2:$K$1048576)","v":0},0]
[null,null,"T4136",10,13200,220,-76.568169467598963,2.4440529570870937,5,5,2,2,{"$f":"SUMIF(SOLICITUDES!$C$2:$C$1048576,BD!C1684,SOLICITUDES!$I$2:$I$1048576)","v":0},0,{"$f":"SUMIF(SOLICITUDES!$C$2:$C$1048576,BD!C1684,SOLICITUDES!$J$2:$J$1048576)","v":0},0,{"$f":"SUMIF(SOLICITUDES!$C$2:$C$1048576,BD!C1684,SOLICITUDES!$K$2:$K$1048576)","v":0},0]
[null,null,"T5054",630,13200,240,-76.604803787034896,2.4412870007890803,315,315,126,126,{"$f":"SUMIF(SOLICITUDES!$C$2:$C$1048576,BD!C1685,SOLICITUDES!$I$2:$I$1048576)","v":0},0,{"$f":"SUMIF(SOLICITUDES!$C$2:$C$1048576,BD!C1685,SOLICITUDES!$J$2:$J$1048576)","v":0},0,{"$f":"SUMIF(SOLICITUDES!$C$2:$C$1048576,BD!C1685,SOLICITUDES!$K$2:$K$1048576)","v":0},0]
[null,null,"T16949",300,13200,208,-76.60469859882933,2.4418336311777495,150,150,60,60,{"$f":"SUMIF(SOLICITUDES!$C$2:$C$1048576,BD!C1686,SOLICITUDES!$I$2:$I$1048576)","v":0},0,{"$f":"SUMIF(SOLICITUDES!$C$2:$C$1048576,BD!C1686,SOLICITUDES!$J$2:$J$1048576)","v":0},0,{"$f":"SUMIF(SOLICITUDES!$C$2:$C$1048576,BD!C1686,SOLICITUDES!$K$2:$K$1048576)","v":0},0]
[null,null,"T4942",75,13200,208,-76.60522529908144,2.4408619525999646,37.5,37.5,15,15,{"$f":"SUMIF(SOLICITUDES!$C$2:$C$1048576,BD!C1687,SOLICITUDES!$I$2:$I$1048576)","v":0},0,{"$f":"SUMIF(SOLICITUDES!$C$2:$C$1048576,BD!C1687,SOLICITUDES!$J$2:$J$1048576)","v":0},0,{"$f":"SUMIF(SOLICITUDES!$C$2:$C$1048576,BD!C1687,SOLICITUDES!$K$2:$K$1048576)","v":0},0]
[null,null,"T16958",200,13200,208,-76.604235890678652,2.4415104983420339,100,100,40,40,{"$f":"SUMIF(SOLICITUDES!$C$2:$C$1048576,BD!C1688,SOLICITUDES!$I$2:$I$1048576)","v":0},0,{"$f":"SUMIF(SOLICITUDES!$C$2:$C$1048576,BD!C1688,SOLICITUDES!$J$2:$J$1048576)","v":0},0,{"$f":"SUMIF(SOLICITUDES!$C$2:$C$1048576,BD!C1688,SOLICITUDES!$K$2:$K$1048576)","v":0},0]
[null,null,"T16937",30,13200,208,-76.605705943773145,2.4416236593492346,15,15,6,6,{"$f":"SUMIF(SOLICITUDES!$C$2:$C$1048576,BD!C1689,SOLICITUDES!$I$2:$I$1048576)","v":0},0,{"$f":"SUMIF(SOLICITUDES!$C$2:$C$1048576,BD!C1689,SOLICITUDES!$J$2:$J$1048576)","v":0},0,{"$f":"SUMIF(SOLICITUDES!$C$2:$C$1048576,BD!C1689,SOLICITUDES!$K$2:$K$1048576)","v":0},0]
[null,null,"T3822",37.5,13200,240,-76.593550440523131,2.4275819193547736,18.75,18.75,7.5,7.5,{"$f":"SUMIF(SOLICITUDES!$C$2:$C$1048576,BD!C1690,SOLICITUDES!$I$2:$I$1048576)","v":0},0,{"$f":"SUMIF(SOLICITUDES!$C$2:$C$1048576,BD!C1690,SOLICITUDES!$J$2:$J$1048576)","v":0},0,{"$f":"SUMIF(SOLICITUDES!$C$2:$C$1048576,BD!C1690,SOLICITUDES!$K$2:$K$1048576)","v":0},0]
[null,null,"T42345",15,13200,240,-76.575752985124538,2.4252900548398411,7.5,7.5,3,3,{"$f":"SUMIF(SOLICITUDES!$C$2:$C$1048576,BD!C1691,SOLICITUDES!$I$2:$I$1048576)","v":0},0,{"$f":"SUMIF(SOLICITUDES!$C$2:$C$1048576,BD!C1691,SOLICITUDES!$J$2:$J$1048576)","v":0},0,{"$f":"SUMIF(SOLICITUDES!$C$2:$C$1048576,BD!C1691,SOLICITUDES!$K$2:$K$1048576)","v":0},0]
[null,null,"T3804",112.5,13200,208,-76.60369751175422,2.4274145579149766,56.25,56.25,22.5,22.5,{"$f":"SUMIF(SOLICITUDES!$C$2:$C$1048576,BD!C1692,SOLICITUDES!$I$2:$I$1048576)","v":0},0,{"$f":"SUMIF(SOLICITUDES!$C$2:$C$1048576,BD!C1692,SOLICITUDES!$J$2:$J$1048576)","v":0},0,{"$f":"SUMIF(SOLICITUDES!$C$2:$C$1048576,BD!C1692,SOLICITUDES!$K$2:$K$1048576)","v":0},0]
[null,null,"T42339",10,13200,240,-76.578028037305344,2.4332458527506837,5,5,2,2,{"$f":"SUMIF(SOLICITUDES!$C$2:$C$1048576,BD!C1693,SOLICITUDES!$I$2:$I$1048576)","v":0},0,{"$f":"SUMIF(SOLICITUDES!$C$2:$C$1048576,BD!C1693,SOLICITUDES!$J$2:$J$1048576)","v":0},0,{"$f":"SUMIF(SOLICITUDES!$C$2:$C$1048576,BD!C1693,SOLICITUDES!$K$2:$K$1048576)","v":0},0]
[null,null,"T3805",112.5,13200,208,-76.603071724120838,2.4274316097490654,56.25,56.25,22.5,22.5,{"$f":"SUMIF(SOLICITUDES!$C$2:$C$1048576,BD!C1694,SOLICITUDES!$I$2:$I$1048576)","v":0},0,{"$f":"SUMIF(SOLICITUDES!$C$2:$C$1048576,BD!C1694,SOLICITUDES!$J$2:$J$1048576)","v":0},0,{"$f":"SUMIF(SOLICITUDES!$C$2:$C$1048576,BD!C1694,SOLICITUDES!$K$2:$K$1048576)","v":0},0]
[null,null,"T3394",75,13200,208,-76.603339256967189,2.4336624829895119,37.5,37.5,15,15,{"$f":"SUMIF(SOLICITUDES!$C$2:$C$1048576,BD!C1695,SOLICITUDES!$I$2:$I$1048576)","v":0},0,{"$f":"SUMIF(SOLICITUDES!$C$2:$C$1048576,BD!C1695,SOLICITUDES!$J$2:$J$1048576)","v":0},0,{"$f":"SUMIF(SOLICITUDES!$C$2:$C$1048576,BD!C1695,SOLICITUDES!$K$2:$K$1048576)","v":0},0]
[null,null,"T5343",37.5,13200,208,-76.59227440740375,2.4257456717112857,18.75,18.75,7.5,7.5,{"$f":"SUMIF(SOLICITUDES!$C$2:$C$1048576,BD!C1696,SOLICITUDES!$I$2:$I$1048576)","v":0},0,{"$f":"SUMIF(SOLICITUDES!$C$2:$C$1048576,BD!C1696,SOLICITUDES!$J$2:$J$1048576)","v":0},0,{"$f":"SUMIF(SOLICITUDES!$C$2:$C$1048576,BD!C1696,SOLICITUDES!$K$2:$K$1048576)","v":0},0]
[null,null,"T5339",25,13200,208,-76.592868132575575,2.4246968106230598,12.5,12.5,5,5,{"$f":"SUMIF(SOLICITUDES!$C$2:$C$1048576,BD!C1697,SOLICITUDES!$I$2:$I$1048576)","v":0},0,{"$f":"SUMIF(SOLICITUDES!$C$2:$C$1048576,BD!C1697,SOLICITUDES!$J$2:$J$1048576)","v":0},0,{"$f":"SUMIF(SOLICITUDES!$C$2:$C$1048576,BD!C1697,SOLICITUDES!$K$2:$K$1048576)","v":0},0]
[null,null,"T3823",25,13200,240,-76.590925938694483,2.4251663929745515,12.5,12.5,5,5,{"$f":"SUMIF(SOLICITUDES!$C$2:$C$1048576,BD!C1698,SOLICITUDES!$I$2:$I$1048576)","v":0},0,{"$f":"SUMIF(SOLICITUDES!$C$2:$C$1048576,BD!C1698,SOLICITUDES!$J$2:$J$1048576)","v":0},0,{"$f":"SUMIF(SOLICITUDES!$C$2:$C$1048576,BD!C1698,SOLICITUDES!$K$2:$K$1048576)","v":0},0]
[null,null,"T3824",25,13200,240,-76.590566893765782,2.423529463727601,12.5,12.5,5,5,{"$f":"SUMIF(SOLICITUDES!$C$2:$C$1048576,BD!C1699,SOLICITUDES!$I$2:$I$1048576)","v":0},0,{"$f":"SUMIF(SOLICITUDES!$C$2:$C$1048576,BD!C1699,SOLICITUDES!$J$2:$J$1048576)","v":0},0,{"$f":"SUMIF(SOLICITUDES!$C$2:$C$1048576,BD!C1699,SOLICITUDES!$K$2:$K$1048576)","v":0},0]
[null,null,"T3395",75,13200,208,-76.604031669600431,2.4333462144900113,37.5,37.5,15,15,{"$f":"SUMIF(SOLICITUDES!$C$2:$C$1048576,BD!C1700,SOLICITUDES!$I$2:$I$1048576)","v":0},0,{"$f":"SUMIF(SOLICITUDES!$C$2:$C$1048576,BD!C1700,SOLICITUDES!$J$2:$J$1048576)","v":0},0,{"$f":"SUMIF(SOLICITUDES!$C$2:$C$1048576,BD!C1700,SOLICITUDES!$K$2:$K$1048576)","v":0},0]
[null,null,"T5333",37.5,13200,208,-76.599997345245029,2.4260288180411007,18.75,18.75,7.5,7.5,{"$f":"SUMIF(SOLICITUDES!$C$2:$C$1048576,BD!C1701,SOLICITUDES!$I$2:$I$1048576)","v":0},0,{"$f":"SUMIF(SOLICITUDES!$C$2:$C$1048576,BD!C1701,SOLICITUDES!$J$2:$J$1048576)","v":0},0,{"$f":"SUMIF(SOLICITUDES!$C$2:$C$1048576,BD!C1701,SOLICITUDES!$K$2:$K$1048576)","v":0},0]
[null,null,"T42166",25,13200,240,-76.59918820448479,2.4264793111032024,12.5,12.5,5,5,{"$f":"SUMIF(SOLICITUDES!$C$2:$C$1048576,BD!C1702,SOLICITUDES!$I$2:$I$1048576)","v":0},0,{"$f":"SUMIF(SOLICITUDES!$C$2:$C$1048576,BD!C1702,SOLICITUDES!$J$2:$J$1048576)","v":0},0,{"$f":"SUMIF(SOLICITUDES!$C$2:$C$1048576,BD!C1702,SOLICITUDES!$K$2:$K$1048576)","v":0},0]
[null,null,"T5350",37.5,13200,208,-76.594226087359687,2.4237025733197171,18.75,18.75,7.5,7.5,{"$f":"SUMIF(SOLICITUDES!$C$2:$C$1048576,BD!C1703,SOLICITUDES!$I$2:$I$1048576)","v":0},0,{"$f":"SUMIF(SOLICITUDES!$C$2:$C$1048576,BD!C1703,SOLICITUDES!$J$2:$J$1048576)","v":0},0,{"$f":"SUMIF(SOLICITUDES!$C$2:$C$1048576,BD!C1703,SOLICITUDES!$K$2:$K$1048576)","v":0},0]
[null,null,"T3826",25,13200,240,-76.592437134995038,2.4230417906836155,12.5,12.5,5,5,{"$f":"SUMIF(SOLICITUDES!$C$2:$C$1048576,BD!C1704,SOLICITUDES!$I$2:$I$1048576)","v":0},0,{"$f":"SUMIF(SOLICITUDES!$C$2:$C$1048576,BD!C1704,SOLICITUDES!$J$2:$J$1048576)","v":0},0,{"$f":"SUMIF(SOLICITUDES!$C$2:$C$1048576,BD!C1704,SOLICITUDES!$K$2:$K$1048576)","v":0},0]
[null,null,"T29305",30,13200,240,-76.601524513700156,2.4333749122482189,15,15,6,6,{"$f":"SUMIF(SOLICITUDES!$C$2:$C$1048576,BD!C1705,SOLICITUDES!$I$2:$I$1048576)","v":0},0,{"$f":"SUMIF(SOLICITUDES!$C$2:$C$1048576,BD!C1705,SOLICITUDES!$J$2:$J$1048576)","v":0},0,{"$f":"SUMIF(SOLICITUDES!$C$2:$C$1048576,BD!C1705,SOLICITUDES!$K$2:$K$1048576)","v":0},0]
[null,null,"T42346",10,13200,240,-76.578747021254998,2.4252232399287319,5,5,2,2,{"$f":"SUMIF(SOLICITUDES!$C$2:$C$1048576,BD!C1706,SOLICITUDES!$I$2:$I$1048576)","v":0},0,{"$f":"SUMIF(SOLICITUDES!$C$2:$C$1048576,BD!C1706,SOLICITUDES!$J$2:$J$1048576)","v":0},0,{"$f":"SUMIF(SOLICITUDES!$C$2:$C$1048576,BD!C1706,SOLICITUDES!$K$2:$K$1048576)","v":0},0]
[null,null,"T24781",25,13200,240,-76.601397574131028,2.4268514134888535,12.5,12.5,5,5,{"$f":"SUMIF(SOLICITUDES!$C$2:$C$1048576,BD!C1707,SOLICITUDES!$I$2:$I$1048576)","v":0},0,{"$f":"SUMIF(SOLICITUDES!$C$2:$C$1048576,BD!C1707,SOLICITUDES!$J$2:$J$1048576)","v":0},0,{"$f":"SUMIF(SOLICITUDES!$C$2:$C$1048576,BD!C1707,SOLICITUDES!$K$2:$K$1048576)","v":0},0]
[null,null,"T3397",25,13200,240,-76.605137263925471,2.4341604970169395,12.5,12.5,5,5,{"$f":"SUMIF(SOLICITUDES!$C$2:$C$1048576,BD!C1708,SOLICITUDES!$I$2:$I$1048576)","v":0},0,{"$f":"SUMIF(SOLICITUDES!$C$2:$C$1048576,BD!C1708,SOLICITUDES!$J$2:$J$1048576)","v":0},0,{"$f":"SUMIF(SOLICITUDES!$C$2:$C$1048576,BD!C1708,SOLICITUDES!$K$2:$K$1048576)","v":0},0]
[null,null,"T42202",25,13200,240,-76.59889931719448,2.42645755192309,12.5,12.5,5,5,{"$f":"SUMIF(SOLICITUDES!$C$2:$C$1048576,BD!C1709,SOLICITUDES!$I$2:$I$1048576)","v":0},0,{"$f":"SUMIF(SOLICITUDES!$C$2:$C$1048576,BD!C1709,SOLICITUDES!$J$2:$J$1048576)","v":0},0,{"$f":"SUMIF(SOLICITUDES!$C$2:$C$1048576,BD!C1709,SOLICITUDES!$K$2:$K$1048576)","v":0},0]
[null,null,"T3828",25,13200,240,-76.591170843949783,2.4192974063737096,12.5,12.5,5,5,{"$f":"SUMIF(SOLICITUDES!$C$2:$C$1048576,BD!C1710,SOLICITUDES!$I$2:$I$1048576)","v":0},0,{"$f":"SUMIF(SOLICITUDES!$C$2:$C$1048576,BD!C1710,SOLICITUDES!$J$2:$J$1048576)","v":0},0,{"$f":"SUMIF(SOLICITUDES!$C$2:$C$1048576,BD!C1710,SOLICITUDES!$K$2:$K$1048576)","v":0},0]
[null,null,"T3827",25,13200,240,-76.595324203056975,2.420257547602251,12.5,12.5,5,5,{"$f":"SUMIF(SOLICITUDES!$C$2:$C$1048576,BD!C1711,SOLICITUDES!$I$2:$I$1048576)","v":0},0,{"$f":"SUMIF(SOLICITUDES!$C$2:$C$1048576,BD!C1711,SOLICITUDES!$J$2:$J$1048576)","v":0},0,{"$f":"SUMIF(SOLICITUDES!$C$2:$C$1048576,BD!C1711,SOLICITUDES!$K$2:$K$1048576)","v":0},0]
[null,null,"T3825",25,13200,240,-76.589128754664216,2.4224618389874655,12.5,12.5,5,5,{"$f":"SUMIF(SOLICITUDES!$C$2:$C$1048576,BD!C1712,SOLICITUDES!$I$2:$I$1048576)","v":0},0,{"$f":"SUMIF(SOLICITUDES!$C$2:$C$1048576,BD!C1712,SOLICITUDES!$J$2:$J$1048576)","v":0},0,{"$f":"SUMIF(SOLICITUDES!$C$2:$C$1048576,BD!C1712,SOLICITUDES!$K$2:$K$1048576)","v":0},0]
[null,null,"T42347",15,13200,240,-76.577692596737393,2.4231172918181003,7.5,7.5,3,3,{"$f":"SUMIF(SOLICITUDES!$C$2:$C$1048576,BD!C1713,SOLICITUDES!$I$2:$I$1048576)","v":0},0,{"$f":"SUMIF(SOLICITUDES!$C$2:$C$1048576,BD!C1713,SOLICITUDES!$J$2:$J$1048576)","v":0},0,{"$f":"SUMIF(SOLICITUDES!$C$2:$C$1048576,BD!C1713,SOLICITUDES!$K$2:$K$1048576)","v":0},0]
[null,null,"T3396",45,13200,208,-76.604382528330135,2.4327314003412286,22.5,22.5,9,9,{"$f":"SUMIF(SOLICITUDES!$C$2:$C$1048576,BD!C1714,SOLICITUDES!$I$2:$I$1048576)","v":0},0,{"$f":"SUMIF(SOLICITUDES!$C$2:$C$1048576,BD!C1714,SOLICITUDES!$J$2:$J$1048576)","v":0},0,{"$f":"SUMIF(SOLICITUDES!$C$2:$C$1048576,BD!C1714,SOLICITUDES!$K$2:$K$1048576)","v":0},0]
[null,null,"T3388",45,13200,208,-76.600291357812978,2.4336252189976495,22.5,22.5,9,9,{"$f":"SUMIF(SOLICITUDES!$C$2:$C$1048576,BD!C1715,SOLICITUDES!$I$2:$I$1048576)","v":0},0,{"$f":"SUMIF(SOLICITUDES!$C$2:$C$1048576,BD!C1715,SOLICITUDES!$J$2:$J$1048576)","v":0},0,{"$f":"SUMIF(SOLICITUDES!$C$2:$C$1048576,BD!C1715,SOLICITUDES!$K$2:$K$1048576)","v":0},0]
[null,null,"T42203",25,13200,240,-76.598603372374015,2.4264286746905164,12.5,12.5,5,5,{"$f":"SUMIF(SOLICITUDES!$C$2:$C$1048576,BD!C1716,SOLICITUDES!$I$2:$I$1048576)","v":0},0,{"$f":"SUMIF(SOLICITUDES!$C$2:$C$1048576,BD!C1716,SOLICITUDES!$J$2:$J$1048576)","v":0},0,{"$f":"SUMIF(SOLICITUDES!$C$2:$C$1048576,BD!C1716,SOLICITUDES!$K$2:$K$1048576)","v":0},0]
[null,null,"T29306",30,13200,240,-76.601556701913722,2.4328563406468673,15,15,6,6,{"$f":"SUMIF(SOLICITUDES!$C$2:$C$1048576,BD!C1717,SOLICITUDES!$I$2:$I$1048576)","v":0},0,{"$f":"SUMIF(SOLICITUDES!$C$2:$C$1048576,BD!C1717,SOLICITUDES!$J$2:$J$1048576)","v":0},0,{"$f":"SUMIF(SOLICITUDES!$C$2:$C$1048576,BD!C1717,SOLICITUDES!$K$2:$K$1048576)","v":0},0]
[null,null,"T42204",25,13200,240,-76.59814596551368,2.4264098558115319,12.5,12.5,5,5,{"$f":"SUMIF(SOLICITUDES!$C$2:$C$1048576,BD!C1718,SOLICITUDES!$I$2:$I$1048576)","v":0},0,{"$f":"SUMIF(SOLICITUDES!$C$2:$C$1048576,BD!C1718,SOLICITUDES!$J$2:$J$1048576)","v":0},0,{"$f":"SUMIF(SOLICITUDES!$C$2:$C$1048576,BD!C1718,SOLICITUDES!$K$2:$K$1048576)","v":0},0]
[null,null,"T3829",25,13200,240,-76.588518657160492,2.4189528029332439,12.5,12.5,5,5,{"$f":"SUMIF(SOLICITUDES!$C$2:$C$1048576,BD!C1719,SOLICITUDES!$I$2:$I$1048576)","v":0},0,{"$f":"SUMIF(SOLICITUDES!$C$2:$C$1048576,BD!C1719,SOLICITUDES!$J$2:$J$1048576)","v":0},0,{"$f":"SUMIF(SOLICITUDES!$C$2:$C$1048576,BD!C1719,SOLICITUDES!$K$2:$K$1048576)","v":0},0]
[null,null,"T42110",0.5,13200,240,-76.605224618677298,2.4345366509393047,0.25,0.25,0.1,0.1,{"$f":"SUMIF(SOLICITUDES!$C$2:$C$1048576,BD!C1720,SOLICITUDES!$I$2:$I$1048576)","v":0},0,{"$f":"SUMIF(SOLICITUDES!$C$2:$C$1048576,BD!C1720,SOLICITUDES!$J$2:$J$1048576)","v":0},0,{"$f":"SUMIF(SOLICITUDES!$C$2:$C$1048576,BD!C1720,SOLICITUDES!$K$2:$K$1048576)","v":0},0]
[null,null,"T51235",25,13200,240,-76.605551023942951,2.4336361337886503,12.5,12.5,5,5,{"$f":"SUMIF(SOLICITUDES!$C$2:$C$1048576,BD!C1721,SOLICITUDES!$I$2:$I$1048576)","v":0},0,{"$f":"SUMIF(SOLICITUDES!$C$2:$C$1048576,BD!C1721,SOLICITUDES!$J$2:$J$1048576)","v":0},0,{"$f":"SUMIF(SOLICITUDES!$C$2:$C$1048576,BD!C1721,SOLICITUDES!$K$2:$K$1048576)","v":0},0]
[null,null,"T3389",75,13200,208,-76.599985870633844,2.433046340137281,37.5,37.5,15,15,{"$f":"SUMIF(SOLICITUDES!$C$2:$C$1048576,BD!C1722,SOLICITUDES!$I$2:$I$1048576)","v":0},0,{"$f":"SUMIF(SOLICITUDES!$C$2:$C$1048576,BD!C1722,SOLICITUDES!$J$2:$J$1048576)","v":0},0,{"$f":"SUMIF(SOLICITUDES!$C$2:$C$1048576,BD!C1722,SOLICITUDES!$K$2:$K$1048576)","v":0},0]
[null,null,"T42348",10,13200,240,-76.58008754336565,2.4181675802529536,5,5,2,2,{"$f":"SUMIF(SOLICITUDES!$C$2:$C$1048576,BD!C1723,SOLICITUDES!$I$2:$I$1048576)","v":0},0,{"$f":"SUMIF(SOLICITUDES!$C$2:$C$1048576,BD!C1723,SOLICITUDES!$J$2:$J$1048576)","v":0},0,{"$f":"SUMIF(SOLICITUDES!$C$2:$C$1048576,BD!C1723,SOLICITUDES!$K$2:$K$1048576)","v":0},0]
[null,null,"T3391",75,13200,208,-76.59974316341048,2.4329196482201469,37.5,37.5,15,15,{"$f":"SUMIF(SOLICITUDES!$C$2:$C$1048576,BD!C1724,SOLICITUDES!$I$2:$I$1048576)","v":0},0,{"$f":"SUMIF(SOLICITUDES!$C$2:$C$1048576,BD!C1724,SOLICITUDES!$J$2:$J$1048576)","v":0},0,{"$f":"SUMIF(SOLICITUDES!$C$2:$C$1048576,BD!C1724,SOLICITUDES!$K$2:$K$1048576)","v":0},0]
[null,null,"T3390",75,13200,208,-76.60027367091628,2.4327932369820013,37.5,37.5,15,15,{"$f":"SUMIF(SOLICITUDES!$C$2:$C$1048576,BD!C1725,SOLICITUDES!$I$2:$I$1048576)","v":0},0,{"$f":"SUMIF(SOLICITUDES!$C$2:$C$1048576,BD!C1725,SOLICITUDES!$J$2:$J$1048576)","v":0},0,{"$f":"SUMIF(SOLICITUDES!$C$2:$C$1048576,BD!C1725,SOLICITUDES!$K$2:$K$1048576)","v":0},0]
[null,null,"T3392",75,13200,208,-76.599527428414461,2.4327839256765302,37.5,37.5,15,15,{"$f":"SUMIF(SOLICITUDES!$C$2:$C$1048576,BD!C1726,SOLICITUDES!$I$2:$I$1048576)","v":0},0,{"$f":"SUMIF(SOLICITUDES!$C$2:$C$1048576,BD!C1726,SOLICITUDES!$J$2:$J$1048576)","v":0},0,{"$f":"SUMIF(SOLICITUDES!$C$2:$C$1048576,BD!C1726,SOLICITUDES!$K$2:$K$1048576)","v":0},0]
[null,null,"T3913",75,13200,208,-76.606036091213241,2.434902360287639,37.5,37.5,15,15,{"$f":"SUMIF(SOLICITUDES!$C$2:$C$1048576,BD!C1727,SOLICITUDES!$I$2:$I$1048576)","v":0},0,{"$f":"SUMIF(SOLICITUDES!$C$2:$C$1048576,BD!C1727,SOLICITUDES!$J$2:$J$1048576)","v":0},0,{"$f":"SUMIF(SOLICITUDES!$C$2:$C$1048576,BD!C1727,SOLICITUDES!$K$2:$K$1048576)","v":0},0]
[null,null,"T51224",15,13200,240,-76.605913621089329,2.4328058421759686,7.5,7.5,3,3,{"$f":"SUMIF(SOLICITUDES!$C$2:$C$1048576,BD!C1728,SOLICITUDES!$I$2:$I$1048576)","v":0},0,{"$f":"SUMIF(SOLICITUDES!$C$2:$C$1048576,BD!C1728,SOLICITUDES!$J$2:$J$1048576)","v":0},0,{"$f":"SUMIF(SOLICITUDES!$C$2:$C$1048576,BD!C1728,SOLICITUDES!$K$2:$K$1048576)","v":0},0]
[null,null,"T3393",75,13200,208,-76.599392598047601,2.4327024858832917,37.5,37.5,15,15,{"$f":"SUMIF(SOLICITUDES!$C$2:$C$1048576,BD!C1729,SOLICITUDES!$I$2:$I$1048576)","v":0},0,{"$f":"SUMIF(SOLICITUDES!$C$2:$C$1048576,BD!C1729,SOLICITUDES!$J$2:$J$1048576)","v":0},0,{"$f":"SUMIF(SOLICITUDES!$C$2:$C$1048576,BD!C1729,SOLICITUDES!$K$2:$K$1048576)","v":0},0]
[null,null,"T3174",45,13200,214,-76.605668162043997,2.4329217672628984,22.5,22.5,9,9,{"$f":"SUMIF(SOLICITUDES!$C$2:$C$1048576,BD!C1730,SOLICITUDES!$I$2:$I$1048576)","v":0},0,{"$f":"SUMIF(SOLICITUDES!$C$2:$C$1048576,BD!C1730,SOLICITUDES!$J$2:$J$1048576)","v":0},0,{"$f":"SUMIF(SOLICITUDES!$C$2:$C$1048576,BD!C1730,SOLICITUDES!$K$2:$K$1048576)","v":0},0]
[null,null,"T3376",75,13200,208,-76.606432085808208,2.4337720980877724,37.5,{"$f":"D1731*0.5-M1731","v":37.5},15,15,{"$f":"SUMIF(SOLICITUDES!$C$2:$C$1048576,BD!C1731,SOLICITUDES!$I$2:$I$1048576)","v":0},{"$f":"M1731/D1731","v":0},{"$f":"SUMIF(SOLICITUDES!$C$2:$C$1048576,BD!C1731,SOLICITUDES!$J$2:$J$1048576)","v":0},0,{"$f":"SUMIF(SOLICITUDES!$C$2:$C$1048576,BD!C1731,SOLICITUDES!$K$2:$K$1048576)","v":0},0]
[null,null,"T51367",45,13200,240,-76.607052190482918,2.4345500345487792,{"$f":"D1732*0.5","v":22.5},22.5,{"$f":"0.2*D1732","v":9},{"$f":"0.2*D1732","v":9},{"$f":"SUMIF(SOLICITUDES!$C$2:$C$1048576,BD!C1732,SOLICITUDES!$I$2:$I$1048576)","v":0},0,{"$f":"SUMIF(SOLICITUDES!$C$2:$C$1048576,BD!C1732,SOLICITUDES!$J$2:$J$1048576)","v":0},{"$f":"O1732/(2*K1732)","v":0},{"$f":"SUMIF(SOLICITUDES!$C$2:$C$1048576,BD!C1732,SOLICITUDES!$K$2:$K$1048576)","v":0},{"$f":"Q1732/(2*L1732)","v":0}]
[null,null,"T3369",75,13200,208,-76.606745059256895,2.432888427481962,37.5,37.5,15,15,{"$f":"SUMIF(SOLICITUDES!$C$2:$C$1048576,BD!C1733,SOLICITUDES!$I$2:$I$1048576)","v":0},0,{"$f":"SUMIF(SOLICITUDES!$C$2:$C$1048576,BD!C1733,SOLICITUDES!$J$2:$J$1048576)","v":0},0,{"$f":"SUMIF(SOLICITUDES!$C$2:$C$1048576,BD!C1733,SOLICITUDES!$K$2:$K$1048576)","v":0},0]
[null,null,"T3205",45,13200,208,-76.607403897849721,2.431502596056045,22.5,22.5,9,9,{"$f":"SUMIF(SOLICITUDES!$C$2:$C$1048576,BD!C1734,SOLICITUDES!$I$2:$I$1048576)","v":0},0,{"$f":"SUMIF(SOLICITUDES!$C$2:$C$1048576,BD!C1734,SOLICITUDES!$J$2:$J$1048576)","v":0},0,{"$f":"SUMIF(SOLICITUDES!$C$2:$C$1048576,BD!C1734,SOLICITUDES!$K$2:$K$1048576)","v":0},0]
[null,null,"T3177",75,13200,214,-76.607637818317883,2.4310505168533618,37.5,37.5,15,15,{"$f":"SUMIF(SOLICITUDES!$C$2:$C$1048576,BD!C1735,SOLICITUDES!$I$2:$I$1048576)","v":0},0,{"$f":"SUMIF(SOLICITUDES!$C$2:$C$1048576,BD!C1735,SOLICITUDES!$J$2:$J$1048576)","v":0},0,{"$f":"SUMIF(SOLICITUDES!$C$2:$C$1048576,BD!C1735,SOLICITUDES!$K$2:$K$1048576)","v":0},0]
[null,null,"T3399",45,13200,208,-76.605192168245893,2.4314113792763044,22.5,22.5,9,9,{"$f":"SUMIF(SOLICITUDES!$C$2:$C$1048576,BD!C1736,SOLICITUDES!$I$2:$I$1048576)","v":0},0,{"$f":"SUMIF(SOLICITUDES!$C$2:$C$1048576,BD!C1736,SOLICITUDES!$J$2:$J$1048576)","v":0},0,{"$f":"SUMIF(SOLICITUDES!$C$2:$C$1048576,BD!C1736,SOLICITUDES!$K$2:$K$1048576)","v":0},0]
[null,null,"T3173",15,13200,214,-76.60676584275096,2.4306432610423827,7.5,7.5,3,3,{"$f":"SUMIF(SOLICITUDES!$C$2:$C$1048576,BD!C1737,SOLICITUDES!$I$2:$I$1048576)","v":0},0,{"$f":"SUMIF(SOLICITUDES!$C$2:$C$1048576,BD!C1737,SOLICITUDES!$J$2:$J$1048576)","v":0},0,{"$f":"SUMIF(SOLICITUDES!$C$2:$C$1048576,BD!C1737,SOLICITUDES!$K$2:$K$1048576)","v":0},0]
[null,null,"T3198",75,13200,208,-76.609326743318121,2.4349577756928946,37.5,37.5,15,15,{"$f":"SUMIF(SOLICITUDES!$C$2:$C$1048576,BD!C1738,SOLICITUDES!$I$2:$I$1048576)","v":0},0,{"$f":"SUMIF(SOLICITUDES!$C$2:$C$1048576,BD!C1738,SOLICITUDES!$J$2:$J$1048576)","v":0},0,{"$f":"SUMIF(SOLICITUDES!$C$2:$C$1048576,BD!C1738,SOLICITUDES!$K$2:$K$1048576)","v":0},0]
[null,null,"T3400",75,13200,208,-76.605003485273542,2.4310676681211651,37.5,37.5,15,15,{"$f":"SUMIF(SOLICITUDES!$C$2:$C$1048576,BD!C1739,SOLICITUDES!$I$2:$I$1048576)","v":0},0,{"$f":"SUMIF(SOLICITUDES!$C$2:$C$1048576,BD!C1739,SOLICITUDES!$J$2:$J$1048576)","v":0},0,{"$f":"SUMIF(SOLICITUDES!$C$2:$C$1048576,BD!C1739,SOLICITUDES!$K$2:$K$1048576)","v":0},0]
[null,null,"T3195",75,13200,208,-76.61043248415443,2.4353560737962554,37.5,37.5,15,15,{"$f":"SUMIF(SOLICITUDES!$C$2:$C$1048576,BD!C1740,SOLICITUDES!$I$2:$I$1048576)","v":0},0,{"$f":"SUMIF(SOLICITUDES!$C$2:$C$1048576,BD!C1740,SOLICITUDES!$J$2:$J$1048576)","v":0},0,{"$f":"SUMIF(SOLICITUDES!$C$2:$C$1048576,BD!C1740,SOLICITUDES!$K$2:$K$1048576)","v":0},0]
[null,null,"T41981",0.5,13200,240,-76.607752785482873,2.4307054752233364,0.25,0.25,0.1,0.1,{"$f":"SUMIF(SOLICITUDES!$C$2:$C$1048576,BD!C1741,SOLICITUDES!$I$2:$I$1048576)","v":0},0,{"$f":"SUMIF(SOLICITUDES!$C$2:$C$1048576,BD!C1741,SOLICITUDES!$J$2:$J$1048576)","v":0},0,{"$f":"SUMIF(SOLICITUDES!$C$2:$C$1048576,BD!C1741,SOLICITUDES!$K$2:$K$1048576)","v":0},0]
[null,null,"T42785",0.5,13800,220,-76.607799819944574,2.4305622409892882,0.25,0.25,0.1,0.1,{"$f":"SUMIF(SOLICITUDES!$C$2:$C$1048576,BD!C1742,SOLICITUDES!$I$2:$I$1048576)","v":0},0,{"$f":"SUMIF(SOLICITUDES!$C$2:$C$1048576,BD!C1742,SOLICITUDES!$J$2:$J$1048576)","v":0},0,{"$f":"SUMIF(SOLICITUDES!$C$2:$C$1048576,BD!C1742,SOLICITUDES!$K$2:$K$1048576)","v":0},0]
[null,null,"T3403",45,13200,208,-76.60472506500362,2.4302175054526476,22.5,22.5,9,9,{"$f":"SUMIF(SOLICITUDES!$C$2:$C$1048576,BD!C1743,SOLICITUDES!$I$2:$I$1048576)","v":0},0,{"$f":"SUMIF(SOLICITUDES!$C$2:$C$1048576,BD!C1743,SOLICITUDES!$J$2:$J$1048576)","v":0},0,{"$f":"SUMIF(SOLICITUDES!$C$2:$C$1048576,BD!C1743,SOLICITUDES!$K$2:$K$1048576)","v":0},0]
[null,null,"T3170",75,13200,208,-76.611115701405708,2.4356276085758952,37.5,37.5,15,15,{"$f":"SUMIF(SOLICITUDES!$C$2:$C$1048576,BD!C1744,SOLICITUDES!$I$2:$I$1048576)","v":0},0,{"$f":"SUMIF(SOLICITUDES!$C$2:$C$1048576,BD!C1744,SOLICITUDES!$J$2:$J$1048576)","v":0},0,{"$f":"SUMIF(SOLICITUDES!$C$2:$C$1048576,BD!C1744,SOLICITUDES!$K$2:$K$1048576)","v":0},0]
[null,null,"T3192",30,13200,208,-76.611053034396463,2.4348498652034052,15,15,6,6,{"$f":"SUMIF(SOLICITUDES!$C$2:$C$1048576,BD!C1745,SOLICITUDES!$I$2:$I$1048576)","v":0},0,{"$f":"SUMIF(SOLICITUDES!$C$2:$C$1048576,BD!C1745,SOLICITUDES!$J$2:$J$1048576)","v":0},0,{"$f":"SUMIF(SOLICITUDES!$C$2:$C$1048576,BD!C1745,SOLICITUDES!$K$2:$K$1048576)","v":0},0]
[null,null,"T3402",45,13200,208,-76.603969763446585,2.4304071475136166,22.5,22.5,9,9,{"$f":"SUMIF(SOLICITUDES!$C$2:$C$1048576,BD!C1746,SOLICITUDES!$I$2:$I$1048576)","v":0},0,{"$f":"SUMIF(SOLICITUDES!$C$2:$C$1048576,BD!C1746,SOLICITUDES!$J$2:$J$1048576)","v":0},0,{"$f":"SUMIF(SOLICITUDES!$C$2:$C$1048576,BD!C1746,SOLICITUDES!$K$2:$K$1048576)","v":0},0]
[null,null,"T3404",75,13200,208,-76.604869029373333,2.429910086488305,37.5,37.5,15,15,{"$f":"SUMIF(SOLICITUDES!$C$2:$C$1048576,BD!C1747,SOLICITUDES!$I$2:$I$1048576)","v":0},0,{"$f":"SUMIF(SOLICITUDES!$C$2:$C$1048576,BD!C1747,SOLICITUDES!$J$2:$J$1048576)","v":0},0,{"$f":"SUMIF(SOLICITUDES!$C$2:$C$1048576,BD!C1747,SOLICITUDES!$K$2:$K$1048576)","v":0},0]
[null,null,"T3401",45,13200,208,-76.604248176163836,2.4312663542278856,22.5,22.5,9,9,{"$f":"SUMIF(SOLICITUDES!$C$2:$C$1048576,BD!C1748,SOLICITUDES!$I$2:$I$1048576)","v":0},0,{"$f":"SUMIF(SOLICITUDES!$C$2:$C$1048576,BD!C1748,SOLICITUDES!$J$2:$J$1048576)","v":0},0,{"$f":"SUMIF(SOLICITUDES!$C$2:$C$1048576,BD!C1748,SOLICITUDES!$K$2:$K$1048576)","v":0},0]
[null,null,"T42791",0.5,13200,240,-76.609571814252575,2.4283020564450828,0.25,0.25,0.1,0.1,{"$f":"SUMIF(SOLICITUDES!$C$2:$C$1048576,BD!C1749,SOLICITUDES!$I$2:$I$1048576)","v":0},0,{"$f":"SUMIF(SOLICITUDES!$C$2:$C$1048576,BD!C1749,SOLICITUDES!$J$2:$J$1048576)","v":0},0,{"$f":"SUMIF(SOLICITUDES!$C$2:$C$1048576,BD!C1749,SOLICITUDES!$K$2:$K$1048576)","v":0},0]
[null,null,"T3204",45,13200,208,-76.608052074260499,2.4291154098561454,22.5,22.5,9,9,{"$f":"SUMIF(SOLICITUDES!$C$2:$C$1048576,BD!C1750,SOLICITUDES!$I$2:$I$1048576)","v":0},0,{"$f":"SUMIF(SOLICITUDES!$C$2:$C$1048576,BD!C1750,SOLICITUDES!$J$2:$J$1048576)","v":0},0,{"$f":"SUMIF(SOLICITUDES!$C$2:$C$1048576,BD!C1750,SOLICITUDES!$K$2:$K$1048576)","v":0},0]
[null,null,"T3405",45,13200,208,-76.605075940264072,2.4295484302858803,22.5,22.5,9,9,{"$f":"SUMIF(SOLICITUDES!$C$2:$C$1048576,BD!C1751,SOLICITUDES!$I$2:$I$1048576)","v":0},0,{"$f":"SUMIF(SOLICITUDES!$C$2:$C$1048576,BD!C1751,SOLICITUDES!$J$2:$J$1048576)","v":0},0,{"$f":"SUMIF(SOLICITUDES!$C$2:$C$1048576,BD!C1751,SOLICITUDES!$K$2:$K$1048576)","v":0},0]
[null,null,"T20525",30,13200,214,-76.607786086472942,2.4271681755916963,15,15,6,6,{"$f":"SUMIF(SOLICITUDES!$C$2:$C$1048576,BD!C1752,SOLICITUDES!$I$2:$I$1048576)","v":0},0,{"$f":"SUMIF(SOLICITUDES!$C$2:$C$1048576,BD!C1752,SOLICITUDES!$J$2:$J$1048576)","v":0},0,{"$f":"SUMIF(SOLICITUDES!$C$2:$C$1048576,BD!C1752,SOLICITUDES!$K$2:$K$1048576)","v":0},0]
[null,null,"T3207",37.5,13200,240,-76.54813212935592,2.3960131061781036,18.75,18.75,7.5,7.5,{"$f":"SUMIF(SOLICITUDES!$C$2:$C$1048576,BD!C1753,SOLICITUDES!$I$2:$I$1048576)","v":0},0,{"$f":"SUMIF(SOLICITUDES!$C$2:$C$1048576,BD!C1753,SOLICITUDES!$J$2:$J$1048576)","v":0},0,{"$f":"SUMIF(SOLICITUDES!$C$2:$C$1048576,BD!C1753,SOLICITUDES!$K$2:$K$1048576)","v":0},0]
[null,null,"T3222",25,13200,240,-76.549263232350285,2.4004899664723252,12.5,12.5,5,5,{"$f":"SUMIF(SOLICITUDES!$C$2:$C$1048576,BD!C1754,SOLICITUDES!$I$2:$I$1048576)","v":0},0,{"$f":"SUMIF(SOLICITUDES!$C$2:$C$1048576,BD!C1754,SOLICITUDES!$J$2:$J$1048576)","v":0},0,{"$f":"SUMIF(SOLICITUDES!$C$2:$C$1048576,BD!C1754,SOLICITUDES!$K$2:$K$1048576)","v":0},0]
[null,null,"T42696",10,13200,240,-76.611058786959191,2.3999262708046922,5,5,2,2,{"$f":"SUMIF(SOLICITUDES!$C$2:$C$1048576,BD!C1755,SOLICITUDES!$I$2:$I$1048576)","v":0},0,{"$f":"SUMIF(SOLICITUDES!$C$2:$C$1048576,BD!C1755,SOLICITUDES!$J$2:$J$1048576)","v":0},0,{"$f":"SUMIF(SOLICITUDES!$C$2:$C$1048576,BD!C1755,SOLICITUDES!$K$2:$K$1048576)","v":0},0]
[null,null,"T3224",37.5,13200,240,-76.548662533969406,2.3940207784371319,18.75,18.75,7.5,7.5,{"$f":"SUMIF(SOLICITUDES!$C$2:$C$1048576,BD!C1756,SOLICITUDES!$I$2:$I$1048576)","v":0},0,{"$f":"SUMIF(SOLICITUDES!$C$2:$C$1048576,BD!C1756,SOLICITUDES!$J$2:$J$1048576)","v":0},0,{"$f":"SUMIF(SOLICITUDES!$C$2:$C$1048576,BD!C1756,SOLICITUDES!$K$2:$K$1048576)","v":0},0]
[null,null,"T3212",25,13200,240,-76.54786475726884,2.390026476082419,12.5,12.5,5,5,{"$f":"SUMIF(SOLICITUDES!$C$2:$C$1048576,BD!C1757,SOLICITUDES!$I$2:$I$1048576)","v":0},0,{"$f":"SUMIF(SOLICITUDES!$C$2:$C$1048576,BD!C1757,SOLICITUDES!$J$2:$J$1048576)","v":0},0,{"$f":"SUMIF(SOLICITUDES!$C$2:$C$1048576,BD!C1757,SOLICITUDES!$K$2:$K$1048576)","v":0},0]
[null,null,"T3638",10,13200,214,-76.606056806907944,2.4013882049195865,5,5,2,2,{"$f":"SUMIF(SOLICITUDES!$C$2:$C$1048576,BD!C1758,SOLICITUDES!$I$2:$I$1048576)","v":0},0,{"$f":"SUMIF(SOLICITUDES!$C$2:$C$1048576,BD!C1758,SOLICITUDES!$J$2:$J$1048576)","v":0},0,{"$f":"SUMIF(SOLICITUDES!$C$2:$C$1048576,BD!C1758,SOLICITUDES!$K$2:$K$1048576)","v":0},0]
[null,null,"T42409",10,13200,240,-76.547895935186546,2.3919325212161091,5,5,2,2,{"$f":"SUMIF(SOLICITUDES!$C$2:$C$1048576,BD!C1759,SOLICITUDES!$I$2:$I$1048576)","v":0},0,{"$f":"SUMIF(SOLICITUDES!$C$2:$C$1048576,BD!C1759,SOLICITUDES!$J$2:$J$1048576)","v":0},0,{"$f":"SUMIF(SOLICITUDES!$C$2:$C$1048576,BD!C1759,SOLICITUDES!$K$2:$K$1048576)","v":0},0]
[null,null,"T3171",10,13200,240,-76.545679488778674,2.3878200805116485,5,5,2,2,{"$f":"SUMIF(SOLICITUDES!$C$2:$C$1048576,BD!C1760,SOLICITUDES!$I$2:$I$1048576)","v":0},0,{"$f":"SUMIF(SOLICITUDES!$C$2:$C$1048576,BD!C1760,SOLICITUDES!$J$2:$J$1048576)","v":0},0,{"$f":"SUMIF(SOLICITUDES!$C$2:$C$1048576,BD!C1760,SOLICITUDES!$K$2:$K$1048576)","v":0},0]
[null,null,"T42344",10,13200,240,-76.573204783110015,2.4221277304224005,5,5,2,2,{"$f":"SUMIF(SOLICITUDES!$C$2:$C$1048576,BD!C1761,SOLICITUDES!$I$2:$I$1048576)","v":0},0,{"$f":"SUMIF(SOLICITUDES!$C$2:$C$1048576,BD!C1761,SOLICITUDES!$J$2:$J$1048576)","v":0},0,{"$f":"SUMIF(SOLICITUDES!$C$2:$C$1048576,BD!C1761,SOLICITUDES!$K$2:$K$1048576)","v":0},0]
[null,null,"T42412",10,13200,240,-76.541209198771853,2.3944000232991547,5,5,2,2,{"$f":"SUMIF(SOLICITUDES!$C$2:$C$1048576,BD!C1762,SOLICITUDES!$I$2:$I$1048576)","v":0},0,{"$f":"SUMIF(SOLICITUDES!$C$2:$C$1048576,BD!C1762,SOLICITUDES!$J$2:$J$1048576)","v":0},0,{"$f":"SUMIF(SOLICITUDES!$C$2:$C$1048576,BD!C1762,SOLICITUDES!$K$2:$K$1048576)","v":0},0]
[null,null,"T3656",10,13200,214,-76.614601748859812,2.3902227696772513,5,5,2,2,{"$f":"SUMIF(SOLICITUDES!$C$2:$C$1048576,BD!C1763,SOLICITUDES!$I$2:$I$1048576)","v":0},0,{"$f":"SUMIF(SOLICITUDES!$C$2:$C$1048576,BD!C1763,SOLICITUDES!$J$2:$J$1048576)","v":0},0,{"$f":"SUMIF(SOLICITUDES!$C$2:$C$1048576,BD!C1763,SOLICITUDES!$K$2:$K$1048576)","v":0},0]
[null,null,"T3645",10,13200,214,-76.615975387218114,2.3958300421468879,5,5,2,2,{"$f":"SUMIF(SOLICITUDES!$C$2:$C$1048576,BD!C1764,SOLICITUDES!$I$2:$I$1048576)","v":0},0,{"$f":"SUMIF(SOLICITUDES!$C$2:$C$1048576,BD!C1764,SOLICITUDES!$J$2:$J$1048576)","v":0},0,{"$f":"SUMIF(SOLICITUDES!$C$2:$C$1048576,BD!C1764,SOLICITUDES!$K$2:$K$1048576)","v":0},0]
[null,null,"T42410",10,13200,240,-76.545640160098927,2.384808521670271,5,5,2,2,{"$f":"SUMIF(SOLICITUDES!$C$2:$C$1048576,BD!C1765,SOLICITUDES!$I$2:$I$1048576)","v":0},0,{"$f":"SUMIF(SOLICITUDES!$C$2:$C$1048576,BD!C1765,SOLICITUDES!$J$2:$J$1048576)","v":0},0,{"$f":"SUMIF(SOLICITUDES!$C$2:$C$1048576,BD!C1765,SOLICITUDES!$K$2:$K$1048576)","v":0},0]
[null,null,"T42695",10,13200,240,-76.614535834984054,2.3901370243034474,5,5,2,2,{"$f":"SUMIF(SOLICITUDES!$C$2:$C$1048576,BD!C1766,SOLICITUDES!$I$2:$I$1048576)","v":0},0,{"$f":"SUMIF(SOLICITUDES!$C$2:$C$1048576,BD!C1766,SOLICITUDES!$J$2:$J$1048576)","v":0},0,{"$f":"SUMIF(SOLICITUDES!$C$2:$C$1048576,BD!C1766,SOLICITUDES!$K$2:$K$1048576)","v":0},0]
[null,null,"T14458",15,13200,240,-76.535617998895731,2.3942719411935824,7.5,7.5,3,3,{"$f":"SUMIF(SOLICITUDES!$C$2:$C$1048576,BD!C1767,SOLICITUDES!$I$2:$I$1048576)","v":0},0,{"$f":"SUMIF(SOLICITUDES!$C$2:$C$1048576,BD!C1767,SOLICITUDES!$J$2:$J$1048576)","v":0},0,{"$f":"SUMIF(SOLICITUDES!$C$2:$C$1048576,BD!C1767,SOLICITUDES!$K$2:$K$1048576)","v":0},0]
[null,null,"T42411",10,13200,240,-76.542012802108829,2.3813035920328942,5,5,2,2,{"$f":"SUMIF(SOLICITUDES!$C$2:$C$1048576,BD!C1768,SOLICITUDES!$I$2:$I$1048576)","v":0},0,{"$f":"SUMIF(SOLICITUDES!$C$2:$C$1048576,BD!C1768,SOLICITUDES!$J$2:$J$1048576)","v":0},0,{"$f":"SUMIF(SOLICITUDES!$C$2:$C$1048576,BD!C1768,SOLICITUDES!$K$2:$K$1048576)","v":0},0]
[null,null,"T3652",15,13200,214,-76.615785493389197,2.3823671390773429,7.5,7.5,3,3,{"$f":"SUMIF(SOLICITUDES!$C$2:$C$1048576,BD!C1769,SOLICITUDES!$I$2:$I$1048576)","v":0},0,{"$f":"SUMIF(SOLICITUDES!$C$2:$C$1048576,BD!C1769,SOLICITUDES!$J$2:$J$1048576)","v":0},0,{"$f":"SUMIF(SOLICITUDES!$C$2:$C$1048576,BD!C1769,SOLICITUDES!$K$2:$K$1048576)","v":0},0]
[null,null,"T42694",10,13200,240,-76.618844235690531,2.3839461465145741,5,5,2,2,{"$f":"SUMIF(SOLICITUDES!$C$2:$C$1048576,BD!C1770,SOLICITUDES!$I$2:$I$1048576)","v":0},0,{"$f":"SUMIF(SOLICITUDES!$C$2:$C$1048576,BD!C1770,SOLICITUDES!$J$2:$J$1048576)","v":0},0,{"$f":"SUMIF(SOLICITUDES!$C$2:$C$1048576,BD!C1770,SOLICITUDES!$K$2:$K$1048576)","v":0},0]
[null,null,"T3643",25,13200,214,-76.619450867505819,2.3807290067039708,12.5,12.5,5,5,{"$f":"SUMIF(SOLICITUDES!$C$2:$C$1048576,BD!C1771,SOLICITUDES!$I$2:$I$1048576)","v":0},0,{"$f":"SUMIF(SOLICITUDES!$C$2:$C$1048576,BD!C1771,SOLICITUDES!$J$2:$J$1048576)","v":0},0,{"$f":"SUMIF(SOLICITUDES!$C$2:$C$1048576,BD!C1771,SOLICITUDES!$K$2:$K$1048576)","v":0},0]
[null,null,"T3644",10,13200,240,-76.62232713709723,2.3826561258452092,5,5,2,2,{"$f":"SUMIF(SOLICITUDES!$C$2:$C$1048576,BD!C1772,SOLICITUDES!$I$2:$I$1048576)","v":0},0,{"$f":"SUMIF(SOLICITUDES!$C$2:$C$1048576,BD!C1772,SOLICITUDES!$J$2:$J$1048576)","v":0},0,{"$f":"SUMIF(SOLICITUDES!$C$2:$C$1048576,BD!C1772,SOLICITUDES!$K$2:$K$1048576)","v":0},0]
[null,null,"T3655",15,13200,214,-76.618375968160109,2.374211152157518,7.5,7.5,3,3,{"$f":"SUMIF(SOLICITUDES!$C$2:$C$1048576,BD!C1773,SOLICITUDES!$I$2:$I$1048576)","v":0},0,{"$f":"SUMIF(SOLICITUDES!$C$2:$C$1048576,BD!C1773,SOLICITUDES!$J$2:$J$1048576)","v":0},0,{"$f":"SUMIF(SOLICITUDES!$C$2:$C$1048576,BD!C1773,SOLICITUDES!$K$2:$K$1048576)","v":0},0]
[null,null,"T3654",10,13200,214,-76.611392772141301,2.3808307193401768,5,5,2,2,{"$f":"SUMIF(SOLICITUDES!$C$2:$C$1048576,BD!C1774,SOLICITUDES!$I$2:$I$1048576)","v":0},0,{"$f":"SUMIF(SOLICITUDES!$C$2:$C$1048576,BD!C1774,SOLICITUDES!$J$2:$J$1048576)","v":0},0,{"$f":"SUMIF(SOLICITUDES!$C$2:$C$1048576,BD!C1774,SOLICITUDES!$K$2:$K$1048576)","v":0},0]
[null,null,"T3650",37.5,13200,214,-76.611746982219316,2.3776607409997816,18.75,18.75,7.5,7.5,{"$f":"SUMIF(SOLICITUDES!$C$2:$C$1048576,BD!C1775,SOLICITUDES!$I$2:$I$1048576)","v":0},0,{"$f":"SUMIF(SOLICITUDES!$C$2:$C$1048576,BD!C1775,SOLICITUDES!$J$2:$J$1048576)","v":0},0,{"$f":"SUMIF(SOLICITUDES!$C$2:$C$1048576,BD!C1775,SOLICITUDES!$K$2:$K$1048576)","v":0},0]
[null,null,"T42691",10,13200,240,-76.606011200379982,2.3813476629709447,5,5,2,2,{"$f":"SUMIF(SOLICITUDES!$C$2:$C$1048576,BD!C1776,SOLICITUDES!$I$2:$I$1048576)","v":0},0,{"$f":"SUMIF(SOLICITUDES!$C$2:$C$1048576,BD!C1776,SOLICITUDES!$J$2:$J$1048576)","v":0},0,{"$f":"SUMIF(SOLICITUDES!$C$2:$C$1048576,BD!C1776,SOLICITUDES!$K$2:$K$1048576)","v":0},0]
[null,null,"T3637",5,13200,240,-76.601695132553715,2.3809819257046265,2.5,2.5,1,1,{"$f":"SUMIF(SOLICITUDES!$C$2:$C$1048576,BD!C1777,SOLICITUDES!$I$2:$I$1048576)","v":0},0,{"$f":"SUMIF(SOLICITUDES!$C$2:$C$1048576,BD!C1777,SOLICITUDES!$J$2:$J$1048576)","v":0},0,{"$f":"SUMIF(SOLICITUDES!$C$2:$C$1048576,BD!C1777,SOLICITUDES!$K$2:$K$1048576)","v":0},0]
[null,null,"T3639",10,13200,240,-76.596399203478086,2.3786212308078309,5,5,2,2,{"$f":"SUMIF(SOLICITUDES!$C$2:$C$1048576,BD!C1778,SOLICITUDES!$I$2:$I$1048576)","v":0},0,{"$f":"SUMIF(SOLICITUDES!$C$2:$C$1048576,BD!C1778,SOLICITUDES!$J$2:$J$1048576)","v":0},0,{"$f":"SUMIF(SOLICITUDES!$C$2:$C$1048576,BD!C1778,SOLICITUDES!$K$2:$K$1048576)","v":0},0]
[null,null,"T3651",15,13200,240,-76.590450165070962,2.3726794634044044,7.5,7.5,3,3,{"$f":"SUMIF(SOLICITUDES!$C$2:$C$1048576,BD!C1779,SOLICITUDES!$I$2:$I$1048576)","v":0},0,{"$f":"SUMIF(SOLICITUDES!$C$2:$C$1048576,BD!C1779,SOLICITUDES!$J$2:$J$1048576)","v":0},0,{"$f":"SUMIF(SOLICITUDES!$C$2:$C$1048576,BD!C1779,SOLICITUDES!$K$2:$K$1048576)","v":0},0]
[null,null,"T42688",10,13200,240,-76.600822930123869,2.3886881036733594,5,5,2,2,{"$f":"SUMIF(SOLICITUDES!$C$2:$C$1048576,BD!C1780,SOLICITUDES!$I$2:$I$1048576)","v":0},0,{"$f":"SUMIF(SOLICITUDES!$C$2:$C$1048576,BD!C1780,SOLICITUDES!$J$2:$J$1048576)","v":0},0,{"$f":"SUMIF(SOLICITUDES!$C$2:$C$1048576,BD!C1780,SOLICITUDES!$K$2:$K$1048576)","v":0},0]
[null,null,"T3649",15,13200,214,-76.597025745110173,2.3744665536417711,7.5,7.5,3,3,{"$f":"SUMIF(SOLICITUDES!$C$2:$C$1048576,BD!C1781,SOLICITUDES!$I$2:$I$1048576)","v":0},0,{"$f":"SUMIF(SOLICITUDES!$C$2:$C$1048576,BD!C1781,SOLICITUDES!$J$2:$J$1048576)","v":0},0,{"$f":"SUMIF(SOLICITUDES!$C$2:$C$1048576,BD!C1781,SOLICITUDES!$K$2:$K$1048576)","v":0},0]
[null,null,"T3647",10,13200,214,-76.59601235049162,2.3705448543211443,5,5,2,2,{"$f":"SUMIF(SOLICITUDES!$C$2:$C$1048576,BD!C1782,SOLICITUDES!$I$2:$I$1048576)","v":0},0,{"$f":"SUMIF(SOLICITUDES!$C$2:$C$1048576,BD!C1782,SOLICITUDES!$J$2:$J$1048576)","v":0},0,{"$f":"SUMIF(SOLICITUDES!$C$2:$C$1048576,BD!C1782,SOLICITUDES!$K$2:$K$1048576)","v":0},0]
[null,null,"T42689",10,13200,240,-76.60434306296824,2.3926993323066572,5,5,2,2,{"$f":"SUMIF(SOLICITUDES!$C$2:$C$1048576,BD!C1783,SOLICITUDES!$I$2:$I$1048576)","v":0},0,{"$f":"SUMIF(SOLICITUDES!$C$2:$C$1048576,BD!C1783,SOLICITUDES!$J$2:$J$1048576)","v":0},0,{"$f":"SUMIF(SOLICITUDES!$C$2:$C$1048576,BD!C1783,SOLICITUDES!$K$2:$K$1048576)","v":0},0]
[null,null,"T3641",5,13200,240,-76.592000058950035,2.3625516708789225,2.5,2.5,1,1,{"$f":"SUMIF(SOLICITUDES!$C$2:$C$1048576,BD!C1784,SOLICITUDES!$I$2:$I$1048576)","v":0},0,{"$f":"SUMIF(SOLICITUDES!$C$2:$C$1048576,BD!C1784,SOLICITUDES!$J$2:$J$1048576)","v":0},0,{"$f":"SUMIF(SOLICITUDES!$C$2:$C$1048576,BD!C1784,SOLICITUDES!$K$2:$K$1048576)","v":0},0]
[null,null,"T42690",10,13200,240,-76.604660693350453,2.3952311655298328,5,5,2,2,{"$f":"SUMIF(SOLICITUDES!$C$2:$C$1048576,BD!C1785,SOLICITUDES!$I$2:$I$1048576)","v":0},0,{"$f":"SUMIF(SOLICITUDES!$C$2:$C$1048576,BD!C1785,SOLICITUDES!$J$2:$J$1048576)","v":0},0,{"$f":"SUMIF(SOLICITUDES!$C$2:$C$1048576,BD!C1785,SOLICITUDES!$K$2:$K$1048576)","v":0},0]
[null,null,"T3640",5,13200,240,-76.586823129897041,2.3583628073058809,2.5,2.5,1,1,{"$f":"SUMIF(SOLICITUDES!$C$2:$C$1048576,BD!C1786,SOLICITUDES!$I$2:$I$1048576)","v":0},0,{"$f":"SUMIF(SOLICITUDES!$C$2:$C$1048576,BD!C1786,SOLICITUDES!$J$2:$J$1048576)","v":0},0,{"$f":"SUMIF(SOLICITUDES!$C$2:$C$1048576,BD!C1786,SOLICITUDES!$K$2:$K$1048576)","v":0},0]
[null,null,"T3648",10,13200,240,-76.583053715480915,2.36511670520827,5,5,2,2,{"$f":"SUMIF(SOLICITUDES!$C$2:$C$1048576,BD!C1787,SOLICITUDES!$I$2:$I$1048576)","v":0},0,{"$f":"SUMIF(SOLICITUDES!$C$2:$C$1048576,BD!C1787,SOLICITUDES!$J$2:$J$1048576)","v":0},0,{"$f":"SUMIF(SOLICITUDES!$C$2:$C$1048576,BD!C1787,SOLICITUDES!$K$2:$K$1048576)","v":0},0]
[null,null,"18TR2",50,13200,240,-76.597669234872555,2.4400832028693662,25,25,10,10,{"$f":"SUMIF(SOLICITUDES!$C$2:$C$1048576,BD!C1788,SOLICITUDES!$I$2:$I$1048576)","v":0},0,{"$f":"SUMIF(SOLICITUDES!$C$2:$C$1048576,BD!C1788,SOLICITUDES!$J$2:$J$1048576)","v":0},0,{"$f":"SUMIF(SOLICITUDES!$C$2:$C$1048576,BD!C1788,SOLICITUDES!$K$2:$K$1048576)","v":0},0]
[null,null,"T28298",25,13200,240,-76.425814723423485,3.2219818660132615,12.5,12.5,5,5,{"$f":"SUMIF(SOLICITUDES!$C$2:$C$1048576,BD!C1789,SOLICITUDES!$I$2:$I$1048576)","v":0},0,{"$f":"SUMIF(SOLICITUDES!$C$2:$C$1048576,BD!C1789,SOLICITUDES!$J$2:$J$1048576)","v":0},0,{"$f":"SUMIF(SOLICITUDES!$C$2:$C$1048576,BD!C1789,SOLICITUDES!$K$2:$K$1048576)","v":0},0]
[null,null,"T20605",25,13200,240,-76.427995751855008,3.2252850546309544,12.5,12.5,5,5,{"$f":"SUMIF(SOLICITUDES!$C$2:$C$1048576,BD!C1790,SOLICITUDES!$I$2:$I$1048576)","v":0},0,{"$f":"SUMIF(SOLICITUDES!$C$2:$C$1048576,BD!C1790,SOLICITUDES!$J$2:$J$1048576)","v":0},0,{"$f":"SUMIF(SOLICITUDES!$C$2:$C$1048576,BD!C1790,SOLICITUDES!$K$2:$K$1048576)","v":0},0]
[null,null,"T36319",25,13200,240,-76.42686378664537,3.2198319357517486,12.5,12.5,5,5,{"$f":"SUMIF(SOLICITUDES!$C$2:$C$1048576,BD!C1791,SOLICITUDES!$I$2:$I$1048576)","v":0},0,{"$f":"SUMIF(SOLICITUDES!$C$2:$C$1048576,BD!C1791,SOLICITUDES!$J$2:$J$1048576)","v":0},0,{"$f":"SUMIF(SOLICITUDES!$C$2:$C$1048576,BD!C1791,SOLICITUDES!$K$2:$K$1048576)","v":0},0]
[null,null,"T10118",50,13200,240,-76.430734292256872,3.2120138470232042,25,25,10,10,{"$f":"SUMIF(SOLICITUDES!$C$2:$C$1048576,BD!C1792,SOLICITUDES!$I$2:$I$1048576)","v":0},0,{"$f":"SUMIF(SOLICITUDES!$C$2:$C$1048576,BD!C1792,SOLICITUDES!$J$2:$J$1048576)","v":0},0,{"$f":"SUMIF(SOLICITUDES!$C$2:$C$1048576,BD!C1792,SOLICITUDES!$K$2:$K$1048576)","v":0},0]
[null,null,"T1424",25,13200,240,-76.429181302518472,3.2206588423432292,12.5,12.5,5,5,{"$f":"SUMIF(SOLICITUDES!$C$2:$C$1048576,BD!C1793,SOLICITUDES!$I$2:$I$1048576)","v":0},0,{"$f":"SUMIF(SOLICITUDES!$C$2:$C$1048576,BD!C1793,SOLICITUDES!$J$2:$J$1048576)","v":0},0,{"$f":"SUMIF(SOLICITUDES!$C$2:$C$1048576,BD!C1793,SOLICITUDES!$K$2:$K$1048576)","v":0},0]
[null,null,"T1415",37.5,13200,240,-76.429616308758256,3.2198679915448154,18.75,18.75,7.5,7.5,{"$f":"SUMIF(SOLICITUDES!$C$2:$C$1048576,BD!C1794,SOLICITUDES!$I$2:$I$1048576)","v":0},0,{"$f":"SUMIF(SOLICITUDES!$C$2:$C$1048576,BD!C1794,SOLICITUDES!$J$2:$J$1048576)","v":0},0,{"$f":"SUMIF(SOLICITUDES!$C$2:$C$1048576,BD!C1794,SOLICITUDES!$K$2:$K$1048576)","v":0},0]
[null,null,"T29485",30,13200,214,-76.452417445941521,3.1853441944507126,15,{"$f":"D1795*0.5-M1795","v":15},6,6,{"$f":"SUMIF(SOLICITUDES!$C$2:$C$1048576,BD!C1795,SOLICITUDES!$I$2:$I$1048576)","v":0},{"$f":"M1795/D1795","v":0},{"$f":"SUMIF(SOLICITUDES!$C$2:$C$1048576,BD!C1795,SOLICITUDES!$J$2:$J$1048576)","v":0},0,{"$f":"SUMIF(SOLICITUDES!$C$2:$C$1048576,BD!C1795,SOLICITUDES!$K$2:$K$1048576)","v":0},0]
[null,null,"T13928",5,13200,240,-76.453010225637613,3.1802933877839701,{"$f":"D1796*0.5","v":2.5},2.5,{"$f":"0.2*D1796","v":1},{"$f":"0.2*D1796","v":1},{"$f":"SUMIF(SOLICITUDES!$C$2:$C$1048576,BD!C1796,SOLICITUDES!$I$2:$I$1048576)","v":0},0,{"$f":"SUMIF(SOLICITUDES!$C$2:$C$1048576,BD!C1796,SOLICITUDES!$J$2:$J$1048576)","v":0},{"$f":"O1796/(2*K1796)","v":0},{"$f":"SUMIF(SOLICITUDES!$C$2:$C$1048576,BD!C1796,SOLICITUDES!$K$2:$K$1048576)","v":0},{"$f":"Q1796/(2*L1796)","v":0}]
[null,null,"T1436",25,13200,240,-76.442845702861717,3.2217213791770312,12.5,12.5,5,5,{"$f":"SUMIF(SOLICITUDES!$C$2:$C$1048576,BD!C1797,SOLICITUDES!$I$2:$I$1048576)","v":0},0,{"$f":"SUMIF(SOLICITUDES!$C$2:$C$1048576,BD!C1797,SOLICITUDES!$J$2:$J$1048576)","v":0},0,{"$f":"SUMIF(SOLICITUDES!$C$2:$C$1048576,BD!C1797,SOLICITUDES!$K$2:$K$1048576)","v":0},0]
[null,null,"T1410",15,13200,240,-76.439544597947915,3.2206341679556139,7.5,7.5,3,3,{"$f":"SUMIF(SOLICITUDES!$C$2:$C$1048576,BD!C1798,SOLICITUDES!$I$2:$I$1048576)","v":0},0,{"$f":"SUMIF(SOLICITUDES!$C$2:$C$1048576,BD!C1798,SOLICITUDES!$J$2:$J$1048576)","v":0},0,{"$f":"SUMIF(SOLICITUDES!$C$2:$C$1048576,BD!C1798,SOLICITUDES!$K$2:$K$1048576)","v":0},0]
[null,null,"T11792",25,13200,240,-76.453258281850594,3.186623551490833,12.5,12.5,5,5,{"$f":"SUMIF(SOLICITUDES!$C$2:$C$1048576,BD!C1799,SOLICITUDES!$I$2:$I$1048576)","v":0},0,{"$f":"SUMIF(SOLICITUDES!$C$2:$C$1048576,BD!C1799,SOLICITUDES!$J$2:$J$1048576)","v":0},0,{"$f":"SUMIF(SOLICITUDES!$C$2:$C$1048576,BD!C1799,SOLICITUDES!$K$2:$K$1048576)","v":0},0]
[null,null,"T10689",50,13200,240,-76.425838250107688,3.1850147467081551,25,25,10,10,{"$f":"SUMIF(SOLICITUDES!$C$2:$C$1048576,BD!C1800,SOLICITUDES!$I$2:$I$1048576)","v":0},0,{"$f":"SUMIF(SOLICITUDES!$C$2:$C$1048576,BD!C1800,SOLICITUDES!$J$2:$J$1048576)","v":0},0,{"$f":"SUMIF(SOLICITUDES!$C$2:$C$1048576,BD!C1800,SOLICITUDES!$K$2:$K$1048576)","v":0},0]
[null,null,"T11132",25,13200,240,-76.45200061032314,3.2286814192323785,12.5,12.5,5,5,{"$f":"SUMIF(SOLICITUDES!$C$2:$C$1048576,BD!C1801,SOLICITUDES!$I$2:$I$1048576)","v":0},0,{"$f":"SUMIF(SOLICITUDES!$C$2:$C$1048576,BD!C1801,SOLICITUDES!$J$2:$J$1048576)","v":0},0,{"$f":"SUMIF(SOLICITUDES!$C$2:$C$1048576,BD!C1801,SOLICITUDES!$K$2:$K$1048576)","v":0},0]
[null,null,"T11707",112.5,13200,208,-76.46049880003963,3.174374804034902,56.25,56.25,22.5,22.5,{"$f":"SUMIF(SOLICITUDES!$C$2:$C$1048576,BD!C1802,SOLICITUDES!$I$2:$I$1048576)","v":0},0,{"$f":"SUMIF(SOLICITUDES!$C$2:$C$1048576,BD!C1802,SOLICITUDES!$J$2:$J$1048576)","v":0},0,{"$f":"SUMIF(SOLICITUDES!$C$2:$C$1048576,BD!C1802,SOLICITUDES!$K$2:$K$1048576)","v":0},0]
[null,null,"T51282",10,13200,240,-76.447988656222179,3.227067571431423,5,5,2,2,{"$f":"SUMIF(SOLICITUDES!$C$2:$C$1048576,BD!C1803,SOLICITUDES!$I$2:$I$1048576)","v":0},0,{"$f":"SUMIF(SOLICITUDES!$C$2:$C$1048576,BD!C1803,SOLICITUDES!$J$2:$J$1048576)","v":0},0,{"$f":"SUMIF(SOLICITUDES!$C$2:$C$1048576,BD!C1803,SOLICITUDES!$K$2:$K$1048576)","v":0},0]
[null,null,"T11803",75,13200,208,-76.460984379831828,3.1746826088034701,37.5,37.5,15,15,{"$f":"SUMIF(SOLICITUDES!$C$2:$C$1048576,BD!C1804,SOLICITUDES!$I$2:$I$1048576)","v":0},0,{"$f":"SUMIF(SOLICITUDES!$C$2:$C$1048576,BD!C1804,SOLICITUDES!$J$2:$J$1048576)","v":0},0,{"$f":"SUMIF(SOLICITUDES!$C$2:$C$1048576,BD!C1804,SOLICITUDES!$K$2:$K$1048576)","v":0},0]
[null,null,"T11072",15,13200,240,-76.457920217183087,3.1687394605644639,7.5,7.5,3,3,{"$f":"SUMIF(SOLICITUDES!$C$2:$C$1048576,BD!C1805,SOLICITUDES!$I$2:$I$1048576)","v":0},0,{"$f":"SUMIF(SOLICITUDES!$C$2:$C$1048576,BD!C1805,SOLICITUDES!$J$2:$J$1048576)","v":0},0,{"$f":"SUMIF(SOLICITUDES!$C$2:$C$1048576,BD!C1805,SOLICITUDES!$K$2:$K$1048576)","v":0},0]
[null,null,"T11778",112.5,13200,208,-76.459850271963717,3.1757308012329424,56.25,56.25,22.5,22.5,{"$f":"SUMIF(SOLICITUDES!$C$2:$C$1048576,BD!C1806,SOLICITUDES!$I$2:$I$1048576)","v":0},0,{"$f":"SUMIF(SOLICITUDES!$C$2:$C$1048576,BD!C1806,SOLICITUDES!$J$2:$J$1048576)","v":0},0,{"$f":"SUMIF(SOLICITUDES!$C$2:$C$1048576,BD!C1806,SOLICITUDES!$K$2:$K$1048576)","v":0},0]
[null,null,"T10683",15,13200,240,-76.429403562864096,3.1943582657422609,7.5,7.5,3,3,{"$f":"SUMIF(SOLICITUDES!$C$2:$C$1048576,BD!C1807,SOLICITUDES!$I$2:$I$1048576)","v":0},0,{"$f":"SUMIF(SOLICITUDES!$C$2:$C$1048576,BD!C1807,SOLICITUDES!$J$2:$J$1048576)","v":0},0,{"$f":"SUMIF(SOLICITUDES!$C$2:$C$1048576,BD!C1807,SOLICITUDES!$K$2:$K$1048576)","v":0},0]
[null,null,"T10688",15,13200,240,-76.423223683293259,3.1729806094977855,7.5,7.5,3,3,{"$f":"SUMIF(SOLICITUDES!$C$2:$C$1048576,BD!C1808,SOLICITUDES!$I$2:$I$1048576)","v":0},0,{"$f":"SUMIF(SOLICITUDES!$C$2:$C$1048576,BD!C1808,SOLICITUDES!$J$2:$J$1048576)","v":0},0,{"$f":"SUMIF(SOLICITUDES!$C$2:$C$1048576,BD!C1808,SOLICITUDES!$K$2:$K$1048576)","v":0},0]
[null,null,"T11755",112.5,13200,208,-76.458269788612071,3.1709371356757048,56.25,56.25,22.5,22.5,{"$f":"SUMIF(SOLICITUDES!$C$2:$C$1048576,BD!C1809,SOLICITUDES!$I$2:$I$1048576)","v":0},0,{"$f":"SUMIF(SOLICITUDES!$C$2:$C$1048576,BD!C1809,SOLICITUDES!$J$2:$J$1048576)","v":0},0,{"$f":"SUMIF(SOLICITUDES!$C$2:$C$1048576,BD!C1809,SOLICITUDES!$K$2:$K$1048576)","v":0},0]
[null,null,"T29712",45,13200,214,-76.461434059475977,3.1749902833167951,22.5,22.5,9,9,{"$f":"SUMIF(SOLICITUDES!$C$2:$C$1048576,BD!C1810,SOLICITUDES!$I$2:$I$1048576)","v":0},0,{"$f":"SUMIF(SOLICITUDES!$C$2:$C$1048576,BD!C1810,SOLICITUDES!$J$2:$J$1048576)","v":0},0,{"$f":"SUMIF(SOLICITUDES!$C$2:$C$1048576,BD!C1810,SOLICITUDES!$K$2:$K$1048576)","v":0},0]
[null,null,"T10676",25,13200,240,-76.434556944732222,3.1975084508686296,12.5,12.5,5,5,{"$f":"SUMIF(SOLICITUDES!$C$2:$C$1048576,BD!C1811,SOLICITUDES!$I$2:$I$1048576)","v":0},0,{"$f":"SUMIF(SOLICITUDES!$C$2:$C$1048576,BD!C1811,SOLICITUDES!$J$2:$J$1048576)","v":0},0,{"$f":"SUMIF(SOLICITUDES!$C$2:$C$1048576,BD!C1811,SOLICITUDES!$K$2:$K$1048576)","v":0},0]
[null,null,"T40156",30,13200,208,-76.458369982746476,3.1688283701083662,15,15,6,6,{"$f":"SUMIF(SOLICITUDES!$C$2:$C$1048576,BD!C1812,SOLICITUDES!$I$2:$I$1048576)","v":0},0,{"$f":"SUMIF(SOLICITUDES!$C$2:$C$1048576,BD!C1812,SOLICITUDES!$J$2:$J$1048576)","v":0},0,{"$f":"SUMIF(SOLICITUDES!$C$2:$C$1048576,BD!C1812,SOLICITUDES!$K$2:$K$1048576)","v":0},0]
[null,null,"T11788",10,13200,240,-76.466424414848618,3.194462651409129,5,5,2,2,{"$f":"SUMIF(SOLICITUDES!$C$2:$C$1048576,BD!C1813,SOLICITUDES!$I$2:$I$1048576)","v":0},0,{"$f":"SUMIF(SOLICITUDES!$C$2:$C$1048576,BD!C1813,SOLICITUDES!$J$2:$J$1048576)","v":0},0,{"$f":"SUMIF(SOLICITUDES!$C$2:$C$1048576,BD!C1813,SOLICITUDES!$K$2:$K$1048576)","v":0},0]
[null,null,"T45111",15,13200,240,-76.458700341191474,3.1676761272057323,7.5,7.5,3,3,{"$f":"SUMIF(SOLICITUDES!$C$2:$C$1048576,BD!C1814,SOLICITUDES!$I$2:$I$1048576)","v":0},0,{"$f":"SUMIF(SOLICITUDES!$C$2:$C$1048576,BD!C1814,SOLICITUDES!$J$2:$J$1048576)","v":0},0,{"$f":"SUMIF(SOLICITUDES!$C$2:$C$1048576,BD!C1814,SOLICITUDES!$K$2:$K$1048576)","v":0},0]
[null,null,"T11714",75,13200,208,-76.465535415953696,3.176593300155174,37.5,37.5,15,15,{"$f":"SUMIF(SOLICITUDES!$C$2:$C$1048576,BD!C1815,SOLICITUDES!$I$2:$I$1048576)","v":0},0,{"$f":"SUMIF(SOLICITUDES!$C$2:$C$1048576,BD!C1815,SOLICITUDES!$J$2:$J$1048576)","v":0},0,{"$f":"SUMIF(SOLICITUDES!$C$2:$C$1048576,BD!C1815,SOLICITUDES!$K$2:$K$1048576)","v":0},0]
[null,null,"T24813",10,13200,240,-76.461975828697945,3.1811906648858543,5,5,2,2,{"$f":"SUMIF(SOLICITUDES!$C$2:$C$1048576,BD!C1816,SOLICITUDES!$I$2:$I$1048576)","v":0},0,{"$f":"SUMIF(SOLICITUDES!$C$2:$C$1048576,BD!C1816,SOLICITUDES!$J$2:$J$1048576)","v":0},0,{"$f":"SUMIF(SOLICITUDES!$C$2:$C$1048576,BD!C1816,SOLICITUDES!$K$2:$K$1048576)","v":0},0]
[null,null,"T11743",15,13200,240,-76.440771274738481,3.157335023585655,7.5,7.5,3,3,{"$f":"SUMIF(SOLICITUDES!$C$2:$C$1048576,BD!C1817,SOLICITUDES!$I$2:$I$1048576)","v":0},0,{"$f":"SUMIF(SOLICITUDES!$C$2:$C$1048576,BD!C1817,SOLICITUDES!$J$2:$J$1048576)","v":0},0,{"$f":"SUMIF(SOLICITUDES!$C$2:$C$1048576,BD!C1817,SOLICITUDES!$K$2:$K$1048576)","v":0},0]
[null,null,"T11790",30,13200,208,-76.466486672276289,3.1805185354805152,15,15,6,6,{"$f":"SUMIF(SOLICITUDES!$C$2:$C$1048576,BD!C1818,SOLICITUDES!$I$2:$I$1048576)","v":0},0,{"$f":"SUMIF(SOLICITUDES!$C$2:$C$1048576,BD!C1818,SOLICITUDES!$J$2:$J$1048576)","v":0},0,{"$f":"SUMIF(SOLICITUDES!$C$2:$C$1048576,BD!C1818,SOLICITUDES!$K$2:$K$1048576)","v":0},0]
[null,null,"T24814",45,13200,213,-76.464270541360193,3.1810147802410946,22.5,22.5,9,9,{"$f":"SUMIF(SOLICITUDES!$C$2:$C$1048576,BD!C1819,SOLICITUDES!$I$2:$I$1048576)","v":0},0,{"$f":"SUMIF(SOLICITUDES!$C$2:$C$1048576,BD!C1819,SOLICITUDES!$J$2:$J$1048576)","v":0},0,{"$f":"SUMIF(SOLICITUDES!$C$2:$C$1048576,BD!C1819,SOLICITUDES!$K$2:$K$1048576)","v":0},0]
[null,null,"T11079",112.5,13200,208,-76.410387528728137,3.2326151176974331,56.25,56.25,22.5,22.5,{"$f":"SUMIF(SOLICITUDES!$C$2:$C$1048576,BD!C1820,SOLICITUDES!$I$2:$I$1048576)","v":0},0,{"$f":"SUMIF(SOLICITUDES!$C$2:$C$1048576,BD!C1820,SOLICITUDES!$J$2:$J$1048576)","v":0},0,{"$f":"SUMIF(SOLICITUDES!$C$2:$C$1048576,BD!C1820,SOLICITUDES!$K$2:$K$1048576)","v":0},0]
[null,null,"T12710",225,13200,208,-76.414555472202977,3.228738527380413,112.5,112.5,45,45,{"$f":"SUMIF(SOLICITUDES!$C$2:$C$1048576,BD!C1821,SOLICITUDES!$I$2:$I$1048576)","v":0},0,{"$f":"SUMIF(SOLICITUDES!$C$2:$C$1048576,BD!C1821,SOLICITUDES!$J$2:$J$1048576)","v":0},0,{"$f":"SUMIF(SOLICITUDES!$C$2:$C$1048576,BD!C1821,SOLICITUDES!$K$2:$K$1048576)","v":0},0]
[null,null,"T40215",15,13200,240,-76.4082154891709,3.2325912757978705,7.5,7.5,3,3,{"$f":"SUMIF(SOLICITUDES!$C$2:$C$1048576,BD!C1822,SOLICITUDES!$I$2:$I$1048576)","v":0},0,{"$f":"SUMIF(SOLICITUDES!$C$2:$C$1048576,BD!C1822,SOLICITUDES!$J$2:$J$1048576)","v":0},0,{"$f":"SUMIF(SOLICITUDES!$C$2:$C$1048576,BD!C1822,SOLICITUDES!$K$2:$K$1048576)","v":0},0]
[null,null,"T22057",75,13200,208,-76.407433094878414,3.2336059054321731,37.5,37.5,15,15,{"$f":"SUMIF(SOLICITUDES!$C$2:$C$1048576,BD!C1823,SOLICITUDES!$I$2:$I$1048576)","v":0},0,{"$f":"SUMIF(SOLICITUDES!$C$2:$C$1048576,BD!C1823,SOLICITUDES!$J$2:$J$1048576)","v":0},0,{"$f":"SUMIF(SOLICITUDES!$C$2:$C$1048576,BD!C1823,SOLICITUDES!$K$2:$K$1048576)","v":0},0]
[null,null,"T12945",45,13200,208,-76.414555255658499,3.228738102602553,22.5,22.5,9,9,{"$f":"SUMIF(SOLICITUDES!$C$2:$C$1048576,BD!C1824,SOLICITUDES!$I$2:$I$1048576)","v":0},0,{"$f":"SUMIF(SOLICITUDES!$C$2:$C$1048576,BD!C1824,SOLICITUDES!$J$2:$J$1048576)","v":0},0,{"$f":"SUMIF(SOLICITUDES!$C$2:$C$1048576,BD!C1824,SOLICITUDES!$K$2:$K$1048576)","v":0},0]
[null,null,"T12946",75,13200,208,-76.414515031621292,3.2287756021001686,37.5,37.5,15,15,{"$f":"SUMIF(SOLICITUDES!$C$2:$C$1048576,BD!C1825,SOLICITUDES!$I$2:$I$1048576)","v":0},0,{"$f":"SUMIF(SOLICITUDES!$C$2:$C$1048576,BD!C1825,SOLICITUDES!$J$2:$J$1048576)","v":0},0,{"$f":"SUMIF(SOLICITUDES!$C$2:$C$1048576,BD!C1825,SOLICITUDES!$K$2:$K$1048576)","v":0},0]
[null,null,"T22053",75,13200,208,-76.408529143309437,3.2334536459308314,37.5,37.5,15,15,{"$f":"SUMIF(SOLICITUDES!$C$2:$C$1048576,BD!C1826,SOLICITUDES!$I$2:$I$1048576)","v":0},0,{"$f":"SUMIF(SOLICITUDES!$C$2:$C$1048576,BD!C1826,SOLICITUDES!$J$2:$J$1048576)","v":0},0,{"$f":"SUMIF(SOLICITUDES!$C$2:$C$1048576,BD!C1826,SOLICITUDES!$K$2:$K$1048576)","v":0},0]
[null,null,"T22059",30,13200,214,-76.408409339357647,3.2316262330909304,15,15,6,6,{"$f":"SUMIF(SOLICITUDES!$C$2:$C$1048576,BD!C1827,SOLICITUDES!$I$2:$I$1048576)","v":0},0,{"$f":"SUMIF(SOLICITUDES!$C$2:$C$1048576,BD!C1827,SOLICITUDES!$J$2:$J$1048576)","v":0},0,{"$f":"SUMIF(SOLICITUDES!$C$2:$C$1048576,BD!C1827,SOLICITUDES!$K$2:$K$1048576)","v":0},0]
[null,null,"T31358",45,13200,214,-76.406760669511058,3.2325329039543473,22.5,22.5,9,9,{"$f":"SUMIF(SOLICITUDES!$C$2:$C$1048576,BD!C1828,SOLICITUDES!$I$2:$I$1048576)","v":0},0,{"$f":"SUMIF(SOLICITUDES!$C$2:$C$1048576,BD!C1828,SOLICITUDES!$J$2:$J$1048576)","v":0},0,{"$f":"SUMIF(SOLICITUDES!$C$2:$C$1048576,BD!C1828,SOLICITUDES!$K$2:$K$1048576)","v":0},0]
[null,null,"T22055",45,13200,208,-76.409581326666853,3.2333551515445134,22.5,22.5,9,9,{"$f":"SUMIF(SOLICITUDES!$C$2:$C$1048576,BD!C1829,SOLICITUDES!$I$2:$I$1048576)","v":0},0,{"$f":"SUMIF(SOLICITUDES!$C$2:$C$1048576,BD!C1829,SOLICITUDES!$J$2:$J$1048576)","v":0},0,{"$f":"SUMIF(SOLICITUDES!$C$2:$C$1048576,BD!C1829,SOLICITUDES!$K$2:$K$1048576)","v":0},0]
[null,null,"T22051",75,13200,208,-76.408644392515214,3.2344833766165451,37.5,37.5,15,15,{"$f":"SUMIF(SOLICITUDES!$C$2:$C$1048576,BD!C1830,SOLICITUDES!$I$2:$I$1048576)","v":0},0,{"$f":"SUMIF(SOLICITUDES!$C$2:$C$1048576,BD!C1830,SOLICITUDES!$J$2:$J$1048576)","v":0},0,{"$f":"SUMIF(SOLICITUDES!$C$2:$C$1048576,BD!C1830,SOLICITUDES!$K$2:$K$1048576)","v":0},0]
[null,null,"T22056",75,13200,208,-76.410654325186243,3.233232695922263,37.5,37.5,15,15,{"$f":"SUMIF(SOLICITUDES!$C$2:$C$1048576,BD!C1831,SOLICITUDES!$I$2:$I$1048576)","v":0},0,{"$f":"SUMIF(SOLICITUDES!$C$2:$C$1048576,BD!C1831,SOLICITUDES!$J$2:$J$1048576)","v":0},0,{"$f":"SUMIF(SOLICITUDES!$C$2:$C$1048576,BD!C1831,SOLICITUDES!$K$2:$K$1048576)","v":0},0]
[null,null,"T41480",400,13200,261,-76.414580471972457,3.2286169826994322,200,200,80,80,{"$f":"SUMIF(SOLICITUDES!$C$2:$C$1048576,BD!C1832,SOLICITUDES!$I$2:$I$1048576)","v":0},0,{"$f":"SUMIF(SOLICITUDES!$C$2:$C$1048576,BD!C1832,SOLICITUDES!$J$2:$J$1048576)","v":0},0,{"$f":"SUMIF(SOLICITUDES!$C$2:$C$1048576,BD!C1832,SOLICITUDES!$K$2:$K$1048576)","v":0},0]
[null,null,"T22058",75,13200,208,-76.408835970828008,3.231461484813702,37.5,37.5,15,15,{"$f":"SUMIF(SOLICITUDES!$C$2:$C$1048576,BD!C1833,SOLICITUDES!$I$2:$I$1048576)","v":0},0,{"$f":"SUMIF(SOLICITUDES!$C$2:$C$1048576,BD!C1833,SOLICITUDES!$J$2:$J$1048576)","v":0},0,{"$f":"SUMIF(SOLICITUDES!$C$2:$C$1048576,BD!C1833,SOLICITUDES!$K$2:$K$1048576)","v":0},0]
[null,null,"T22060",112.5,13200,208,-76.409131715910149,3.2318201128168509,56.25,56.25,22.5,22.5,{"$f":"SUMIF(SOLICITUDES!$C$2:$C$1048576,BD!C1834,SOLICITUDES!$I$2:$I$1048576)","v":0},0,{"$f":"SUMIF(SOLICITUDES!$C$2:$C$1048576,BD!C1834,SOLICITUDES!$J$2:$J$1048576)","v":0},0,{"$f":"SUMIF(SOLICITUDES!$C$2:$C$1048576,BD!C1834,SOLICITUDES!$K$2:$K$1048576)","v":0},0]
[null,null,"T22050",112.5,13200,208,-76.409635445498083,3.2346735791607779,56.25,56.25,22.5,22.5,{"$f":"SUMIF(SOLICITUDES!$C$2:$C$1048576,BD!C1835,SOLICITUDES!$I$2:$I$1048576)","v":0},0,{"$f":"SUMIF(SOLICITUDES!$C$2:$C$1048576,BD!C1835,SOLICITUDES!$J$2:$J$1048576)","v":0},0,{"$f":"SUMIF(SOLICITUDES!$C$2:$C$1048576,BD!C1835,SOLICITUDES!$K$2:$K$1048576)","v":0},0]
[null,null,"T22049",75,13200,208,-76.410134913582013,3.2346094182339509,37.5,37.5,15,15,{"$f":"SUMIF(SOLICITUDES!$C$2:$C$1048576,BD!C1836,SOLICITUDES!$I$2:$I$1048576)","v":0},0,{"$f":"SUMIF(SOLICITUDES!$C$2:$C$1048576,BD!C1836,SOLICITUDES!$J$2:$J$1048576)","v":0},0,{"$f":"SUMIF(SOLICITUDES!$C$2:$C$1048576,BD!C1836,SOLICITUDES!$K$2:$K$1048576)","v":0},0]
[null,null,"T16734",75,13200,208,-76.415160561467488,3.2251851119499806,37.5,37.5,15,15,{"$f":"SUMIF(SOLICITUDES!$C$2:$C$1048576,BD!C1837,SOLICITUDES!$I$2:$I$1048576)","v":0},0,{"$f":"SUMIF(SOLICITUDES!$C$2:$C$1048576,BD!C1837,SOLICITUDES!$J$2:$J$1048576)","v":0},0,{"$f":"SUMIF(SOLICITUDES!$C$2:$C$1048576,BD!C1837,SOLICITUDES!$K$2:$K$1048576)","v":0},0]
[null,null,"T42107",0.5,13200,240,-76.398942783065237,3.2337830449429235,0.25,0.25,0.1,0.1,{"$f":"SUMIF(SOLICITUDES!$C$2:$C$1048576,BD!C1838,SOLICITUDES!$I$2:$I$1048576)","v":0},0,{"$f":"SUMIF(SOLICITUDES!$C$2:$C$1048576,BD!C1838,SOLICITUDES!$J$2:$J$1048576)","v":0},0,{"$f":"SUMIF(SOLICITUDES!$C$2:$C$1048576,BD!C1838,SOLICITUDES!$K$2:$K$1048576)","v":0},0]
[null,null,"T27989",10,13200,240,-76.378712065060114,3.2464658294783275,5,5,2,2,{"$f":"SUMIF(SOLICITUDES!$C$2:$C$1048576,BD!C1839,SOLICITUDES!$I$2:$I$1048576)","v":0},0,{"$f":"SUMIF(SOLICITUDES!$C$2:$C$1048576,BD!C1839,SOLICITUDES!$J$2:$J$1048576)","v":0},0,{"$f":"SUMIF(SOLICITUDES!$C$2:$C$1048576,BD!C1839,SOLICITUDES!$K$2:$K$1048576)","v":0},0]
[null,null,"T17630",25,13200,240,-76.376239523822804,3.2403324441809005,12.5,12.5,5,5,{"$f":"SUMIF(SOLICITUDES!$C$2:$C$1048576,BD!C1840,SOLICITUDES!$I$2:$I$1048576)","v":0},0,{"$f":"SUMIF(SOLICITUDES!$C$2:$C$1048576,BD!C1840,SOLICITUDES!$J$2:$J$1048576)","v":0},0,{"$f":"SUMIF(SOLICITUDES!$C$2:$C$1048576,BD!C1840,SOLICITUDES!$K$2:$K$1048576)","v":0},0]
[null,null,"T17244",25,13200,240,-76.38339343203387,3.2451475173824118,12.5,12.5,5,5,{"$f":"SUMIF(SOLICITUDES!$C$2:$C$1048576,BD!C1841,SOLICITUDES!$I$2:$I$1048576)","v":0},0,{"$f":"SUMIF(SOLICITUDES!$C$2:$C$1048576,BD!C1841,SOLICITUDES!$J$2:$J$1048576)","v":0},0,{"$f":"SUMIF(SOLICITUDES!$C$2:$C$1048576,BD!C1841,SOLICITUDES!$K$2:$K$1048576)","v":0},0]
[null,null,"T17115",15,13200,240,-76.391998240116777,3.2190657856580343,7.5,7.5,3,3,{"$f":"SUMIF(SOLICITUDES!$C$2:$C$1048576,BD!C1842,SOLICITUDES!$I$2:$I$1048576)","v":0},0,{"$f":"SUMIF(SOLICITUDES!$C$2:$C$1048576,BD!C1842,SOLICITUDES!$J$2:$J$1048576)","v":0},0,{"$f":"SUMIF(SOLICITUDES!$C$2:$C$1048576,BD!C1842,SOLICITUDES!$K$2:$K$1048576)","v":0},0]
[null,null,"T17625",75,13200,208,-76.377766251559493,3.2442671181326497,37.5,37.5,15,15,{"$f":"SUMIF(SOLICITUDES!$C$2:$C$1048576,BD!C1843,SOLICITUDES!$I$2:$I$1048576)","v":0},0,{"$f":"SUMIF(SOLICITUDES!$C$2:$C$1048576,BD!C1843,SOLICITUDES!$J$2:$J$1048576)","v":0},0,{"$f":"SUMIF(SOLICITUDES!$C$2:$C$1048576,BD!C1843,SOLICITUDES!$K$2:$K$1048576)","v":0},0]
[null,null,"T17626",10,13200,240,-76.374161372357378,3.2531173951691366,5,5,2,2,{"$f":"SUMIF(SOLICITUDES!$C$2:$C$1048576,BD!C1844,SOLICITUDES!$I$2:$I$1048576)","v":0},0,{"$f":"SUMIF(SOLICITUDES!$C$2:$C$1048576,BD!C1844,SOLICITUDES!$J$2:$J$1048576)","v":0},0,{"$f":"SUMIF(SOLICITUDES!$C$2:$C$1048576,BD!C1844,SOLICITUDES!$K$2:$K$1048576)","v":0},0]
[null,null,"T17243",75,13200,208,-76.374809732039665,3.2522769056656813,37.5,37.5,15,15,{"$f":"SUMIF(SOLICITUDES!$C$2:$C$1048576,BD!C1845,SOLICITUDES!$I$2:$I$1048576)","v":0},0,{"$f":"SUMIF(SOLICITUDES!$C$2:$C$1048576,BD!C1845,SOLICITUDES!$J$2:$J$1048576)","v":0},0,{"$f":"SUMIF(SOLICITUDES!$C$2:$C$1048576,BD!C1845,SOLICITUDES!$K$2:$K$1048576)","v":0},0]
[null,null,"T17636",50,13200,208,-76.372714416786565,3.2509190282172074,25,25,10,10,{"$f":"SUMIF(SOLICITUDES!$C$2:$C$1048576,BD!C1846,SOLICITUDES!$I$2:$I$1048576)","v":0},0,{"$f":"SUMIF(SOLICITUDES!$C$2:$C$1048576,BD!C1846,SOLICITUDES!$J$2:$J$1048576)","v":0},0,{"$f":"SUMIF(SOLICITUDES!$C$2:$C$1048576,BD!C1846,SOLICITUDES!$K$2:$K$1048576)","v":0},0]
[null,null,"T17122",25,13200,240,-76.390736561990735,3.2167529184987456,12.5,12.5,5,5,{"$f":"SUMIF(SOLICITUDES!$C$2:$C$1048576,BD!C1847,SOLICITUDES!$I$2:$I$1048576)","v":0},0,{"$f":"SUMIF(SOLICITUDES!$C$2:$C$1048576,BD!C1847,SOLICITUDES!$J$2:$J$1048576)","v":0},0,{"$f":"SUMIF(SOLICITUDES!$C$2:$C$1048576,BD!C1847,SOLICITUDES!$K$2:$K$1048576)","v":0},0]
[null,null,"T17634",25,13200,240,-76.372408844451314,3.250466690627916,12.5,12.5,5,5,{"$f":"SUMIF(SOLICITUDES!$C$2:$C$1048576,BD!C1848,SOLICITUDES!$I$2:$I$1048576)","v":0},0,{"$f":"SUMIF(SOLICITUDES!$C$2:$C$1048576,BD!C1848,SOLICITUDES!$J$2:$J$1048576)","v":0},0,{"$f":"SUMIF(SOLICITUDES!$C$2:$C$1048576,BD!C1848,SOLICITUDES!$K$2:$K$1048576)","v":0},0]
[null,null,"T17098",37.5,13200,240,-76.390675211066352,3.2198244677001862,18.75,18.75,7.5,7.5,{"$f":"SUMIF(SOLICITUDES!$C$2:$C$1048576,BD!C1849,SOLICITUDES!$I$2:$I$1048576)","v":0},0,{"$f":"SUMIF(SOLICITUDES!$C$2:$C$1048576,BD!C1849,SOLICITUDES!$J$2:$J$1048576)","v":0},0,{"$f":"SUMIF(SOLICITUDES!$C$2:$C$1048576,BD!C1849,SOLICITUDES!$K$2:$K$1048576)","v":0},0]
[null,null,"T43554",25,13200,240,-76.389661706356648,3.2157926661353424,12.5,12.5,5,5,{"$f":"SUMIF(SOLICITUDES!$C$2:$C$1048576,BD!C1850,SOLICITUDES!$I$2:$I$1048576)","v":0},0,{"$f":"SUMIF(SOLICITUDES!$C$2:$C$1048576,BD!C1850,SOLICITUDES!$J$2:$J$1048576)","v":0},0,{"$f":"SUMIF(SOLICITUDES!$C$2:$C$1048576,BD!C1850,SOLICITUDES!$K$2:$K$1048576)","v":0},0]
[null,null,"T17099",25,13200,240,-76.390414969408795,3.2188657330156563,12.5,12.5,5,5,{"$f":"SUMIF(SOLICITUDES!$C$2:$C$1048576,BD!C1851,SOLICITUDES!$I$2:$I$1048576)","v":0},0,{"$f":"SUMIF(SOLICITUDES!$C$2:$C$1048576,BD!C1851,SOLICITUDES!$J$2:$J$1048576)","v":0},0,{"$f":"SUMIF(SOLICITUDES!$C$2:$C$1048576,BD!C1851,SOLICITUDES!$K$2:$K$1048576)","v":0},0]
[null,null,"T17112",15,13200,240,-76.385112705697665,3.2236819259518885,7.5,7.5,3,3,{"$f":"SUMIF(SOLICITUDES!$C$2:$C$1048576,BD!C1852,SOLICITUDES!$I$2:$I$1048576)","v":0},0,{"$f":"SUMIF(SOLICITUDES!$C$2:$C$1048576,BD!C1852,SOLICITUDES!$J$2:$J$1048576)","v":0},0,{"$f":"SUMIF(SOLICITUDES!$C$2:$C$1048576,BD!C1852,SOLICITUDES!$K$2:$K$1048576)","v":0},0]
[null,null,"T17101",37.5,13200,240,-76.385463842850058,3.2232481025864113,18.75,18.75,7.5,7.5,{"$f":"SUMIF(SOLICITUDES!$C$2:$C$1048576,BD!C1853,SOLICITUDES!$I$2:$I$1048576)","v":0},0,{"$f":"SUMIF(SOLICITUDES!$C$2:$C$1048576,BD!C1853,SOLICITUDES!$J$2:$J$1048576)","v":0},0,{"$f":"SUMIF(SOLICITUDES!$C$2:$C$1048576,BD!C1853,SOLICITUDES!$K$2:$K$1048576)","v":0},0]
[null,null,"T17624",37.5,13200,240,-76.371973176320125,3.2559010142708256,18.75,18.75,7.5,7.5,{"$f":"SUMIF(SOLICITUDES!$C$2:$C$1048576,BD!C1854,SOLICITUDES!$I$2:$I$1048576)","v":0},0,{"$f":"SUMIF(SOLICITUDES!$C$2:$C$1048576,BD!C1854,SOLICITUDES!$J$2:$J$1048576)","v":0},0,{"$f":"SUMIF(SOLICITUDES!$C$2:$C$1048576,BD!C1854,SOLICITUDES!$K$2:$K$1048576)","v":0},0]
[null,null,"T17241",25,13200,240,-76.368388601948595,3.261351249145072,12.5,12.5,5,5,{"$f":"SUMIF(SOLICITUDES!$C$2:$C$1048576,BD!C1855,SOLICITUDES!$I$2:$I$1048576)","v":0},0,{"$f":"SUMIF(SOLICITUDES!$C$2:$C$1048576,BD!C1855,SOLICITUDES!$J$2:$J$1048576)","v":0},0,{"$f":"SUMIF(SOLICITUDES!$C$2:$C$1048576,BD!C1855,SOLICITUDES!$K$2:$K$1048576)","v":0},0]
[null,null,"T17105",37.5,13200,240,-76.385192245916002,3.212505103868061,18.75,18.75,7.5,7.5,{"$f":"SUMIF(SOLICITUDES!$C$2:$C$1048576,BD!C1856,SOLICITUDES!$I$2:$I$1048576)","v":0},0,{"$f":"SUMIF(SOLICITUDES!$C$2:$C$1048576,BD!C1856,SOLICITUDES!$J$2:$J$1048576)","v":0},0,{"$f":"SUMIF(SOLICITUDES!$C$2:$C$1048576,BD!C1856,SOLICITUDES!$K$2:$K$1048576)","v":0},0]
[null,null,"T42335",37.5,13200,240,-76.384957265457558,3.2225144271771078,18.75,18.75,7.5,7.5,{"$f":"SUMIF(SOLICITUDES!$C$2:$C$1048576,BD!C1857,SOLICITUDES!$I$2:$I$1048576)","v":0},0,{"$f":"SUMIF(SOLICITUDES!$C$2:$C$1048576,BD!C1857,SOLICITUDES!$J$2:$J$1048576)","v":0},0,{"$f":"SUMIF(SOLICITUDES!$C$2:$C$1048576,BD!C1857,SOLICITUDES!$K$2:$K$1048576)","v":0},0]
[null,null,"T17637",125,13200,208,-76.388065683776347,3.2470684593693973,62.5,62.5,25,25,{"$f":"SUMIF(SOLICITUDES!$C$2:$C$1048576,BD!C1858,SOLICITUDES!$I$2:$I$1048576)","v":0},0,{"$f":"SUMIF(SOLICITUDES!$C$2:$C$1048576,BD!C1858,SOLICITUDES!$J$2:$J$1048576)","v":0},0,{"$f":"SUMIF(SOLICITUDES!$C$2:$C$1048576,BD!C1858,SOLICITUDES!$K$2:$K$1048576)","v":0},0]
[null,null,"T17116",15,13200,240,-76.377619198554441,3.2226639528351031,7.5,{"$f":"D1859*0.5-M1859","v":7.5},3,3,{"$f":"SUMIF(SOLICITUDES!$C$2:$C$1048576,BD!C1859,SOLICITUDES!$I$2:$I$1048576)","v":0},{"$f":"M1859/D1859","v":0},{"$f":"SUMIF(SOLICITUDES!$C$2:$C$1048576,BD!C1859,SOLICITUDES!$J$2:$J$1048576)","v":0},0,{"$f":"SUMIF(SOLICITUDES!$C$2:$C$1048576,BD!C1859,SOLICITUDES!$K$2:$K$1048576)","v":0},0]
[null,null,"T17251",15,13200,240,-76.366245137470884,3.2644423376616438,{"$f":"D1860*0.5","v":7.5},7.5,{"$f":"0.2*D1860","v":3},{"$f":"0.2*D1860","v":3},{"$f":"SUMIF(SOLICITUDES!$C$2:$C$1048576,BD!C1860,SOLICITUDES!$I$2:$I$1048576)","v":0},0,{"$f":"SUMIF(SOLICITUDES!$C$2:$C$1048576,BD!C1860,SOLICITUDES!$J$2:$J$1048576)","v":0},{"$f":"O1860/(2*K1860)","v":0},{"$f":"SUMIF(SOLICITUDES!$C$2:$C$1048576,BD!C1860,SOLICITUDES!$K$2:$K$1048576)","v":0},{"$f":"Q1860/(2*L1860)","v":0}]
[null,null,"T17260",15,13200,240,-76.366021317005121,3.2601198131341036,7.5,7.5,3,3,{"$f":"SUMIF(SOLICITUDES!$C$2:$C$1048576,BD!C1861,SOLICITUDES!$I$2:$I$1048576)","v":0},0,{"$f":"SUMIF(SOLICITUDES!$C$2:$C$1048576,BD!C1861,SOLICITUDES!$J$2:$J$1048576)","v":0},0,{"$f":"SUMIF(SOLICITUDES!$C$2:$C$1048576,BD!C1861,SOLICITUDES!$K$2:$K$1048576)","v":0},0]
[null,null,"T17238",150,13200,208,-76.366216649296319,3.2665673240456581,75,75,30,30,{"$f":"SUMIF(SOLICITUDES!$C$2:$C$1048576,BD!C1862,SOLICITUDES!$I$2:$I$1048576)","v":0},0,{"$f":"SUMIF(SOLICITUDES!$C$2:$C$1048576,BD!C1862,SOLICITUDES!$J$2:$J$1048576)","v":0},0,{"$f":"SUMIF(SOLICITUDES!$C$2:$C$1048576,BD!C1862,SOLICITUDES!$K$2:$K$1048576)","v":0},0]
[null,null,"T17235",15,13200,240,-76.364326762134269,3.2672713190881697,7.5,7.5,3,3,{"$f":"SUMIF(SOLICITUDES!$C$2:$C$1048576,BD!C1863,SOLICITUDES!$I$2:$I$1048576)","v":0},0,{"$f":"SUMIF(SOLICITUDES!$C$2:$C$1048576,BD!C1863,SOLICITUDES!$J$2:$J$1048576)","v":0},0,{"$f":"SUMIF(SOLICITUDES!$C$2:$C$1048576,BD!C1863,SOLICITUDES!$K$2:$K$1048576)","v":0},0]
[null,null,"T17628",125,13200,208,-76.388317707039207,3.2600901789018586,62.5,62.5,25,25,{"$f":"SUMIF(SOLICITUDES!$C$2:$C$1048576,BD!C1864,SOLICITUDES!$I$2:$I$1048576)","v":0},0,{"$f":"SUMIF(SOLICITUDES!$C$2:$C$1048576,BD!C1864,SOLICITUDES!$J$2:$J$1048576)","v":0},0,{"$f":"SUMIF(SOLICITUDES!$C$2:$C$1048576,BD!C1864,SOLICITUDES!$K$2:$K$1048576)","v":0},0]
[null,null,"T17117",37.5,13200,240,-76.358926568664089,3.2167792727012827,18.75,18.75,7.5,7.5,{"$f":"SUMIF(SOLICITUDES!$C$2:$C$1048576,BD!C1865,SOLICITUDES!$I$2:$I$1048576)","v":0},0,{"$f":"SUMIF(SOLICITUDES!$C$2:$C$1048576,BD!C1865,SOLICITUDES!$J$2:$J$1048576)","v":0},0,{"$f":"SUMIF(SOLICITUDES!$C$2:$C$1048576,BD!C1865,SOLICITUDES!$K$2:$K$1048576)","v":0},0]
[null,null,"T17118",15,13200,240,-76.356058799547654,3.2541679975646063,7.5,7.5,3,3,{"$f":"SUMIF(SOLICITUDES!$C$2:$C$1048576,BD!C1866,SOLICITUDES!$I$2:$I$1048576)","v":0},0,{"$f":"SUMIF(SOLICITUDES!$C$2:$C$1048576,BD!C1866,SOLICITUDES!$J$2:$J$1048576)","v":0},0,{"$f":"SUMIF(SOLICITUDES!$C$2:$C$1048576,BD!C1866,SOLICITUDES!$K$2:$K$1048576)","v":0},0]
[null,null,"T17239",37.5,13200,240,-76.342724843248135,3.279870079110863,18.75,18.75,7.5,7.5,{"$f":"SUMIF(SOLICITUDES!$C$2:$C$1048576,BD!C1867,SOLICITUDES!$I$2:$I$1048576)","v":0},0,{"$f":"SUMIF(SOLICITUDES!$C$2:$C$1048576,BD!C1867,SOLICITUDES!$J$2:$J$1048576)","v":0},0,{"$f":"SUMIF(SOLICITUDES!$C$2:$C$1048576,BD!C1867,SOLICITUDES!$K$2:$K$1048576)","v":0},0]
[null,null,"T28770",25,13200,240,-76.344266010965626,3.2790442885453301,12.5,12.5,5,5,{"$f":"SUMIF(SOLICITUDES!$C$2:$C$1048576,BD!C1868,SOLICITUDES!$I$2:$I$1048576)","v":0},0,{"$f":"SUMIF(SOLICITUDES!$C$2:$C$1048576,BD!C1868,SOLICITUDES!$J$2:$J$1048576)","v":0},0,{"$f":"SUMIF(SOLICITUDES!$C$2:$C$1048576,BD!C1868,SOLICITUDES!$K$2:$K$1048576)","v":0},0]
[null,null,"T17450",50,13200,240,-76.358448710513429,3.2070357277503172,25,25,10,10,{"$f":"SUMIF(SOLICITUDES!$C$2:$C$1048576,BD!C1869,SOLICITUDES!$I$2:$I$1048576)","v":0},0,{"$f":"SUMIF(SOLICITUDES!$C$2:$C$1048576,BD!C1869,SOLICITUDES!$J$2:$J$1048576)","v":0},0,{"$f":"SUMIF(SOLICITUDES!$C$2:$C$1048576,BD!C1869,SOLICITUDES!$K$2:$K$1048576)","v":0},0]
[null,null,"T17252",45,13200,208,-76.3452220266757,3.2810292388369877,22.5,22.5,9,9,{"$f":"SUMIF(SOLICITUDES!$C$2:$C$1048576,BD!C1870,SOLICITUDES!$I$2:$I$1048576)","v":0},0,{"$f":"SUMIF(SOLICITUDES!$C$2:$C$1048576,BD!C1870,SOLICITUDES!$J$2:$J$1048576)","v":0},0,{"$f":"SUMIF(SOLICITUDES!$C$2:$C$1048576,BD!C1870,SOLICITUDES!$K$2:$K$1048576)","v":0},0]
[null,null,"T17250",15,13200,240,-76.345433143742937,3.2819324832423522,7.5,7.5,3,3,{"$f":"SUMIF(SOLICITUDES!$C$2:$C$1048576,BD!C1871,SOLICITUDES!$I$2:$I$1048576)","v":0},0,{"$f":"SUMIF(SOLICITUDES!$C$2:$C$1048576,BD!C1871,SOLICITUDES!$J$2:$J$1048576)","v":0},0,{"$f":"SUMIF(SOLICITUDES!$C$2:$C$1048576,BD!C1871,SOLICITUDES!$K$2:$K$1048576)","v":0},0]
[null,null,"T17253",45,13200,208,-76.344538152600876,3.2825768123045012,22.5,22.5,9,9,{"$f":"SUMIF(SOLICITUDES!$C$2:$C$1048576,BD!C1872,SOLICITUDES!$I$2:$I$1048576)","v":0},0,{"$f":"SUMIF(SOLICITUDES!$C$2:$C$1048576,BD!C1872,SOLICITUDES!$J$2:$J$1048576)","v":0},0,{"$f":"SUMIF(SOLICITUDES!$C$2:$C$1048576,BD!C1872,SOLICITUDES!$K$2:$K$1048576)","v":0},0]
[null,null,"T17269",75,13200,208,-76.345441598599194,3.2819361167585321,37.5,37.5,15,15,{"$f":"SUMIF(SOLICITUDES!$C$2:$C$1048576,BD!C1873,SOLICITUDES!$I$2:$I$1048576)","v":0},0,{"$f":"SUMIF(SOLICITUDES!$C$2:$C$1048576,BD!C1873,SOLICITUDES!$J$2:$J$1048576)","v":0},0,{"$f":"SUMIF(SOLICITUDES!$C$2:$C$1048576,BD!C1873,SOLICITUDES!$K$2:$K$1048576)","v":0},0]
[null,null,"T17449",25,13200,240,-76.351592128073989,3.209958654536603,12.5,12.5,5,5,{"$f":"SUMIF(SOLICITUDES!$C$2:$C$1048576,BD!C1874,SOLICITUDES!$I$2:$I$1048576)","v":0},0,{"$f":"SUMIF(SOLICITUDES!$C$2:$C$1048576,BD!C1874,SOLICITUDES!$J$2:$J$1048576)","v":0},0,{"$f":"SUMIF(SOLICITUDES!$C$2:$C$1048576,BD!C1874,SOLICITUDES!$K$2:$K$1048576)","v":0},0]
[null,null,"T17453",37.5,13200,240,-76.362509816106112,3.2156814027939111,18.75,18.75,7.5,7.5,{"$f":"SUMIF(SOLICITUDES!$C$2:$C$1048576,BD!C1875,SOLICITUDES!$I$2:$I$1048576)","v":0},0,{"$f":"SUMIF(SOLICITUDES!$C$2:$C$1048576,BD!C1875,SOLICITUDES!$J$2:$J$1048576)","v":0},0,{"$f":"SUMIF(SOLICITUDES!$C$2:$C$1048576,BD!C1875,SOLICITUDES!$K$2:$K$1048576)","v":0},0]
[null,null,"T17246",45,13200,208,-76.345298382992553,3.2808815381345422,22.5,22.5,9,9,{"$f":"SUMIF(SOLICITUDES!$C$2:$C$1048576,BD!C1876,SOLICITUDES!$I$2:$I$1048576)","v":0},0,{"$f":"SUMIF(SOLICITUDES!$C$2:$C$1048576,BD!C1876,SOLICITUDES!$J$2:$J$1048576)","v":0},0,{"$f":"SUMIF(SOLICITUDES!$C$2:$C$1048576,BD!C1876,SOLICITUDES!$K$2:$K$1048576)","v":0},0]
[null,null,"T17264",15,13200,240,-76.344307712856065,3.2829709945422381,7.5,7.5,3,3,{"$f":"SUMIF(SOLICITUDES!$C$2:$C$1048576,BD!C1877,SOLICITUDES!$I$2:$I$1048576)","v":0},0,{"$f":"SUMIF(SOLICITUDES!$C$2:$C$1048576,BD!C1877,SOLICITUDES!$J$2:$J$1048576)","v":0},0,{"$f":"SUMIF(SOLICITUDES!$C$2:$C$1048576,BD!C1877,SOLICITUDES!$K$2:$K$1048576)","v":0},0]
[null,null,"T17451",37.5,13200,240,-76.363157060883083,3.2164052948261581,18.75,18.75,7.5,7.5,{"$f":"SUMIF(SOLICITUDES!$C$2:$C$1048576,BD!C1878,SOLICITUDES!$I$2:$I$1048576)","v":0},0,{"$f":"SUMIF(SOLICITUDES!$C$2:$C$1048576,BD!C1878,SOLICITUDES!$J$2:$J$1048576)","v":0},0,{"$f":"SUMIF(SOLICITUDES!$C$2:$C$1048576,BD!C1878,SOLICITUDES!$K$2:$K$1048576)","v":0},0]
[null,null,"T17452",37.5,13200,240,-76.359152652951309,3.2049453504158709,18.75,18.75,7.5,7.5,{"$f":"SUMIF(SOLICITUDES!$C$2:$C$1048576,BD!C1879,SOLICITUDES!$I$2:$I$1048576)","v":0},0,{"$f":"SUMIF(SOLICITUDES!$C$2:$C$1048576,BD!C1879,SOLICITUDES!$J$2:$J$1048576)","v":0},0,{"$f":"SUMIF(SOLICITUDES!$C$2:$C$1048576,BD!C1879,SOLICITUDES!$K$2:$K$1048576)","v":0},0]
[null,null,"T30612",30,13200,240,-76.345973629976513,3.2822563785717773,15,15,6,6,{"$f":"SUMIF(SOLICITUDES!$C$2:$C$1048576,BD!C1880,SOLICITUDES!$I$2:$I$1048576)","v":0},0,{"$f":"SUMIF(SOLICITUDES!$C$2:$C$1048576,BD!C1880,SOLICITUDES!$J$2:$J$1048576)","v":0},0,{"$f":"SUMIF(SOLICITUDES!$C$2:$C$1048576,BD!C1880,SOLICITUDES!$K$2:$K$1048576)","v":0},0]
[null,null,"T30613",30,13200,240,-76.346380509033594,3.2824725169149849,15,15,6,6,{"$f":"SUMIF(SOLICITUDES!$C$2:$C$1048576,BD!C1881,SOLICITUDES!$I$2:$I$1048576)","v":0},0,{"$f":"SUMIF(SOLICITUDES!$C$2:$C$1048576,BD!C1881,SOLICITUDES!$J$2:$J$1048576)","v":0},0,{"$f":"SUMIF(SOLICITUDES!$C$2:$C$1048576,BD!C1881,SOLICITUDES!$K$2:$K$1048576)","v":0},0]
[null,null,"T17454",5,13200,240,-76.364266276159498,3.1992258548848116,2.5,2.5,1,1,{"$f":"SUMIF(SOLICITUDES!$C$2:$C$1048576,BD!C1882,SOLICITUDES!$I$2:$I$1048576)","v":0},0,{"$f":"SUMIF(SOLICITUDES!$C$2:$C$1048576,BD!C1882,SOLICITUDES!$J$2:$J$1048576)","v":0},0,{"$f":"SUMIF(SOLICITUDES!$C$2:$C$1048576,BD!C1882,SOLICITUDES!$K$2:$K$1048576)","v":0},0]
[null,null,"T17457",25,13200,240,-76.351233546247059,3.1954630098927295,12.5,12.5,5,5,{"$f":"SUMIF(SOLICITUDES!$C$2:$C$1048576,BD!C1883,SOLICITUDES!$I$2:$I$1048576)","v":0},0,{"$f":"SUMIF(SOLICITUDES!$C$2:$C$1048576,BD!C1883,SOLICITUDES!$J$2:$J$1048576)","v":0},0,{"$f":"SUMIF(SOLICITUDES!$C$2:$C$1048576,BD!C1883,SOLICITUDES!$K$2:$K$1048576)","v":0},0]
[null,null,"T17455",75,13200,208,-76.351270577663371,3.1939799952272749,37.5,37.5,15,15,{"$f":"SUMIF(SOLICITUDES!$C$2:$C$1048576,BD!C1884,SOLICITUDES!$I$2:$I$1048576)","v":0},0,{"$f":"SUMIF(SOLICITUDES!$C$2:$C$1048576,BD!C1884,SOLICITUDES!$J$2:$J$1048576)","v":0},0,{"$f":"SUMIF(SOLICITUDES!$C$2:$C$1048576,BD!C1884,SOLICITUDES!$K$2:$K$1048576)","v":0},0]
[null,null,"T8604",300,34500,440,-76.351664968725927,3.1961142957510029,150,150,60,60,{"$f":"SUMIF(SOLICITUDES!$C$2:$C$1048576,BD!C1885,SOLICITUDES!$I$2:$I$1048576)","v":0},0,{"$f":"SUMIF(SOLICITUDES!$C$2:$C$1048576,BD!C1885,SOLICITUDES!$J$2:$J$1048576)","v":0},0,{"$f":"SUMIF(SOLICITUDES!$C$2:$C$1048576,BD!C1885,SOLICITUDES!$K$2:$K$1048576)","v":0},0]
[null,null,"T24700",100,13200,208,-76.345088982409635,3.1955580392735983,50,50,20,20,{"$f":"SUMIF(SOLICITUDES!$C$2:$C$1048576,BD!C1886,SOLICITUDES!$I$2:$I$1048576)","v":0},0,{"$f":"SUMIF(SOLICITUDES!$C$2:$C$1048576,BD!C1886,SOLICITUDES!$J$2:$J$1048576)","v":0},0,{"$f":"SUMIF(SOLICITUDES!$C$2:$C$1048576,BD!C1886,SOLICITUDES!$K$2:$K$1048576)","v":0},0]
[null,null,"T17456",10,13200,240,-76.371982280337392,3.190820616237759,5,5,2,2,{"$f":"SUMIF(SOLICITUDES!$C$2:$C$1048576,BD!C1887,SOLICITUDES!$I$2:$I$1048576)","v":0},0,{"$f":"SUMIF(SOLICITUDES!$C$2:$C$1048576,BD!C1887,SOLICITUDES!$J$2:$J$1048576)","v":0},0,{"$f":"SUMIF(SOLICITUDES!$C$2:$C$1048576,BD!C1887,SOLICITUDES!$K$2:$K$1048576)","v":0},0]
[null,null,"T44881",0.5,13200,240,-76.375973234718032,3.1927886088352886,0.25,0.25,0.1,0.1,{"$f":"SUMIF(SOLICITUDES!$C$2:$C$1048576,BD!C1888,SOLICITUDES!$I$2:$I$1048576)","v":0},0,{"$f":"SUMIF(SOLICITUDES!$C$2:$C$1048576,BD!C1888,SOLICITUDES!$J$2:$J$1048576)","v":0},0,{"$f":"SUMIF(SOLICITUDES!$C$2:$C$1048576,BD!C1888,SOLICITUDES!$K$2:$K$1048576)","v":0},0]
[null,null,"T17448",15,13200,240,-76.358885033449738,3.1759362215252267,7.5,7.5,3,3,{"$f":"SUMIF(SOLICITUDES!$C$2:$C$1048576,BD!C1889,SOLICITUDES!$I$2:$I$1048576)","v":0},0,{"$f":"SUMIF(SOLICITUDES!$C$2:$C$1048576,BD!C1889,SOLICITUDES!$J$2:$J$1048576)","v":0},0,{"$f":"SUMIF(SOLICITUDES!$C$2:$C$1048576,BD!C1889,SOLICITUDES!$K$2:$K$1048576)","v":0},0]
[null,null,"T8600",15,13200,240,-76.428809921770053,3.0490304332441633,7.5,7.5,3,3,{"$f":"SUMIF(SOLICITUDES!$C$2:$C$1048576,BD!C1890,SOLICITUDES!$I$2:$I$1048576)","v":0},0,{"$f":"SUMIF(SOLICITUDES!$C$2:$C$1048576,BD!C1890,SOLICITUDES!$J$2:$J$1048576)","v":0},0,{"$f":"SUMIF(SOLICITUDES!$C$2:$C$1048576,BD!C1890,SOLICITUDES!$K$2:$K$1048576)","v":0},0]
[null,null,"T8602",75,34500,208,-76.429060958100408,3.0503147060366258,37.5,37.5,15,15,{"$f":"SUMIF(SOLICITUDES!$C$2:$C$1048576,BD!C1891,SOLICITUDES!$I$2:$I$1048576)","v":0},0,{"$f":"SUMIF(SOLICITUDES!$C$2:$C$1048576,BD!C1891,SOLICITUDES!$J$2:$J$1048576)","v":0},0,{"$f":"SUMIF(SOLICITUDES!$C$2:$C$1048576,BD!C1891,SOLICITUDES!$K$2:$K$1048576)","v":0},0]
[null,null,"T28730",0.5,13200,240,-76.360202027347512,3.0652633663963673,0.25,0.25,0.1,0.1,{"$f":"SUMIF(SOLICITUDES!$C$2:$C$1048576,BD!C1892,SOLICITUDES!$I$2:$I$1048576)","v":0},0,{"$f":"SUMIF(SOLICITUDES!$C$2:$C$1048576,BD!C1892,SOLICITUDES!$J$2:$J$1048576)","v":0},0,{"$f":"SUMIF(SOLICITUDES!$C$2:$C$1048576,BD!C1892,SOLICITUDES!$K$2:$K$1048576)","v":0},0]
[null,null,"T20808",225,34500,457,-76.345430217172392,3.0570591685199422,112.5,112.5,45,45,{"$f":"SUMIF(SOLICITUDES!$C$2:$C$1048576,BD!C1893,SOLICITUDES!$I$2:$I$1048576)","v":0},0,{"$f":"SUMIF(SOLICITUDES!$C$2:$C$1048576,BD!C1893,SOLICITUDES!$J$2:$J$1048576)","v":0},0,{"$f":"SUMIF(SOLICITUDES!$C$2:$C$1048576,BD!C1893,SOLICITUDES!$K$2:$K$1048576)","v":0},0]
[null,null,"T18652",900,34500,440,-76.378252882334721,3.0721736812715243,450,450,180,180,{"$f":"SUMIF(SOLICITUDES!$C$2:$C$1048576,BD!C1894,SOLICITUDES!$I$2:$I$1048576)","v":0},0,{"$f":"SUMIF(SOLICITUDES!$C$2:$C$1048576,BD!C1894,SOLICITUDES!$J$2:$J$1048576)","v":0},0,{"$f":"SUMIF(SOLICITUDES!$C$2:$C$1048576,BD!C1894,SOLICITUDES!$K$2:$K$1048576)","v":0},0]
[null,null,"T41516",15,13200,240,-76.378227283999706,3.0721792134684205,7.5,7.5,3,3,{"$f":"SUMIF(SOLICITUDES!$C$2:$C$1048576,BD!C1895,SOLICITUDES!$I$2:$I$1048576)","v":0},0,{"$f":"SUMIF(SOLICITUDES!$C$2:$C$1048576,BD!C1895,SOLICITUDES!$J$2:$J$1048576)","v":0},0,{"$f":"SUMIF(SOLICITUDES!$C$2:$C$1048576,BD!C1895,SOLICITUDES!$K$2:$K$1048576)","v":0},0]
[null,null,"T18653",900,13200,240,-76.378235639283048,3.072169923049775,450,450,180,180,{"$f":"SUMIF(SOLICITUDES!$C$2:$C$1048576,BD!C1896,SOLICITUDES!$I$2:$I$1048576)","v":0},0,{"$f":"SUMIF(SOLICITUDES!$C$2:$C$1048576,BD!C1896,SOLICITUDES!$J$2:$J$1048576)","v":0},0,{"$f":"SUMIF(SOLICITUDES!$C$2:$C$1048576,BD!C1896,SOLICITUDES!$K$2:$K$1048576)","v":0},0]
[null,null,"T30906",25,13200,240,-76.307887288472571,3.0383610987321377,12.5,12.5,5,5,{"$f":"SUMIF(SOLICITUDES!$C$2:$C$1048576,BD!C1897,SOLICITUDES!$I$2:$I$1048576)","v":0},0,{"$f":"SUMIF(SOLICITUDES!$C$2:$C$1048576,BD!C1897,SOLICITUDES!$J$2:$J$1048576)","v":0},0,{"$f":"SUMIF(SOLICITUDES!$C$2:$C$1048576,BD!C1897,SOLICITUDES!$K$2:$K$1048576)","v":0},0]
[null,null,"20TR2",30,13200,214,-76.441262144028229,3.0478862768222288,15,15,6,6,{"$f":"SUMIF(SOLICITUDES!$C$2:$C$1048576,BD!C1898,SOLICITUDES!$I$2:$I$1048576)","v":0},0,{"$f":"SUMIF(SOLICITUDES!$C$2:$C$1048576,BD!C1898,SOLICITUDES!$J$2:$J$1048576)","v":0},0,{"$f":"SUMIF(SOLICITUDES!$C$2:$C$1048576,BD!C1898,SOLICITUDES!$K$2:$K$1048576)","v":0},0]
[null,null,"T8137",25,13200,240,-76.424771456464669,3.0447376191520492,12.5,12.5,5,5,{"$f":"SUMIF(SOLICITUDES!$C$2:$C$1048576,BD!C1899,SOLICITUDES!$I$2:$I$1048576)","v":0},0,{"$f":"SUMIF(SOLICITUDES!$C$2:$C$1048576,BD!C1899,SOLICITUDES!$J$2:$J$1048576)","v":0},0,{"$f":"SUMIF(SOLICITUDES!$C$2:$C$1048576,BD!C1899,SOLICITUDES!$K$2:$K$1048576)","v":0},0]
[null,null,"T8160",37.5,13200,240,-76.425996414524846,3.0456828343819362,18.75,18.75,7.5,7.5,{"$f":"SUMIF(SOLICITUDES!$C$2:$C$1048576,BD!C1900,SOLICITUDES!$I$2:$I$1048576)","v":0},0,{"$f":"SUMIF(SOLICITUDES!$C$2:$C$1048576,BD!C1900,SOLICITUDES!$J$2:$J$1048576)","v":0},0,{"$f":"SUMIF(SOLICITUDES!$C$2:$C$1048576,BD!C1900,SOLICITUDES!$K$2:$K$1048576)","v":0},0]
[null,null,"T8131",25,13200,240,-76.422139923030358,3.0441645387960223,12.5,12.5,5,5,{"$f":"SUMIF(SOLICITUDES!$C$2:$C$1048576,BD!C1901,SOLICITUDES!$I$2:$I$1048576)","v":0},0,{"$f":"SUMIF(SOLICITUDES!$C$2:$C$1048576,BD!C1901,SOLICITUDES!$J$2:$J$1048576)","v":0},0,{"$f":"SUMIF(SOLICITUDES!$C$2:$C$1048576,BD!C1901,SOLICITUDES!$K$2:$K$1048576)","v":0},0]
[null,null,"T8166",25,13200,240,-76.428136791008839,3.0465703921027392,12.5,12.5,5,5,{"$f":"SUMIF(SOLICITUDES!$C$2:$C$1048576,BD!C1902,SOLICITUDES!$I$2:$I$1048576)","v":0},0,{"$f":"SUMIF(SOLICITUDES!$C$2:$C$1048576,BD!C1902,SOLICITUDES!$J$2:$J$1048576)","v":0},0,{"$f":"SUMIF(SOLICITUDES!$C$2:$C$1048576,BD!C1902,SOLICITUDES!$K$2:$K$1048576)","v":0},0]
[null,null,"T8168",25,13200,240,-76.429978556945571,3.0352226647822267,12.5,12.5,5,5,{"$f":"SUMIF(SOLICITUDES!$C$2:$C$1048576,BD!C1903,SOLICITUDES!$I$2:$I$1048576)","v":0},0,{"$f":"SUMIF(SOLICITUDES!$C$2:$C$1048576,BD!C1903,SOLICITUDES!$J$2:$J$1048576)","v":0},0,{"$f":"SUMIF(SOLICITUDES!$C$2:$C$1048576,BD!C1903,SOLICITUDES!$K$2:$K$1048576)","v":0},0]
[null,null,"T8162",37.5,13200,240,-76.419448455276651,3.0430285236002095,18.75,18.75,7.5,7.5,{"$f":"SUMIF(SOLICITUDES!$C$2:$C$1048576,BD!C1904,SOLICITUDES!$I$2:$I$1048576)","v":0},0,{"$f":"SUMIF(SOLICITUDES!$C$2:$C$1048576,BD!C1904,SOLICITUDES!$J$2:$J$1048576)","v":0},0,{"$f":"SUMIF(SOLICITUDES!$C$2:$C$1048576,BD!C1904,SOLICITUDES!$K$2:$K$1048576)","v":0},0]
[null,null,"T8129",15,13200,240,-76.429365149034211,3.0380889755057581,7.5,7.5,3,3,{"$f":"SUMIF(SOLICITUDES!$C$2:$C$1048576,BD!C1905,SOLICITUDES!$I$2:$I$1048576)","v":0},0,{"$f":"SUMIF(SOLICITUDES!$C$2:$C$1048576,BD!C1905,SOLICITUDES!$J$2:$J$1048576)","v":0},0,{"$f":"SUMIF(SOLICITUDES!$C$2:$C$1048576,BD!C1905,SOLICITUDES!$K$2:$K$1048576)","v":0},0]
[null,null,"T8144",37.5,13200,214,-76.427110251945479,3.0483240820108741,18.75,18.75,7.5,7.5,{"$f":"SUMIF(SOLICITUDES!$C$2:$C$1048576,BD!C1906,SOLICITUDES!$I$2:$I$1048576)","v":0},0,{"$f":"SUMIF(SOLICITUDES!$C$2:$C$1048576,BD!C1906,SOLICITUDES!$J$2:$J$1048576)","v":0},0,{"$f":"SUMIF(SOLICITUDES!$C$2:$C$1048576,BD!C1906,SOLICITUDES!$K$2:$K$1048576)","v":0},0]
[null,null,"T8132",37.5,13200,240,-76.424708382134114,3.0484944522820099,18.75,18.75,7.5,7.5,{"$f":"SUMIF(SOLICITUDES!$C$2:$C$1048576,BD!C1907,SOLICITUDES!$I$2:$I$1048576)","v":0},0,{"$f":"SUMIF(SOLICITUDES!$C$2:$C$1048576,BD!C1907,SOLICITUDES!$J$2:$J$1048576)","v":0},0,{"$f":"SUMIF(SOLICITUDES!$C$2:$C$1048576,BD!C1907,SOLICITUDES!$K$2:$K$1048576)","v":0},0]
[null,null,"T8146",37.5,13200,240,-76.42864933602462,3.031803716301849,18.75,18.75,7.5,7.5,{"$f":"SUMIF(SOLICITUDES!$C$2:$C$1048576,BD!C1908,SOLICITUDES!$I$2:$I$1048576)","v":0},0,{"$f":"SUMIF(SOLICITUDES!$C$2:$C$1048576,BD!C1908,SOLICITUDES!$J$2:$J$1048576)","v":0},0,{"$f":"SUMIF(SOLICITUDES!$C$2:$C$1048576,BD!C1908,SOLICITUDES!$K$2:$K$1048576)","v":0},0]
[null,null,"T8147",10,13200,240,-76.416883096109345,3.0420099083380721,5,5,2,2,{"$f":"SUMIF(SOLICITUDES!$C$2:$C$1048576,BD!C1909,SOLICITUDES!$I$2:$I$1048576)","v":0},0,{"$f":"SUMIF(SOLICITUDES!$C$2:$C$1048576,BD!C1909,SOLICITUDES!$J$2:$J$1048576)","v":0},0,{"$f":"SUMIF(SOLICITUDES!$C$2:$C$1048576,BD!C1909,SOLICITUDES!$K$2:$K$1048576)","v":0},0]
[null,null,"T8134",45,13200,240,-76.415568746583475,3.0413604527404869,22.5,22.5,9,9,{"$f":"SUMIF(SOLICITUDES!$C$2:$C$1048576,BD!C1910,SOLICITUDES!$I$2:$I$1048576)","v":0},0,{"$f":"SUMIF(SOLICITUDES!$C$2:$C$1048576,BD!C1910,SOLICITUDES!$J$2:$J$1048576)","v":0},0,{"$f":"SUMIF(SOLICITUDES!$C$2:$C$1048576,BD!C1910,SOLICITUDES!$K$2:$K$1048576)","v":0},0]
[null,null,"T8145",15,13200,240,-76.416175297040681,3.0431048305422936,7.5,7.5,3,3,{"$f":"SUMIF(SOLICITUDES!$C$2:$C$1048576,BD!C1911,SOLICITUDES!$I$2:$I$1048576)","v":0},0,{"$f":"SUMIF(SOLICITUDES!$C$2:$C$1048576,BD!C1911,SOLICITUDES!$J$2:$J$1048576)","v":0},0,{"$f":"SUMIF(SOLICITUDES!$C$2:$C$1048576,BD!C1911,SOLICITUDES!$K$2:$K$1048576)","v":0},0]
[null,null,"T8125",5,13200,240,-76.412149961915006,3.0395018261259543,2.5,2.5,1,1,{"$f":"SUMIF(SOLICITUDES!$C$2:$C$1048576,BD!C1912,SOLICITUDES!$I$2:$I$1048576)","v":0},0,{"$f":"SUMIF(SOLICITUDES!$C$2:$C$1048576,BD!C1912,SOLICITUDES!$J$2:$J$1048576)","v":0},0,{"$f":"SUMIF(SOLICITUDES!$C$2:$C$1048576,BD!C1912,SOLICITUDES!$K$2:$K$1048576)","v":0},0]
[null,null,"T8170",25,13200,240,-76.414069899669499,3.0439031519269393,12.5,12.5,5,5,{"$f":"SUMIF(SOLICITUDES!$C$2:$C$1048576,BD!C1913,SOLICITUDES!$I$2:$I$1048576)","v":0},0,{"$f":"SUMIF(SOLICITUDES!$C$2:$C$1048576,BD!C1913,SOLICITUDES!$J$2:$J$1048576)","v":0},0,{"$f":"SUMIF(SOLICITUDES!$C$2:$C$1048576,BD!C1913,SOLICITUDES!$K$2:$K$1048576)","v":0},0]
[null,null,"T8161",15,13200,240,-76.4198128978623,3.0372420554464452,7.5,7.5,3,3,{"$f":"SUMIF(SOLICITUDES!$C$2:$C$1048576,BD!C1914,SOLICITUDES!$I$2:$I$1048576)","v":0},0,{"$f":"SUMIF(SOLICITUDES!$C$2:$C$1048576,BD!C1914,SOLICITUDES!$J$2:$J$1048576)","v":0},0,{"$f":"SUMIF(SOLICITUDES!$C$2:$C$1048576,BD!C1914,SOLICITUDES!$K$2:$K$1048576)","v":0},0]
[null,null,"T8151",25,13200,240,-76.415731466887451,3.0480910009855928,12.5,12.5,5,5,{"$f":"SUMIF(SOLICITUDES!$C$2:$C$1048576,BD!C1915,SOLICITUDES!$I$2:$I$1048576)","v":0},0,{"$f":"SUMIF(SOLICITUDES!$C$2:$C$1048576,BD!C1915,SOLICITUDES!$J$2:$J$1048576)","v":0},0,{"$f":"SUMIF(SOLICITUDES!$C$2:$C$1048576,BD!C1915,SOLICITUDES!$K$2:$K$1048576)","v":0},0]
[null,null,"T8139",25,13200,240,-76.412084445672875,3.0398869103142951,12.5,12.5,5,5,{"$f":"SUMIF(SOLICITUDES!$C$2:$C$1048576,BD!C1916,SOLICITUDES!$I$2:$I$1048576)","v":0},0,{"$f":"SUMIF(SOLICITUDES!$C$2:$C$1048576,BD!C1916,SOLICITUDES!$J$2:$J$1048576)","v":0},0,{"$f":"SUMIF(SOLICITUDES!$C$2:$C$1048576,BD!C1916,SOLICITUDES!$K$2:$K$1048576)","v":0},0]
[null,null,"T8149",15,13200,208,-76.41124702540229,3.0387794673776019,7.5,7.5,3,3,{"$f":"SUMIF(SOLICITUDES!$C$2:$C$1048576,BD!C1917,SOLICITUDES!$I$2:$I$1048576)","v":0},0,{"$f":"SUMIF(SOLICITUDES!$C$2:$C$1048576,BD!C1917,SOLICITUDES!$J$2:$J$1048576)","v":0},0,{"$f":"SUMIF(SOLICITUDES!$C$2:$C$1048576,BD!C1917,SOLICITUDES!$K$2:$K$1048576)","v":0},0]
[null,null,"T8123",37.5,13200,240,-76.414479908918452,3.0500615971777112,18.75,18.75,7.5,7.5,{"$f":"SUMIF(SOLICITUDES!$C$2:$C$1048576,BD!C1918,SOLICITUDES!$I$2:$I$1048576)","v":0},0,{"$f":"SUMIF(SOLICITUDES!$C$2:$C$1048576,BD!C1918,SOLICITUDES!$J$2:$J$1048576)","v":0},0,{"$f":"SUMIF(SOLICITUDES!$C$2:$C$1048576,BD!C1918,SOLICITUDES!$K$2:$K$1048576)","v":0},0]
[null,null,"T8122",25,13200,240,-76.412985557384019,3.0519867503723694,12.5,12.5,5,5,{"$f":"SUMIF(SOLICITUDES!$C$2:$C$1048576,BD!C1919,SOLICITUDES!$I$2:$I$1048576)","v":0},0,{"$f":"SUMIF(SOLICITUDES!$C$2:$C$1048576,BD!C1919,SOLICITUDES!$J$2:$J$1048576)","v":0},0,{"$f":"SUMIF(SOLICITUDES!$C$2:$C$1048576,BD!C1919,SOLICITUDES!$K$2:$K$1048576)","v":0},0]
[null,null,"T8140",15,13200,240,-76.409462619026044,3.0364031529505318,7.5,7.5,3,3,{"$f":"SUMIF(SOLICITUDES!$C$2:$C$1048576,BD!C1920,SOLICITUDES!$I$2:$I$1048576)","v":0},0,{"$f":"SUMIF(SOLICITUDES!$C$2:$C$1048576,BD!C1920,SOLICITUDES!$J$2:$J$1048576)","v":0},0,{"$f":"SUMIF(SOLICITUDES!$C$2:$C$1048576,BD!C1920,SOLICITUDES!$K$2:$K$1048576)","v":0},0]
[null,null,"T8494",25,13200,240,-76.411779025163113,3.0538578008464761,12.5,12.5,5,5,{"$f":"SUMIF(SOLICITUDES!$C$2:$C$1048576,BD!C1921,SOLICITUDES!$I$2:$I$1048576)","v":0},0,{"$f":"SUMIF(SOLICITUDES!$C$2:$C$1048576,BD!C1921,SOLICITUDES!$J$2:$J$1048576)","v":0},0,{"$f":"SUMIF(SOLICITUDES!$C$2:$C$1048576,BD!C1921,SOLICITUDES!$K$2:$K$1048576)","v":0},0]
[null,null,"T8130",15,13200,240,-76.410773311136055,3.0363684502162158,7.5,7.5,3,3,{"$f":"SUMIF(SOLICITUDES!$C$2:$C$1048576,BD!C1922,SOLICITUDES!$I$2:$I$1048576)","v":0},0,{"$f":"SUMIF(SOLICITUDES!$C$2:$C$1048576,BD!C1922,SOLICITUDES!$J$2:$J$1048576)","v":0},0,{"$f":"SUMIF(SOLICITUDES!$C$2:$C$1048576,BD!C1922,SOLICITUDES!$K$2:$K$1048576)","v":0},0]
[null,null,"T8142",25,13200,208,-76.413370518553137,3.0548716453095106,12.5,{"$f":"D1923*0.5-M1923","v":12.5},5,5,{"$f":"SUMIF(SOLICITUDES!$C$2:$C$1048576,BD!C1923,SOLICITUDES!$I$2:$I$1048576)","v":0},{"$f":"M1923/D1923","v":0},{"$f":"SUMIF(SOLICITUDES!$C$2:$C$1048576,BD!C1923,SOLICITUDES!$J$2:$J$1048576)","v":0},0,{"$f":"SUMIF(SOLICITUDES!$C$2:$C$1048576,BD!C1923,SOLICITUDES!$K$2:$K$1048576)","v":0},0]
[null,null,"T8119",25,13200,240,-76.409556112083891,3.0556468944198647,{"$f":"D1924*0.5","v":12.5},12.5,{"$f":"0.2*D1924","v":5},{"$f":"0.2*D1924","v":5},{"$f":"SUMIF(SOLICITUDES!$C$2:$C$1048576,BD!C1924,SOLICITUDES!$I$2:$I$1048576)","v":0},0,{"$f":"SUMIF(SOLICITUDES!$C$2:$C$1048576,BD!C1924,SOLICITUDES!$J$2:$J$1048576)","v":0},{"$f":"O1924/(2*K1924)","v":0},{"$f":"SUMIF(SOLICITUDES!$C$2:$C$1048576,BD!C1924,SOLICITUDES!$K$2:$K$1048576)","v":0},{"$f":"Q1924/(2*L1924)","v":0}]
[null,null,"T8141",15,13200,240,-76.414216603195769,3.0540039924715443,7.5,7.5,3,3,{"$f":"SUMIF(SOLICITUDES!$C$2:$C$1048576,BD!C1925,SOLICITUDES!$I$2:$I$1048576)","v":0},0,{"$f":"SUMIF(SOLICITUDES!$C$2:$C$1048576,BD!C1925,SOLICITUDES!$J$2:$J$1048576)","v":0},0,{"$f":"SUMIF(SOLICITUDES!$C$2:$C$1048576,BD!C1925,SOLICITUDES!$K$2:$K$1048576)","v":0},0]
[null,null,"T8133",45,13200,208,-76.409421735620327,3.0365118830508289,22.5,22.5,9,9,{"$f":"SUMIF(SOLICITUDES!$C$2:$C$1048576,BD!C1926,SOLICITUDES!$I$2:$I$1048576)","v":0},0,{"$f":"SUMIF(SOLICITUDES!$C$2:$C$1048576,BD!C1926,SOLICITUDES!$J$2:$J$1048576)","v":0},0,{"$f":"SUMIF(SOLICITUDES!$C$2:$C$1048576,BD!C1926,SOLICITUDES!$K$2:$K$1048576)","v":0},0]
[null,null,"T8173",45,13200,208,-76.408435079123649,3.0356073321891088,22.5,22.5,9,9,{"$f":"SUMIF(SOLICITUDES!$C$2:$C$1048576,BD!C1927,SOLICITUDES!$I$2:$I$1048576)","v":0},0,{"$f":"SUMIF(SOLICITUDES!$C$2:$C$1048576,BD!C1927,SOLICITUDES!$J$2:$J$1048576)","v":0},0,{"$f":"SUMIF(SOLICITUDES!$C$2:$C$1048576,BD!C1927,SOLICITUDES!$K$2:$K$1048576)","v":0},0]
[null,null,"T8128",45,13200,208,-76.408498554035162,3.0348116200501996,22.5,22.5,9,9,{"$f":"SUMIF(SOLICITUDES!$C$2:$C$1048576,BD!C1928,SOLICITUDES!$I$2:$I$1048576)","v":0},0,{"$f":"SUMIF(SOLICITUDES!$C$2:$C$1048576,BD!C1928,SOLICITUDES!$J$2:$J$1048576)","v":0},0,{"$f":"SUMIF(SOLICITUDES!$C$2:$C$1048576,BD!C1928,SOLICITUDES!$K$2:$K$1048576)","v":0},0]
[null,null,"T42009",0.5,13200,240,-76.407508497464036,3.0357966666215788,0.25,0.25,0.1,0.1,{"$f":"SUMIF(SOLICITUDES!$C$2:$C$1048576,BD!C1929,SOLICITUDES!$I$2:$I$1048576)","v":0},0,{"$f":"SUMIF(SOLICITUDES!$C$2:$C$1048576,BD!C1929,SOLICITUDES!$J$2:$J$1048576)","v":0},0,{"$f":"SUMIF(SOLICITUDES!$C$2:$C$1048576,BD!C1929,SOLICITUDES!$K$2:$K$1048576)","v":0},0]
[null,null,"T8120",75,13200,208,-76.407427205769025,3.0363120282447555,37.5,37.5,15,15,{"$f":"SUMIF(SOLICITUDES!$C$2:$C$1048576,BD!C1930,SOLICITUDES!$I$2:$I$1048576)","v":0},0,{"$f":"SUMIF(SOLICITUDES!$C$2:$C$1048576,BD!C1930,SOLICITUDES!$J$2:$J$1048576)","v":0},0,{"$f":"SUMIF(SOLICITUDES!$C$2:$C$1048576,BD!C1930,SOLICITUDES!$K$2:$K$1048576)","v":0},0]
[null,null,"T8158",37.5,13200,240,-76.40563868184492,3.0361006491034583,18.75,18.75,7.5,7.5,{"$f":"SUMIF(SOLICITUDES!$C$2:$C$1048576,BD!C1931,SOLICITUDES!$I$2:$I$1048576)","v":0},0,{"$f":"SUMIF(SOLICITUDES!$C$2:$C$1048576,BD!C1931,SOLICITUDES!$J$2:$J$1048576)","v":0},0,{"$f":"SUMIF(SOLICITUDES!$C$2:$C$1048576,BD!C1931,SOLICITUDES!$K$2:$K$1048576)","v":0},0]
[null,null,"T8156",37.5,13200,240,-76.408516568660829,3.0347031640923108,18.75,18.75,7.5,7.5,{"$f":"SUMIF(SOLICITUDES!$C$2:$C$1048576,BD!C1932,SOLICITUDES!$I$2:$I$1048576)","v":0},0,{"$f":"SUMIF(SOLICITUDES!$C$2:$C$1048576,BD!C1932,SOLICITUDES!$J$2:$J$1048576)","v":0},0,{"$f":"SUMIF(SOLICITUDES!$C$2:$C$1048576,BD!C1932,SOLICITUDES!$K$2:$K$1048576)","v":0},0]
[null,null,"T8157",112.5,13200,208,-76.407825209556734,3.0366695632382616,56.25,56.25,22.5,22.5,{"$f":"SUMIF(SOLICITUDES!$C$2:$C$1048576,BD!C1933,SOLICITUDES!$I$2:$I$1048576)","v":0},0,{"$f":"SUMIF(SOLICITUDES!$C$2:$C$1048576,BD!C1933,SOLICITUDES!$J$2:$J$1048576)","v":0},0,{"$f":"SUMIF(SOLICITUDES!$C$2:$C$1048576,BD!C1933,SOLICITUDES!$K$2:$K$1048576)","v":0},0]
[null,null,"T30100",45,13200,220,-76.405692731414788,3.0361548444828537,22.5,22.5,9,9,{"$f":"SUMIF(SOLICITUDES!$C$2:$C$1048576,BD!C1934,SOLICITUDES!$I$2:$I$1048576)","v":0},0,{"$f":"SUMIF(SOLICITUDES!$C$2:$C$1048576,BD!C1934,SOLICITUDES!$J$2:$J$1048576)","v":0},0,{"$f":"SUMIF(SOLICITUDES!$C$2:$C$1048576,BD!C1934,SOLICITUDES!$K$2:$K$1048576)","v":0},0]
[null,null,"T8148",75,13200,208,-76.407293181103171,3.0377205861693892,37.5,37.5,15,15,{"$f":"SUMIF(SOLICITUDES!$C$2:$C$1048576,BD!C1935,SOLICITUDES!$I$2:$I$1048576)","v":0},0,{"$f":"SUMIF(SOLICITUDES!$C$2:$C$1048576,BD!C1935,SOLICITUDES!$J$2:$J$1048576)","v":0},0,{"$f":"SUMIF(SOLICITUDES!$C$2:$C$1048576,BD!C1935,SOLICITUDES!$K$2:$K$1048576)","v":0},0]
[null,null,"T2517",37.5,13200,240,-76.401022520339112,3.0366515926450921,18.75,18.75,7.5,7.5,{"$f":"SUMIF(SOLICITUDES!$C$2:$C$1048576,BD!C1936,SOLICITUDES!$I$2:$I$1048576)","v":0},0,{"$f":"SUMIF(SOLICITUDES!$C$2:$C$1048576,BD!C1936,SOLICITUDES!$J$2:$J$1048576)","v":0},0,{"$f":"SUMIF(SOLICITUDES!$C$2:$C$1048576,BD!C1936,SOLICITUDES!$K$2:$K$1048576)","v":0},0]
[null,null,"T8159",112.5,13200,208,-76.407189810413797,3.0389710092341375,56.25,56.25,22.5,22.5,{"$f":"SUMIF(SOLICITUDES!$C$2:$C$1048576,BD!C1937,SOLICITUDES!$I$2:$I$1048576)","v":0},0,{"$f":"SUMIF(SOLICITUDES!$C$2:$C$1048576,BD!C1937,SOLICITUDES!$J$2:$J$1048576)","v":0},0,{"$f":"SUMIF(SOLICITUDES!$C$2:$C$1048576,BD!C1937,SOLICITUDES!$K$2:$K$1048576)","v":0},0]
[null,null,"T8163",45,13200,208,-76.406455116776272,3.0372789627356167,22.5,22.5,9,9,{"$f":"SUMIF(SOLICITUDES!$C$2:$C$1048576,BD!C1938,SOLICITUDES!$I$2:$I$1048576)","v":0},0,{"$f":"SUMIF(SOLICITUDES!$C$2:$C$1048576,BD!C1938,SOLICITUDES!$J$2:$J$1048576)","v":0},0,{"$f":"SUMIF(SOLICITUDES!$C$2:$C$1048576,BD!C1938,SOLICITUDES!$K$2:$K$1048576)","v":0},0]
[null,null,"T8136",30,13200,208,-76.407119553252286,3.0393231064313628,15,15,6,6,{"$f":"SUMIF(SOLICITUDES!$C$2:$C$1048576,BD!C1939,SOLICITUDES!$I$2:$I$1048576)","v":0},0,{"$f":"SUMIF(SOLICITUDES!$C$2:$C$1048576,BD!C1939,SOLICITUDES!$J$2:$J$1048576)","v":0},0,{"$f":"SUMIF(SOLICITUDES!$C$2:$C$1048576,BD!C1939,SOLICITUDES!$K$2:$K$1048576)","v":0},0]
[null,null,"T28528",75,13200,214,-76.408010203306404,3.0390071974513879,37.5,37.5,15,15,{"$f":"SUMIF(SOLICITUDES!$C$2:$C$1048576,BD!C1940,SOLICITUDES!$I$2:$I$1048576)","v":0},0,{"$f":"SUMIF(SOLICITUDES!$C$2:$C$1048576,BD!C1940,SOLICITUDES!$J$2:$J$1048576)","v":0},0,{"$f":"SUMIF(SOLICITUDES!$C$2:$C$1048576,BD!C1940,SOLICITUDES!$K$2:$K$1048576)","v":0},0]
[null,null,"T10510",25,13200,240,-76.398378218856791,3.0362882847384429,12.5,12.5,5,5,{"$f":"SUMIF(SOLICITUDES!$C$2:$C$1048576,BD!C1941,SOLICITUDES!$I$2:$I$1048576)","v":0},0,{"$f":"SUMIF(SOLICITUDES!$C$2:$C$1048576,BD!C1941,SOLICITUDES!$J$2:$J$1048576)","v":0},0,{"$f":"SUMIF(SOLICITUDES!$C$2:$C$1048576,BD!C1941,SOLICITUDES!$K$2:$K$1048576)","v":0},0]
[null,null,"T8118",112.5,13200,208,-76.408038572520326,3.0399601606680351,56.25,56.25,22.5,22.5,{"$f":"SUMIF(SOLICITUDES!$C$2:$C$1048576,BD!C1942,SOLICITUDES!$I$2:$I$1048576)","v":0},0,{"$f":"SUMIF(SOLICITUDES!$C$2:$C$1048576,BD!C1942,SOLICITUDES!$J$2:$J$1048576)","v":0},0,{"$f":"SUMIF(SOLICITUDES!$C$2:$C$1048576,BD!C1942,SOLICITUDES!$K$2:$K$1048576)","v":0},0]
[null,null,"T8135",75,13200,208,-76.407606366149707,3.0341173690193695,37.5,37.5,15,15,{"$f":"SUMIF(SOLICITUDES!$C$2:$C$1048576,BD!C1943,SOLICITUDES!$I$2:$I$1048576)","v":0},0,{"$f":"SUMIF(SOLICITUDES!$C$2:$C$1048576,BD!C1943,SOLICITUDES!$J$2:$J$1048576)","v":0},0,{"$f":"SUMIF(SOLICITUDES!$C$2:$C$1048576,BD!C1943,SOLICITUDES!$K$2:$K$1048576)","v":0},0]
[null,null,"T8117",50,13200,240,-76.408182345381761,3.0319073587063778,25,25,10,10,{"$f":"SUMIF(SOLICITUDES!$C$2:$C$1048576,BD!C1944,SOLICITUDES!$I$2:$I$1048576)","v":0},0,{"$f":"SUMIF(SOLICITUDES!$C$2:$C$1048576,BD!C1944,SOLICITUDES!$J$2:$J$1048576)","v":0},0,{"$f":"SUMIF(SOLICITUDES!$C$2:$C$1048576,BD!C1944,SOLICITUDES!$K$2:$K$1048576)","v":0},0]
[null,null,"T8126",25,13200,240,-76.406899310608154,3.0318083716397379,12.5,12.5,5,5,{"$f":"SUMIF(SOLICITUDES!$C$2:$C$1048576,BD!C1945,SOLICITUDES!$I$2:$I$1048576)","v":0},0,{"$f":"SUMIF(SOLICITUDES!$C$2:$C$1048576,BD!C1945,SOLICITUDES!$J$2:$J$1048576)","v":0},0,{"$f":"SUMIF(SOLICITUDES!$C$2:$C$1048576,BD!C1945,SOLICITUDES!$K$2:$K$1048576)","v":0},0]
[null,null,"T13848",15,13200,240,-76.406357618652748,3.0350725448859408,7.5,7.5,3,3,{"$f":"SUMIF(SOLICITUDES!$C$2:$C$1048576,BD!C1946,SOLICITUDES!$I$2:$I$1048576)","v":0},0,{"$f":"SUMIF(SOLICITUDES!$C$2:$C$1048576,BD!C1946,SOLICITUDES!$J$2:$J$1048576)","v":0},0,{"$f":"SUMIF(SOLICITUDES!$C$2:$C$1048576,BD!C1946,SOLICITUDES!$K$2:$K$1048576)","v":0},0]
[null,null,"T42038",0.5,13200,240,-76.40766032201384,3.0340992098169415,0.25,0.25,0.1,0.1,{"$f":"SUMIF(SOLICITUDES!$C$2:$C$1048576,BD!C1947,SOLICITUDES!$I$2:$I$1048576)","v":0},0,{"$f":"SUMIF(SOLICITUDES!$C$2:$C$1048576,BD!C1947,SOLICITUDES!$J$2:$J$1048576)","v":0},0,{"$f":"SUMIF(SOLICITUDES!$C$2:$C$1048576,BD!C1947,SOLICITUDES!$K$2:$K$1048576)","v":0},0]
[null,null,"T8121",15,13200,240,-76.407253130048886,3.0414573021483808,7.5,7.5,3,3,{"$f":"SUMIF(SOLICITUDES!$C$2:$C$1048576,BD!C1948,SOLICITUDES!$I$2:$I$1048576)","v":0},0,{"$f":"SUMIF(SOLICITUDES!$C$2:$C$1048576,BD!C1948,SOLICITUDES!$J$2:$J$1048576)","v":0},0,{"$f":"SUMIF(SOLICITUDES!$C$2:$C$1048576,BD!C1948,SOLICITUDES!$K$2:$K$1048576)","v":0},0]
[null,null,"T8124",25,13200,240,-76.408325915321072,3.0407163416495204,12.5,12.5,5,5,{"$f":"SUMIF(SOLICITUDES!$C$2:$C$1048576,BD!C1949,SOLICITUDES!$I$2:$I$1048576)","v":0},0,{"$f":"SUMIF(SOLICITUDES!$C$2:$C$1048576,BD!C1949,SOLICITUDES!$J$2:$J$1048576)","v":0},0,{"$f":"SUMIF(SOLICITUDES!$C$2:$C$1048576,BD!C1949,SOLICITUDES!$K$2:$K$1048576)","v":0},0]
[null,null,"T8172",150,13200,208,-76.408257161551518,3.0323879938602176,75,75,30,30,{"$f":"SUMIF(SOLICITUDES!$C$2:$C$1048576,BD!C1950,SOLICITUDES!$I$2:$I$1048576)","v":0},0,{"$f":"SUMIF(SOLICITUDES!$C$2:$C$1048576,BD!C1950,SOLICITUDES!$J$2:$J$1048576)","v":0},0,{"$f":"SUMIF(SOLICITUDES!$C$2:$C$1048576,BD!C1950,SOLICITUDES!$K$2:$K$1048576)","v":0},0]
[null,null,"T30846",5,13200,240,-76.39485320577964,3.0345679178305902,2.5,2.5,1,1,{"$f":"SUMIF(SOLICITUDES!$C$2:$C$1048576,BD!C1951,SOLICITUDES!$I$2:$I$1048576)","v":0},0,{"$f":"SUMIF(SOLICITUDES!$C$2:$C$1048576,BD!C1951,SOLICITUDES!$J$2:$J$1048576)","v":0},0,{"$f":"SUMIF(SOLICITUDES!$C$2:$C$1048576,BD!C1951,SOLICITUDES!$K$2:$K$1048576)","v":0},0]
[null,null,"T8155",112.5,13200,208,-76.407593979045643,3.0408768428922528,56.25,56.25,22.5,22.5,{"$f":"SUMIF(SOLICITUDES!$C$2:$C$1048576,BD!C1952,SOLICITUDES!$I$2:$I$1048576)","v":0},0,{"$f":"SUMIF(SOLICITUDES!$C$2:$C$1048576,BD!C1952,SOLICITUDES!$J$2:$J$1048576)","v":0},0,{"$f":"SUMIF(SOLICITUDES!$C$2:$C$1048576,BD!C1952,SOLICITUDES!$K$2:$K$1048576)","v":0},0]
[null,null,"T8167",45,13200,208,-76.408070344872982,3.0301030718494477,22.5,22.5,9,9,{"$f":"SUMIF(SOLICITUDES!$C$2:$C$1048576,BD!C1953,SOLICITUDES!$I$2:$I$1048576)","v":0},0,{"$f":"SUMIF(SOLICITUDES!$C$2:$C$1048576,BD!C1953,SOLICITUDES!$J$2:$J$1048576)","v":0},0,{"$f":"SUMIF(SOLICITUDES!$C$2:$C$1048576,BD!C1953,SOLICITUDES!$K$2:$K$1048576)","v":0},0]
[null,null,"T8171",25,13200,240,-76.407220865155949,3.0303602260742033,12.5,12.5,5,5,{"$f":"SUMIF(SOLICITUDES!$C$2:$C$1048576,BD!C1954,SOLICITUDES!$I$2:$I$1048576)","v":0},0,{"$f":"SUMIF(SOLICITUDES!$C$2:$C$1048576,BD!C1954,SOLICITUDES!$J$2:$J$1048576)","v":0},0,{"$f":"SUMIF(SOLICITUDES!$C$2:$C$1048576,BD!C1954,SOLICITUDES!$K$2:$K$1048576)","v":0},0]
[null,null,"T8848",15,13200,240,-76.4015160006401,3.0273691854995604,7.5,7.5,3,3,{"$f":"SUMIF(SOLICITUDES!$C$2:$C$1048576,BD!C1955,SOLICITUDES!$I$2:$I$1048576)","v":0},0,{"$f":"SUMIF(SOLICITUDES!$C$2:$C$1048576,BD!C1955,SOLICITUDES!$J$2:$J$1048576)","v":0},0,{"$f":"SUMIF(SOLICITUDES!$C$2:$C$1048576,BD!C1955,SOLICITUDES!$K$2:$K$1048576)","v":0},0]
[null,null,"T2519",30,13200,208,-76.395020828834916,3.0397675827301729,15,15,6,6,{"$f":"SUMIF(SOLICITUDES!$C$2:$C$1048576,BD!C1956,SOLICITUDES!$I$2:$I$1048576)","v":0},0,{"$f":"SUMIF(SOLICITUDES!$C$2:$C$1048576,BD!C1956,SOLICITUDES!$J$2:$J$1048576)","v":0},0,{"$f":"SUMIF(SOLICITUDES!$C$2:$C$1048576,BD!C1956,SOLICITUDES!$K$2:$K$1048576)","v":0},0]
[null,null,"T8821",15,13200,240,-76.398897661878763,3.025554757389318,7.5,7.5,3,3,{"$f":"SUMIF(SOLICITUDES!$C$2:$C$1048576,BD!C1957,SOLICITUDES!$I$2:$I$1048576)","v":0},0,{"$f":"SUMIF(SOLICITUDES!$C$2:$C$1048576,BD!C1957,SOLICITUDES!$J$2:$J$1048576)","v":0},0,{"$f":"SUMIF(SOLICITUDES!$C$2:$C$1048576,BD!C1957,SOLICITUDES!$K$2:$K$1048576)","v":0},0]
[null,null,"T13320",75,13200,208,-76.406915789731272,3.0341866468767429,37.5,37.5,15,15,{"$f":"SUMIF(SOLICITUDES!$C$2:$C$1048576,BD!C1958,SOLICITUDES!$I$2:$I$1048576)","v":0},0,{"$f":"SUMIF(SOLICITUDES!$C$2:$C$1048576,BD!C1958,SOLICITUDES!$J$2:$J$1048576)","v":0},0,{"$f":"SUMIF(SOLICITUDES!$C$2:$C$1048576,BD!C1958,SOLICITUDES!$K$2:$K$1048576)","v":0},0]
[null,null,"T13332",75,13200,208,-76.406822317936758,3.0334231563147416,37.5,37.5,15,15,{"$f":"SUMIF(SOLICITUDES!$C$2:$C$1048576,BD!C1959,SOLICITUDES!$I$2:$I$1048576)","v":0},0,{"$f":"SUMIF(SOLICITUDES!$C$2:$C$1048576,BD!C1959,SOLICITUDES!$J$2:$J$1048576)","v":0},0,{"$f":"SUMIF(SOLICITUDES!$C$2:$C$1048576,BD!C1959,SOLICITUDES!$K$2:$K$1048576)","v":0},0]
[null,null,"T8152",15,13200,240,-76.412547562019355,3.0287928441712579,7.5,7.5,3,3,{"$f":"SUMIF(SOLICITUDES!$C$2:$C$1048576,BD!C1960,SOLICITUDES!$I$2:$I$1048576)","v":0},0,{"$f":"SUMIF(SOLICITUDES!$C$2:$C$1048576,BD!C1960,SOLICITUDES!$J$2:$J$1048576)","v":0},0,{"$f":"SUMIF(SOLICITUDES!$C$2:$C$1048576,BD!C1960,SOLICITUDES!$K$2:$K$1048576)","v":0},0]
[null,null,"T8116",37.5,13200,240,-76.411621399172162,3.0323538977408422,18.75,18.75,7.5,7.5,{"$f":"SUMIF(SOLICITUDES!$C$2:$C$1048576,BD!C1961,SOLICITUDES!$I$2:$I$1048576)","v":0},0,{"$f":"SUMIF(SOLICITUDES!$C$2:$C$1048576,BD!C1961,SOLICITUDES!$J$2:$J$1048576)","v":0},0,{"$f":"SUMIF(SOLICITUDES!$C$2:$C$1048576,BD!C1961,SOLICITUDES!$K$2:$K$1048576)","v":0},0]
[null,null,"T8817",37.5,13200,240,-76.407927457021472,3.0273690683673542,18.75,18.75,7.5,7.5,{"$f":"SUMIF(SOLICITUDES!$C$2:$C$1048576,BD!C1962,SOLICITUDES!$I$2:$I$1048576)","v":0},0,{"$f":"SUMIF(SOLICITUDES!$C$2:$C$1048576,BD!C1962,SOLICITUDES!$J$2:$J$1048576)","v":0},0,{"$f":"SUMIF(SOLICITUDES!$C$2:$C$1048576,BD!C1962,SOLICITUDES!$K$2:$K$1048576)","v":0},0]
[null,null,"T10508",37.5,13200,240,-76.39050988036756,3.0325756312358778,18.75,18.75,7.5,7.5,{"$f":"SUMIF(SOLICITUDES!$C$2:$C$1048576,BD!C1963,SOLICITUDES!$I$2:$I$1048576)","v":0},0,{"$f":"SUMIF(SOLICITUDES!$C$2:$C$1048576,BD!C1963,SOLICITUDES!$J$2:$J$1048576)","v":0},0,{"$f":"SUMIF(SOLICITUDES!$C$2:$C$1048576,BD!C1963,SOLICITUDES!$K$2:$K$1048576)","v":0},0]
[null,null,"T8830",50,13200,240,-76.407091398071955,3.0291705231919899,25,25,10,10,{"$f":"SUMIF(SOLICITUDES!$C$2:$C$1048576,BD!C1964,SOLICITUDES!$I$2:$I$1048576)","v":0},0,{"$f":"SUMIF(SOLICITUDES!$C$2:$C$1048576,BD!C1964,SOLICITUDES!$J$2:$J$1048576)","v":0},0,{"$f":"SUMIF(SOLICITUDES!$C$2:$C$1048576,BD!C1964,SOLICITUDES!$K$2:$K$1048576)","v":0},0]
[null,null,"T8844",37.5,13200,240,-76.405450756194398,3.0323500282179867,18.75,18.75,7.5,7.5,{"$f":"SUMIF(SOLICITUDES!$C$2:$C$1048576,BD!C1965,SOLICITUDES!$I$2:$I$1048576)","v":0},0,{"$f":"SUMIF(SOLICITUDES!$C$2:$C$1048576,BD!C1965,SOLICITUDES!$J$2:$J$1048576)","v":0},0,{"$f":"SUMIF(SOLICITUDES!$C$2:$C$1048576,BD!C1965,SOLICITUDES!$K$2:$K$1048576)","v":0},0]
[null,null,"T8165",25,13200,240,-76.411493705605665,3.0351028121062078,12.5,12.5,5,5,{"$f":"SUMIF(SOLICITUDES!$C$2:$C$1048576,BD!C1966,SOLICITUDES!$I$2:$I$1048576)","v":0},0,{"$f":"SUMIF(SOLICITUDES!$C$2:$C$1048576,BD!C1966,SOLICITUDES!$J$2:$J$1048576)","v":0},0,{"$f":"SUMIF(SOLICITUDES!$C$2:$C$1048576,BD!C1966,SOLICITUDES!$K$2:$K$1048576)","v":0},0]
[null,null,"T8835",45,13200,208,-76.405652471082377,3.0338222730088158,22.5,22.5,9,9,{"$f":"SUMIF(SOLICITUDES!$C$2:$C$1048576,BD!C1967,SOLICITUDES!$I$2:$I$1048576)","v":0},0,{"$f":"SUMIF(SOLICITUDES!$C$2:$C$1048576,BD!C1967,SOLICITUDES!$J$2:$J$1048576)","v":0},0,{"$f":"SUMIF(SOLICITUDES!$C$2:$C$1048576,BD!C1967,SOLICITUDES!$K$2:$K$1048576)","v":0},0]
[null,null,"T8818",37.5,13200,240,-76.409106346188835,3.0264474324381565,18.75,18.75,7.5,7.5,{"$f":"SUMIF(SOLICITUDES!$C$2:$C$1048576,BD!C1968,SOLICITUDES!$I$2:$I$1048576)","v":0},0,{"$f":"SUMIF(SOLICITUDES!$C$2:$C$1048576,BD!C1968,SOLICITUDES!$J$2:$J$1048576)","v":0},0,{"$f":"SUMIF(SOLICITUDES!$C$2:$C$1048576,BD!C1968,SOLICITUDES!$K$2:$K$1048576)","v":0},0]
[null,null,"T8814",45,13200,208,-76.407791026711806,3.0443603678570761,22.5,22.5,9,9,{"$f":"SUMIF(SOLICITUDES!$C$2:$C$1048576,BD!C1969,SOLICITUDES!$I$2:$I$1048576)","v":0},0,{"$f":"SUMIF(SOLICITUDES!$C$2:$C$1048576,BD!C1969,SOLICITUDES!$J$2:$J$1048576)","v":0},0,{"$f":"SUMIF(SOLICITUDES!$C$2:$C$1048576,BD!C1969,SOLICITUDES!$K$2:$K$1048576)","v":0},0]
[null,null,"T8840",37.5,13200,240,-76.406582748429273,3.0289720306590979,18.75,18.75,7.5,7.5,{"$f":"SUMIF(SOLICITUDES!$C$2:$C$1048576,BD!C1970,SOLICITUDES!$I$2:$I$1048576)","v":0},0,{"$f":"SUMIF(SOLICITUDES!$C$2:$C$1048576,BD!C1970,SOLICITUDES!$J$2:$J$1048576)","v":0},0,{"$f":"SUMIF(SOLICITUDES!$C$2:$C$1048576,BD!C1970,SOLICITUDES!$K$2:$K$1048576)","v":0},0]
[null,null,"T8816",75,13200,208,-76.407592377599428,3.0455358570571067,37.5,37.5,15,15,{"$f":"SUMIF(SOLICITUDES!$C$2:$C$1048576,BD!C1971,SOLICITUDES!$I$2:$I$1048576)","v":0},0,{"$f":"SUMIF(SOLICITUDES!$C$2:$C$1048576,BD!C1971,SOLICITUDES!$J$2:$J$1048576)","v":0},0,{"$f":"SUMIF(SOLICITUDES!$C$2:$C$1048576,BD!C1971,SOLICITUDES!$K$2:$K$1048576)","v":0},0]
[null,null,"T30654",0.5,13200,240,-76.390591945164189,3.045027662044876,0.25,0.25,0.1,0.1,{"$f":"SUMIF(SOLICITUDES!$C$2:$C$1048576,BD!C1972,SOLICITUDES!$I$2:$I$1048576)","v":0},0,{"$f":"SUMIF(SOLICITUDES!$C$2:$C$1048576,BD!C1972,SOLICITUDES!$J$2:$J$1048576)","v":0},0,{"$f":"SUMIF(SOLICITUDES!$C$2:$C$1048576,BD!C1972,SOLICITUDES!$K$2:$K$1048576)","v":0},0]
[null,null,"T8820",25,13200,240,-76.401604348721875,3.022537614684492,12.5,12.5,5,5,{"$f":"SUMIF(SOLICITUDES!$C$2:$C$1048576,BD!C1973,SOLICITUDES!$I$2:$I$1048576)","v":0},0,{"$f":"SUMIF(SOLICITUDES!$C$2:$C$1048576,BD!C1973,SOLICITUDES!$J$2:$J$1048576)","v":0},0,{"$f":"SUMIF(SOLICITUDES!$C$2:$C$1048576,BD!C1973,SOLICITUDES!$K$2:$K$1048576)","v":0},0]
[null,null,"T8842",30,13200,208,-76.408108767226111,3.0251626494498836,15,15,6,6,{"$f":"SUMIF(SOLICITUDES!$C$2:$C$1048576,BD!C1974,SOLICITUDES!$I$2:$I$1048576)","v":0},0,{"$f":"SUMIF(SOLICITUDES!$C$2:$C$1048576,BD!C1974,SOLICITUDES!$J$2:$J$1048576)","v":0},0,{"$f":"SUMIF(SOLICITUDES!$C$2:$C$1048576,BD!C1974,SOLICITUDES!$K$2:$K$1048576)","v":0},0]
[null,null,"T8823",75,13200,208,-76.408393743551756,3.0443155310146399,37.5,37.5,15,15,{"$f":"SUMIF(SOLICITUDES!$C$2:$C$1048576,BD!C1975,SOLICITUDES!$I$2:$I$1048576)","v":0},0,{"$f":"SUMIF(SOLICITUDES!$C$2:$C$1048576,BD!C1975,SOLICITUDES!$J$2:$J$1048576)","v":0},0,{"$f":"SUMIF(SOLICITUDES!$C$2:$C$1048576,BD!C1975,SOLICITUDES!$K$2:$K$1048576)","v":0},0]
[null,null,"T8819",112.5,13200,208,-76.408205579688342,3.0431036579142514,56.25,56.25,22.5,22.5,{"$f":"SUMIF(SOLICITUDES!$C$2:$C$1048576,BD!C1976,SOLICITUDES!$I$2:$I$1048576)","v":0},0,{"$f":"SUMIF(SOLICITUDES!$C$2:$C$1048576,BD!C1976,SOLICITUDES!$J$2:$J$1048576)","v":0},0,{"$f":"SUMIF(SOLICITUDES!$C$2:$C$1048576,BD!C1976,SOLICITUDES!$K$2:$K$1048576)","v":0},0]
[null,null,"T8833",25,13200,240,-76.404928789643364,3.0313146803479736,12.5,12.5,5,5,{"$f":"SUMIF(SOLICITUDES!$C$2:$C$1048576,BD!C1977,SOLICITUDES!$I$2:$I$1048576)","v":0},0,{"$f":"SUMIF(SOLICITUDES!$C$2:$C$1048576,BD!C1977,SOLICITUDES!$J$2:$J$1048576)","v":0},0,{"$f":"SUMIF(SOLICITUDES!$C$2:$C$1048576,BD!C1977,SOLICITUDES!$K$2:$K$1048576)","v":0},0]
[null,null,"T15903",45,13200,214,-76.407501142172691,3.0463876446720417,22.5,22.5,9,9,{"$f":"SUMIF(SOLICITUDES!$C$2:$C$1048576,BD!C1978,SOLICITUDES!$I$2:$I$1048576)","v":0},0,{"$f":"SUMIF(SOLICITUDES!$C$2:$C$1048576,BD!C1978,SOLICITUDES!$J$2:$J$1048576)","v":0},0,{"$f":"SUMIF(SOLICITUDES!$C$2:$C$1048576,BD!C1978,SOLICITUDES!$K$2:$K$1048576)","v":0},0]
[null,null,"T8815",37.5,13200,240,-76.408236766453854,3.0234311635060491,18.75,18.75,7.5,7.5,{"$f":"SUMIF(SOLICITUDES!$C$2:$C$1048576,BD!C1979,SOLICITUDES!$I$2:$I$1048576)","v":0},0,{"$f":"SUMIF(SOLICITUDES!$C$2:$C$1048576,BD!C1979,SOLICITUDES!$J$2:$J$1048576)","v":0},0,{"$f":"SUMIF(SOLICITUDES!$C$2:$C$1048576,BD!C1979,SOLICITUDES!$K$2:$K$1048576)","v":0},0]
[null,null,"T8846",15,13200,240,-76.408031042187019,3.0489181201304336,7.5,7.5,3,3,{"$f":"SUMIF(SOLICITUDES!$C$2:$C$1048576,BD!C1980,SOLICITUDES!$I$2:$I$1048576)","v":0},0,{"$f":"SUMIF(SOLICITUDES!$C$2:$C$1048576,BD!C1980,SOLICITUDES!$J$2:$J$1048576)","v":0},0,{"$f":"SUMIF(SOLICITUDES!$C$2:$C$1048576,BD!C1980,SOLICITUDES!$K$2:$K$1048576)","v":0},0]
[null,null,"T8836",15,13200,240,-76.407491291371457,3.0489359050654414,7.5,7.5,3,3,{"$f":"SUMIF(SOLICITUDES!$C$2:$C$1048576,BD!C1981,SOLICITUDES!$I$2:$I$1048576)","v":0},0,{"$f":"SUMIF(SOLICITUDES!$C$2:$C$1048576,BD!C1981,SOLICITUDES!$J$2:$J$1048576)","v":0},0,{"$f":"SUMIF(SOLICITUDES!$C$2:$C$1048576,BD!C1981,SOLICITUDES!$K$2:$K$1048576)","v":0},0]
[null,null,"T8837",25,13200,240,-76.402024179295282,3.0138774754980662,12.5,12.5,5,5,{"$f":"SUMIF(SOLICITUDES!$C$2:$C$1048576,BD!C1982,SOLICITUDES!$I$2:$I$1048576)","v":0},0,{"$f":"SUMIF(SOLICITUDES!$C$2:$C$1048576,BD!C1982,SOLICITUDES!$J$2:$J$1048576)","v":0},0,{"$f":"SUMIF(SOLICITUDES!$C$2:$C$1048576,BD!C1982,SOLICITUDES!$K$2:$K$1048576)","v":0},0]
[null,null,"T20851",5,13200,220,-76.395269932389439,3.0012807894957869,2.5,2.5,1,1,{"$f":"SUMIF(SOLICITUDES!$C$2:$C$1048576,BD!C1983,SOLICITUDES!$I$2:$I$1048576)","v":0},0,{"$f":"SUMIF(SOLICITUDES!$C$2:$C$1048576,BD!C1983,SOLICITUDES!$J$2:$J$1048576)","v":0},0,{"$f":"SUMIF(SOLICITUDES!$C$2:$C$1048576,BD!C1983,SOLICITUDES!$K$2:$K$1048576)","v":0},0]
[null,null,"T8822",15,13200,240,-76.407018434177232,2.9896109802042301,7.5,7.5,3,3,{"$f":"SUMIF(SOLICITUDES!$C$2:$C$1048576,BD!C1984,SOLICITUDES!$I$2:$I$1048576)","v":0},0,{"$f":"SUMIF(SOLICITUDES!$C$2:$C$1048576,BD!C1984,SOLICITUDES!$J$2:$J$1048576)","v":0},0,{"$f":"SUMIF(SOLICITUDES!$C$2:$C$1048576,BD!C1984,SOLICITUDES!$K$2:$K$1048576)","v":0},0]
[null,null,"T10356",15,13200,240,-76.414180005160759,2.9961208699333328,7.5,7.5,3,3,{"$f":"SUMIF(SOLICITUDES!$C$2:$C$1048576,BD!C1985,SOLICITUDES!$I$2:$I$1048576)","v":0},0,{"$f":"SUMIF(SOLICITUDES!$C$2:$C$1048576,BD!C1985,SOLICITUDES!$J$2:$J$1048576)","v":0},0,{"$f":"SUMIF(SOLICITUDES!$C$2:$C$1048576,BD!C1985,SOLICITUDES!$K$2:$K$1048576)","v":0},0]
[null,null,"T31941",15,13200,240,-76.38097417945535,2.9932380363535347,7.5,7.5,3,3,{"$f":"SUMIF(SOLICITUDES!$C$2:$C$1048576,BD!C1986,SOLICITUDES!$I$2:$I$1048576)","v":0},0,{"$f":"SUMIF(SOLICITUDES!$C$2:$C$1048576,BD!C1986,SOLICITUDES!$J$2:$J$1048576)","v":0},0,{"$f":"SUMIF(SOLICITUDES!$C$2:$C$1048576,BD!C1986,SOLICITUDES!$K$2:$K$1048576)","v":0},0]
[null,null,"T10507",25,13200,240,-76.384434599218594,3.0409853027208094,12.5,{"$f":"D1987*0.5-M1987","v":12.5},5,5,{"$f":"SUMIF(SOLICITUDES!$C$2:$C$1048576,BD!C1987,SOLICITUDES!$I$2:$I$1048576)","v":0},{"$f":"M1987/D1987","v":0},{"$f":"SUMIF(SOLICITUDES!$C$2:$C$1048576,BD!C1987,SOLICITUDES!$J$2:$J$1048576)","v":0},0,{"$f":"SUMIF(SOLICITUDES!$C$2:$C$1048576,BD!C1987,SOLICITUDES!$K$2:$K$1048576)","v":0},0]
[null,null,"T11866",75,13200,208,-76.376700838224792,3.0490968571336152,{"$f":"D1988*0.5","v":37.5},37.5,{"$f":"0.2*D1988","v":15},{"$f":"0.2*D1988","v":15},{"$f":"SUMIF(SOLICITUDES!$C$2:$C$1048576,BD!C1988,SOLICITUDES!$I$2:$I$1048576)","v":0},0,{"$f":"SUMIF(SOLICITUDES!$C$2:$C$1048576,BD!C1988,SOLICITUDES!$J$2:$J$1048576)","v":0},{"$f":"O1988/(2*K1988)","v":0},{"$f":"SUMIF(SOLICITUDES!$C$2:$C$1048576,BD!C1988,SOLICITUDES!$K$2:$K$1048576)","v":0},{"$f":"Q1988/(2*L1988)","v":0}]
[null,null,"T8831",25,13200,240,-76.374446309855074,2.9922843818910292,12.5,12.5,5,5,{"$f":"SUMIF(SOLICITUDES!$C$2:$C$1048576,BD!C1989,SOLICITUDES!$I$2:$I$1048576)","v":0},0,{"$f":"SUMIF(SOLICITUDES!$C$2:$C$1048576,BD!C1989,SOLICITUDES!$J$2:$J$1048576)","v":0},0,{"$f":"SUMIF(SOLICITUDES!$C$2:$C$1048576,BD!C1989,SOLICITUDES!$K$2:$K$1048576)","v":0},0]
[null,null,"T20612",10,13200,240,-76.373087334567657,2.9918390966868955,5,5,2,2,{"$f":"SUMIF(SOLICITUDES!$C$2:$C$1048576,BD!C1990,SOLICITUDES!$I$2:$I$1048576)","v":0},0,{"$f":"SUMIF(SOLICITUDES!$C$2:$C$1048576,BD!C1990,SOLICITUDES!$J$2:$J$1048576)","v":0},0,{"$f":"SUMIF(SOLICITUDES!$C$2:$C$1048576,BD!C1990,SOLICITUDES!$K$2:$K$1048576)","v":0},0]
[null,null,"T20615",10,13200,240,-76.378102078239223,2.9808830005343294,5,5,2,2,{"$f":"SUMIF(SOLICITUDES!$C$2:$C$1048576,BD!C1991,SOLICITUDES!$I$2:$I$1048576)","v":0},0,{"$f":"SUMIF(SOLICITUDES!$C$2:$C$1048576,BD!C1991,SOLICITUDES!$J$2:$J$1048576)","v":0},0,{"$f":"SUMIF(SOLICITUDES!$C$2:$C$1048576,BD!C1991,SOLICITUDES!$K$2:$K$1048576)","v":0},0]
[null,null,"T20613",10,13200,240,-76.389630742170269,2.9912160056722072,5,5,2,2,{"$f":"SUMIF(SOLICITUDES!$C$2:$C$1048576,BD!C1992,SOLICITUDES!$I$2:$I$1048576)","v":0},0,{"$f":"SUMIF(SOLICITUDES!$C$2:$C$1048576,BD!C1992,SOLICITUDES!$J$2:$J$1048576)","v":0},0,{"$f":"SUMIF(SOLICITUDES!$C$2:$C$1048576,BD!C1992,SOLICITUDES!$K$2:$K$1048576)","v":0},0]
[null,null,"T11839",45,13200,208,-76.375755544360089,3.0503712581766185,22.5,22.5,9,9,{"$f":"SUMIF(SOLICITUDES!$C$2:$C$1048576,BD!C1993,SOLICITUDES!$I$2:$I$1048576)","v":0},0,{"$f":"SUMIF(SOLICITUDES!$C$2:$C$1048576,BD!C1993,SOLICITUDES!$J$2:$J$1048576)","v":0},0,{"$f":"SUMIF(SOLICITUDES!$C$2:$C$1048576,BD!C1993,SOLICITUDES!$K$2:$K$1048576)","v":0},0]
[null,null,"T20843",5,13200,220,-76.382130616772656,3.05032180622297,2.5,2.5,1,1,{"$f":"SUMIF(SOLICITUDES!$C$2:$C$1048576,BD!C1994,SOLICITUDES!$I$2:$I$1048576)","v":0},0,{"$f":"SUMIF(SOLICITUDES!$C$2:$C$1048576,BD!C1994,SOLICITUDES!$J$2:$J$1048576)","v":0},0,{"$f":"SUMIF(SOLICITUDES!$C$2:$C$1048576,BD!C1994,SOLICITUDES!$K$2:$K$1048576)","v":0},0]
[null,null,"T24326",5,13200,220,-76.375464355650053,3.0576835244800988,2.5,2.5,1,1,{"$f":"SUMIF(SOLICITUDES!$C$2:$C$1048576,BD!C1995,SOLICITUDES!$I$2:$I$1048576)","v":0},0,{"$f":"SUMIF(SOLICITUDES!$C$2:$C$1048576,BD!C1995,SOLICITUDES!$J$2:$J$1048576)","v":0},0,{"$f":"SUMIF(SOLICITUDES!$C$2:$C$1048576,BD!C1995,SOLICITUDES!$K$2:$K$1048576)","v":0},0]
[null,null,"T20631",10,13200,240,-76.366391168506212,2.9967986511221678,5,5,2,2,{"$f":"SUMIF(SOLICITUDES!$C$2:$C$1048576,BD!C1996,SOLICITUDES!$I$2:$I$1048576)","v":0},0,{"$f":"SUMIF(SOLICITUDES!$C$2:$C$1048576,BD!C1996,SOLICITUDES!$J$2:$J$1048576)","v":0},0,{"$f":"SUMIF(SOLICITUDES!$C$2:$C$1048576,BD!C1996,SOLICITUDES!$K$2:$K$1048576)","v":0},0]
[null,null,"T8824",25,13200,240,-76.4094053845524,2.9848777207207919,12.5,12.5,5,5,{"$f":"SUMIF(SOLICITUDES!$C$2:$C$1048576,BD!C1997,SOLICITUDES!$I$2:$I$1048576)","v":0},0,{"$f":"SUMIF(SOLICITUDES!$C$2:$C$1048576,BD!C1997,SOLICITUDES!$J$2:$J$1048576)","v":0},0,{"$f":"SUMIF(SOLICITUDES!$C$2:$C$1048576,BD!C1997,SOLICITUDES!$K$2:$K$1048576)","v":0},0]
[null,null,"T8827",25,13200,240,-76.373819503160149,2.9944979257774116,12.5,12.5,5,5,{"$f":"SUMIF(SOLICITUDES!$C$2:$C$1048576,BD!C1998,SOLICITUDES!$I$2:$I$1048576)","v":0},0,{"$f":"SUMIF(SOLICITUDES!$C$2:$C$1048576,BD!C1998,SOLICITUDES!$J$2:$J$1048576)","v":0},0,{"$f":"SUMIF(SOLICITUDES!$C$2:$C$1048576,BD!C1998,SOLICITUDES!$K$2:$K$1048576)","v":0},0]
[null,null,"T20616",5,13200,240,-76.38133678783305,2.9775402643063544,2.5,2.5,1,1,{"$f":"SUMIF(SOLICITUDES!$C$2:$C$1048576,BD!C1999,SOLICITUDES!$I$2:$I$1048576)","v":0},0,{"$f":"SUMIF(SOLICITUDES!$C$2:$C$1048576,BD!C1999,SOLICITUDES!$J$2:$J$1048576)","v":0},0,{"$f":"SUMIF(SOLICITUDES!$C$2:$C$1048576,BD!C1999,SOLICITUDES!$K$2:$K$1048576)","v":0},0]
[null,null,"T12019",45,13200,208,-76.37546833824716,3.0493582872826499,22.5,22.5,9,9,{"$f":"SUMIF(SOLICITUDES!$C$2:$C$1048576,BD!C2000,SOLICITUDES!$I$2:$I$1048576)","v":0},0,{"$f":"SUMIF(SOLICITUDES!$C$2:$C$1048576,BD!C2000,SOLICITUDES!$J$2:$J$1048576)","v":0},0,{"$f":"SUMIF(SOLICITUDES!$C$2:$C$1048576,BD!C2000,SOLICITUDES!$K$2:$K$1048576)","v":0},0]
[null,null,"T20632",5,13200,240,-76.368018209827028,3.0029830365525156,2.5,2.5,1,1,{"$f":"SUMIF(SOLICITUDES!$C$2:$C$1048576,BD!C2006,SOLICITUDES!$I$2:$I$1048576)","v":0},0,{"$f":"SUMIF(SOLICITUDES!$C$2:$C$1048576,BD!C2006,SOLICITUDES!$J$2:$J$1048576)","v":0},0,{"$f":"SUMIF(SOLICITUDES!$C$2:$C$1048576,BD!C2006,SOLICITUDES!$K$2:$K$1048576)","v":0},0]
[null,null,"T20619",10,13200,240,-76.34674056630557,3.0168749028732806,5,5,2,2,{"$f":"SUMIF(SOLICITUDES!$C$2:$C$1048576,BD!C2017,SOLICITUDES!$I$2:$I$1048576)","v":0},0,{"$f":"SUMIF(SOLICITUDES!$C$2:$C$1048576,BD!C2017,SOLICITUDES!$J$2:$J$1048576)","v":0},0,{"$f":"SUMIF(SOLICITUDES!$C$2:$C$1048576,BD!C2017,SOLICITUDES!$K$2:$K$1048576)","v":0},0]
[null,null,"T20636",10,13200,240,-76.367571449910599,3.0126611957629565,5,5,2,2,{"$f":"SUMIF(SOLICITUDES!$C$2:$C$1048576,BD!C2022,SOLICITUDES!$I$2:$I$1048576)","v":0},0,{"$f":"SUMIF(SOLICITUDES!$C$2:$C$1048576,BD!C2022,SOLICITUDES!$J$2:$J$1048576)","v":0},0,{"$f":"SUMIF(SOLICITUDES!$C$2:$C$1048576,BD!C2022,SOLICITUDES!$K$2:$K$1048576)","v":0},0]
[null,null,"T11834",10,13200,240,-76.34366575030397,3.0958252964346977,5,5,2,2,{"$f":"SUMIF(SOLICITUDES!$C$2:$C$1048576,BD!C2033,SOLICITUDES!$I$2:$I$1048576)","v":0},0,{"$f":"SUMIF(SOLICITUDES!$C$2:$C$1048576,BD!C2033,SOLICITUDES!$J$2:$J$1048576)","v":0},0,{"$f":"SUMIF(SOLICITUDES!$C$2:$C$1048576,BD!C2033,SOLICITUDES!$K$2:$K$1048576)","v":0},0]
[null,null,"T43469",15,13200,240,-76.347575793618873,3.1093234605874875,7.5,7.5,3,3,{"$f":"SUMIF(SOLICITUDES!$C$2:$C$1048576,BD!C2048,SOLICITUDES!$I$2:$I$1048576)","v":0},0,{"$f":"SUMIF(SOLICITUDES!$C$2:$C$1048576,BD!C2048,SOLICITUDES!$J$2:$J$1048576)","v":0},0,{"$f":"SUMIF(SOLICITUDES!$C$2:$C$1048576,BD!C2048,SOLICITUDES!$K$2:$K$1048576)","v":0},0]
[null,null,"T7999",37.5,13200,240,-76.473780485918965,3.0591488353019174,18.75,18.75,7.5,7.5,{"$f":"SUMIF(SOLICITUDES!$C$2:$C$1048576,BD!C2053,SOLICITUDES!$I$2:$I$1048576)","v":0},0,{"$f":"SUMIF(SOLICITUDES!$C$2:$C$1048576,BD!C2053,SOLICITUDES!$J$2:$J$1048576)","v":0},0,{"$f":"SUMIF(SOLICITUDES!$C$2:$C$1048576,BD!C2053,SOLICITUDES!$K$2:$K$1048576)","v":0},0]
[null,null,"T2686",37.5,13200,240,-76.453155135200404,3.0881916472393587,18.75,18.75,7.5,7.5,{"$f":"SUMIF(SOLICITUDES!$C$2:$C$1048576,BD!C2064,SOLICITUDES!$I$2:$I$1048576)","v":0},0,{"$f":"SUMIF(SOLICITUDES!$C$2:$C$1048576,BD!C2064,SOLICITUDES!$J$2:$J$1048576)","v":0},0,{"$f":"SUMIF(SOLICITUDES!$C$2:$C$1048576,BD!C2064,SOLICITUDES!$K$2:$K$1048576)","v":0},0]
[null,null,"T45091",37.5,13200,220,-76.470845506277584,3.0826718398376385,18.75,18.75,7.5,7.5,{"$f":"SUMIF(SOLICITUDES!$C$2:$C$1048576,BD!C2079,SOLICITUDES!$I$2:$I$1048576)","v":0},0,{"$f":"SUMIF(SOLICITUDES!$C$2:$C$1048576,BD!C2079,SOLICITUDES!$J$2:$J$1048576)","v":0},0,{"$f":"SUMIF(SOLICITUDES!$C$2:$C$1048576,BD!C2079,SOLICITUDES!$K$2:$K$1048576)","v":0},0]
[null,null,"T18025",15,13200,240,-76.451585703947842,3.148905291345331,7.5,7.5,3,3,{"$f":"SUMIF(SOLICITUDES!$C$2:$C$1048576,BD!C2090,SOLICITUDES!$I$2:$I$1048576)","v":0},0,{"$f":"SUMIF(SOLICITUDES!$C$2:$C$1048576,BD!C2090,SOLICITUDES!$J$2:$J$1048576)","v":0},0,{"$f":"SUMIF(SOLICITUDES!$C$2:$C$1048576,BD!C2090,SOLICITUDES!$K$2:$K$1048576)","v":0},0]
[null,null,"T7688",25,13200,240,-76.411534729652132,3.070595968970975,12.5,12.5,5,5,{"$f":"SUMIF(SOLICITUDES!$C$2:$C$1048576,BD!C2098,SOLICITUDES!$I$2:$I$1048576)","v":0},0,{"$f":"SUMIF(SOLICITUDES!$C$2:$C$1048576,BD!C2098,SOLICITUDES!$J$2:$J$1048576)","v":0},0,{"$f":"SUMIF(SOLICITUDES!$C$2:$C$1048576,BD!C2098,SOLICITUDES!$K$2:$K$1048576)","v":0},0]
[null,null,"T8722",75,13200,208,-76.434901161944424,3.0913728160930631,37.5,37.5,15,15,{"$f":"SUMIF(SOLICITUDES!$C$2:$C$1048576,BD!C2111,SOLICITUDES!$I$2:$I$1048576)","v":0},0,{"$f":"SUMIF(SOLICITUDES!$C$2:$C$1048576,BD!C2111,SOLICITUDES!$J$2:$J$1048576)","v":0},0,{"$f":"SUMIF(SOLICITUDES!$C$2:$C$1048576,BD!C2111,SOLICITUDES!$K$2:$K$1048576)","v":0},0]
[null,null,"T7709",10,13200,240,-76.40556388131975,3.0672282601191667,5,5,2,2,{"$f":"SUMIF(SOLICITUDES!$C$2:$C$1048576,BD!C2112,SOLICITUDES!$I$2:$I$1048576)","v":0},0,{"$f":"SUMIF(SOLICITUDES!$C$2:$C$1048576,BD!C2112,SOLICITUDES!$J$2:$J$1048576)","v":0},0,{"$f":"SUMIF(SOLICITUDES!$C$2:$C$1048576,BD!C2112,SOLICITUDES!$K$2:$K$1048576)","v":0},0]
[null,null,"T16723",50,13200,240,-76.450634145203125,3.1071169633529858,25,25,10,10,{"$f":"SUMIF(SOLICITUDES!$C$2:$C$1048576,BD!C2127,SOLICITUDES!$I$2:$I$1048576)","v":0},0,{"$f":"SUMIF(SOLICITUDES!$C$2:$C$1048576,BD!C2127,SOLICITUDES!$J$2:$J$1048576)","v":0},0,{"$f":"SUMIF(SOLICITUDES!$C$2:$C$1048576,BD!C2127,SOLICITUDES!$K$2:$K$1048576)","v":0},0]
[null,null,"T23957",15,13200,240,-76.455662720356699,3.1130558372082766,7.5,7.5,3,3,{"$f":"SUMIF(SOLICITUDES!$C$2:$C$1048576,BD!C2132,SOLICITUDES!$I$2:$I$1048576)","v":0},0,{"$f":"SUMIF(SOLICITUDES!$C$2:$C$1048576,BD!C2132,SOLICITUDES!$J$2:$J$1048576)","v":0},0,{"$f":"SUMIF(SOLICITUDES!$C$2:$C$1048576,BD!C2132,SOLICITUDES!$K$2:$K$1048576)","v":0},0]
[null,null,"T18021",15,13200,240,-76.459119603962804,3.1487012238432186,7.5,7.5,3,3,{"$f":"SUMIF(SOLICITUDES!$C$2:$C$1048576,BD!C2143,SOLICITUDES!$I$2:$I$1048576)","v":0},0,{"$f":"SUMIF(SOLICITUDES!$C$2:$C$1048576,BD!C2143,SOLICITUDES!$J$2:$J$1048576)","v":0},0,{"$f":"SUMIF(SOLICITUDES!$C$2:$C$1048576,BD!C2143,SOLICITUDES!$K$2:$K$1048576)","v":0},0]
[null,null,"T15457",15,13200,240,-76.382981646899111,3.1821380938776156,7.5,7.5,3,3,{"$f":"SUMIF(SOLICITUDES!$C$2:$C$1048576,BD!C2158,SOLICITUDES!$I$2:$I$1048576)","v":0},0,{"$f":"SUMIF(SOLICITUDES!$C$2:$C$1048576,BD!C2158,SOLICITUDES!$J$2:$J$1048576)","v":0},0,{"$f":"SUMIF(SOLICITUDES!$C$2:$C$1048576,BD!C2158,SOLICITUDES!$K$2:$K$1048576)","v":0},0]
[null,null,"T9553",100,34500,220,-76.956335985212931,2.1394563855899031,50,50,20,20,{"$f":"SUMIF(SOLICITUDES!$C$2:$C$1048576,BD!C2169,SOLICITUDES!$I$2:$I$1048576)","v":0},0,{"$f":"SUMIF(SOLICITUDES!$C$2:$C$1048576,BD!C2169,SOLICITUDES!$J$2:$J$1048576)","v":0},0,{"$f":"SUMIF(SOLICITUDES!$C$2:$C$1048576,BD!C2169,SOLICITUDES!$K$2:$K$1048576)","v":0},0]
[null,null,"T9985",45,13200,208,-76.986775795141355,2.1089818497179036,22.5,22.5,9,9,{"$f":"SUMIF(SOLICITUDES!$C$2:$C$1048576,BD!C2174,SOLICITUDES!$I$2:$I$1048576)","v":0},0,{"$f":"SUMIF(SOLICITUDES!$C$2:$C$1048576,BD!C2174,SOLICITUDES!$J$2:$J$1048576)","v":0},0,{"$f":"SUMIF(SOLICITUDES!$C$2:$C$1048576,BD!C2174,SOLICITUDES!$K$2:$K$1048576)","v":0},0]
[null,null,"T40263",45,13200,440,-76.982954199164595,2.1141488876790162,22.5,22.5,9,9,{"$f":"SUMIF(SOLICITUDES!$C$2:$C$1048576,BD!C2189,SOLICITUDES!$I$2:$I$1048576)","v":0},0,{"$f":"SUMIF(SOLICITUDES!$C$2:$C$1048576,BD!C2189,SOLICITUDES!$J$2:$J$1048576)","v":0},0,{"$f":"SUMIF(SOLICITUDES!$C$2:$C$1048576,BD!C2189,SOLICITUDES!$K$2:$K$1048576)","v":0},0]
[null,null,"T9669",15,13200,240,-76.957188421059584,2.0440922507532195,7.5,7.5,3,3,{"$f":"SUMIF(SOLICITUDES!$C$2:$C$1048576,BD!C2201,SOLICITUDES!$I$2:$I$1048576)","v":0},0,{"$f":"SUMIF(SOLICITUDES!$C$2:$C$1048576,BD!C2201,SOLICITUDES!$J$2:$J$1048576)","v":0},0,{"$f":"SUMIF(SOLICITUDES!$C$2:$C$1048576,BD!C2201,SOLICITUDES!$K$2:$K$1048576)","v":0},0]
[null,null,"T9672",25,13200,240,-76.957116523644899,2.0448338650213551,12.5,12.5,5,5,{"$f":"SUMIF(SOLICITUDES!$C$2:$C$1048576,BD!C2206,SOLICITUDES!$I$2:$I$1048576)","v":0},0,{"$f":"SUMIF(SOLICITUDES!$C$2:$C$1048576,BD!C2206,SOLICITUDES!$J$2:$J$1048576)","v":0},0,{"$f":"SUMIF(SOLICITUDES!$C$2:$C$1048576,BD!C2206,SOLICITUDES!$K$2:$K$1048576)","v":0},0]
[null,null,"T10374",10,13200,240,-76.964441172158985,2.0617096284507421,5,5,2,2,{"$f":"SUMIF(SOLICITUDES!$C$2:$C$1048576,BD!C2217,SOLICITUDES!$I$2:$I$1048576)","v":0},0,{"$f":"SUMIF(SOLICITUDES!$C$2:$C$1048576,BD!C2217,SOLICITUDES!$J$2:$J$1048576)","v":0},0,{"$f":"SUMIF(SOLICITUDES!$C$2:$C$1048576,BD!C2217,SOLICITUDES!$K$2:$K$1048576)","v":0},0]
[null,null,"T12394",15,13200,240,-76.926043163233658,2.0348380618760968,7.5,7.5,3,3,{"$f":"SUMIF(SOLICITUDES!$C$2:$C$1048576,BD!C2232,SOLICITUDES!$I$2:$I$1048576)","v":0},0,{"$f":"SUMIF(SOLICITUDES!$C$2:$C$1048576,BD!C2232,SOLICITUDES!$J$2:$J$1048576)","v":0},0,{"$f":"SUMIF(SOLICITUDES!$C$2:$C$1048576,BD!C2232,SOLICITUDES!$K$2:$K$1048576)","v":0},0]
[null,null,"T15061",45,13200,208,-76.925089973679533,2.0386995382081583,22.5,22.5,9,9,{"$f":"SUMIF(SOLICITUDES!$C$2:$C$1048576,BD!C2237,SOLICITUDES!$I$2:$I$1048576)","v":0},0,{"$f":"SUMIF(SOLICITUDES!$C$2:$C$1048576,BD!C2237,SOLICITUDES!$J$2:$J$1048576)","v":0},0,{"$f":"SUMIF(SOLICITUDES!$C$2:$C$1048576,BD!C2237,SOLICITUDES!$K$2:$K$1048576)","v":0},0]
[null,null,"T17084",15,13200,240,-77.008876725911776,1.9840281339948702,7.5,7.5,3,3,{"$f":"SUMIF(SOLICITUDES!$C$2:$C$1048576,BD!C2248,SOLICITUDES!$I$2:$I$1048576)","v":0},0,{"$f":"SUMIF(SOLICITUDES!$C$2:$C$1048576,BD!C2248,SOLICITUDES!$J$2:$J$1048576)","v":0},0,{"$f":"SUMIF(SOLICITUDES!$C$2:$C$1048576,BD!C2248,SOLICITUDES!$K$2:$K$1048576)","v":0},0]
[null,null,"T29935",10,13200,240,-76.925413212957196,2.0466696427367164,5,5,2,2,{"$f":"SUMIF(SOLICITUDES!$C$2:$C$1048576,BD!C2253,SOLICITUDES!$I$2:$I$1048576)","v":0},0,{"$f":"SUMIF(SOLICITUDES!$C$2:$C$1048576,BD!C2253,SOLICITUDES!$J$2:$J$1048576)","v":0},0,{"$f":"SUMIF(SOLICITUDES!$C$2:$C$1048576,BD!C2253,SOLICITUDES!$K$2:$K$1048576)","v":0},0]
[null,null,"T23423",5,13200,240,-77.00097494994138,1.9548339577839737,2.5,2.5,1,1,{"$f":"SUMIF(SOLICITUDES!$C$2:$C$1048576,BD!C2268,SOLICITUDES!$I$2:$I$1048576)","v":0},0,{"$f":"SUMIF(SOLICITUDES!$C$2:$C$1048576,BD!C2268,SOLICITUDES!$J$2:$J$1048576)","v":0},0,{"$f":"SUMIF(SOLICITUDES!$C$2:$C$1048576,BD!C2268,SOLICITUDES!$K$2:$K$1048576)","v":0},0]
[null,null,"T15250",15,13200,240,-76.929645144465965,2.0608023961557302,7.5,7.5,3,3,{"$f":"SUMIF(SOLICITUDES!$C$2:$C$1048576,BD!C2273,SOLICITUDES!$I$2:$I$1048576)","v":0},0,{"$f":"SUMIF(SOLICITUDES!$C$2:$C$1048576,BD!C2273,SOLICITUDES!$J$2:$J$1048576)","v":0},0,{"$f":"SUMIF(SOLICITUDES!$C$2:$C$1048576,BD!C2273,SOLICITUDES!$K$2:$K$1048576)","v":0},0]
[null,null,"T15251",15,13800,220,-76.924520747599445,2.068461753018807,7.5,7.5,3,3,{"$f":"SUMIF(SOLICITUDES!$C$2:$C$1048576,BD!C2285,SOLICITUDES!$I$2:$I$1048576)","v":0},0,{"$f":"SUMIF(SOLICITUDES!$C$2:$C$1048576,BD!C2285,SOLICITUDES!$J$2:$J$1048576)","v":0},0,{"$f":"SUMIF(SOLICITUDES!$C$2:$C$1048576,BD!C2285,SOLICITUDES!$K$2:$K$1048576)","v":0},0]
[null,null,"T15079",15,13200,240,-76.913106763877778,2.0503554762602789,7.5,7.5,3,3,{"$f":"SUMIF(SOLICITUDES!$C$2:$C$1048576,BD!C2296,SOLICITUDES!$I$2:$I$1048576)","v":0},0,{"$f":"SUMIF(SOLICITUDES!$C$2:$C$1048576,BD!C2296,SOLICITUDES!$J$2:$J$1048576)","v":0},0,{"$f":"SUMIF(SOLICITUDES!$C$2:$C$1048576,BD!C2296,SOLICITUDES!$K$2:$K$1048576)","v":0},0]
[null,null,"T15258",37.5,13200,240,-76.931352017998449,2.0722426482342109,18.75,18.75,7.5,7.5,{"$f":"SUMIF(SOLICITUDES!$C$2:$C$1048576,BD!C2311,SOLICITUDES!$I$2:$I$1048576)","v":0},0,{"$f":"SUMIF(SOLICITUDES!$C$2:$C$1048576,BD!C2311,SOLICITUDES!$J$2:$J$1048576)","v":0},0,{"$f":"SUMIF(SOLICITUDES!$C$2:$C$1048576,BD!C2311,SOLICITUDES!$K$2:$K$1048576)","v":0},0]
[null,null,"T15064",10,13200,240,-76.915816213373816,2.0251247904423759,5,5,2,2,{"$f":"SUMIF(SOLICITUDES!$C$2:$C$1048576,BD!C2316,SOLICITUDES!$I$2:$I$1048576)","v":0},0,{"$f":"SUMIF(SOLICITUDES!$C$2:$C$1048576,BD!C2316,SOLICITUDES!$J$2:$J$1048576)","v":0},0,{"$f":"SUMIF(SOLICITUDES!$C$2:$C$1048576,BD!C2316,SOLICITUDES!$K$2:$K$1048576)","v":0},0]
[null,null,"T18127",15,13200,240,-76.931862443673396,1.9950017809950371,7.5,7.5,3,3,{"$f":"SUMIF(SOLICITUDES!$C$2:$C$1048576,BD!C2327,SOLICITUDES!$I$2:$I$1048576)","v":0},0,{"$f":"SUMIF(SOLICITUDES!$C$2:$C$1048576,BD!C2327,SOLICITUDES!$J$2:$J$1048576)","v":0},0,{"$f":"SUMIF(SOLICITUDES!$C$2:$C$1048576,BD!C2327,SOLICITUDES!$K$2:$K$1048576)","v":0},0]
[null,null,"T18380",15,13200,240,-77.037875179014179,1.9227679416251082,7.5,7.5,3,3,{"$f":"SUMIF(SOLICITUDES!$C$2:$C$1048576,BD!C2342,SOLICITUDES!$I$2:$I$1048576)","v":0},0,{"$f":"SUMIF(SOLICITUDES!$C$2:$C$1048576,BD!C2342,SOLICITUDES!$J$2:$J$1048576)","v":0},0,{"$f":"SUMIF(SOLICITUDES!$C$2:$C$1048576,BD!C2342,SOLICITUDES!$K$2:$K$1048576)","v":0},0]
[null,null,"T12457",15,13200,240,-76.897919959387565,2.0909501360803473,7.5,7.5,3,3,{"$f":"SUMIF(SOLICITUDES!$C$2:$C$1048576,BD!C2347,SOLICITUDES!$I$2:$I$1048576)","v":0},0,{"$f":"SUMIF(SOLICITUDES!$C$2:$C$1048576,BD!C2347,SOLICITUDES!$J$2:$J$1048576)","v":0},0,{"$f":"SUMIF(SOLICITUDES!$C$2:$C$1048576,BD!C2347,SOLICITUDES!$K$2:$K$1048576)","v":0},0]
[null,null,"T18140",5,13200,240,-76.920301818874592,2.0092171286631606,2.5,2.5,1,1,{"$f":"SUMIF(SOLICITUDES!$C$2:$C$1048576,BD!C2358,SOLICITUDES!$I$2:$I$1048576)","v":0},0,{"$f":"SUMIF(SOLICITUDES!$C$2:$C$1048576,BD!C2358,SOLICITUDES!$J$2:$J$1048576)","v":0},0,{"$f":"SUMIF(SOLICITUDES!$C$2:$C$1048576,BD!C2358,SOLICITUDES!$K$2:$K$1048576)","v":0},0]
[null,null,"T18119",15,13200,240,-76.932939907215712,2.0078437299034015,7.5,7.5,3,3,{"$f":"SUMIF(SOLICITUDES!$C$2:$C$1048576,BD!C2364,SOLICITUDES!$I$2:$I$1048576)","v":0},0,{"$f":"SUMIF(SOLICITUDES!$C$2:$C$1048576,BD!C2364,SOLICITUDES!$J$2:$J$1048576)","v":0},0,{"$f":"SUMIF(SOLICITUDES!$C$2:$C$1048576,BD!C2364,SOLICITUDES!$K$2:$K$1048576)","v":0},0]
[null,null,"T20675",10,13200,240,-77.050974121969119,1.8966244981508762,5,5,2,2,{"$f":"SUMIF(SOLICITUDES!$C$2:$C$1048576,BD!C2375,SOLICITUDES!$I$2:$I$1048576)","v":0},0,{"$f":"SUMIF(SOLICITUDES!$C$2:$C$1048576,BD!C2375,SOLICITUDES!$J$2:$J$1048576)","v":0},0,{"$f":"SUMIF(SOLICITUDES!$C$2:$C$1048576,BD!C2375,SOLICITUDES!$K$2:$K$1048576)","v":0},0]
[null,null,"T18190",10,13200,240,-76.894538269971079,1.9487764935528478,5,5,2,2,{"$f":"SUMIF(SOLICITUDES!$C$2:$C$1048576,BD!C2390,SOLICITUDES!$I$2:$I$1048576)","v":0},0,{"$f":"SUMIF(SOLICITUDES!$C$2:$C$1048576,BD!C2390,SOLICITUDES!$J$2:$J$1048576)","v":0},0,{"$f":"SUMIF(SOLICITUDES!$C$2:$C$1048576,BD!C2390,SOLICITUDES!$K$2:$K$1048576)","v":0},0]
[null,null,"T17468",10,13200,240,-76.918827938867437,1.9481276428934768,5,5,2,2,{"$f":"SUMIF(SOLICITUDES!$C$2:$C$1048576,BD!C2395,SOLICITUDES!$I$2:$I$1048576)","v":0},0,{"$f":"SUMIF(SOLICITUDES!$C$2:$C$1048576,BD!C2395,SOLICITUDES!$J$2:$J$1048576)","v":0},0,{"$f":"SUMIF(SOLICITUDES!$C$2:$C$1048576,BD!C2395,SOLICITUDES!$K$2:$K$1048576)","v":0},0]
[null,null,"T26742",15,13200,240,-76.956895664855523,1.9480202947244392,7.5,7.5,3,3,{"$f":"SUMIF(SOLICITUDES!$C$2:$C$1048576,BD!C2406,SOLICITUDES!$I$2:$I$1048576)","v":0},0,{"$f":"SUMIF(SOLICITUDES!$C$2:$C$1048576,BD!C2406,SOLICITUDES!$J$2:$J$1048576)","v":0},0,{"$f":"SUMIF(SOLICITUDES!$C$2:$C$1048576,BD!C2406,SOLICITUDES!$K$2:$K$1048576)","v":0},0]
[null,null,"T26764",10,13200,240,-76.889402894107221,1.9759336213598977,5,5,2,2,{"$f":"SUMIF(SOLICITUDES!$C$2:$C$1048576,BD!C2421,SOLICITUDES!$I$2:$I$1048576)","v":0},0,{"$f":"SUMIF(SOLICITUDES!$C$2:$C$1048576,BD!C2421,SOLICITUDES!$J$2:$J$1048576)","v":0},0,{"$f":"SUMIF(SOLICITUDES!$C$2:$C$1048576,BD!C2421,SOLICITUDES!$K$2:$K$1048576)","v":0},0]
[null,null,"T20685",15,13200,240,-77.037149876668266,1.9072651080355361,7.5,7.5,3,3,{"$f":"SUMIF(SOLICITUDES!$C$2:$C$1048576,BD!C2432,SOLICITUDES!$I$2:$I$1048576)","v":0},0,{"$f":"SUMIF(SOLICITUDES!$C$2:$C$1048576,BD!C2432,SOLICITUDES!$J$2:$J$1048576)","v":0},0,{"$f":"SUMIF(SOLICITUDES!$C$2:$C$1048576,BD!C2432,SOLICITUDES!$K$2:$K$1048576)","v":0},0]
[null,null,"T9997",75,13200,240,-76.971603769993436,2.1301324282765051,37.5,37.5,15,15,{"$f":"SUMIF(SOLICITUDES!$C$2:$C$1048576,BD!C2437,SOLICITUDES!$I$2:$I$1048576)","v":0},0,{"$f":"SUMIF(SOLICITUDES!$C$2:$C$1048576,BD!C2437,SOLICITUDES!$J$2:$J$1048576)","v":0},0,{"$f":"SUMIF(SOLICITUDES!$C$2:$C$1048576,BD!C2437,SOLICITUDES!$K$2:$K$1048576)","v":0},0]
[null,null,"T18309",10,13200,240,-76.983573947290395,2.1351356296948363,5,5,2,2,{"$f":"SUMIF(SOLICITUDES!$C$2:$C$1048576,BD!C2452,SOLICITUDES!$I$2:$I$1048576)","v":0},0,{"$f":"SUMIF(SOLICITUDES!$C$2:$C$1048576,BD!C2452,SOLICITUDES!$J$2:$J$1048576)","v":0},0,{"$f":"SUMIF(SOLICITUDES!$C$2:$C$1048576,BD!C2452,SOLICITUDES!$K$2:$K$1048576)","v":0},0]
[null,null,"T9979",45,13200,208,-76.977228376279641,2.1224470782032814,22.5,22.5,9,9,{"$f":"SUMIF(SOLICITUDES!$C$2:$C$1048576,BD!C2459,SOLICITUDES!$I$2:$I$1048576)","v":0},0,{"$f":"SUMIF(SOLICITUDES!$C$2:$C$1048576,BD!C2459,SOLICITUDES!$J$2:$J$1048576)","v":0},0,{"$f":"SUMIF(SOLICITUDES!$C$2:$C$1048576,BD!C2459,SOLICITUDES!$K$2:$K$1048576)","v":0},0]
[null,null,"T2673",15,13200,208,-76.902818994071751,2.1690866865028946,7.5,7.5,3,3,{"$f":"SUMIF(SOLICITUDES!$C$2:$C$1048576,BD!C2469,SOLICITUDES!$I$2:$I$1048576)","v":0},0,{"$f":"SUMIF(SOLICITUDES!$C$2:$C$1048576,BD!C2469,SOLICITUDES!$J$2:$J$1048576)","v":0},0,{"$f":"SUMIF(SOLICITUDES!$C$2:$C$1048576,BD!C2469,SOLICITUDES!$K$2:$K$1048576)","v":0},0]
[null,null,"T8857",30,13200,208,-76.896526091271539,2.1711749747494866,15,15,6,6,{"$f":"SUMIF(SOLICITUDES!$C$2:$C$1048576,BD!C2484,SOLICITUDES!$I$2:$I$1048576)","v":0},0,{"$f":"SUMIF(SOLICITUDES!$C$2:$C$1048576,BD!C2484,SOLICITUDES!$J$2:$J$1048576)","v":0},0,{"$f":"SUMIF(SOLICITUDES!$C$2:$C$1048576,BD!C2484,SOLICITUDES!$K$2:$K$1048576)","v":0},0]
[null,null,"T11601",10,13200,240,-76.89222856649468,2.1018107190455475,5,5,2,2,{"$f":"SUMIF(SOLICITUDES!$C$2:$C$1048576,BD!C2495,SOLICITUDES!$I$2:$I$1048576)","v":0},0,{"$f":"SUMIF(SOLICITUDES!$C$2:$C$1048576,BD!C2495,SOLICITUDES!$J$2:$J$1048576)","v":0},0,{"$f":"SUMIF(SOLICITUDES!$C$2:$C$1048576,BD!C2495,SOLICITUDES!$K$2:$K$1048576)","v":0},0]
[null,null,"T12462",10,13200,240,-76.869372833336982,2.0822547439524528,{"$f":"D2500*0.5","v":5},5,{"$f":"0.2*D2500","v":2},{"$f":"0.2*D2500","v":2},{"$f":"SUMIF(SOLICITUDES!$C$2:$C$1048576,BD!C2500,SOLICITUDES!$I$2:$I$1048576)","v":0},0,{"$f":"SUMIF(SOLICITUDES!$C$2:$C$1048576,BD!C2500,SOLICITUDES!$J$2:$J$1048576)","v":0},{"$f":"O2500/(2*K2500)","v":0},{"$f":"SUMIF(SOLICITUDES!$C$2:$C$1048576,BD!C2500,SOLICITUDES!$K$2:$K$1048576)","v":0},{"$f":"Q2500/(2*L2500)","v":0}]
[null,null,"T7861",10,13200,240,-76.839673358617361,2.190709903930709,5,5,2,2,{"$f":"SUMIF(SOLICITUDES!$C$2:$C$1048576,BD!C2511,SOLICITUDES!$I$2:$I$1048576)","v":0},0,{"$f":"SUMIF(SOLICITUDES!$C$2:$C$1048576,BD!C2511,SOLICITUDES!$J$2:$J$1048576)","v":0},0,{"$f":"SUMIF(SOLICITUDES!$C$2:$C$1048576,BD!C2511,SOLICITUDES!$K$2:$K$1048576)","v":0},0]
[null,null,"T7844",15,13200,208,-76.835672850229386,2.191794516732045,7.5,7.5,3,3,{"$f":"SUMIF(SOLICITUDES!$C$2:$C$1048576,BD!C2516,SOLICITUDES!$I$2:$I$1048576)","v":0},0,{"$f":"SUMIF(SOLICITUDES!$C$2:$C$1048576,BD!C2516,SOLICITUDES!$J$2:$J$1048576)","v":0},0,{"$f":"SUMIF(SOLICITUDES!$C$2:$C$1048576,BD!C2516,SOLICITUDES!$K$2:$K$1048576)","v":0},0]
[null,null,"T2498",15,13200,240,-76.506546738162527,2.6118179199494973,7.5,7.5,3,3,{"$f":"SUMIF(SOLICITUDES!$C$2:$C$1048576,BD!C2531,SOLICITUDES!$I$2:$I$1048576)","v":0},0,{"$f":"SUMIF(SOLICITUDES!$C$2:$C$1048576,BD!C2531,SOLICITUDES!$J$2:$J$1048576)","v":0},0,{"$f":"SUMIF(SOLICITUDES!$C$2:$C$1048576,BD!C2531,SOLICITUDES!$K$2:$K$1048576)","v":0},0]
[null,null,"T6323",25,13200,240,-76.52903943187988,2.6034089959639801,12.5,12.5,5,5,{"$f":"SUMIF(SOLICITUDES!$C$2:$C$1048576,BD!C2542,SOLICITUDES!$I$2:$I$1048576)","v":0},0,{"$f":"SUMIF(SOLICITUDES!$C$2:$C$1048576,BD!C2542,SOLICITUDES!$J$2:$J$1048576)","v":0},0,{"$f":"SUMIF(SOLICITUDES!$C$2:$C$1048576,BD!C2542,SOLICITUDES!$K$2:$K$1048576)","v":0},0]
[null,null,"T2784",15,13200,240,-76.498271843583808,2.5973181750163437,7.5,7.5,3,3,{"$f":"SUMIF(SOLICITUDES!$C$2:$C$1048576,BD!C2550,SOLICITUDES!$I$2:$I$1048576)","v":0},0,{"$f":"SUMIF(SOLICITUDES!$C$2:$C$1048576,BD!C2550,SOLICITUDES!$J$2:$J$1048576)","v":0},0,{"$f":"SUMIF(SOLICITUDES!$C$2:$C$1048576,BD!C2550,SOLICITUDES!$K$2:$K$1048576)","v":0},0]
[null,null,"T4921",25,13200,240,-76.530106667477042,2.589112374249015,12.5,12.5,5,5,{"$f":"SUMIF(SOLICITUDES!$C$2:$C$1048576,BD!C2559,SOLICITUDES!$I$2:$I$1048576)","v":0},0,{"$f":"SUMIF(SOLICITUDES!$C$2:$C$1048576,BD!C2559,SOLICITUDES!$J$2:$J$1048576)","v":0},0,{"$f":"SUMIF(SOLICITUDES!$C$2:$C$1048576,BD!C2559,SOLICITUDES!$K$2:$K$1048576)","v":0},0]
[null,null,"T6261",10,13200,214,-76.505423282279082,2.5708162322800923,5,5,2,2,{"$f":"SUMIF(SOLICITUDES!$C$2:$C$1048576,BD!C2574,SOLICITUDES!$I$2:$I$1048576)","v":0},0,{"$f":"SUMIF(SOLICITUDES!$C$2:$C$1048576,BD!C2574,SOLICITUDES!$J$2:$J$1048576)","v":0},0,{"$f":"SUMIF(SOLICITUDES!$C$2:$C$1048576,BD!C2574,SOLICITUDES!$K$2:$K$1048576)","v":0},0]
[null,null,"T6272",10,13200,240,-76.551886628907312,2.5632312412187037,5,5,2,2,{"$f":"SUMIF(SOLICITUDES!$C$2:$C$1048576,BD!C2579,SOLICITUDES!$I$2:$I$1048576)","v":0},0,{"$f":"SUMIF(SOLICITUDES!$C$2:$C$1048576,BD!C2579,SOLICITUDES!$J$2:$J$1048576)","v":0},0,{"$f":"SUMIF(SOLICITUDES!$C$2:$C$1048576,BD!C2579,SOLICITUDES!$K$2:$K$1048576)","v":0},0]
[null,null,"T5007",10,13200,220,-76.570328457459539,2.5590423359572667,5,5,2,2,{"$f":"SUMIF(SOLICITUDES!$C$2:$C$1048576,BD!C2590,SOLICITUDES!$I$2:$I$1048576)","v":0},0,{"$f":"SUMIF(SOLICITUDES!$C$2:$C$1048576,BD!C2590,SOLICITUDES!$J$2:$J$1048576)","v":0},0,{"$f":"SUMIF(SOLICITUDES!$C$2:$C$1048576,BD!C2590,SOLICITUDES!$K$2:$K$1048576)","v":0},0]
[null,null,"T10431",75,13200,220,-76.568130887610877,2.5500801106845881,37.5,37.5,15,15,{"$f":"SUMIF(SOLICITUDES!$C$2:$C$1048576,BD!C2605,SOLICITUDES!$I$2:$I$1048576)","v":0},0,{"$f":"SUMIF(SOLICITUDES!$C$2:$C$1048576,BD!C2605,SOLICITUDES!$J$2:$J$1048576)","v":0},0,{"$f":"SUMIF(SOLICITUDES!$C$2:$C$1048576,BD!C2605,SOLICITUDES!$K$2:$K$1048576)","v":0},0]
[null,null,"T5776",15,13200,240,-76.552045231405984,2.5272848119001852,7.5,7.5,3,3,{"$f":"SUMIF(SOLICITUDES!$C$2:$C$1048576,BD!C2610,SOLICITUDES!$I$2:$I$1048576)","v":0},0,{"$f":"SUMIF(SOLICITUDES!$C$2:$C$1048576,BD!C2610,SOLICITUDES!$J$2:$J$1048576)","v":0},0,{"$f":"SUMIF(SOLICITUDES!$C$2:$C$1048576,BD!C2610,SOLICITUDES!$K$2:$K$1048576)","v":0},0]
[null,null,"T16689",15,13200,240,-76.551778495693426,2.5179916043108515,7.5,7.5,3,3,{"$f":"SUMIF(SOLICITUDES!$C$2:$C$1048576,BD!C2621,SOLICITUDES!$I$2:$I$1048576)","v":0},0,{"$f":"SUMIF(SOLICITUDES!$C$2:$C$1048576,BD!C2621,SOLICITUDES!$J$2:$J$1048576)","v":0},0,{"$f":"SUMIF(SOLICITUDES!$C$2:$C$1048576,BD!C2621,SOLICITUDES!$K$2:$K$1048576)","v":0},0]
[null,null,"T16688",15,13200,240,-76.554237363475892,2.517853064987432,7.5,7.5,3,3,{"$f":"SUMIF(SOLICITUDES!$C$2:$C$1048576,BD!C2636,SOLICITUDES!$I$2:$I$1048576)","v":0},0,{"$f":"SUMIF(SOLICITUDES!$C$2:$C$1048576,BD!C2636,SOLICITUDES!$J$2:$J$1048576)","v":0},0,{"$f":"SUMIF(SOLICITUDES!$C$2:$C$1048576,BD!C2636,SOLICITUDES!$K$2:$K$1048576)","v":0},0]
[null,null,"T8925",15,13200,240,-76.541111841631633,2.5345297135025699,7.5,7.5,3,3,{"$f":"SUMIF(SOLICITUDES!$C$2:$C$1048576,BD!C2645,SOLICITUDES!$I$2:$I$1048576)","v":0},0,{"$f":"SUMIF(SOLICITUDES!$C$2:$C$1048576,BD!C2645,SOLICITUDES!$J$2:$J$1048576)","v":0},0,{"$f":"SUMIF(SOLICITUDES!$C$2:$C$1048576,BD!C2645,SOLICITUDES!$K$2:$K$1048576)","v":0},0]
[null,null,"T8887",15,13200,240,-76.525610561003091,2.5533549164688631,7.5,7.5,3,3,{"$f":"SUMIF(SOLICITUDES!$C$2:$C$1048576,BD!C2653,SOLICITUDES!$I$2:$I$1048576)","v":0},0,{"$f":"SUMIF(SOLICITUDES!$C$2:$C$1048576,BD!C2653,SOLICITUDES!$J$2:$J$1048576)","v":0},0,{"$f":"SUMIF(SOLICITUDES!$C$2:$C$1048576,BD!C2653,SOLICITUDES!$K$2:$K$1048576)","v":0},0]
[null,null,"T4026",37.5,13200,240,-76.602204275855343,2.6819067651021826,18.75,18.75,7.5,7.5,{"$f":"SUMIF(SOLICITUDES!$C$2:$C$1048576,BD!C2658,SOLICITUDES!$I$2:$I$1048576)","v":0},0,{"$f":"SUMIF(SOLICITUDES!$C$2:$C$1048576,BD!C2658,SOLICITUDES!$J$2:$J$1048576)","v":0},0,{"$f":"SUMIF(SOLICITUDES!$C$2:$C$1048576,BD!C2658,SOLICITUDES!$K$2:$K$1048576)","v":0},0]
[null,null,"T4492",15,13200,240,-76.610997556095001,2.6827495023594401,7.5,7.5,3,3,{"$f":"SUMIF(SOLICITUDES!$C$2:$C$1048576,BD!C2669,SOLICITUDES!$I$2:$I$1048576)","v":0},0,{"$f":"SUMIF(SOLICITUDES!$C$2:$C$1048576,BD!C2669,SOLICITUDES!$J$2:$J$1048576)","v":0},0,{"$f":"SUMIF(SOLICITUDES!$C$2:$C$1048576,BD!C2669,SOLICITUDES!$K$2:$K$1048576)","v":0},0]
[null,null,"T2507",15,13200,240,-76.580586330076585,2.7226485690251749,7.5,7.5,3,3,{"$f":"SUMIF(SOLICITUDES!$C$2:$C$1048576,BD!C2684,SOLICITUDES!$I$2:$I$1048576)","v":0},0,{"$f":"SUMIF(SOLICITUDES!$C$2:$C$1048576,BD!C2684,SOLICITUDES!$J$2:$J$1048576)","v":0},0,{"$f":"SUMIF(SOLICITUDES!$C$2:$C$1048576,BD!C2684,SOLICITUDES!$K$2:$K$1048576)","v":0},0]
[null,null,"T2470",15,13200,240,-76.586273092782918,2.7501113731283748,7.5,7.5,3,3,{"$f":"SUMIF(SOLICITUDES!$C$2:$C$1048576,BD!C2689,SOLICITUDES!$I$2:$I$1048576)","v":0},0,{"$f":"SUMIF(SOLICITUDES!$C$2:$C$1048576,BD!C2689,SOLICITUDES!$J$2:$J$1048576)","v":0},0,{"$f":"SUMIF(SOLICITUDES!$C$2:$C$1048576,BD!C2689,SOLICITUDES!$K$2:$K$1048576)","v":0},0]
[null,null,"T4875",15,13200,240,-76.51095626301327,2.6240823713872676,7.5,7.5,3,3,{"$f":"SUMIF(SOLICITUDES!$C$2:$C$1048576,BD!C2700,SOLICITUDES!$I$2:$I$1048576)","v":0},0,{"$f":"SUMIF(SOLICITUDES!$C$2:$C$1048576,BD!C2700,SOLICITUDES!$J$2:$J$1048576)","v":0},0,{"$f":"SUMIF(SOLICITUDES!$C$2:$C$1048576,BD!C2700,SOLICITUDES!$K$2:$K$1048576)","v":0},0]
[null,null,"T4970",75,13200,220,-76.527199746369732,2.638393412468155,37.5,37.5,15,15,{"$f":"SUMIF(SOLICITUDES!$C$2:$C$1048576,BD!C2715,SOLICITUDES!$I$2:$I$1048576)","v":0},0,{"$f":"SUMIF(SOLICITUDES!$C$2:$C$1048576,BD!C2715,SOLICITUDES!$J$2:$J$1048576)","v":0},0,{"$f":"SUMIF(SOLICITUDES!$C$2:$C$1048576,BD!C2715,SOLICITUDES!$K$2:$K$1048576)","v":0},0]
[null,null,"T3246",75,13200,208,-76.527520602480379,2.642356866474902,37.5,37.5,15,15,{"$f":"SUMIF(SOLICITUDES!$C$2:$C$1048576,BD!C2726,SOLICITUDES!$I$2:$I$1048576)","v":0},0,{"$f":"SUMIF(SOLICITUDES!$C$2:$C$1048576,BD!C2726,SOLICITUDES!$J$2:$J$1048576)","v":0},0,{"$f":"SUMIF(SOLICITUDES!$C$2:$C$1048576,BD!C2726,SOLICITUDES!$K$2:$K$1048576)","v":0},0]
[null,null,"T3661",25,13200,240,-76.531801937866646,2.6400256609360868,12.5,12.5,5,5,{"$f":"SUMIF(SOLICITUDES!$C$2:$C$1048576,BD!C2736,SOLICITUDES!$I$2:$I$1048576)","v":0},0,{"$f":"SUMIF(SOLICITUDES!$C$2:$C$1048576,BD!C2736,SOLICITUDES!$J$2:$J$1048576)","v":0},0,{"$f":"SUMIF(SOLICITUDES!$C$2:$C$1048576,BD!C2736,SOLICITUDES!$K$2:$K$1048576)","v":0},0]
[null,null,"T14487",75,13200,208,-76.525721618007566,2.6435225877014354,37.5,37.5,15,15,{"$f":"SUMIF(SOLICITUDES!$C$2:$C$1048576,BD!C2747,SOLICITUDES!$I$2:$I$1048576)","v":0},0,{"$f":"SUMIF(SOLICITUDES!$C$2:$C$1048576,BD!C2747,SOLICITUDES!$J$2:$J$1048576)","v":0},0,{"$f":"SUMIF(SOLICITUDES!$C$2:$C$1048576,BD!C2747,SOLICITUDES!$K$2:$K$1048576)","v":0},0]
[null,null,"T3579",25,13200,240,-76.528704729823815,2.6890738743674594,12.5,12.5,5,5,{"$f":"SUMIF(SOLICITUDES!$C$2:$C$1048576,BD!C2758,SOLICITUDES!$I$2:$I$1048576)","v":0},0,{"$f":"SUMIF(SOLICITUDES!$C$2:$C$1048576,BD!C2758,SOLICITUDES!$J$2:$J$1048576)","v":0},0,{"$f":"SUMIF(SOLICITUDES!$C$2:$C$1048576,BD!C2758,SOLICITUDES!$K$2:$K$1048576)","v":0},0]
[null,null,"T3591",50,13200,240,-76.527258075786506,2.686486971153129,25,25,10,10,{"$f":"SUMIF(SOLICITUDES!$C$2:$C$1048576,BD!C2763,SOLICITUDES!$I$2:$I$1048576)","v":0},0,{"$f":"SUMIF(SOLICITUDES!$C$2:$C$1048576,BD!C2763,SOLICITUDES!$J$2:$J$1048576)","v":0},0,{"$f":"SUMIF(SOLICITUDES!$C$2:$C$1048576,BD!C2763,SOLICITUDES!$K$2:$K$1048576)","v":0},0]
[null,null,"T3576",45,13200,208,-76.527039709352138,2.6921206867130252,22.5,22.5,9,9,{"$f":"SUMIF(SOLICITUDES!$C$2:$C$1048576,BD!C2774,SOLICITUDES!$I$2:$I$1048576)","v":0},0,{"$f":"SUMIF(SOLICITUDES!$C$2:$C$1048576,BD!C2774,SOLICITUDES!$J$2:$J$1048576)","v":0},0,{"$f":"SUMIF(SOLICITUDES!$C$2:$C$1048576,BD!C2774,SOLICITUDES!$K$2:$K$1048576)","v":0},0]
[null,null,"T14493",75,13200,208,-76.531237794485619,2.6954051934295351,37.5,37.5,15,15,{"$f":"SUMIF(SOLICITUDES!$C$2:$C$1048576,BD!C2779,SOLICITUDES!$I$2:$I$1048576)","v":0},0,{"$f":"SUMIF(SOLICITUDES!$C$2:$C$1048576,BD!C2779,SOLICITUDES!$J$2:$J$1048576)","v":0},0,{"$f":"SUMIF(SOLICITUDES!$C$2:$C$1048576,BD!C2779,SOLICITUDES!$K$2:$K$1048576)","v":0},0]
[null,null,"T30659",0.5,13200,240,-76.258471095707549,3.1758064814437912,0.25,0.25,0.1,0.1,{"$f":"SUMIF(SOLICITUDES!$C$2:$C$1048576,BD!C2794,SOLICITUDES!$I$2:$I$1048576)","v":0},0,{"$f":"SUMIF(SOLICITUDES!$C$2:$C$1048576,BD!C2794,SOLICITUDES!$J$2:$J$1048576)","v":0},0,{"$f":"SUMIF(SOLICITUDES!$C$2:$C$1048576,BD!C2794,SOLICITUDES!$K$2:$K$1048576)","v":0},0]
[null,null,"T12010",112.5,13200,208,-76.270300339703027,3.1764760014596503,56.25,56.25,22.5,22.5,{"$f":"SUMIF(SOLICITUDES!$C$2:$C$1048576,BD!C2805,SOLICITUDES!$I$2:$I$1048576)","v":0},0,{"$f":"SUMIF(SOLICITUDES!$C$2:$C$1048576,BD!C2805,SOLICITUDES!$J$2:$J$1048576)","v":0},0,{"$f":"SUMIF(SOLICITUDES!$C$2:$C$1048576,BD!C2805,SOLICITUDES!$K$2:$K$1048576)","v":0},0]
[null,null,"T11449",112.5,13200,208,-76.270938829301542,3.1767477327338338,56.25,56.25,22.5,22.5,{"$f":"SUMIF(SOLICITUDES!$C$2:$C$1048576,BD!C2810,SOLICITUDES!$I$2:$I$1048576)","v":0},0,{"$f":"SUMIF(SOLICITUDES!$C$2:$C$1048576,BD!C2810,SOLICITUDES!$J$2:$J$1048576)","v":0},0,{"$f":"SUMIF(SOLICITUDES!$C$2:$C$1048576,BD!C2810,SOLICITUDES!$K$2:$K$1048576)","v":0},0]
[null,null,"T10483",15,13200,240,-76.278143337646043,3.178326796539884,7.5,7.5,3,3,{"$f":"SUMIF(SOLICITUDES!$C$2:$C$1048576,BD!C2827,SOLICITUDES!$I$2:$I$1048576)","v":0},0,{"$f":"SUMIF(SOLICITUDES!$C$2:$C$1048576,BD!C2827,SOLICITUDES!$J$2:$J$1048576)","v":0},0,{"$f":"SUMIF(SOLICITUDES!$C$2:$C$1048576,BD!C2827,SOLICITUDES!$K$2:$K$1048576)","v":0},0]
[null,null,"T24819",5,13200,240,-76.265363576007545,3.1604423494962695,2.5,2.5,1,1,{"$f":"SUMIF(SOLICITUDES!$C$2:$C$1048576,BD!C2837,SOLICITUDES!$I$2:$I$1048576)","v":0},0,{"$f":"SUMIF(SOLICITUDES!$C$2:$C$1048576,BD!C2837,SOLICITUDES!$J$2:$J$1048576)","v":0},0,{"$f":"SUMIF(SOLICITUDES!$C$2:$C$1048576,BD!C2837,SOLICITUDES!$K$2:$K$1048576)","v":0},0]
[null,null,"T22142",25,13200,240,-76.215863155546145,3.1689155965139038,12.5,12.5,5,5,{"$f":"SUMIF(SOLICITUDES!$C$2:$C$1048576,BD!C2842,SOLICITUDES!$I$2:$I$1048576)","v":0},0,{"$f":"SUMIF(SOLICITUDES!$C$2:$C$1048576,BD!C2842,SOLICITUDES!$J$2:$J$1048576)","v":0},0,{"$f":"SUMIF(SOLICITUDES!$C$2:$C$1048576,BD!C2842,SOLICITUDES!$K$2:$K$1048576)","v":0},0]
[null,null,"T25740",15,13200,240,-76.213981408985106,3.150545507791322,7.5,7.5,3,3,{"$f":"SUMIF(SOLICITUDES!$C$2:$C$1048576,BD!C2853,SOLICITUDES!$I$2:$I$1048576)","v":0},0,{"$f":"SUMIF(SOLICITUDES!$C$2:$C$1048576,BD!C2853,SOLICITUDES!$J$2:$J$1048576)","v":0},0,{"$f":"SUMIF(SOLICITUDES!$C$2:$C$1048576,BD!C2853,SOLICITUDES!$K$2:$K$1048576)","v":0},0]
[null,null,"T19320",10,13200,240,-76.209780637453648,3.1257560633212802,5,5,2,2,{"$f":"SUMIF(SOLICITUDES!$C$2:$C$1048576,BD!C2868,SOLICITUDES!$I$2:$I$1048576)","v":0},0,{"$f":"SUMIF(SOLICITUDES!$C$2:$C$1048576,BD!C2868,SOLICITUDES!$J$2:$J$1048576)","v":0},0,{"$f":"SUMIF(SOLICITUDES!$C$2:$C$1048576,BD!C2868,SOLICITUDES!$K$2:$K$1048576)","v":0},0]
[null,null,"T22152",37.5,13200,240,-76.202576094146494,3.166719885040429,18.75,18.75,7.5,7.5,{"$f":"SUMIF(SOLICITUDES!$C$2:$C$1048576,BD!C2873,SOLICITUDES!$I$2:$I$1048576)","v":0},0,{"$f":"SUMIF(SOLICITUDES!$C$2:$C$1048576,BD!C2873,SOLICITUDES!$J$2:$J$1048576)","v":0},0,{"$f":"SUMIF(SOLICITUDES!$C$2:$C$1048576,BD!C2873,SOLICITUDES!$K$2:$K$1048576)","v":0},0]
[null,null,"T22145",10,13200,240,-76.227709081542685,3.1765513670366481,{"$f":"D2884*0.5","v":5},5,{"$f":"0.2*D2884","v":2},{"$f":"0.2*D2884","v":2},{"$f":"SUMIF(SOLICITUDES!$C$2:$C$1048576,BD!C2884,SOLICITUDES!$I$2:$I$1048576)","v":0},0,{"$f":"SUMIF(SOLICITUDES!$C$2:$C$1048576,BD!C2884,SOLICITUDES!$J$2:$J$1048576)","v":0},{"$f":"O2884/(2*K2884)","v":0},{"$f":"SUMIF(SOLICITUDES!$C$2:$C$1048576,BD!C2884,SOLICITUDES!$K$2:$K$1048576)","v":0},{"$f":"Q2884/(2*L2884)","v":0}]
[null,null,"T31054",25,13200,240,-76.217467946957072,3.0944701429745574,12.5,12.5,5,5,{"$f":"SUMIF(SOLICITUDES!$C$2:$C$1048576,BD!C2899,SOLICITUDES!$I$2:$I$1048576)","v":0},0,{"$f":"SUMIF(SOLICITUDES!$C$2:$C$1048576,BD!C2899,SOLICITUDES!$J$2:$J$1048576)","v":0},0,{"$f":"SUMIF(SOLICITUDES!$C$2:$C$1048576,BD!C2899,SOLICITUDES!$K$2:$K$1048576)","v":0},0]
[null,null,"T25770",15,13200,240,-76.240254089439375,3.0811590333840457,7.5,7.5,3,3,{"$f":"SUMIF(SOLICITUDES!$C$2:$C$1048576,BD!C2904,SOLICITUDES!$I$2:$I$1048576)","v":0},0,{"$f":"SUMIF(SOLICITUDES!$C$2:$C$1048576,BD!C2904,SOLICITUDES!$J$2:$J$1048576)","v":0},0,{"$f":"SUMIF(SOLICITUDES!$C$2:$C$1048576,BD!C2904,SOLICITUDES!$K$2:$K$1048576)","v":0},0]
[null,null,"T22212",15,13200,240,-76.190888762731504,3.156382747658006,7.5,7.5,3,3,{"$f":"SUMIF(SOLICITUDES!$C$2:$C$1048576,BD!C2911,SOLICITUDES!$I$2:$I$1048576)","v":0},0,{"$f":"SUMIF(SOLICITUDES!$C$2:$C$1048576,BD!C2911,SOLICITUDES!$J$2:$J$1048576)","v":0},0,{"$f":"SUMIF(SOLICITUDES!$C$2:$C$1048576,BD!C2911,SOLICITUDES!$K$2:$K$1048576)","v":0},0]
[null,null,"T22165",25,13200,240,-76.223627098357213,3.0703893120178654,12.5,12.5,5,5,{"$f":"SUMIF(SOLICITUDES!$C$2:$C$1048576,BD!C2921,SOLICITUDES!$I$2:$I$1048576)","v":0},0,{"$f":"SUMIF(SOLICITUDES!$C$2:$C$1048576,BD!C2921,SOLICITUDES!$J$2:$J$1048576)","v":0},0,{"$f":"SUMIF(SOLICITUDES!$C$2:$C$1048576,BD!C2921,SOLICITUDES!$K$2:$K$1048576)","v":0},0]
[null,null,"T25772",5,13200,240,-76.178390975481022,3.1492971807793744,2.5,2.5,1,1,{"$f":"SUMIF(SOLICITUDES!$C$2:$C$1048576,BD!C2932,SOLICITUDES!$I$2:$I$1048576)","v":0},0,{"$f":"SUMIF(SOLICITUDES!$C$2:$C$1048576,BD!C2932,SOLICITUDES!$J$2:$J$1048576)","v":0},0,{"$f":"SUMIF(SOLICITUDES!$C$2:$C$1048576,BD!C2932,SOLICITUDES!$K$2:$K$1048576)","v":0},0]
[null,null,"T18743",25,13200,240,-76.266432407884281,3.1182737275216934,12.5,{"$f":"D2947*0.5-M2947","v":12.5},5,5,{"$f":"SUMIF(SOLICITUDES!$C$2:$C$1048576,BD!C2947,SOLICITUDES!$I$2:$I$1048576)","v":0},{"$f":"M2947/D2947","v":0},{"$f":"SUMIF(SOLICITUDES!$C$2:$C$1048576,BD!C2947,SOLICITUDES!$J$2:$J$1048576)","v":0},0,{"$f":"SUMIF(SOLICITUDES!$C$2:$C$1048576,BD!C2947,SOLICITUDES!$K$2:$K$1048576)","v":0},0]
[null,null,"T40196",25,13200,240,-76.308901278270284,3.1206135482828343,12.5,12.5,5,5,{"$f":"SUMIF(SOLICITUDES!$C$2:$C$1048576,BD!C2952,SOLICITUDES!$I$2:$I$1048576)","v":0},0,{"$f":"SUMIF(SOLICITUDES!$C$2:$C$1048576,BD!C2952,SOLICITUDES!$J$2:$J$1048576)","v":0},0,{"$f":"SUMIF(SOLICITUDES!$C$2:$C$1048576,BD!C2952,SOLICITUDES!$K$2:$K$1048576)","v":0},0]
[null,null,"T22114",10,13200,240,-76.305961903563329,3.0880328723748627,5,5,2,2,{"$f":"SUMIF(SOLICITUDES!$C$2:$C$1048576,BD!C2963,SOLICITUDES!$I$2:$I$1048576)","v":0},0,{"$f":"SUMIF(SOLICITUDES!$C$2:$C$1048576,BD!C2963,SOLICITUDES!$J$2:$J$1048576)","v":0},0,{"$f":"SUMIF(SOLICITUDES!$C$2:$C$1048576,BD!C2963,SOLICITUDES!$K$2:$K$1048576)","v":0},0]
[null,null,"T18227",15,13200,240,-76.260525732569391,3.1103281447644711,7.5,7.5,3,3,{"$f":"SUMIF(SOLICITUDES!$C$2:$C$1048576,BD!C2978,SOLICITUDES!$I$2:$I$1048576)","v":0},0,{"$f":"SUMIF(SOLICITUDES!$C$2:$C$1048576,BD!C2978,SOLICITUDES!$J$2:$J$1048576)","v":0},0,{"$f":"SUMIF(SOLICITUDES!$C$2:$C$1048576,BD!C2978,SOLICITUDES!$K$2:$K$1048576)","v":0},0]
[null,null,"T17093",25,13200,220,-76.872186180855621,1.8601563277713795,12.5,12.5,5,5,{"$f":"SUMIF(SOLICITUDES!$C$2:$C$1048576,BD!C2989,SOLICITUDES!$I$2:$I$1048576)","v":0},0,{"$f":"SUMIF(SOLICITUDES!$C$2:$C$1048576,BD!C2989,SOLICITUDES!$J$2:$J$1048576)","v":0},0,{"$f":"SUMIF(SOLICITUDES!$C$2:$C$1048576,BD!C2989,SOLICITUDES!$K$2:$K$1048576)","v":0},0]
[null,null,"T25698",10,13200,240,-76.873121171772681,1.857850331888937,5,5,2,2,{"$f":"SUMIF(SOLICITUDES!$C$2:$C$1048576,BD!C2994,SOLICITUDES!$I$2:$I$1048576)","v":0},0,{"$f":"SUMIF(SOLICITUDES!$C$2:$C$1048576,BD!C2994,SOLICITUDES!$J$2:$J$1048576)","v":0},0,{"$f":"SUMIF(SOLICITUDES!$C$2:$C$1048576,BD!C2994,SOLICITUDES!$K$2:$K$1048576)","v":0},0]
[null,null,"T18251",15,13200,220,-76.89769387666864,1.8567497186053448,7.5,7.5,3,3,{"$f":"SUMIF(SOLICITUDES!$C$2:$C$1048576,BD!C3002,SOLICITUDES!$I$2:$I$1048576)","v":0},0,{"$f":"SUMIF(SOLICITUDES!$C$2:$C$1048576,BD!C3002,SOLICITUDES!$J$2:$J$1048576)","v":0},0,{"$f":"SUMIF(SOLICITUDES!$C$2:$C$1048576,BD!C3002,SOLICITUDES!$K$2:$K$1048576)","v":0},0]
[null,null,"T15971",25,13200,240,-76.843929821026975,1.8507926526866536,12.5,12.5,5,5,{"$f":"SUMIF(SOLICITUDES!$C$2:$C$1048576,BD!C3021,SOLICITUDES!$I$2:$I$1048576)","v":0},0,{"$f":"SUMIF(SOLICITUDES!$C$2:$C$1048576,BD!C3021,SOLICITUDES!$J$2:$J$1048576)","v":0},0,{"$f":"SUMIF(SOLICITUDES!$C$2:$C$1048576,BD!C3021,SOLICITUDES!$K$2:$K$1048576)","v":0},0]
[null,null,"T16660",10,13200,240,-76.811682403103489,1.8475052360840225,5,5,2,2,{"$f":"SUMIF(SOLICITUDES!$C$2:$C$1048576,BD!C3026,SOLICITUDES!$I$2:$I$1048576)","v":0},0,{"$f":"SUMIF(SOLICITUDES!$C$2:$C$1048576,BD!C3026,SOLICITUDES!$J$2:$J$1048576)","v":0},0,{"$f":"SUMIF(SOLICITUDES!$C$2:$C$1048576,BD!C3026,SOLICITUDES!$K$2:$K$1048576)","v":0},0]
[null,null,"T16657",15,13200,240,-76.799872742097051,1.8464724352863504,7.5,7.5,3,3,{"$f":"SUMIF(SOLICITUDES!$C$2:$C$1048576,BD!C3041,SOLICITUDES!$I$2:$I$1048576)","v":0},0,{"$f":"SUMIF(SOLICITUDES!$C$2:$C$1048576,BD!C3041,SOLICITUDES!$J$2:$J$1048576)","v":0},0,{"$f":"SUMIF(SOLICITUDES!$C$2:$C$1048576,BD!C3041,SOLICITUDES!$K$2:$K$1048576)","v":0},0]
[null,null,"T13654",5,13200,240,-76.906485211665569,1.8445599121771112,2.5,2.5,1,1,{"$f":"SUMIF(SOLICITUDES!$C$2:$C$1048576,BD!C3042,SOLICITUDES!$I$2:$I$1048576)","v":0},0,{"$f":"SUMIF(SOLICITUDES!$C$2:$C$1048576,BD!C3042,SOLICITUDES!$J$2:$J$1048576)","v":0},0,{"$f":"SUMIF(SOLICITUDES!$C$2:$C$1048576,BD!C3042,SOLICITUDES!$K$2:$K$1048576)","v":0},0]
[null,null,"T42466",10,13200,240,-76.422659531068376,2.7392175558703209,5,5,2,2,{"$f":"SUMIF(SOLICITUDES!$C$2:$C$1048576,BD!C3057,SOLICITUDES!$I$2:$I$1048576)","v":0},0,{"$f":"SUMIF(SOLICITUDES!$C$2:$C$1048576,BD!C3057,SOLICITUDES!$J$2:$J$1048576)","v":0},0,{"$f":"SUMIF(SOLICITUDES!$C$2:$C$1048576,BD!C3057,SOLICITUDES!$K$2:$K$1048576)","v":0},0]
[null,null,"T23070",10,13200,240,-76.435015996986365,2.7227964497127219,5,5,2,2,{"$f":"SUMIF(SOLICITUDES!$C$2:$C$1048576,BD!C3068,SOLICITUDES!$I$2:$I$1048576)","v":0},0,{"$f":"SUMIF(SOLICITUDES!$C$2:$C$1048576,BD!C3068,SOLICITUDES!$J$2:$J$1048576)","v":0},0,{"$f":"SUMIF(SOLICITUDES!$C$2:$C$1048576,BD!C3068,SOLICITUDES!$K$2:$K$1048576)","v":0},0]
[null,null,"T42477",10,13200,240,-76.423107274775717,2.72991947031029,5,5,2,2,{"$f":"SUMIF(SOLICITUDES!$C$2:$C$1048576,BD!C3073,SOLICITUDES!$I$2:$I$1048576)","v":0},0,{"$f":"SUMIF(SOLICITUDES!$C$2:$C$1048576,BD!C3073,SOLICITUDES!$J$2:$J$1048576)","v":0},0,{"$f":"SUMIF(SOLICITUDES!$C$2:$C$1048576,BD!C3073,SOLICITUDES!$K$2:$K$1048576)","v":0},0]
[null,null,"T23218",5,13200,240,-76.411150204499847,2.7188723868394504,2.5,2.5,1,1,{"$f":"SUMIF(SOLICITUDES!$C$2:$C$1048576,BD!C3088,SOLICITUDES!$I$2:$I$1048576)","v":0},0,{"$f":"SUMIF(SOLICITUDES!$C$2:$C$1048576,BD!C3088,SOLICITUDES!$J$2:$J$1048576)","v":0},0,{"$f":"SUMIF(SOLICITUDES!$C$2:$C$1048576,BD!C3088,SOLICITUDES!$K$2:$K$1048576)","v":0},0]
[null,null,"T23196",5,13200,240,-76.419439320640649,2.7082445771416404,2.5,2.5,1,1,{"$f":"SUMIF(SOLICITUDES!$C$2:$C$1048576,BD!C3099,SOLICITUDES!$I$2:$I$1048576)","v":0},0,{"$f":"SUMIF(SOLICITUDES!$C$2:$C$1048576,BD!C3099,SOLICITUDES!$J$2:$J$1048576)","v":0},0,{"$f":"SUMIF(SOLICITUDES!$C$2:$C$1048576,BD!C3099,SOLICITUDES!$K$2:$K$1048576)","v":0},0]
[null,null,"T23076",5,13200,240,-76.439148797804421,2.713659970670629,2.5,2.5,1,1,{"$f":"SUMIF(SOLICITUDES!$C$2:$C$1048576,BD!C3102,SOLICITUDES!$I$2:$I$1048576)","v":0},0,{"$f":"SUMIF(SOLICITUDES!$C$2:$C$1048576,BD!C3102,SOLICITUDES!$J$2:$J$1048576)","v":0},0,{"$f":"SUMIF(SOLICITUDES!$C$2:$C$1048576,BD!C3102,SOLICITUDES!$K$2:$K$1048576)","v":0},0]
[null,null,"T23112",5,13200,240,-76.444319785421897,2.6927665756361749,2.5,2.5,1,1,{"$f":"SUMIF(SOLICITUDES!$C$2:$C$1048576,BD!C3116,SOLICITUDES!$I$2:$I$1048576)","v":0},0,{"$f":"SUMIF(SOLICITUDES!$C$2:$C$1048576,BD!C3116,SOLICITUDES!$J$2:$J$1048576)","v":0},0,{"$f":"SUMIF(SOLICITUDES!$C$2:$C$1048576,BD!C3116,SOLICITUDES!$K$2:$K$1048576)","v":0},0]
[null,null,"T11088",25,13200,240,-76.622898255518962,2.7481652683786431,12.5,12.5,5,5,{"$f":"SUMIF(SOLICITUDES!$C$2:$C$1048576,BD!C3131,SOLICITUDES!$I$2:$I$1048576)","v":0},0,{"$f":"SUMIF(SOLICITUDES!$C$2:$C$1048576,BD!C3131,SOLICITUDES!$J$2:$J$1048576)","v":0},0,{"$f":"SUMIF(SOLICITUDES!$C$2:$C$1048576,BD!C3131,SOLICITUDES!$K$2:$K$1048576)","v":0},0]
[null,null,"T26217",45,13200,208,-76.622972495237093,2.7421334810746041,22.5,22.5,9,9,{"$f":"SUMIF(SOLICITUDES!$C$2:$C$1048576,BD!C3136,SOLICITUDES!$I$2:$I$1048576)","v":0},0,{"$f":"SUMIF(SOLICITUDES!$C$2:$C$1048576,BD!C3136,SOLICITUDES!$J$2:$J$1048576)","v":0},0,{"$f":"SUMIF(SOLICITUDES!$C$2:$C$1048576,BD!C3136,SOLICITUDES!$K$2:$K$1048576)","v":0},0]
[null,null,"T4671",10,13200,240,-76.650450628403874,2.7451022958420337,5,5,2,2,{"$f":"SUMIF(SOLICITUDES!$C$2:$C$1048576,BD!C3147,SOLICITUDES!$I$2:$I$1048576)","v":0},0,{"$f":"SUMIF(SOLICITUDES!$C$2:$C$1048576,BD!C3147,SOLICITUDES!$J$2:$J$1048576)","v":0},0,{"$f":"SUMIF(SOLICITUDES!$C$2:$C$1048576,BD!C3147,SOLICITUDES!$K$2:$K$1048576)","v":0},0]
[null,null,"T4639",15,13200,240,-76.634033796152821,2.742933426660938,7.5,7.5,3,3,{"$f":"SUMIF(SOLICITUDES!$C$2:$C$1048576,BD!C3162,SOLICITUDES!$I$2:$I$1048576)","v":0},0,{"$f":"SUMIF(SOLICITUDES!$C$2:$C$1048576,BD!C3162,SOLICITUDES!$J$2:$J$1048576)","v":0},0,{"$f":"SUMIF(SOLICITUDES!$C$2:$C$1048576,BD!C3162,SOLICITUDES!$K$2:$K$1048576)","v":0},0]
[null,null,"T6852",10,13200,240,-76.721509672633786,2.7513151192837433,5,5,2,2,{"$f":"SUMIF(SOLICITUDES!$C$2:$C$1048576,BD!C3167,SOLICITUDES!$I$2:$I$1048576)","v":0},0,{"$f":"SUMIF(SOLICITUDES!$C$2:$C$1048576,BD!C3167,SOLICITUDES!$J$2:$J$1048576)","v":0},0,{"$f":"SUMIF(SOLICITUDES!$C$2:$C$1048576,BD!C3167,SOLICITUDES!$K$2:$K$1048576)","v":0},0]
[null,null,"T6856",15,13200,240,-76.706075566623724,2.8073013516726961,7.5,7.5,3,3,{"$f":"SUMIF(SOLICITUDES!$C$2:$C$1048576,BD!C3178,SOLICITUDES!$I$2:$I$1048576)","v":0},0,{"$f":"SUMIF(SOLICITUDES!$C$2:$C$1048576,BD!C3178,SOLICITUDES!$J$2:$J$1048576)","v":0},0,{"$f":"SUMIF(SOLICITUDES!$C$2:$C$1048576,BD!C3178,SOLICITUDES!$K$2:$K$1048576)","v":0},0]
[null,null,"T6860",10,13200,240,-76.713056353948446,2.7978770274932159,5,5,2,2,{"$f":"SUMIF(SOLICITUDES!$C$2:$C$1048576,BD!C3183,SOLICITUDES!$I$2:$I$1048576)","v":0},0,{"$f":"SUMIF(SOLICITUDES!$C$2:$C$1048576,BD!C3183,SOLICITUDES!$J$2:$J$1048576)","v":0},0,{"$f":"SUMIF(SOLICITUDES!$C$2:$C$1048576,BD!C3183,SOLICITUDES!$K$2:$K$1048576)","v":0},0]
[null,null,"T13429",5,13200,220,-76.725398920094392,2.8209085289164277,2.5,2.5,1,1,{"$f":"SUMIF(SOLICITUDES!$C$2:$C$1048576,BD!C3197,SOLICITUDES!$I$2:$I$1048576)","v":0},0,{"$f":"SUMIF(SOLICITUDES!$C$2:$C$1048576,BD!C3197,SOLICITUDES!$J$2:$J$1048576)","v":0},0,{"$f":"SUMIF(SOLICITUDES!$C$2:$C$1048576,BD!C3197,SOLICITUDES!$K$2:$K$1048576)","v":0},0]
[null,null,"T7720",5,13200,240,-76.722913344162833,2.8314883760717535,2.5,2.5,1,1,{"$f":"SUMIF(SOLICITUDES!$C$2:$C$1048576,BD!C3210,SOLICITUDES!$I$2:$I$1048576)","v":0},0,{"$f":"SUMIF(SOLICITUDES!$C$2:$C$1048576,BD!C3210,SOLICITUDES!$J$2:$J$1048576)","v":0},0,{"$f":"SUMIF(SOLICITUDES!$C$2:$C$1048576,BD!C3210,SOLICITUDES!$K$2:$K$1048576)","v":0},0]
[null,null,"T18675",15,13200,240,-76.765659801815019,2.7919345169640484,7.5,7.5,3,3,{"$f":"SUMIF(SOLICITUDES!$C$2:$C$1048576,BD!C3215,SOLICITUDES!$I$2:$I$1048576)","v":0},0,{"$f":"SUMIF(SOLICITUDES!$C$2:$C$1048576,BD!C3215,SOLICITUDES!$J$2:$J$1048576)","v":0},0,{"$f":"SUMIF(SOLICITUDES!$C$2:$C$1048576,BD!C3215,SOLICITUDES!$K$2:$K$1048576)","v":0},0]
[null,null,"T22714",10,13200,240,-76.780272812209503,2.8634543301451179,5,5,2,2,{"$f":"SUMIF(SOLICITUDES!$C$2:$C$1048576,BD!C3226,SOLICITUDES!$I$2:$I$1048576)","v":0},0,{"$f":"SUMIF(SOLICITUDES!$C$2:$C$1048576,BD!C3226,SOLICITUDES!$J$2:$J$1048576)","v":0},0,{"$f":"SUMIF(SOLICITUDES!$C$2:$C$1048576,BD!C3226,SOLICITUDES!$K$2:$K$1048576)","v":0},0]
[null,null,"T29435",10,13200,240,-76.775377670619136,2.7706777375496991,5,5,2,2,{"$f":"SUMIF(SOLICITUDES!$C$2:$C$1048576,BD!C3241,SOLICITUDES!$I$2:$I$1048576)","v":0},0,{"$f":"SUMIF(SOLICITUDES!$C$2:$C$1048576,BD!C3241,SOLICITUDES!$J$2:$J$1048576)","v":0},0,{"$f":"SUMIF(SOLICITUDES!$C$2:$C$1048576,BD!C3241,SOLICITUDES!$K$2:$K$1048576)","v":0},0]
[null,null,"T10726",15,13200,240,-76.762916681024336,2.8820280695207483,7.5,7.5,3,3,{"$f":"SUMIF(SOLICITUDES!$C$2:$C$1048576,BD!C3246,SOLICITUDES!$I$2:$I$1048576)","v":0},0,{"$f":"SUMIF(SOLICITUDES!$C$2:$C$1048576,BD!C3246,SOLICITUDES!$J$2:$J$1048576)","v":0},0,{"$f":"SUMIF(SOLICITUDES!$C$2:$C$1048576,BD!C3246,SOLICITUDES!$K$2:$K$1048576)","v":0},0]
[null,null,"T21442",15,13200,240,-76.775211403321919,2.7936048471147785,7.5,7.5,3,3,{"$f":"SUMIF(SOLICITUDES!$C$2:$C$1048576,BD!C3257,SOLICITUDES!$I$2:$I$1048576)","v":0},0,{"$f":"SUMIF(SOLICITUDES!$C$2:$C$1048576,BD!C3257,SOLICITUDES!$J$2:$J$1048576)","v":0},0,{"$f":"SUMIF(SOLICITUDES!$C$2:$C$1048576,BD!C3257,SOLICITUDES!$K$2:$K$1048576)","v":0},0]
[null,null,"T19328",15,13200,240,-76.802904955189049,2.8561519932171002,7.5,7.5,3,3,{"$f":"SUMIF(SOLICITUDES!$C$2:$C$1048576,BD!C3272,SOLICITUDES!$I$2:$I$1048576)","v":0},0,{"$f":"SUMIF(SOLICITUDES!$C$2:$C$1048576,BD!C3272,SOLICITUDES!$J$2:$J$1048576)","v":0},0,{"$f":"SUMIF(SOLICITUDES!$C$2:$C$1048576,BD!C3272,SOLICITUDES!$K$2:$K$1048576)","v":0},0]
[null,null,"T22748",5,13200,240,-76.802914019462634,2.8561686082668802,2.5,2.5,1,1,{"$f":"SUMIF(SOLICITUDES!$C$2:$C$1048576,BD!C3283,SOLICITUDES!$I$2:$I$1048576)","v":0},0,{"$f":"SUMIF(SOLICITUDES!$C$2:$C$1048576,BD!C3283,SOLICITUDES!$J$2:$J$1048576)","v":0},0,{"$f":"SUMIF(SOLICITUDES!$C$2:$C$1048576,BD!C3283,SOLICITUDES!$K$2:$K$1048576)","v":0},0]
[null,null,"T22759",5,13200,240,-76.830030212785076,2.8562538716433354,2.5,2.5,1,1,{"$f":"SUMIF(SOLICITUDES!$C$2:$C$1048576,BD!C3288,SOLICITUDES!$I$2:$I$1048576)","v":0},0,{"$f":"SUMIF(SOLICITUDES!$C$2:$C$1048576,BD!C3288,SOLICITUDES!$J$2:$J$1048576)","v":0},0,{"$f":"SUMIF(SOLICITUDES!$C$2:$C$1048576,BD!C3288,SOLICITUDES!$K$2:$K$1048576)","v":0},0]
[null,null,"T22771",5,13200,240,-76.79903956068739,2.815209609265676,2.5,2.5,1,1,{"$f":"SUMIF(SOLICITUDES!$C$2:$C$1048576,BD!C3304,SOLICITUDES!$I$2:$I$1048576)","v":0},0,{"$f":"SUMIF(SOLICITUDES!$C$2:$C$1048576,BD!C3304,SOLICITUDES!$J$2:$J$1048576)","v":0},0,{"$f":"SUMIF(SOLICITUDES!$C$2:$C$1048576,BD!C3304,SOLICITUDES!$K$2:$K$1048576)","v":0},0]
[null,null,"T22772",10,13200,240,-76.793001144280609,2.8189621678363008,5,5,2,2,{"$f":"SUMIF(SOLICITUDES!$C$2:$C$1048576,BD!C3305,SOLICITUDES!$I$2:$I$1048576)","v":0},0,{"$f":"SUMIF(SOLICITUDES!$C$2:$C$1048576,BD!C3305,SOLICITUDES!$J$2:$J$1048576)","v":0},0,{"$f":"SUMIF(SOLICITUDES!$C$2:$C$1048576,BD!C3305,SOLICITUDES!$K$2:$K$1048576)","v":0},0]
[null,null,"T18995",10,13200,240,-76.800073636107101,2.7255493730949478,5,5,2,2,{"$f":"SUMIF(SOLICITUDES!$C$2:$C$1048576,BD!C3320,SOLICITUDES!$I$2:$I$1048576)","v":0},0,{"$f":"SUMIF(SOLICITUDES!$C$2:$C$1048576,BD!C3320,SOLICITUDES!$J$2:$J$1048576)","v":0},0,{"$f":"SUMIF(SOLICITUDES!$C$2:$C$1048576,BD!C3320,SOLICITUDES!$K$2:$K$1048576)","v":0},0]
[null,null,"T22929",5,13200,240,-76.790544985730378,2.8236505215743319,2.5,{"$f":"D3331*0.5-M3331","v":2.5},1,1,{"$f":"SUMIF(SOLICITUDES!$C$2:$C$1048576,BD!C3331,SOLICITUDES!$I$2:$I$1048576)","v":0},{"$f":"M3331/D3331","v":0},{"$f":"SUMIF(SOLICITUDES!$C$2:$C$1048576,BD!C3331,SOLICITUDES!$J$2:$J$1048576)","v":0},0,{"$f":"SUMIF(SOLICITUDES!$C$2:$C$1048576,BD!C3331,SOLICITUDES!$K$2:$K$1048576)","v":0},0]
[null,null,"T22762",10,13200,240,-76.827602586331196,2.8503763736277024,5,5,2,2,{"$f":"SUMIF(SOLICITUDES!$C$2:$C$1048576,BD!C3336,SOLICITUDES!$I$2:$I$1048576)","v":0},0,{"$f":"SUMIF(SOLICITUDES!$C$2:$C$1048576,BD!C3336,SOLICITUDES!$J$2:$J$1048576)","v":0},0,{"$f":"SUMIF(SOLICITUDES!$C$2:$C$1048576,BD!C3336,SOLICITUDES!$K$2:$K$1048576)","v":0},0]
[null,null,"T22781",5,13200,240,-76.855157847831663,2.8673226318789515,2.5,2.5,1,1,{"$f":"SUMIF(SOLICITUDES!$C$2:$C$1048576,BD!C3351,SOLICITUDES!$I$2:$I$1048576)","v":0},0,{"$f":"SUMIF(SOLICITUDES!$C$2:$C$1048576,BD!C3351,SOLICITUDES!$J$2:$J$1048576)","v":0},0,{"$f":"SUMIF(SOLICITUDES!$C$2:$C$1048576,BD!C3351,SOLICITUDES!$K$2:$K$1048576)","v":0},0]
[null,null,"T22844",5,13200,240,-76.859571042638223,2.8434256363192474,2.5,2.5,1,1,{"$f":"SUMIF(SOLICITUDES!$C$2:$C$1048576,BD!C3362,SOLICITUDES!$I$2:$I$1048576)","v":0},0,{"$f":"SUMIF(SOLICITUDES!$C$2:$C$1048576,BD!C3362,SOLICITUDES!$J$2:$J$1048576)","v":0},0,{"$f":"SUMIF(SOLICITUDES!$C$2:$C$1048576,BD!C3362,SOLICITUDES!$K$2:$K$1048576)","v":0},0]
[null,null,"T2448",5,13200,240,-76.61915161845414,2.7390573232036424,2.5,2.5,1,1,{"$f":"SUMIF(SOLICITUDES!$C$2:$C$1048576,BD!C3367,SOLICITUDES!$I$2:$I$1048576)","v":0},0,{"$f":"SUMIF(SOLICITUDES!$C$2:$C$1048576,BD!C3367,SOLICITUDES!$J$2:$J$1048576)","v":0},0,{"$f":"SUMIF(SOLICITUDES!$C$2:$C$1048576,BD!C3367,SOLICITUDES!$K$2:$K$1048576)","v":0},0]
[null,null,"T11094",15,13200,240,-76.609252525090142,2.7561812123086078,7.5,7.5,3,3,{"$f":"SUMIF(SOLICITUDES!$C$2:$C$1048576,BD!C3379,SOLICITUDES!$I$2:$I$1048576)","v":0},0,{"$f":"SUMIF(SOLICITUDES!$C$2:$C$1048576,BD!C3379,SOLICITUDES!$J$2:$J$1048576)","v":0},0,{"$f":"SUMIF(SOLICITUDES!$C$2:$C$1048576,BD!C3379,SOLICITUDES!$K$2:$K$1048576)","v":0},0]
[null,null,"T3698",10,13200,240,-76.595543513473814,2.7200843735243181,5,5,2,2,{"$f":"SUMIF(SOLICITUDES!$C$2:$C$1048576,BD!C3394,SOLICITUDES!$I$2:$I$1048576)","v":0},0,{"$f":"SUMIF(SOLICITUDES!$C$2:$C$1048576,BD!C3394,SOLICITUDES!$J$2:$J$1048576)","v":0},0,{"$f":"SUMIF(SOLICITUDES!$C$2:$C$1048576,BD!C3394,SOLICITUDES!$K$2:$K$1048576)","v":0},0]
[null,null,"T31617",10,13200,240,-76.59752170398184,2.7349347889378137,5,5,2,2,{"$f":"SUMIF(SOLICITUDES!$C$2:$C$1048576,BD!C3399,SOLICITUDES!$I$2:$I$1048576)","v":0},0,{"$f":"SUMIF(SOLICITUDES!$C$2:$C$1048576,BD!C3399,SOLICITUDES!$J$2:$J$1048576)","v":0},0,{"$f":"SUMIF(SOLICITUDES!$C$2:$C$1048576,BD!C3399,SOLICITUDES!$K$2:$K$1048576)","v":0},0]
[null,null,"T3256",25,13200,240,-76.629962908886625,2.7349106057481674,12.5,12.5,5,5,{"$f":"SUMIF(SOLICITUDES!$C$2:$C$1048576,BD!C3410,SOLICITUDES!$I$2:$I$1048576)","v":0},0,{"$f":"SUMIF(SOLICITUDES!$C$2:$C$1048576,BD!C3410,SOLICITUDES!$J$2:$J$1048576)","v":0},0,{"$f":"SUMIF(SOLICITUDES!$C$2:$C$1048576,BD!C3410,SOLICITUDES!$K$2:$K$1048576)","v":0},0]
[null,null,"T8138",15,13200,240,-76.581376716814887,2.7094528142177805,7.5,7.5,3,3,{"$f":"SUMIF(SOLICITUDES!$C$2:$C$1048576,BD!C3425,SOLICITUDES!$I$2:$I$1048576)","v":0},0,{"$f":"SUMIF(SOLICITUDES!$C$2:$C$1048576,BD!C3425,SOLICITUDES!$J$2:$J$1048576)","v":0},0,{"$f":"SUMIF(SOLICITUDES!$C$2:$C$1048576,BD!C3425,SOLICITUDES!$K$2:$K$1048576)","v":0},0]
[null,null,"T9193",25,13200,240,-76.604789950845941,2.7017136319663724,12.5,12.5,5,5,{"$f":"SUMIF(SOLICITUDES!$C$2:$C$1048576,BD!C3430,SOLICITUDES!$I$2:$I$1048576)","v":0},0,{"$f":"SUMIF(SOLICITUDES!$C$2:$C$1048576,BD!C3430,SOLICITUDES!$J$2:$J$1048576)","v":0},0,{"$f":"SUMIF(SOLICITUDES!$C$2:$C$1048576,BD!C3430,SOLICITUDES!$K$2:$K$1048576)","v":0},0]
[null,null,"T25121",5,13200,240,-77.303340894546338,2.3296216972992885,2.5,2.5,1,1,{"$f":"SUMIF(SOLICITUDES!$C$2:$C$1048576,BD!C3441,SOLICITUDES!$I$2:$I$1048576)","v":0},0,{"$f":"SUMIF(SOLICITUDES!$C$2:$C$1048576,BD!C3441,SOLICITUDES!$J$2:$J$1048576)","v":0},0,{"$f":"SUMIF(SOLICITUDES!$C$2:$C$1048576,BD!C3441,SOLICITUDES!$K$2:$K$1048576)","v":0},0]
[null,null,"T17223",15,13200,240,-77.22542508693013,2.3384393231826781,7.5,7.5,3,3,{"$f":"SUMIF(SOLICITUDES!$C$2:$C$1048576,BD!C3446,SOLICITUDES!$I$2:$I$1048576)","v":0},0,{"$f":"SUMIF(SOLICITUDES!$C$2:$C$1048576,BD!C3446,SOLICITUDES!$J$2:$J$1048576)","v":0},0,{"$f":"SUMIF(SOLICITUDES!$C$2:$C$1048576,BD!C3446,SOLICITUDES!$K$2:$K$1048576)","v":0},0]
[null,null,"T17215",10,13200,240,-77.221830586887748,2.3555138587778948,5,5,2,2,{"$f":"SUMIF(SOLICITUDES!$C$2:$C$1048576,BD!C3457,SOLICITUDES!$I$2:$I$1048576)","v":0},0,{"$f":"SUMIF(SOLICITUDES!$C$2:$C$1048576,BD!C3457,SOLICITUDES!$J$2:$J$1048576)","v":0},0,{"$f":"SUMIF(SOLICITUDES!$C$2:$C$1048576,BD!C3457,SOLICITUDES!$K$2:$K$1048576)","v":0},0]
[null,null,"T42036",0.5,13200,240,-77.21848028821104,2.3836211361099395,0.25,0.25,0.1,0.1,{"$f":"SUMIF(SOLICITUDES!$C$2:$C$1048576,BD!C3474,SOLICITUDES!$I$2:$I$1048576)","v":0},0,{"$f":"SUMIF(SOLICITUDES!$C$2:$C$1048576,BD!C3474,SOLICITUDES!$J$2:$J$1048576)","v":0},0,{"$f":"SUMIF(SOLICITUDES!$C$2:$C$1048576,BD!C3474,SOLICITUDES!$K$2:$K$1048576)","v":0},0]
[null,null,"T25283",5,13200,240,-77.320918390318411,2.3182207141705162,2.5,2.5,1,1,{"$f":"SUMIF(SOLICITUDES!$C$2:$C$1048576,BD!C3478,SOLICITUDES!$I$2:$I$1048576)","v":0},0,{"$f":"SUMIF(SOLICITUDES!$C$2:$C$1048576,BD!C3478,SOLICITUDES!$J$2:$J$1048576)","v":0},0,{"$f":"SUMIF(SOLICITUDES!$C$2:$C$1048576,BD!C3478,SOLICITUDES!$K$2:$K$1048576)","v":0},0]
[null,null,"T17601",15,13200,240,-77.213739725680213,2.3633463299820363,7.5,7.5,3,3,{"$f":"SUMIF(SOLICITUDES!$C$2:$C$1048576,BD!C3489,SOLICITUDES!$I$2:$I$1048576)","v":0},0,{"$f":"SUMIF(SOLICITUDES!$C$2:$C$1048576,BD!C3489,SOLICITUDES!$J$2:$J$1048576)","v":0},0,{"$f":"SUMIF(SOLICITUDES!$C$2:$C$1048576,BD!C3489,SOLICITUDES!$K$2:$K$1048576)","v":0},0]
[null,null,"T5394",10,13200,220,-76.661854794334246,2.829559705955762,5,5,2,2,{"$f":"SUMIF(SOLICITUDES!$C$2:$C$1048576,BD!C3504,SOLICITUDES!$I$2:$I$1048576)","v":0},0,{"$f":"SUMIF(SOLICITUDES!$C$2:$C$1048576,BD!C3504,SOLICITUDES!$J$2:$J$1048576)","v":0},0,{"$f":"SUMIF(SOLICITUDES!$C$2:$C$1048576,BD!C3504,SOLICITUDES!$K$2:$K$1048576)","v":0},0]
[null,null,"T4785",15,13200,240,-76.591206752634292,2.7531839659392938,7.5,7.5,3,3,{"$f":"SUMIF(SOLICITUDES!$C$2:$C$1048576,BD!C3509,SOLICITUDES!$I$2:$I$1048576)","v":0},0,{"$f":"SUMIF(SOLICITUDES!$C$2:$C$1048576,BD!C3509,SOLICITUDES!$J$2:$J$1048576)","v":0},0,{"$f":"SUMIF(SOLICITUDES!$C$2:$C$1048576,BD!C3509,SOLICITUDES!$K$2:$K$1048576)","v":0},0]
[null,null,"T5361",10,13200,240,-76.665305123936591,2.8388844861237099,5,5,2,2,{"$f":"SUMIF(SOLICITUDES!$C$2:$C$1048576,BD!C3520,SOLICITUDES!$I$2:$I$1048576)","v":0},0,{"$f":"SUMIF(SOLICITUDES!$C$2:$C$1048576,BD!C3520,SOLICITUDES!$J$2:$J$1048576)","v":0},0,{"$f":"SUMIF(SOLICITUDES!$C$2:$C$1048576,BD!C3520,SOLICITUDES!$K$2:$K$1048576)","v":0},0]
[null,null,"T5381",25,13200,240,-76.653192563137821,2.8328211413419302,12.5,12.5,5,5,{"$f":"SUMIF(SOLICITUDES!$C$2:$C$1048576,BD!C3535,SOLICITUDES!$I$2:$I$1048576)","v":0},0,{"$f":"SUMIF(SOLICITUDES!$C$2:$C$1048576,BD!C3535,SOLICITUDES!$J$2:$J$1048576)","v":0},0,{"$f":"SUMIF(SOLICITUDES!$C$2:$C$1048576,BD!C3535,SOLICITUDES!$K$2:$K$1048576)","v":0},0]
[null,null,"T4977",15,13200,240,-76.686232779066245,2.8156688512615329,7.5,7.5,3,3,{"$f":"SUMIF(SOLICITUDES!$C$2:$C$1048576,BD!C3546,SOLICITUDES!$I$2:$I$1048576)","v":0},0,{"$f":"SUMIF(SOLICITUDES!$C$2:$C$1048576,BD!C3546,SOLICITUDES!$J$2:$J$1048576)","v":0},0,{"$f":"SUMIF(SOLICITUDES!$C$2:$C$1048576,BD!C3546,SOLICITUDES!$K$2:$K$1048576)","v":0},0]
[null,null,"T5357",15,13200,240,-76.657321194961526,2.8561722443953137,7.5,7.5,3,3,{"$f":"SUMIF(SOLICITUDES!$C$2:$C$1048576,BD!C3551,SOLICITUDES!$I$2:$I$1048576)","v":0},0,{"$f":"SUMIF(SOLICITUDES!$C$2:$C$1048576,BD!C3551,SOLICITUDES!$J$2:$J$1048576)","v":0},0,{"$f":"SUMIF(SOLICITUDES!$C$2:$C$1048576,BD!C3551,SOLICITUDES!$K$2:$K$1048576)","v":0},0]
[null,null,"T5798",5,13200,220,-76.650052152132901,2.8612608597434122,2.5,2.5,1,1,{"$f":"SUMIF(SOLICITUDES!$C$2:$C$1048576,BD!C3565,SOLICITUDES!$I$2:$I$1048576)","v":0},0,{"$f":"SUMIF(SOLICITUDES!$C$2:$C$1048576,BD!C3565,SOLICITUDES!$J$2:$J$1048576)","v":0},0,{"$f":"SUMIF(SOLICITUDES!$C$2:$C$1048576,BD!C3565,SOLICITUDES!$K$2:$K$1048576)","v":0},0]
[null,null,"T5790",10,13200,240,-76.645747384589228,2.8760720400438884,5,5,2,2,{"$f":"SUMIF(SOLICITUDES!$C$2:$C$1048576,BD!C3568,SOLICITUDES!$I$2:$I$1048576)","v":0},0,{"$f":"SUMIF(SOLICITUDES!$C$2:$C$1048576,BD!C3568,SOLICITUDES!$J$2:$J$1048576)","v":0},0,{"$f":"SUMIF(SOLICITUDES!$C$2:$C$1048576,BD!C3568,SOLICITUDES!$K$2:$K$1048576)","v":0},0]
[null,null,"T13867",5,13200,240,-77.147835992396594,1.7049929011965252,2.5,2.5,1,1,{"$f":"SUMIF(SOLICITUDES!$C$2:$C$1048576,BD!C3583,SOLICITUDES!$I$2:$I$1048576)","v":0},0,{"$f":"SUMIF(SOLICITUDES!$C$2:$C$1048576,BD!C3583,SOLICITUDES!$J$2:$J$1048576)","v":0},0,{"$f":"SUMIF(SOLICITUDES!$C$2:$C$1048576,BD!C3583,SOLICITUDES!$K$2:$K$1048576)","v":0},0]
[null,null,"T15103",15,13200,240,-77.198490295006607,1.7314384438072472,{"$f":"D3588*0.5","v":7.5},7.5,{"$f":"0.2*D3588","v":3},{"$f":"0.2*D3588","v":3},{"$f":"SUMIF(SOLICITUDES!$C$2:$C$1048576,BD!C3588,SOLICITUDES!$I$2:$I$1048576)","v":0},0,{"$f":"SUMIF(SOLICITUDES!$C$2:$C$1048576,BD!C3588,SOLICITUDES!$J$2:$J$1048576)","v":0},{"$f":"O3588/(2*K3588)","v":0},{"$f":"SUMIF(SOLICITUDES!$C$2:$C$1048576,BD!C3588,SOLICITUDES!$K$2:$K$1048576)","v":0},{"$f":"Q3588/(2*L3588)","v":0}]
[null,null,"T2458",5,13200,240,-77.18076359193995,1.8243261569063411,2.5,2.5,1,1,{"$f":"SUMIF(SOLICITUDES!$C$2:$C$1048576,BD!C3599,SOLICITUDES!$I$2:$I$1048576)","v":0},0,{"$f":"SUMIF(SOLICITUDES!$C$2:$C$1048576,BD!C3599,SOLICITUDES!$J$2:$J$1048576)","v":0},0,{"$f":"SUMIF(SOLICITUDES!$C$2:$C$1048576,BD!C3599,SOLICITUDES!$K$2:$K$1048576)","v":0},0]
[null,null,"T10740",15,13200,240,-77.073532498855073,1.7980752048962023,7.5,7.5,3,3,{"$f":"SUMIF(SOLICITUDES!$C$2:$C$1048576,BD!C3614,SOLICITUDES!$I$2:$I$1048576)","v":0},0,{"$f":"SUMIF(SOLICITUDES!$C$2:$C$1048576,BD!C3614,SOLICITUDES!$J$2:$J$1048576)","v":0},0,{"$f":"SUMIF(SOLICITUDES!$C$2:$C$1048576,BD!C3614,SOLICITUDES!$K$2:$K$1048576)","v":0},0]
[null,null,"T17791",25,13200,240,-77.060608298560652,1.7429817206185265,12.5,12.5,5,5,{"$f":"SUMIF(SOLICITUDES!$C$2:$C$1048576,BD!C3625,SOLICITUDES!$I$2:$I$1048576)","v":0},0,{"$f":"SUMIF(SOLICITUDES!$C$2:$C$1048576,BD!C3625,SOLICITUDES!$J$2:$J$1048576)","v":0},0,{"$f":"SUMIF(SOLICITUDES!$C$2:$C$1048576,BD!C3625,SOLICITUDES!$K$2:$K$1048576)","v":0},0]
[null,null,"T30765",0.5,13200,240,-77.104195969863952,1.6932870780258567,0.25,0.25,0.1,0.1,{"$f":"SUMIF(SOLICITUDES!$C$2:$C$1048576,BD!C3630,SOLICITUDES!$I$2:$I$1048576)","v":0},0,{"$f":"SUMIF(SOLICITUDES!$C$2:$C$1048576,BD!C3630,SOLICITUDES!$J$2:$J$1048576)","v":0},0,{"$f":"SUMIF(SOLICITUDES!$C$2:$C$1048576,BD!C3630,SOLICITUDES!$K$2:$K$1048576)","v":0},0]
[null,null,"T17520",15,13200,240,-77.125054866988478,1.692744084808238,7.5,7.5,3,3,{"$f":"SUMIF(SOLICITUDES!$C$2:$C$1048576,BD!C3645,SOLICITUDES!$I$2:$I$1048576)","v":0},0,{"$f":"SUMIF(SOLICITUDES!$C$2:$C$1048576,BD!C3645,SOLICITUDES!$J$2:$J$1048576)","v":0},0,{"$f":"SUMIF(SOLICITUDES!$C$2:$C$1048576,BD!C3645,SOLICITUDES!$K$2:$K$1048576)","v":0},0]
[null,null,"T15850",25,13200,240,-77.087623829183968,1.6751637897747889,12.5,12.5,5,5,{"$f":"SUMIF(SOLICITUDES!$C$2:$C$1048576,BD!C3649,SOLICITUDES!$I$2:$I$1048576)","v":0},0,{"$f":"SUMIF(SOLICITUDES!$C$2:$C$1048576,BD!C3649,SOLICITUDES!$J$2:$J$1048576)","v":0},0,{"$f":"SUMIF(SOLICITUDES!$C$2:$C$1048576,BD!C3649,SOLICITUDES!$K$2:$K$1048576)","v":0},0]
[null,null,"T17170",15,13200,240,-77.093276827231449,1.7094209673449308,7.5,7.5,3,3,{"$f":"SUMIF(SOLICITUDES!$C$2:$C$1048576,BD!C3662,SOLICITUDES!$I$2:$I$1048576)","v":0},0,{"$f":"SUMIF(SOLICITUDES!$C$2:$C$1048576,BD!C3662,SOLICITUDES!$J$2:$J$1048576)","v":0},0,{"$f":"SUMIF(SOLICITUDES!$C$2:$C$1048576,BD!C3662,SOLICITUDES!$K$2:$K$1048576)","v":0},0]
[null,null,"T15840",15,13200,240,-77.098533952156771,1.6731741212348787,7.5,7.5,3,3,{"$f":"SUMIF(SOLICITUDES!$C$2:$C$1048576,BD!C3673,SOLICITUDES!$I$2:$I$1048576)","v":0},0,{"$f":"SUMIF(SOLICITUDES!$C$2:$C$1048576,BD!C3673,SOLICITUDES!$J$2:$J$1048576)","v":0},0,{"$f":"SUMIF(SOLICITUDES!$C$2:$C$1048576,BD!C3673,SOLICITUDES!$K$2:$K$1048576)","v":0},0]
[null,null,"T17167",37.5,13200,240,-77.062037491981897,1.721873952547686,18.75,18.75,7.5,7.5,{"$f":"SUMIF(SOLICITUDES!$C$2:$C$1048576,BD!C3688,SOLICITUDES!$I$2:$I$1048576)","v":0},0,{"$f":"SUMIF(SOLICITUDES!$C$2:$C$1048576,BD!C3688,SOLICITUDES!$J$2:$J$1048576)","v":0},0,{"$f":"SUMIF(SOLICITUDES!$C$2:$C$1048576,BD!C3688,SOLICITUDES!$K$2:$K$1048576)","v":0},0]
[null,null,"T44921",0.5,13200,240,-77.055630907978212,1.7299597605897963,0.25,0.25,0.1,0.1,{"$f":"SUMIF(SOLICITUDES!$C$2:$C$1048576,BD!C3693,SOLICITUDES!$I$2:$I$1048576)","v":0},0,{"$f":"SUMIF(SOLICITUDES!$C$2:$C$1048576,BD!C3693,SOLICITUDES!$J$2:$J$1048576)","v":0},0,{"$f":"SUMIF(SOLICITUDES!$C$2:$C$1048576,BD!C3693,SOLICITUDES!$K$2:$K$1048576)","v":0},0]
[null,null,"T30664",0.5,13200,240,-76.229676185128881,3.250536712213993,0.25,0.25,0.1,0.1,{"$f":"SUMIF(SOLICITUDES!$C$2:$C$1048576,BD!C3704,SOLICITUDES!$I$2:$I$1048576)","v":0},0,{"$f":"SUMIF(SOLICITUDES!$C$2:$C$1048576,BD!C3704,SOLICITUDES!$J$2:$J$1048576)","v":0},0,{"$f":"SUMIF(SOLICITUDES!$C$2:$C$1048576,BD!C3704,SOLICITUDES!$K$2:$K$1048576)","v":0},0]
[null,null,"T11366",45,13200,208,-76.228247497595973,3.2484556800200859,22.5,22.5,9,9,{"$f":"SUMIF(SOLICITUDES!$C$2:$C$1048576,BD!C3709,SOLICITUDES!$I$2:$I$1048576)","v":0},0,{"$f":"SUMIF(SOLICITUDES!$C$2:$C$1048576,BD!C3709,SOLICITUDES!$J$2:$J$1048576)","v":0},0,{"$f":"SUMIF(SOLICITUDES!$C$2:$C$1048576,BD!C3709,SOLICITUDES!$K$2:$K$1048576)","v":0},0]
[null,null,"T11341",112.5,13200,208,-76.226652987655868,3.2508662050543706,56.25,56.25,22.5,22.5,{"$f":"SUMIF(SOLICITUDES!$C$2:$C$1048576,BD!C3724,SOLICITUDES!$I$2:$I$1048576)","v":0},0,{"$f":"SUMIF(SOLICITUDES!$C$2:$C$1048576,BD!C3724,SOLICITUDES!$J$2:$J$1048576)","v":0},0,{"$f":"SUMIF(SOLICITUDES!$C$2:$C$1048576,BD!C3724,SOLICITUDES!$K$2:$K$1048576)","v":0},0]
[null,null,"T11379",30,13200,208,-76.231664495524356,3.2505112133155682,15,15,6,6,{"$f":"SUMIF(SOLICITUDES!$C$2:$C$1048576,BD!C3735,SOLICITUDES!$I$2:$I$1048576)","v":0},0,{"$f":"SUMIF(SOLICITUDES!$C$2:$C$1048576,BD!C3735,SOLICITUDES!$J$2:$J$1048576)","v":0},0,{"$f":"SUMIF(SOLICITUDES!$C$2:$C$1048576,BD!C3735,SOLICITUDES!$K$2:$K$1048576)","v":0},0]
[null,null,"T40308",30,13200,208,-76.234174646045844,3.2427134459921252,15,15,6,6,{"$f":"SUMIF(SOLICITUDES!$C$2:$C$1048576,BD!C3740,SOLICITUDES!$I$2:$I$1048576)","v":0},0,{"$f":"SUMIF(SOLICITUDES!$C$2:$C$1048576,BD!C3740,SOLICITUDES!$J$2:$J$1048576)","v":0},0,{"$f":"SUMIF(SOLICITUDES!$C$2:$C$1048576,BD!C3740,SOLICITUDES!$K$2:$K$1048576)","v":0},0]
[null,null,"T11340",15,13200,240,-76.225850232834162,3.2533908522043866,7.5,7.5,3,3,{"$f":"SUMIF(SOLICITUDES!$C$2:$C$1048576,BD!C3752,SOLICITUDES!$I$2:$I$1048576)","v":0},0,{"$f":"SUMIF(SOLICITUDES!$C$2:$C$1048576,BD!C3752,SOLICITUDES!$J$2:$J$1048576)","v":0},0,{"$f":"SUMIF(SOLICITUDES!$C$2:$C$1048576,BD!C3752,SOLICITUDES!$K$2:$K$1048576)","v":0},0]
[null,null,"T11374",112.5,13200,208,-76.237171420096914,3.2492227865447663,56.25,56.25,22.5,22.5,{"$f":"SUMIF(SOLICITUDES!$C$2:$C$1048576,BD!C3767,SOLICITUDES!$I$2:$I$1048576)","v":0},0,{"$f":"SUMIF(SOLICITUDES!$C$2:$C$1048576,BD!C3767,SOLICITUDES!$J$2:$J$1048576)","v":0},0,{"$f":"SUMIF(SOLICITUDES!$C$2:$C$1048576,BD!C3767,SOLICITUDES!$K$2:$K$1048576)","v":0},0]
[null,null,"T13205",15,13200,240,-76.233476562376964,3.2675214970233672,7.5,7.5,3,3,{"$f":"SUMIF(SOLICITUDES!$C$2:$C$1048576,BD!C3772,SOLICITUDES!$I$2:$I$1048576)","v":0},0,{"$f":"SUMIF(SOLICITUDES!$C$2:$C$1048576,BD!C3772,SOLICITUDES!$J$2:$J$1048576)","v":0},0,{"$f":"SUMIF(SOLICITUDES!$C$2:$C$1048576,BD!C3772,SOLICITUDES!$K$2:$K$1048576)","v":0},0]
[null,null,"T13214",30,13200,214,-76.216964326270258,3.2608070548569028,15,15,6,6,{"$f":"SUMIF(SOLICITUDES!$C$2:$C$1048576,BD!C3783,SOLICITUDES!$I$2:$I$1048576)","v":0},0,{"$f":"SUMIF(SOLICITUDES!$C$2:$C$1048576,BD!C3783,SOLICITUDES!$J$2:$J$1048576)","v":0},0,{"$f":"SUMIF(SOLICITUDES!$C$2:$C$1048576,BD!C3783,SOLICITUDES!$K$2:$K$1048576)","v":0},0]
[null,null,"T11104",112.5,13200,208,-76.230904775059727,3.2337098387539713,56.25,56.25,22.5,22.5,{"$f":"SUMIF(SOLICITUDES!$C$2:$C$1048576,BD!C3798,SOLICITUDES!$I$2:$I$1048576)","v":0},0,{"$f":"SUMIF(SOLICITUDES!$C$2:$C$1048576,BD!C3798,SOLICITUDES!$J$2:$J$1048576)","v":0},0,{"$f":"SUMIF(SOLICITUDES!$C$2:$C$1048576,BD!C3798,SOLICITUDES!$K$2:$K$1048576)","v":0},0]
[null,null,"T11116",37.5,13200,240,-76.228776048417885,3.229611832153084,18.75,18.75,7.5,7.5,{"$f":"SUMIF(SOLICITUDES!$C$2:$C$1048576,BD!C3803,SOLICITUDES!$I$2:$I$1048576)","v":0},0,{"$f":"SUMIF(SOLICITUDES!$C$2:$C$1048576,BD!C3803,SOLICITUDES!$J$2:$J$1048576)","v":0},0,{"$f":"SUMIF(SOLICITUDES!$C$2:$C$1048576,BD!C3803,SOLICITUDES!$K$2:$K$1048576)","v":0},0]
[null,null,"T22526",25,13200,240,-76.195045139646737,3.2014975929236424,12.5,12.5,5,5,{"$f":"SUMIF(SOLICITUDES!$C$2:$C$1048576,BD!C3814,SOLICITUDES!$I$2:$I$1048576)","v":0},0,{"$f":"SUMIF(SOLICITUDES!$C$2:$C$1048576,BD!C3814,SOLICITUDES!$J$2:$J$1048576)","v":0},0,{"$f":"SUMIF(SOLICITUDES!$C$2:$C$1048576,BD!C3814,SOLICITUDES!$K$2:$K$1048576)","v":0},0]
[null,null,"T19406",15,13200,240,-76.208995435329044,3.1794535868434664,7.5,7.5,3,3,{"$f":"SUMIF(SOLICITUDES!$C$2:$C$1048576,BD!C3829,SOLICITUDES!$I$2:$I$1048576)","v":0},0,{"$f":"SUMIF(SOLICITUDES!$C$2:$C$1048576,BD!C3829,SOLICITUDES!$J$2:$J$1048576)","v":0},0,{"$f":"SUMIF(SOLICITUDES!$C$2:$C$1048576,BD!C3829,SOLICITUDES!$K$2:$K$1048576)","v":0},0]
[null,null,"T22521",25,13200,240,-76.201968730012069,3.2064825944016944,12.5,12.5,5,5,{"$f":"SUMIF(SOLICITUDES!$C$2:$C$1048576,BD!C3835,SOLICITUDES!$I$2:$I$1048576)","v":0},0,{"$f":"SUMIF(SOLICITUDES!$C$2:$C$1048576,BD!C3835,SOLICITUDES!$J$2:$J$1048576)","v":0},0,{"$f":"SUMIF(SOLICITUDES!$C$2:$C$1048576,BD!C3835,SOLICITUDES!$K$2:$K$1048576)","v":0},0]
[null,null,"T21402",37.5,13200,240,-76.204942500117113,3.1854519112790398,18.75,18.75,7.5,7.5,{"$f":"SUMIF(SOLICITUDES!$C$2:$C$1048576,BD!C3846,SOLICITUDES!$I$2:$I$1048576)","v":0},0,{"$f":"SUMIF(SOLICITUDES!$C$2:$C$1048576,BD!C3846,SOLICITUDES!$J$2:$J$1048576)","v":0},0,{"$f":"SUMIF(SOLICITUDES!$C$2:$C$1048576,BD!C3846,SOLICITUDES!$K$2:$K$1048576)","v":0},0]
[null,null,"T27546",15,13200,240,-76.209250335616545,3.2029533880439534,7.5,7.5,3,3,{"$f":"SUMIF(SOLICITUDES!$C$2:$C$1048576,BD!C3851,SOLICITUDES!$I$2:$I$1048576)","v":0},0,{"$f":"SUMIF(SOLICITUDES!$C$2:$C$1048576,BD!C3851,SOLICITUDES!$J$2:$J$1048576)","v":0},0,{"$f":"SUMIF(SOLICITUDES!$C$2:$C$1048576,BD!C3851,SOLICITUDES!$K$2:$K$1048576)","v":0},0]
[null,null,"T31141",5,13200,240,-76.171622381345372,3.2181845916276868,2.5,2.5,1,1,{"$f":"SUMIF(SOLICITUDES!$C$2:$C$1048576,BD!C3862,SOLICITUDES!$I$2:$I$1048576)","v":0},0,{"$f":"SUMIF(SOLICITUDES!$C$2:$C$1048576,BD!C3862,SOLICITUDES!$J$2:$J$1048576)","v":0},0,{"$f":"SUMIF(SOLICITUDES!$C$2:$C$1048576,BD!C3862,SOLICITUDES!$K$2:$K$1048576)","v":0},0]
[null,null,"26TR2",30,13200,240,-76.232962684105559,3.2487868617765514,15,15,6,6,{"$f":"SUMIF(SOLICITUDES!$C$2:$C$1048576,BD!C3877,SOLICITUDES!$I$2:$I$1048576)","v":0},0,{"$f":"SUMIF(SOLICITUDES!$C$2:$C$1048576,BD!C3877,SOLICITUDES!$J$2:$J$1048576)","v":0},0,{"$f":"SUMIF(SOLICITUDES!$C$2:$C$1048576,BD!C3877,SOLICITUDES!$K$2:$K$1048576)","v":0},0]
[null,null,"T9831",15,13200,240,-76.776867264210196,2.1706761999904991,7.5,7.5,3,3,{"$f":"SUMIF(SOLICITUDES!$C$2:$C$1048576,BD!C3888,SOLICITUDES!$I$2:$I$1048576)","v":0},0,{"$f":"SUMIF(SOLICITUDES!$C$2:$C$1048576,BD!C3888,SOLICITUDES!$J$2:$J$1048576)","v":0},0,{"$f":"SUMIF(SOLICITUDES!$C$2:$C$1048576,BD!C3888,SOLICITUDES!$K$2:$K$1048576)","v":0},0]
[null,null,"T9844",15,13200,240,-76.768204320394943,2.157064070629171,7.5,7.5,3,3,{"$f":"SUMIF(SOLICITUDES!$C$2:$C$1048576,BD!C3893,SOLICITUDES!$I$2:$I$1048576)","v":0},0,{"$f":"SUMIF(SOLICITUDES!$C$2:$C$1048576,BD!C3893,SOLICITUDES!$J$2:$J$1048576)","v":0},0,{"$f":"SUMIF(SOLICITUDES!$C$2:$C$1048576,BD!C3893,SOLICITUDES!$K$2:$K$1048576)","v":0},0]
[null,null,"T25824",5,13200,240,-76.772044028511417,2.1405947315535654,{"$f":"D3908*0.5","v":2.5},2.5,{"$f":"0.2*D3908","v":1},{"$f":"0.2*D3908","v":1},{"$f":"SUMIF(SOLICITUDES!$C$2:$C$1048576,BD!C3908,SOLICITUDES!$I$2:$I$1048576)","v":0},0,{"$f":"SUMIF(SOLICITUDES!$C$2:$C$1048576,BD!C3908,SOLICITUDES!$J$2:$J$1048576)","v":0},{"$f":"O3908/(2*K3908)","v":0},{"$f":"SUMIF(SOLICITUDES!$C$2:$C$1048576,BD!C3908,SOLICITUDES!$K$2:$K$1048576)","v":0},{"$f":"Q3908/(2*L3908)","v":0}]
[null,null,"T4459",15,13200,240,-76.657527604804017,2.3984867950587656,7.5,7.5,3,3,{"$f":"SUMIF(SOLICITUDES!$C$2:$C$1048576,BD!C3919,SOLICITUDES!$I$2:$I$1048576)","v":0},0,{"$f":"SUMIF(SOLICITUDES!$C$2:$C$1048576,BD!C3919,SOLICITUDES!$J$2:$J$1048576)","v":0},0,{"$f":"SUMIF(SOLICITUDES!$C$2:$C$1048576,BD!C3919,SOLICITUDES!$K$2:$K$1048576)","v":0},0]
[null,null,"T4434",15,13200,240,-76.666151839886339,2.4060159471938558,7.5,7.5,3,3,{"$f":"SUMIF(SOLICITUDES!$C$2:$C$1048576,BD!C3926,SOLICITUDES!$I$2:$I$1048576)","v":0},0,{"$f":"SUMIF(SOLICITUDES!$C$2:$C$1048576,BD!C3926,SOLICITUDES!$J$2:$J$1048576)","v":0},0,{"$f":"SUMIF(SOLICITUDES!$C$2:$C$1048576,BD!C3926,SOLICITUDES!$K$2:$K$1048576)","v":0},0]
[null,null,"T5896",50,13200,240,-76.674724663290533,2.412569904743195,25,25,10,10,{"$f":"SUMIF(SOLICITUDES!$C$2:$C$1048576,BD!C3940,SOLICITUDES!$I$2:$I$1048576)","v":0},0,{"$f":"SUMIF(SOLICITUDES!$C$2:$C$1048576,BD!C3940,SOLICITUDES!$J$2:$J$1048576)","v":0},0,{"$f":"SUMIF(SOLICITUDES!$C$2:$C$1048576,BD!C3940,SOLICITUDES!$K$2:$K$1048576)","v":0},0]
[null,null,"T5953",15,13200,240,-76.680415449669411,2.4140094965223415,7.5,7.5,3,3,{"$f":"SUMIF(SOLICITUDES!$C$2:$C$1048576,BD!C3951,SOLICITUDES!$I$2:$I$1048576)","v":0},0,{"$f":"SUMIF(SOLICITUDES!$C$2:$C$1048576,BD!C3951,SOLICITUDES!$J$2:$J$1048576)","v":0},0,{"$f":"SUMIF(SOLICITUDES!$C$2:$C$1048576,BD!C3951,SOLICITUDES!$K$2:$K$1048576)","v":0},0]
[null,null,"T5943",25,13200,208,-76.685997845041129,2.417085833655364,12.5,12.5,5,5,{"$f":"SUMIF(SOLICITUDES!$C$2:$C$1048576,BD!C3956,SOLICITUDES!$I$2:$I$1048576)","v":0},0,{"$f":"SUMIF(SOLICITUDES!$C$2:$C$1048576,BD!C3956,SOLICITUDES!$J$2:$J$1048576)","v":0},0,{"$f":"SUMIF(SOLICITUDES!$C$2:$C$1048576,BD!C3956,SOLICITUDES!$K$2:$K$1048576)","v":0},0]
[null,null,"T5928",15,13200,240,-76.67362316965955,2.4277623236685968,7.5,7.5,3,3,{"$f":"SUMIF(SOLICITUDES!$C$2:$C$1048576,BD!C3967,SOLICITUDES!$I$2:$I$1048576)","v":0},0,{"$f":"SUMIF(SOLICITUDES!$C$2:$C$1048576,BD!C3967,SOLICITUDES!$J$2:$J$1048576)","v":0},0,{"$f":"SUMIF(SOLICITUDES!$C$2:$C$1048576,BD!C3967,SOLICITUDES!$K$2:$K$1048576)","v":0},0]
[null,null,"T4728",25,13200,240,-76.694593792293389,2.6570163603316406,{"$f":"D3972*0.5","v":12.5},12.5,{"$f":"0.2*D3972","v":5},{"$f":"0.2*D3972","v":5},{"$f":"SUMIF(SOLICITUDES!$C$2:$C$1048576,BD!C3972,SOLICITUDES!$I$2:$I$1048576)","v":0},0,{"$f":"SUMIF(SOLICITUDES!$C$2:$C$1048576,BD!C3972,SOLICITUDES!$J$2:$J$1048576)","v":0},{"$f":"O3972/(2*K3972)","v":0},{"$f":"SUMIF(SOLICITUDES!$C$2:$C$1048576,BD!C3972,SOLICITUDES!$K$2:$K$1048576)","v":0},{"$f":"Q3972/(2*L3972)","v":0}]
[null,null,"T25808",5,13200,240,-76.819578890461329,2.0738766027401168,2.5,2.5,1,1,{"$f":"SUMIF(SOLICITUDES!$C$2:$C$1048576,BD!C3987,SOLICITUDES!$I$2:$I$1048576)","v":0},0,{"$f":"SUMIF(SOLICITUDES!$C$2:$C$1048576,BD!C3987,SOLICITUDES!$J$2:$J$1048576)","v":0},0,{"$f":"SUMIF(SOLICITUDES!$C$2:$C$1048576,BD!C3987,SOLICITUDES!$K$2:$K$1048576)","v":0},0]
[null,null,"T13521",15,13200,240,-76.833183078160431,2.134530751843366,7.5,7.5,3,3,{"$f":"SUMIF(SOLICITUDES!$C$2:$C$1048576,BD!C3998,SOLICITUDES!$I$2:$I$1048576)","v":0},0,{"$f":"SUMIF(SOLICITUDES!$C$2:$C$1048576,BD!C3998,SOLICITUDES!$J$2:$J$1048576)","v":0},0,{"$f":"SUMIF(SOLICITUDES!$C$2:$C$1048576,BD!C3998,SOLICITUDES!$K$2:$K$1048576)","v":0},0]
[null,null,"T25829",5,13200,240,-76.818617675370916,2.0585233457836423,2.5,2.5,1,1,{"$f":"SUMIF(SOLICITUDES!$C$2:$C$1048576,BD!C4003,SOLICITUDES!$I$2:$I$1048576)","v":0},0,{"$f":"SUMIF(SOLICITUDES!$C$2:$C$1048576,BD!C4003,SOLICITUDES!$J$2:$J$1048576)","v":0},0,{"$f":"SUMIF(SOLICITUDES!$C$2:$C$1048576,BD!C4003,SOLICITUDES!$K$2:$K$1048576)","v":0},0]
[null,null,"T14251",10,13200,240,-76.799042555885151,2.0297563789287456,5,5,2,2,{"$f":"SUMIF(SOLICITUDES!$C$2:$C$1048576,BD!C4021,SOLICITUDES!$I$2:$I$1048576)","v":0},0,{"$f":"SUMIF(SOLICITUDES!$C$2:$C$1048576,BD!C4021,SOLICITUDES!$J$2:$J$1048576)","v":0},0,{"$f":"SUMIF(SOLICITUDES!$C$2:$C$1048576,BD!C4021,SOLICITUDES!$K$2:$K$1048576)","v":0},0]
[null,null,"T16386",10,13200,240,-76.828133371461774,2.0494193857960075,5,5,2,2,{"$f":"SUMIF(SOLICITUDES!$C$2:$C$1048576,BD!C4030,SOLICITUDES!$I$2:$I$1048576)","v":0},0,{"$f":"SUMIF(SOLICITUDES!$C$2:$C$1048576,BD!C4030,SOLICITUDES!$J$2:$J$1048576)","v":0},0,{"$f":"SUMIF(SOLICITUDES!$C$2:$C$1048576,BD!C4030,SOLICITUDES!$K$2:$K$1048576)","v":0},0]
[null,null,"T30236",5,13200,240,-76.861049342175747,2.0697145750341619,2.5,{"$f":"D4035*0.5-M4035","v":2.5},1,1,{"$f":"SUMIF(SOLICITUDES!$C$2:$C$1048576,BD!C4035,SOLICITUDES!$I$2:$I$1048576)","v":0},{"$f":"M4035/D4035","v":0},{"$f":"SUMIF(SOLICITUDES!$C$2:$C$1048576,BD!C4035,SOLICITUDES!$J$2:$J$1048576)","v":0},0,{"$f":"SUMIF(SOLICITUDES!$C$2:$C$1048576,BD!C4035,SOLICITUDES!$K$2:$K$1048576)","v":0},0]
[null,null,"T18235",25,13200,240,-76.765579101905317,2.1939278514136569,12.5,12.5,5,5,{"$f":"SUMIF(SOLICITUDES!$C$2:$C$1048576,BD!C4046,SOLICITUDES!$I$2:$I$1048576)","v":0},0,{"$f":"SUMIF(SOLICITUDES!$C$2:$C$1048576,BD!C4046,SOLICITUDES!$J$2:$J$1048576)","v":0},0,{"$f":"SUMIF(SOLICITUDES!$C$2:$C$1048576,BD!C4046,SOLICITUDES!$K$2:$K$1048576)","v":0},0]
[null,null,"T7839",45,13200,208,-76.763525346327285,2.1783061083726425,22.5,22.5,9,9,{"$f":"SUMIF(SOLICITUDES!$C$2:$C$1048576,BD!C4061,SOLICITUDES!$I$2:$I$1048576)","v":0},0,{"$f":"SUMIF(SOLICITUDES!$C$2:$C$1048576,BD!C4061,SOLICITUDES!$J$2:$J$1048576)","v":0},0,{"$f":"SUMIF(SOLICITUDES!$C$2:$C$1048576,BD!C4061,SOLICITUDES!$K$2:$K$1048576)","v":0},0]
[null,null,"T7826",15,13200,240,-76.778877551547097,2.1876240188981937,7.5,7.5,3,3,{"$f":"SUMIF(SOLICITUDES!$C$2:$C$1048576,BD!C4066,SOLICITUDES!$I$2:$I$1048576)","v":0},0,{"$f":"SUMIF(SOLICITUDES!$C$2:$C$1048576,BD!C4066,SOLICITUDES!$J$2:$J$1048576)","v":0},0,{"$f":"SUMIF(SOLICITUDES!$C$2:$C$1048576,BD!C4066,SOLICITUDES!$K$2:$K$1048576)","v":0},0]
[null,null,"T9259",15,13200,240,-76.784091270676413,2.2256387169752294,7.5,7.5,3,3,{"$f":"SUMIF(SOLICITUDES!$C$2:$C$1048576,BD!C4077,SOLICITUDES!$I$2:$I$1048576)","v":0},0,{"$f":"SUMIF(SOLICITUDES!$C$2:$C$1048576,BD!C4077,SOLICITUDES!$J$2:$J$1048576)","v":0},0,{"$f":"SUMIF(SOLICITUDES!$C$2:$C$1048576,BD!C4077,SOLICITUDES!$K$2:$K$1048576)","v":0},0]
[null,null,"T9241",15,13200,240,-76.793622552849669,2.2231315389582966,7.5,7.5,3,3,{"$f":"SUMIF(SOLICITUDES!$C$2:$C$1048576,BD!C4092,SOLICITUDES!$I$2:$I$1048576)","v":0},0,{"$f":"SUMIF(SOLICITUDES!$C$2:$C$1048576,BD!C4092,SOLICITUDES!$J$2:$J$1048576)","v":0},0,{"$f":"SUMIF(SOLICITUDES!$C$2:$C$1048576,BD!C4092,SOLICITUDES!$K$2:$K$1048576)","v":0},0]
[null,null,"T7813",15,13200,240,-76.823846955727902,2.1846915102224407,7.5,7.5,3,3,{"$f":"SUMIF(SOLICITUDES!$C$2:$C$1048576,BD!C4093,SOLICITUDES!$I$2:$I$1048576)","v":0},0,{"$f":"SUMIF(SOLICITUDES!$C$2:$C$1048576,BD!C4093,SOLICITUDES!$J$2:$J$1048576)","v":0},0,{"$f":"SUMIF(SOLICITUDES!$C$2:$C$1048576,BD!C4093,SOLICITUDES!$K$2:$K$1048576)","v":0},0]
[null,null,"T7811",10,13200,240,-76.835829277617847,2.16964702036646,5,5,2,2,{"$f":"SUMIF(SOLICITUDES!$C$2:$C$1048576,BD!C4108,SOLICITUDES!$I$2:$I$1048576)","v":0},0,{"$f":"SUMIF(SOLICITUDES!$C$2:$C$1048576,BD!C4108,SOLICITUDES!$J$2:$J$1048576)","v":0},0,{"$f":"SUMIF(SOLICITUDES!$C$2:$C$1048576,BD!C4108,SOLICITUDES!$K$2:$K$1048576)","v":0},0]
[null,null,"T9269",10,13200,240,-76.796212855370072,2.2474266223701713,5,5,2,2,{"$f":"SUMIF(SOLICITUDES!$C$2:$C$1048576,BD!C4117,SOLICITUDES!$I$2:$I$1048576)","v":0},0,{"$f":"SUMIF(SOLICITUDES!$C$2:$C$1048576,BD!C4117,SOLICITUDES!$J$2:$J$1048576)","v":0},0,{"$f":"SUMIF(SOLICITUDES!$C$2:$C$1048576,BD!C4117,SOLICITUDES!$K$2:$K$1048576)","v":0},0]
[null,null,"T9240",10,13200,240,-76.802149912482804,2.2438607616796742,5,5,2,2,{"$f":"SUMIF(SOLICITUDES!$C$2:$C$1048576,BD!C4125,SOLICITUDES!$I$2:$I$1048576)","v":0},0,{"$f":"SUMIF(SOLICITUDES!$C$2:$C$1048576,BD!C4125,SOLICITUDES!$J$2:$J$1048576)","v":0},0,{"$f":"SUMIF(SOLICITUDES!$C$2:$C$1048576,BD!C4125,SOLICITUDES!$K$2:$K$1048576)","v":0},0]
[null,null,"T11898",10,13200,240,-76.809850395143869,2.2646349914838266,5,5,2,2,{"$f":"SUMIF(SOLICITUDES!$C$2:$C$1048576,BD!C4140,SOLICITUDES!$I$2:$I$1048576)","v":0},0,{"$f":"SUMIF(SOLICITUDES!$C$2:$C$1048576,BD!C4140,SOLICITUDES!$J$2:$J$1048576)","v":0},0,{"$f":"SUMIF(SOLICITUDES!$C$2:$C$1048576,BD!C4140,SOLICITUDES!$K$2:$K$1048576)","v":0},0]
[null,null,"T11006",10,13200,240,-76.833220322082312,2.2360618100088554,5,5,2,2,{"$f":"SUMIF(SOLICITUDES!$C$2:$C$1048576,BD!C4145,SOLICITUDES!$I$2:$I$1048576)","v":0},0,{"$f":"SUMIF(SOLICITUDES!$C$2:$C$1048576,BD!C4145,SOLICITUDES!$J$2:$J$1048576)","v":0},0,{"$f":"SUMIF(SOLICITUDES!$C$2:$C$1048576,BD!C4145,SOLICITUDES!$K$2:$K$1048576)","v":0},0]
[null,null,"T11910",10,13200,240,-76.805907934654158,2.2814625069769692,5,5,2,2,{"$f":"SUMIF(SOLICITUDES!$C$2:$C$1048576,BD!C4156,SOLICITUDES!$I$2:$I$1048576)","v":0},0,{"$f":"SUMIF(SOLICITUDES!$C$2:$C$1048576,BD!C4156,SOLICITUDES!$J$2:$J$1048576)","v":0},0,{"$f":"SUMIF(SOLICITUDES!$C$2:$C$1048576,BD!C4156,SOLICITUDES!$K$2:$K$1048576)","v":0},0]
[null,null,"T20083",10,13200,240,-76.831581052109669,2.2776002053215003,5,5,2,2,{"$f":"SUMIF(SOLICITUDES!$C$2:$C$1048576,BD!C4171,SOLICITUDES!$I$2:$I$1048576)","v":0},0,{"$f":"SUMIF(SOLICITUDES!$C$2:$C$1048576,BD!C4171,SOLICITUDES!$J$2:$J$1048576)","v":0},0,{"$f":"SUMIF(SOLICITUDES!$C$2:$C$1048576,BD!C4171,SOLICITUDES!$K$2:$K$1048576)","v":0},0]
[null,null,"T13356",10,13200,240,-76.857165289143566,2.2626806736762424,5,5,2,2,{"$f":"SUMIF(SOLICITUDES!$C$2:$C$1048576,BD!C4182,SOLICITUDES!$I$2:$I$1048576)","v":0},0,{"$f":"SUMIF(SOLICITUDES!$C$2:$C$1048576,BD!C4182,SOLICITUDES!$J$2:$J$1048576)","v":0},0,{"$f":"SUMIF(SOLICITUDES!$C$2:$C$1048576,BD!C4182,SOLICITUDES!$K$2:$K$1048576)","v":0},0]
[null,null,"T28896",5,13200,240,-76.848344627126664,2.2411195253027336,2.5,2.5,1,1,{"$f":"SUMIF(SOLICITUDES!$C$2:$C$1048576,BD!C4187,SOLICITUDES!$I$2:$I$1048576)","v":0},0,{"$f":"SUMIF(SOLICITUDES!$C$2:$C$1048576,BD!C4187,SOLICITUDES!$J$2:$J$1048576)","v":0},0,{"$f":"SUMIF(SOLICITUDES!$C$2:$C$1048576,BD!C4187,SOLICITUDES!$K$2:$K$1048576)","v":0},0]
[null,null,"T20088",5,13200,240,-76.861187355455215,2.2885756697641355,2.5,2.5,1,1,{"$f":"SUMIF(SOLICITUDES!$C$2:$C$1048576,BD!C4202,SOLICITUDES!$I$2:$I$1048576)","v":0},0,{"$f":"SUMIF(SOLICITUDES!$C$2:$C$1048576,BD!C4202,SOLICITUDES!$J$2:$J$1048576)","v":0},0,{"$f":"SUMIF(SOLICITUDES!$C$2:$C$1048576,BD!C4202,SOLICITUDES!$K$2:$K$1048576)","v":0},0]
[null,null,"T12742",10,13200,240,-76.82645043139172,2.3060112316637742,5,5,2,2,{"$f":"SUMIF(SOLICITUDES!$C$2:$C$1048576,BD!C4212,SOLICITUDES!$I$2:$I$1048576)","v":0},0,{"$f":"SUMIF(SOLICITUDES!$C$2:$C$1048576,BD!C4212,SOLICITUDES!$J$2:$J$1048576)","v":0},0,{"$f":"SUMIF(SOLICITUDES!$C$2:$C$1048576,BD!C4212,SOLICITUDES!$K$2:$K$1048576)","v":0},0]
[null,null,"T28902",5,13200,240,-76.873324384401286,2.2480411450636191,2.5,2.5,1,1,{"$f":"SUMIF(SOLICITUDES!$C$2:$C$1048576,BD!C4219,SOLICITUDES!$I$2:$I$1048576)","v":0},0,{"$f":"SUMIF(SOLICITUDES!$C$2:$C$1048576,BD!C4219,SOLICITUDES!$J$2:$J$1048576)","v":0},0,{"$f":"SUMIF(SOLICITUDES!$C$2:$C$1048576,BD!C4219,SOLICITUDES!$K$2:$K$1048576)","v":0},0]
[null,null,"T9172",25,13200,240,-76.745080623014871,2.1712030244678497,12.5,12.5,5,5,{"$f":"SUMIF(SOLICITUDES!$C$2:$C$1048576,BD!C4230,SOLICITUDES!$I$2:$I$1048576)","v":0},0,{"$f":"SUMIF(SOLICITUDES!$C$2:$C$1048576,BD!C4230,SOLICITUDES!$J$2:$J$1048576)","v":0},0,{"$f":"SUMIF(SOLICITUDES!$C$2:$C$1048576,BD!C4230,SOLICITUDES!$K$2:$K$1048576)","v":0},0]
[null,null,"T9803",0.5,13200,240,-76.72677183105364,2.1598855325340436,0.25,0.25,0.1,0.1,{"$f":"SUMIF(SOLICITUDES!$C$2:$C$1048576,BD!C4235,SOLICITUDES!$I$2:$I$1048576)","v":0},0,{"$f":"SUMIF(SOLICITUDES!$C$2:$C$1048576,BD!C4235,SOLICITUDES!$J$2:$J$1048576)","v":0},0,{"$f":"SUMIF(SOLICITUDES!$C$2:$C$1048576,BD!C4235,SOLICITUDES!$K$2:$K$1048576)","v":0},0]
[null,null,"T9179",25,13200,240,-76.723118033940565,2.1776458762304318,12.5,12.5,5,5,{"$f":"SUMIF(SOLICITUDES!$C$2:$C$1048576,BD!C4250,SOLICITUDES!$I$2:$I$1048576)","v":0},0,{"$f":"SUMIF(SOLICITUDES!$C$2:$C$1048576,BD!C4250,SOLICITUDES!$J$2:$J$1048576)","v":0},0,{"$f":"SUMIF(SOLICITUDES!$C$2:$C$1048576,BD!C4250,SOLICITUDES!$K$2:$K$1048576)","v":0},0]
[null,null,"T9810",50,13200,240,-76.710955125745485,2.1783935736332305,25,25,10,10,{"$f":"SUMIF(SOLICITUDES!$C$2:$C$1048576,BD!C4261,SOLICITUDES!$I$2:$I$1048576)","v":0},0,{"$f":"SUMIF(SOLICITUDES!$C$2:$C$1048576,BD!C4261,SOLICITUDES!$J$2:$J$1048576)","v":0},0,{"$f":"SUMIF(SOLICITUDES!$C$2:$C$1048576,BD!C4261,SOLICITUDES!$K$2:$K$1048576)","v":0},0]
[null,null,"T9806",37.5,13200,240,-76.69695103633228,2.1730272628741072,18.75,18.75,7.5,7.5,{"$f":"SUMIF(SOLICITUDES!$C$2:$C$1048576,BD!C4266,SOLICITUDES!$I$2:$I$1048576)","v":0},0,{"$f":"SUMIF(SOLICITUDES!$C$2:$C$1048576,BD!C4266,SOLICITUDES!$J$2:$J$1048576)","v":0},0,{"$f":"SUMIF(SOLICITUDES!$C$2:$C$1048576,BD!C4266,SOLICITUDES!$K$2:$K$1048576)","v":0},0]
[null,null,"T9804",10,13200,214,-76.667427488120239,2.1819723648004317,5,5,2,2,{"$f":"SUMIF(SOLICITUDES!$C$2:$C$1048576,BD!C4281,SOLICITUDES!$I$2:$I$1048576)","v":0},0,{"$f":"SUMIF(SOLICITUDES!$C$2:$C$1048576,BD!C4281,SOLICITUDES!$J$2:$J$1048576)","v":0},0,{"$f":"SUMIF(SOLICITUDES!$C$2:$C$1048576,BD!C4281,SOLICITUDES!$K$2:$K$1048576)","v":0},0]
[null,null,"T11580",25,13200,240,-76.66156215024958,2.0987359562091457,{"$f":"D4292*0.5","v":12.5},12.5,{"$f":"0.2*D4292","v":5},{"$f":"0.2*D4292","v":5},{"$f":"SUMIF(SOLICITUDES!$C$2:$C$1048576,BD!C4292,SOLICITUDES!$I$2:$I$1048576)","v":0},0,{"$f":"SUMIF(SOLICITUDES!$C$2:$C$1048576,BD!C4292,SOLICITUDES!$J$2:$J$1048576)","v":0},{"$f":"O4292/(2*K4292)","v":0},{"$f":"SUMIF(SOLICITUDES!$C$2:$C$1048576,BD!C4292,SOLICITUDES!$K$2:$K$1048576)","v":0},{"$f":"Q4292/(2*L4292)","v":0}]
[null,null,"T26602",5,13200,240,-76.677497139037015,2.0972125017066432,2.5,2.5,1,1,{"$f":"SUMIF(SOLICITUDES!$C$2:$C$1048576,BD!C4303,SOLICITUDES!$I$2:$I$1048576)","v":0},0,{"$f":"SUMIF(SOLICITUDES!$C$2:$C$1048576,BD!C4303,SOLICITUDES!$J$2:$J$1048576)","v":0},0,{"$f":"SUMIF(SOLICITUDES!$C$2:$C$1048576,BD!C4303,SOLICITUDES!$K$2:$K$1048576)","v":0},0]
[null,null,"T8213",0.5,13200,240,-76.663943838968038,2.1993345966082503,0.25,0.25,0.1,0.1,{"$f":"SUMIF(SOLICITUDES!$C$2:$C$1048576,BD!C4309,SOLICITUDES!$I$2:$I$1048576)","v":0},0,{"$f":"SUMIF(SOLICITUDES!$C$2:$C$1048576,BD!C4309,SOLICITUDES!$J$2:$J$1048576)","v":0},0,{"$f":"SUMIF(SOLICITUDES!$C$2:$C$1048576,BD!C4309,SOLICITUDES!$K$2:$K$1048576)","v":0},0]
[null,null,"T11569",25,13200,240,-76.663337150843702,2.0829015673959104,12.5,12.5,5,5,{"$f":"SUMIF(SOLICITUDES!$C$2:$C$1048576,BD!C4324,SOLICITUDES!$I$2:$I$1048576)","v":0},0,{"$f":"SUMIF(SOLICITUDES!$C$2:$C$1048576,BD!C4324,SOLICITUDES!$J$2:$J$1048576)","v":0},0,{"$f":"SUMIF(SOLICITUDES!$C$2:$C$1048576,BD!C4324,SOLICITUDES!$K$2:$K$1048576)","v":0},0]
[null,null,"T11587",15,13200,240,-76.655489576143722,2.0839937323157907,7.5,7.5,3,3,{"$f":"SUMIF(SOLICITUDES!$C$2:$C$1048576,BD!C4329,SOLICITUDES!$I$2:$I$1048576)","v":0},0,{"$f":"SUMIF(SOLICITUDES!$C$2:$C$1048576,BD!C4329,SOLICITUDES!$J$2:$J$1048576)","v":0},0,{"$f":"SUMIF(SOLICITUDES!$C$2:$C$1048576,BD!C4329,SOLICITUDES!$K$2:$K$1048576)","v":0},0]
[null,null,"T12296",5,13200,240,-76.649136314805659,2.0773360613551071,2.5,2.5,1,1,{"$f":"SUMIF(SOLICITUDES!$C$2:$C$1048576,BD!C4340,SOLICITUDES!$I$2:$I$1048576)","v":0},0,{"$f":"SUMIF(SOLICITUDES!$C$2:$C$1048576,BD!C4340,SOLICITUDES!$J$2:$J$1048576)","v":0},0,{"$f":"SUMIF(SOLICITUDES!$C$2:$C$1048576,BD!C4340,SOLICITUDES!$K$2:$K$1048576)","v":0},0]
[null,null,"T13538",25,13200,240,-76.665916824685567,2.0485376003374052,12.5,{"$f":"D4355*0.5-M4355","v":12.5},5,5,{"$f":"SUMIF(SOLICITUDES!$C$2:$C$1048576,BD!C4355,SOLICITUDES!$I$2:$I$1048576)","v":0},{"$f":"M4355/D4355","v":0},{"$f":"SUMIF(SOLICITUDES!$C$2:$C$1048576,BD!C4355,SOLICITUDES!$J$2:$J$1048576)","v":0},0,{"$f":"SUMIF(SOLICITUDES!$C$2:$C$1048576,BD!C4355,SOLICITUDES!$K$2:$K$1048576)","v":0},0]
[null,null,"T15213",25,13200,240,-76.658721102818546,2.0327189943037083,12.5,12.5,5,5,{"$f":"SUMIF(SOLICITUDES!$C$2:$C$1048576,BD!C4360,SOLICITUDES!$I$2:$I$1048576)","v":0},0,{"$f":"SUMIF(SOLICITUDES!$C$2:$C$1048576,BD!C4360,SOLICITUDES!$J$2:$J$1048576)","v":0},0,{"$f":"SUMIF(SOLICITUDES!$C$2:$C$1048576,BD!C4360,SOLICITUDES!$K$2:$K$1048576)","v":0},0]
[null,null,"T12286",25,13200,240,-76.645734675642373,2.0586064880593988,12.5,12.5,5,5,{"$f":"SUMIF(SOLICITUDES!$C$2:$C$1048576,BD!C4371,SOLICITUDES!$I$2:$I$1048576)","v":0},0,{"$f":"SUMIF(SOLICITUDES!$C$2:$C$1048576,BD!C4371,SOLICITUDES!$J$2:$J$1048576)","v":0},0,{"$f":"SUMIF(SOLICITUDES!$C$2:$C$1048576,BD!C4371,SOLICITUDES!$K$2:$K$1048576)","v":0},0]
[null,null,"T15208",15,13200,240,-76.645255479860722,2.035952865668949,7.5,7.5,3,3,{"$f":"SUMIF(SOLICITUDES!$C$2:$C$1048576,BD!C4376,SOLICITUDES!$I$2:$I$1048576)","v":0},0,{"$f":"SUMIF(SOLICITUDES!$C$2:$C$1048576,BD!C4376,SOLICITUDES!$J$2:$J$1048576)","v":0},0,{"$f":"SUMIF(SOLICITUDES!$C$2:$C$1048576,BD!C4376,SOLICITUDES!$K$2:$K$1048576)","v":0},0]
[null,null,"T15337",15,13200,240,-76.743153743038533,2.1948600846383965,7.5,7.5,3,3,{"$f":"SUMIF(SOLICITUDES!$C$2:$C$1048576,BD!C4387,SOLICITUDES!$I$2:$I$1048576)","v":0},0,{"$f":"SUMIF(SOLICITUDES!$C$2:$C$1048576,BD!C4387,SOLICITUDES!$J$2:$J$1048576)","v":0},0,{"$f":"SUMIF(SOLICITUDES!$C$2:$C$1048576,BD!C4387,SOLICITUDES!$K$2:$K$1048576)","v":0},0]
[null,null,"T6587",15,13200,240,-76.747794554904416,2.2154801498822847,7.5,7.5,3,3,{"$f":"SUMIF(SOLICITUDES!$C$2:$C$1048576,BD!C4403,SOLICITUDES!$I$2:$I$1048576)","v":0},0,{"$f":"SUMIF(SOLICITUDES!$C$2:$C$1048576,BD!C4403,SOLICITUDES!$J$2:$J$1048576)","v":0},0,{"$f":"SUMIF(SOLICITUDES!$C$2:$C$1048576,BD!C4403,SOLICITUDES!$K$2:$K$1048576)","v":0},0]
[null,null,"T6595",10,13200,240,-76.731654529471712,2.1984778681940367,5,5,2,2,{"$f":"SUMIF(SOLICITUDES!$C$2:$C$1048576,BD!C4408,SOLICITUDES!$I$2:$I$1048576)","v":0},0,{"$f":"SUMIF(SOLICITUDES!$C$2:$C$1048576,BD!C4408,SOLICITUDES!$J$2:$J$1048576)","v":0},0,{"$f":"SUMIF(SOLICITUDES!$C$2:$C$1048576,BD!C4408,SOLICITUDES!$K$2:$K$1048576)","v":0},0]
[null,null,"T6499",15,13200,240,-76.391263314821131,2.6256494647624655,7.5,{"$f":"D4419*0.5-M4419","v":7.5},3,3,{"$f":"SUMIF(SOLICITUDES!$C$2:$C$1048576,BD!C4419,SOLICITUDES!$I$2:$I$1048576)","v":0},{"$f":"M4419/D4419","v":0},{"$f":"SUMIF(SOLICITUDES!$C$2:$C$1048576,BD!C4419,SOLICITUDES!$J$2:$J$1048576)","v":0},0,{"$f":"SUMIF(SOLICITUDES!$C$2:$C$1048576,BD!C4419,SOLICITUDES!$K$2:$K$1048576)","v":0},0]
[null,null,"T18219",5,13200,240,-76.389887827105255,2.6413651712469521,2.5,2.5,1,1,{"$f":"SUMIF(SOLICITUDES!$C$2:$C$1048576,BD!C4434,SOLICITUDES!$I$2:$I$1048576)","v":0},0,{"$f":"SUMIF(SOLICITUDES!$C$2:$C$1048576,BD!C4434,SOLICITUDES!$J$2:$J$1048576)","v":0},0,{"$f":"SUMIF(SOLICITUDES!$C$2:$C$1048576,BD!C4434,SOLICITUDES!$K$2:$K$1048576)","v":0},0]
[null,null,"T18220",5,13200,240,-76.389585554791367,2.65134828984979,2.5,2.5,1,1,{"$f":"SUMIF(SOLICITUDES!$C$2:$C$1048576,BD!C4445,SOLICITUDES!$I$2:$I$1048576)","v":0},0,{"$f":"SUMIF(SOLICITUDES!$C$2:$C$1048576,BD!C4445,SOLICITUDES!$J$2:$J$1048576)","v":0},0,{"$f":"SUMIF(SOLICITUDES!$C$2:$C$1048576,BD!C4445,SOLICITUDES!$K$2:$K$1048576)","v":0},0]
[null,null,"T6286",112.5,13200,208,-76.37395976590274,2.6152947357158798,56.25,56.25,22.5,22.5,{"$f":"SUMIF(SOLICITUDES!$C$2:$C$1048576,BD!C4450,SOLICITUDES!$I$2:$I$1048576)","v":0},0,{"$f":"SUMIF(SOLICITUDES!$C$2:$C$1048576,BD!C4450,SOLICITUDES!$J$2:$J$1048576)","v":0},0,{"$f":"SUMIF(SOLICITUDES!$C$2:$C$1048576,BD!C4450,SOLICITUDES!$K$2:$K$1048576)","v":0},0]
[null,null,"T7410",15,13200,240,-76.357915506500518,2.604859201184766,7.5,7.5,3,3,{"$f":"SUMIF(SOLICITUDES!$C$2:$C$1048576,BD!C4465,SOLICITUDES!$I$2:$I$1048576)","v":0},0,{"$f":"SUMIF(SOLICITUDES!$C$2:$C$1048576,BD!C4465,SOLICITUDES!$J$2:$J$1048576)","v":0},0,{"$f":"SUMIF(SOLICITUDES!$C$2:$C$1048576,BD!C4465,SOLICITUDES!$K$2:$K$1048576)","v":0},0]
[null,null,"T8478",15,13200,240,-76.351719113802858,2.62235336361808,7.5,7.5,3,3,{"$f":"SUMIF(SOLICITUDES!$C$2:$C$1048576,BD!C4476,SOLICITUDES!$I$2:$I$1048576)","v":0},0,{"$f":"SUMIF(SOLICITUDES!$C$2:$C$1048576,BD!C4476,SOLICITUDES!$J$2:$J$1048576)","v":0},0,{"$f":"SUMIF(SOLICITUDES!$C$2:$C$1048576,BD!C4476,SOLICITUDES!$K$2:$K$1048576)","v":0},0]
[null,null,"T8467",25,13200,240,-76.353911584313025,2.625040390478393,12.5,12.5,5,5,{"$f":"SUMIF(SOLICITUDES!$C$2:$C$1048576,BD!C4478,SOLICITUDES!$I$2:$I$1048576)","v":0},0,{"$f":"SUMIF(SOLICITUDES!$C$2:$C$1048576,BD!C4478,SOLICITUDES!$J$2:$J$1048576)","v":0},0,{"$f":"SUMIF(SOLICITUDES!$C$2:$C$1048576,BD!C4478,SOLICITUDES!$K$2:$K$1048576)","v":0},0]
[null,null,"T8463",75,13200,208,-76.346475365011784,2.6250178924613281,37.5,37.5,15,15,{"$f":"SUMIF(SOLICITUDES!$C$2:$C$1048576,BD!C4497,SOLICITUDES!$I$2:$I$1048576)","v":0},0,{"$f":"SUMIF(SOLICITUDES!$C$2:$C$1048576,BD!C4497,SOLICITUDES!$J$2:$J$1048576)","v":0},0,{"$f":"SUMIF(SOLICITUDES!$C$2:$C$1048576,BD!C4497,SOLICITUDES!$K$2:$K$1048576)","v":0},0]
[null,null,"T8466",15,13200,240,-76.36852919673278,2.5985262475416557,7.5,7.5,3,3,{"$f":"SUMIF(SOLICITUDES!$C$2:$C$1048576,BD!C4498,SOLICITUDES!$I$2:$I$1048576)","v":0},0,{"$f":"SUMIF(SOLICITUDES!$C$2:$C$1048576,BD!C4498,SOLICITUDES!$J$2:$J$1048576)","v":0},0,{"$f":"SUMIF(SOLICITUDES!$C$2:$C$1048576,BD!C4498,SOLICITUDES!$K$2:$K$1048576)","v":0},0]
[null,null,"T4894",10,13200,240,-76.386438677265858,2.6020539437741399,5,5,2,2,{"$f":"SUMIF(SOLICITUDES!$C$2:$C$1048576,BD!C4513,SOLICITUDES!$I$2:$I$1048576)","v":0},0,{"$f":"SUMIF(SOLICITUDES!$C$2:$C$1048576,BD!C4513,SOLICITUDES!$J$2:$J$1048576)","v":0},0,{"$f":"SUMIF(SOLICITUDES!$C$2:$C$1048576,BD!C4513,SOLICITUDES!$K$2:$K$1048576)","v":0},0]
[null,null,"T4883",10,13200,240,-76.385740550975029,2.5960582286810672,5,5,2,2,{"$f":"SUMIF(SOLICITUDES!$C$2:$C$1048576,BD!C4524,SOLICITUDES!$I$2:$I$1048576)","v":0},0,{"$f":"SUMIF(SOLICITUDES!$C$2:$C$1048576,BD!C4524,SOLICITUDES!$J$2:$J$1048576)","v":0},0,{"$f":"SUMIF(SOLICITUDES!$C$2:$C$1048576,BD!C4524,SOLICITUDES!$K$2:$K$1048576)","v":0},0]
[null,null,"T4877",75,13200,208,-76.39467587484539,2.5868267294317042,37.5,37.5,15,15,{"$f":"SUMIF(SOLICITUDES!$C$2:$C$1048576,BD!C4529,SOLICITUDES!$I$2:$I$1048576)","v":0},0,{"$f":"SUMIF(SOLICITUDES!$C$2:$C$1048576,BD!C4529,SOLICITUDES!$J$2:$J$1048576)","v":0},0,{"$f":"SUMIF(SOLICITUDES!$C$2:$C$1048576,BD!C4529,SOLICITUDES!$K$2:$K$1048576)","v":0},0]
[null,null,"T4907",15,13200,240,-76.406533497748711,2.5710840074534707,7.5,7.5,3,3,{"$f":"SUMIF(SOLICITUDES!$C$2:$C$1048576,BD!C4544,SOLICITUDES!$I$2:$I$1048576)","v":0},0,{"$f":"SUMIF(SOLICITUDES!$C$2:$C$1048576,BD!C4544,SOLICITUDES!$J$2:$J$1048576)","v":0},0,{"$f":"SUMIF(SOLICITUDES!$C$2:$C$1048576,BD!C4544,SOLICITUDES!$K$2:$K$1048576)","v":0},0]
[null,null,"T30216",0.5,13200,240,-76.429651676778278,2.5515544084223989,0.25,0.25,0.1,0.1,{"$f":"SUMIF(SOLICITUDES!$C$2:$C$1048576,BD!C4555,SOLICITUDES!$I$2:$I$1048576)","v":0},0,{"$f":"SUMIF(SOLICITUDES!$C$2:$C$1048576,BD!C4555,SOLICITUDES!$J$2:$J$1048576)","v":0},0,{"$f":"SUMIF(SOLICITUDES!$C$2:$C$1048576,BD!C4555,SOLICITUDES!$K$2:$K$1048576)","v":0},0]
[null,null,"T6025",15,13200,240,-76.475833672336051,2.5476433849473246,7.5,7.5,3,3,{"$f":"SUMIF(SOLICITUDES!$C$2:$C$1048576,BD!C4560,SOLICITUDES!$I$2:$I$1048576)","v":0},0,{"$f":"SUMIF(SOLICITUDES!$C$2:$C$1048576,BD!C4560,SOLICITUDES!$J$2:$J$1048576)","v":0},0,{"$f":"SUMIF(SOLICITUDES!$C$2:$C$1048576,BD!C4560,SOLICITUDES!$K$2:$K$1048576)","v":0},0]
[null,null,"T6023",10,13200,208,-76.498769102122694,2.5517233861717816,5,5,2,2,{"$f":"SUMIF(SOLICITUDES!$C$2:$C$1048576,BD!C4573,SOLICITUDES!$I$2:$I$1048576)","v":0},0,{"$f":"SUMIF(SOLICITUDES!$C$2:$C$1048576,BD!C4573,SOLICITUDES!$J$2:$J$1048576)","v":0},0,{"$f":"SUMIF(SOLICITUDES!$C$2:$C$1048576,BD!C4573,SOLICITUDES!$K$2:$K$1048576)","v":0},0]
[null,null,"T6246",10,13200,240,-76.367657249862887,2.6299676489991057,5,5,2,2,{"$f":"SUMIF(SOLICITUDES!$C$2:$C$1048576,BD!C4587,SOLICITUDES!$I$2:$I$1048576)","v":0},0,{"$f":"SUMIF(SOLICITUDES!$C$2:$C$1048576,BD!C4587,SOLICITUDES!$J$2:$J$1048576)","v":0},0,{"$f":"SUMIF(SOLICITUDES!$C$2:$C$1048576,BD!C4587,SOLICITUDES!$K$2:$K$1048576)","v":0},0]
[null,null,"T42399",10,13200,240,-76.365933090079679,2.6427515687019714,5,5,2,2,{"$f":"SUMIF(SOLICITUDES!$C$2:$C$1048576,BD!C4592,SOLICITUDES!$I$2:$I$1048576)","v":0},0,{"$f":"SUMIF(SOLICITUDES!$C$2:$C$1048576,BD!C4592,SOLICITUDES!$J$2:$J$1048576)","v":0},0,{"$f":"SUMIF(SOLICITUDES!$C$2:$C$1048576,BD!C4592,SOLICITUDES!$K$2:$K$1048576)","v":0},0]
[null,null,"T42398",10,13200,240,-76.373048331436365,2.6438832903093532,5,5,2,2,{"$f":"SUMIF(SOLICITUDES!$C$2:$C$1048576,BD!C4603,SOLICITUDES!$I$2:$I$1048576)","v":0},0,{"$f":"SUMIF(SOLICITUDES!$C$2:$C$1048576,BD!C4603,SOLICITUDES!$J$2:$J$1048576)","v":0},0,{"$f":"SUMIF(SOLICITUDES!$C$2:$C$1048576,BD!C4603,SOLICITUDES!$K$2:$K$1048576)","v":0},0]
[null,null,"T23209",5,13200,240,-76.347685703848541,2.6931138992700947,2.5,2.5,1,1,{"$f":"SUMIF(SOLICITUDES!$C$2:$C$1048576,BD!C4618,SOLICITUDES!$I$2:$I$1048576)","v":0},0,{"$f":"SUMIF(SOLICITUDES!$C$2:$C$1048576,BD!C4618,SOLICITUDES!$J$2:$J$1048576)","v":0},0,{"$f":"SUMIF(SOLICITUDES!$C$2:$C$1048576,BD!C4618,SOLICITUDES!$K$2:$K$1048576)","v":0},0]
[null,null,"T7893",25,13200,240,-76.309873783692922,2.7054845921841069,12.5,12.5,5,5,{"$f":"SUMIF(SOLICITUDES!$C$2:$C$1048576,BD!C4623,SOLICITUDES!$I$2:$I$1048576)","v":0},0,{"$f":"SUMIF(SOLICITUDES!$C$2:$C$1048576,BD!C4623,SOLICITUDES!$J$2:$J$1048576)","v":0},0,{"$f":"SUMIF(SOLICITUDES!$C$2:$C$1048576,BD!C4623,SOLICITUDES!$K$2:$K$1048576)","v":0},0]
[null,null,"T7919",15,13200,240,-76.327473665316035,2.7313849609299212,7.5,7.5,3,3,{"$f":"SUMIF(SOLICITUDES!$C$2:$C$1048576,BD!C4634,SOLICITUDES!$I$2:$I$1048576)","v":0},0,{"$f":"SUMIF(SOLICITUDES!$C$2:$C$1048576,BD!C4634,SOLICITUDES!$J$2:$J$1048576)","v":0},0,{"$f":"SUMIF(SOLICITUDES!$C$2:$C$1048576,BD!C4634,SOLICITUDES!$K$2:$K$1048576)","v":0},0]
[null,null,"T7915",15,13200,240,-76.328900637385829,2.7645635535348663,7.5,7.5,3,3,{"$f":"SUMIF(SOLICITUDES!$C$2:$C$1048576,BD!C4639,SOLICITUDES!$I$2:$I$1048576)","v":0},0,{"$f":"SUMIF(SOLICITUDES!$C$2:$C$1048576,BD!C4639,SOLICITUDES!$J$2:$J$1048576)","v":0},0,{"$f":"SUMIF(SOLICITUDES!$C$2:$C$1048576,BD!C4639,SOLICITUDES!$K$2:$K$1048576)","v":0},0]
[null,null,"T9480",15,13200,240,-76.343823497815848,2.759652884794412,7.5,7.5,3,3,{"$f":"SUMIF(SOLICITUDES!$C$2:$C$1048576,BD!C4650,SOLICITUDES!$I$2:$I$1048576)","v":0},0,{"$f":"SUMIF(SOLICITUDES!$C$2:$C$1048576,BD!C4650,SOLICITUDES!$J$2:$J$1048576)","v":0},0,{"$f":"SUMIF(SOLICITUDES!$C$2:$C$1048576,BD!C4650,SOLICITUDES!$K$2:$K$1048576)","v":0},0]
[null,null,"T9934",15,13200,240,-76.35555242880173,2.7987709170288855,7.5,7.5,3,3,{"$f":"SUMIF(SOLICITUDES!$C$2:$C$1048576,BD!C4664,SOLICITUDES!$I$2:$I$1048576)","v":0},0,{"$f":"SUMIF(SOLICITUDES!$C$2:$C$1048576,BD!C4664,SOLICITUDES!$J$2:$J$1048576)","v":0},0,{"$f":"SUMIF(SOLICITUDES!$C$2:$C$1048576,BD!C4664,SOLICITUDES!$K$2:$K$1048576)","v":0},0]
[null,null,"T10782",10,13200,240,-76.336632363036003,2.8259738443113336,5,5,2,2,{"$f":"SUMIF(SOLICITUDES!$C$2:$C$1048576,BD!C4671,SOLICITUDES!$I$2:$I$1048576)","v":0},0,{"$f":"SUMIF(SOLICITUDES!$C$2:$C$1048576,BD!C4671,SOLICITUDES!$J$2:$J$1048576)","v":0},0,{"$f":"SUMIF(SOLICITUDES!$C$2:$C$1048576,BD!C4671,SOLICITUDES!$K$2:$K$1048576)","v":0},0]
[null,null,"T10771",20,13200,240,-76.321767029454634,2.8242497518085701,10,10,4,4,{"$f":"SUMIF(SOLICITUDES!$C$2:$C$1048576,BD!C4682,SOLICITUDES!$I$2:$I$1048576)","v":0},0,{"$f":"SUMIF(SOLICITUDES!$C$2:$C$1048576,BD!C4682,SOLICITUDES!$J$2:$J$1048576)","v":0},0,{"$f":"SUMIF(SOLICITUDES!$C$2:$C$1048576,BD!C4682,SOLICITUDES!$K$2:$K$1048576)","v":0},0]
[null,null,"T9943",10,13200,240,-76.331092490183906,2.8109992264638994,5,5,2,2,{"$f":"SUMIF(SOLICITUDES!$C$2:$C$1048576,BD!C4697,SOLICITUDES!$I$2:$I$1048576)","v":0},0,{"$f":"SUMIF(SOLICITUDES!$C$2:$C$1048576,BD!C4697,SOLICITUDES!$J$2:$J$1048576)","v":0},0,{"$f":"SUMIF(SOLICITUDES!$C$2:$C$1048576,BD!C4697,SOLICITUDES!$K$2:$K$1048576)","v":0},0]
[null,null,"T10752",15,13200,240,-76.303047470665462,2.8313267173145791,7.5,7.5,3,3,{"$f":"SUMIF(SOLICITUDES!$C$2:$C$1048576,BD!C4702,SOLICITUDES!$I$2:$I$1048576)","v":0},0,{"$f":"SUMIF(SOLICITUDES!$C$2:$C$1048576,BD!C4702,SOLICITUDES!$J$2:$J$1048576)","v":0},0,{"$f":"SUMIF(SOLICITUDES!$C$2:$C$1048576,BD!C4702,SOLICITUDES!$K$2:$K$1048576)","v":0},0]
[null,null,"T10751",10,13200,240,-76.322652436003821,2.8591821709344889,5,5,2,2,{"$f":"SUMIF(SOLICITUDES!$C$2:$C$1048576,BD!C4713,SOLICITUDES!$I$2:$I$1048576)","v":0},0,{"$f":"SUMIF(SOLICITUDES!$C$2:$C$1048576,BD!C4713,SOLICITUDES!$J$2:$J$1048576)","v":0},0,{"$f":"SUMIF(SOLICITUDES!$C$2:$C$1048576,BD!C4713,SOLICITUDES!$K$2:$K$1048576)","v":0},0]
[null,null,"T13077",10,13200,240,-76.329931184378964,2.9499665239833317,5,5,2,2,{"$f":"SUMIF(SOLICITUDES!$C$2:$C$1048576,BD!C4728,SOLICITUDES!$I$2:$I$1048576)","v":0},0,{"$f":"SUMIF(SOLICITUDES!$C$2:$C$1048576,BD!C4728,SOLICITUDES!$J$2:$J$1048576)","v":0},0,{"$f":"SUMIF(SOLICITUDES!$C$2:$C$1048576,BD!C4728,SOLICITUDES!$K$2:$K$1048576)","v":0},0]
[null,null,"T31453",10,13200,240,-76.340236061122908,2.9465077180654422,5,{"$f":"D4739*0.5-M4739","v":5},2,2,{"$f":"SUMIF(SOLICITUDES!$C$2:$C$1048576,BD!C4739,SOLICITUDES!$I$2:$I$1048576)","v":0},{"$f":"M4739/D4739","v":0},{"$f":"SUMIF(SOLICITUDES!$C$2:$C$1048576,BD!C4739,SOLICITUDES!$J$2:$J$1048576)","v":0},0,{"$f":"SUMIF(SOLICITUDES!$C$2:$C$1048576,BD!C4739,SOLICITUDES!$K$2:$K$1048576)","v":0},0]
[null,null,"T13069",5,13200,240,-76.345904148758265,2.9511346838497148,2.5,2.5,1,1,{"$f":"SUMIF(SOLICITUDES!$C$2:$C$1048576,BD!C4744,SOLICITUDES!$I$2:$I$1048576)","v":0},0,{"$f":"SUMIF(SOLICITUDES!$C$2:$C$1048576,BD!C4744,SOLICITUDES!$J$2:$J$1048576)","v":0},0,{"$f":"SUMIF(SOLICITUDES!$C$2:$C$1048576,BD!C4744,SOLICITUDES!$K$2:$K$1048576)","v":0},0]
[null,null,"T5073",5,13200,240,-76.481223361904156,2.634974201775929,2.5,2.5,1,1,{"$f":"SUMIF(SOLICITUDES!$C$2:$C$1048576,BD!C4755,SOLICITUDES!$I$2:$I$1048576)","v":0},0,{"$f":"SUMIF(SOLICITUDES!$C$2:$C$1048576,BD!C4755,SOLICITUDES!$J$2:$J$1048576)","v":0},0,{"$f":"SUMIF(SOLICITUDES!$C$2:$C$1048576,BD!C4755,SOLICITUDES!$K$2:$K$1048576)","v":0},0]
[null,null,"T4540",37.5,13200,240,-76.478085386911644,2.6156297139606006,18.75,18.75,7.5,7.5,{"$f":"SUMIF(SOLICITUDES!$C$2:$C$1048576,BD!C4761,SOLICITUDES!$I$2:$I$1048576)","v":0},0,{"$f":"SUMIF(SOLICITUDES!$C$2:$C$1048576,BD!C4761,SOLICITUDES!$J$2:$J$1048576)","v":0},0,{"$f":"SUMIF(SOLICITUDES!$C$2:$C$1048576,BD!C4761,SOLICITUDES!$K$2:$K$1048576)","v":0},0]
[null,null,"T42393",10,13200,240,-76.459045224197368,2.6561343142893441,5,5,2,2,{"$f":"SUMIF(SOLICITUDES!$C$2:$C$1048576,BD!C4776,SOLICITUDES!$I$2:$I$1048576)","v":0},0,{"$f":"SUMIF(SOLICITUDES!$C$2:$C$1048576,BD!C4776,SOLICITUDES!$J$2:$J$1048576)","v":0},0,{"$f":"SUMIF(SOLICITUDES!$C$2:$C$1048576,BD!C4776,SOLICITUDES!$K$2:$K$1048576)","v":0},0]
[null,null,"T16256",5,13200,240,-76.495321953406844,2.6507961344472846,2.5,2.5,1,1,{"$f":"SUMIF(SOLICITUDES!$C$2:$C$1048576,BD!C4787,SOLICITUDES!$I$2:$I$1048576)","v":0},0,{"$f":"SUMIF(SOLICITUDES!$C$2:$C$1048576,BD!C4787,SOLICITUDES!$J$2:$J$1048576)","v":0},0,{"$f":"SUMIF(SOLICITUDES!$C$2:$C$1048576,BD!C4787,SOLICITUDES!$K$2:$K$1048576)","v":0},0]
[null,null,"T23143",5,13200,240,-76.465775370427167,2.6702670257574863,2.5,2.5,1,1,{"$f":"SUMIF(SOLICITUDES!$C$2:$C$1048576,BD!C4792,SOLICITUDES!$I$2:$I$1048576)","v":0},0,{"$f":"SUMIF(SOLICITUDES!$C$2:$C$1048576,BD!C4792,SOLICITUDES!$J$2:$J$1048576)","v":0},0,{"$f":"SUMIF(SOLICITUDES!$C$2:$C$1048576,BD!C4792,SOLICITUDES!$K$2:$K$1048576)","v":0},0]
[null,null,"T11919",75,13200,208,-76.965166691871161,1.8363803213819523,37.5,37.5,15,15,{"$f":"SUMIF(SOLICITUDES!$C$2:$C$1048576,BD!C4807,SOLICITUDES!$I$2:$I$1048576)","v":0},0,{"$f":"SUMIF(SOLICITUDES!$C$2:$C$1048576,BD!C4807,SOLICITUDES!$J$2:$J$1048576)","v":0},0,{"$f":"SUMIF(SOLICITUDES!$C$2:$C$1048576,BD!C4807,SOLICITUDES!$K$2:$K$1048576)","v":0},0]
[null,null,"T42173 ",0.5,13200,240,-76.964513967279487,1.8423118823581273,0.25,0.25,0.1,0.1,{"$f":"SUMIF(SOLICITUDES!$C$2:$C$1048576,BD!C4818,SOLICITUDES!$I$2:$I$1048576)","v":0},0,{"$f":"SUMIF(SOLICITUDES!$C$2:$C$1048576,BD!C4818,SOLICITUDES!$J$2:$J$1048576)","v":0},0,{"$f":"SUMIF(SOLICITUDES!$C$2:$C$1048576,BD!C4818,SOLICITUDES!$K$2:$K$1048576)","v":0},0]
[null,null,"T31231",0.5,13200,240,-76.967810712232449,1.834599637805771,0.25,0.25,0.1,0.1,{"$f":"SUMIF(SOLICITUDES!$C$2:$C$1048576,BD!C4823,SOLICITUDES!$I$2:$I$1048576)","v":0},0,{"$f":"SUMIF(SOLICITUDES!$C$2:$C$1048576,BD!C4823,SOLICITUDES!$J$2:$J$1048576)","v":0},0,{"$f":"SUMIF(SOLICITUDES!$C$2:$C$1048576,BD!C4823,SOLICITUDES!$K$2:$K$1048576)","v":0},0]
[null,null,"T44875",0.5,13200,240,-76.96893264341027,1.8400736361158232,0.25,0.25,0.1,0.1,{"$f":"SUMIF(SOLICITUDES!$C$2:$C$1048576,BD!C4838,SOLICITUDES!$I$2:$I$1048576)","v":0},0,{"$f":"SUMIF(SOLICITUDES!$C$2:$C$1048576,BD!C4838,SOLICITUDES!$J$2:$J$1048576)","v":0},0,{"$f":"SUMIF(SOLICITUDES!$C$2:$C$1048576,BD!C4838,SOLICITUDES!$K$2:$K$1048576)","v":0},0]
[null,null,"T13666",10,13200,240,-76.984813814576739,1.8354228786622315,5,5,2,2,{"$f":"SUMIF(SOLICITUDES!$C$2:$C$1048576,BD!C4850,SOLICITUDES!$I$2:$I$1048576)","v":0},0,{"$f":"SUMIF(SOLICITUDES!$C$2:$C$1048576,BD!C4850,SOLICITUDES!$J$2:$J$1048576)","v":0},0,{"$f":"SUMIF(SOLICITUDES!$C$2:$C$1048576,BD!C4850,SOLICITUDES!$K$2:$K$1048576)","v":0},0]
[null,null,"T11246",30,13200,208,-76.956276467119125,1.8551541938169069,15,15,6,6,{"$f":"SUMIF(SOLICITUDES!$C$2:$C$1048576,BD!C4855,SOLICITUDES!$I$2:$I$1048576)","v":0},0,{"$f":"SUMIF(SOLICITUDES!$C$2:$C$1048576,BD!C4855,SOLICITUDES!$J$2:$J$1048576)","v":0},0,{"$f":"SUMIF(SOLICITUDES!$C$2:$C$1048576,BD!C4855,SOLICITUDES!$K$2:$K$1048576)","v":0},0]
[null,null,"T12405",15,13200,240,-76.941967666343572,1.8582911818156249,7.5,7.5,3,3,{"$f":"SUMIF(SOLICITUDES!$C$2:$C$1048576,BD!C4866,SOLICITUDES!$I$2:$I$1048576)","v":0},0,{"$f":"SUMIF(SOLICITUDES!$C$2:$C$1048576,BD!C4866,SOLICITUDES!$J$2:$J$1048576)","v":0},0,{"$f":"SUMIF(SOLICITUDES!$C$2:$C$1048576,BD!C4866,SOLICITUDES!$K$2:$K$1048576)","v":0},0]
[null,null,"T17863",10,13200,240,-76.990266007268616,1.9009800778619252,5,5,2,2,{"$f":"SUMIF(SOLICITUDES!$C$2:$C$1048576,BD!C4881,SOLICITUDES!$I$2:$I$1048576)","v":0},0,{"$f":"SUMIF(SOLICITUDES!$C$2:$C$1048576,BD!C4881,SOLICITUDES!$J$2:$J$1048576)","v":0},0,{"$f":"SUMIF(SOLICITUDES!$C$2:$C$1048576,BD!C4881,SOLICITUDES!$K$2:$K$1048576)","v":0},0]
[null,null,"T17713",15,13200,240,-77.002868667515429,1.8693553077361322,7.5,7.5,3,3,{"$f":"SUMIF(SOLICITUDES!$C$2:$C$1048576,BD!C4886,SOLICITUDES!$I$2:$I$1048576)","v":0},0,{"$f":"SUMIF(SOLICITUDES!$C$2:$C$1048576,BD!C4886,SOLICITUDES!$J$2:$J$1048576)","v":0},0,{"$f":"SUMIF(SOLICITUDES!$C$2:$C$1048576,BD!C4886,SOLICITUDES!$K$2:$K$1048576)","v":0},0]
[null,null,"T17855",10,13200,240,-76.968325881279924,1.905690457077164,5,5,2,2,{"$f":"SUMIF(SOLICITUDES!$C$2:$C$1048576,BD!C4897,SOLICITUDES!$I$2:$I$1048576)","v":0},0,{"$f":"SUMIF(SOLICITUDES!$C$2:$C$1048576,BD!C4897,SOLICITUDES!$J$2:$J$1048576)","v":0},0,{"$f":"SUMIF(SOLICITUDES!$C$2:$C$1048576,BD!C4897,SOLICITUDES!$K$2:$K$1048576)","v":0},0]
[null,null,"T17858",37.5,13200,240,-76.970078360753305,1.9088468013460107,18.75,18.75,7.5,7.5,{"$f":"SUMIF(SOLICITUDES!$C$2:$C$1048576,BD!C4902,SOLICITUDES!$I$2:$I$1048576)","v":0},0,{"$f":"SUMIF(SOLICITUDES!$C$2:$C$1048576,BD!C4902,SOLICITUDES!$J$2:$J$1048576)","v":0},0,{"$f":"SUMIF(SOLICITUDES!$C$2:$C$1048576,BD!C4902,SOLICITUDES!$K$2:$K$1048576)","v":0},0]
[null,null,"T23448",5,13200,240,-76.978131305424967,1.8936451080034449,2.5,2.5,1,1,{"$f":"SUMIF(SOLICITUDES!$C$2:$C$1048576,BD!C4913,SOLICITUDES!$I$2:$I$1048576)","v":0},0,{"$f":"SUMIF(SOLICITUDES!$C$2:$C$1048576,BD!C4913,SOLICITUDES!$J$2:$J$1048576)","v":0},0,{"$f":"SUMIF(SOLICITUDES!$C$2:$C$1048576,BD!C4913,SOLICITUDES!$K$2:$K$1048576)","v":0},0]
[null,null,"T26790",10,13200,240,-76.937023943197204,1.8902377717952117,5,5,2,2,{"$f":"SUMIF(SOLICITUDES!$C$2:$C$1048576,BD!C4928,SOLICITUDES!$I$2:$I$1048576)","v":0},0,{"$f":"SUMIF(SOLICITUDES!$C$2:$C$1048576,BD!C4928,SOLICITUDES!$J$2:$J$1048576)","v":0},0,{"$f":"SUMIF(SOLICITUDES!$C$2:$C$1048576,BD!C4928,SOLICITUDES!$K$2:$K$1048576)","v":0},0]
[null,null,"T23450",5,13200,240,-77.023029165080032,1.8730596017851973,2.5,2.5,1,1,{"$f":"SUMIF(SOLICITUDES!$C$2:$C$1048576,BD!C4941,SOLICITUDES!$I$2:$I$1048576)","v":0},0,{"$f":"SUMIF(SOLICITUDES!$C$2:$C$1048576,BD!C4941,SOLICITUDES!$J$2:$J$1048576)","v":0},0,{"$f":"SUMIF(SOLICITUDES!$C$2:$C$1048576,BD!C4941,SOLICITUDES!$K$2:$K$1048576)","v":0},0]
[null,null,"T25969",10,13200,240,-76.932587320677925,1.8926660141793925,5,5,2,2,{"$f":"SUMIF(SOLICITUDES!$C$2:$C$1048576,BD!C4945,SOLICITUDES!$I$2:$I$1048576)","v":0},0,{"$f":"SUMIF(SOLICITUDES!$C$2:$C$1048576,BD!C4945,SOLICITUDES!$J$2:$J$1048576)","v":0},0,{"$f":"SUMIF(SOLICITUDES!$C$2:$C$1048576,BD!C4945,SOLICITUDES!$K$2:$K$1048576)","v":0},0]
[null,null,"T23453",5,13200,240,-77.012837648206784,1.8796175360405794,2.5,2.5,1,1,{"$f":"SUMIF(SOLICITUDES!$C$2:$C$1048576,BD!C4960,SOLICITUDES!$I$2:$I$1048576)","v":0},0,{"$f":"SUMIF(SOLICITUDES!$C$2:$C$1048576,BD!C4960,SOLICITUDES!$J$2:$J$1048576)","v":0},0,{"$f":"SUMIF(SOLICITUDES!$C$2:$C$1048576,BD!C4960,SOLICITUDES!$K$2:$K$1048576)","v":0},0]
[null,null,"T23408",10,13200,240,-77.002495958055391,1.8488878324640226,5,5,2,2,{"$f":"SUMIF(SOLICITUDES!$C$2:$C$1048576,BD!C4965,SOLICITUDES!$I$2:$I$1048576)","v":0},0,{"$f":"SUMIF(SOLICITUDES!$C$2:$C$1048576,BD!C4965,SOLICITUDES!$J$2:$J$1048576)","v":0},0,{"$f":"SUMIF(SOLICITUDES!$C$2:$C$1048576,BD!C4965,SOLICITUDES!$K$2:$K$1048576)","v":0},0]
[null,null,"T23440",10,13200,240,-76.961978173399515,1.9290083106131111,5,5,2,2,{"$f":"SUMIF(SOLICITUDES!$C$2:$C$1048576,BD!C4976,SOLICITUDES!$I$2:$I$1048576)","v":0},0,{"$f":"SUMIF(SOLICITUDES!$C$2:$C$1048576,BD!C4976,SOLICITUDES!$J$2:$J$1048576)","v":0},0,{"$f":"SUMIF(SOLICITUDES!$C$2:$C$1048576,BD!C4976,SOLICITUDES!$K$2:$K$1048576)","v":0},0]
[null,null,"T20640",10,13200,240,-77.052917671691432,1.8590466443290063,5,5,2,2,{"$f":"SUMIF(SOLICITUDES!$C$2:$C$1048576,BD!C4991,SOLICITUDES!$I$2:$I$1048576)","v":0},0,{"$f":"SUMIF(SOLICITUDES!$C$2:$C$1048576,BD!C4991,SOLICITUDES!$J$2:$J$1048576)","v":0},0,{"$f":"SUMIF(SOLICITUDES!$C$2:$C$1048576,BD!C4991,SOLICITUDES!$K$2:$K$1048576)","v":0},0]
[null,null,"T13650",25,13200,240,-76.925933919455389,1.8528637043054286,12.5,12.5,5,5,{"$f":"SUMIF(SOLICITUDES!$C$2:$C$1048576,BD!C5002,SOLICITUDES!$I$2:$I$1048576)","v":0},0,{"$f":"SUMIF(SOLICITUDES!$C$2:$C$1048576,BD!C5002,SOLICITUDES!$J$2:$J$1048576)","v":0},0,{"$f":"SUMIF(SOLICITUDES!$C$2:$C$1048576,BD!C5002,SOLICITUDES!$K$2:$K$1048576)","v":0},0]
[null,null,"T14363",10,13200,240,-76.885644808480706,1.8243363699594333,5,5,2,2,{"$f":"SUMIF(SOLICITUDES!$C$2:$C$1048576,BD!C5007,SOLICITUDES!$I$2:$I$1048576)","v":0},0,{"$f":"SUMIF(SOLICITUDES!$C$2:$C$1048576,BD!C5007,SOLICITUDES!$J$2:$J$1048576)","v":0},0,{"$f":"SUMIF(SOLICITUDES!$C$2:$C$1048576,BD!C5007,SOLICITUDES!$K$2:$K$1048576)","v":0},0]
[null,null,"T13677",15,13200,240,-76.915254647195439,1.872089360556751,7.5,7.5,3,3,{"$f":"SUMIF(SOLICITUDES!$C$2:$C$1048576,BD!C5022,SOLICITUDES!$I$2:$I$1048576)","v":0},0,{"$f":"SUMIF(SOLICITUDES!$C$2:$C$1048576,BD!C5022,SOLICITUDES!$J$2:$J$1048576)","v":0},0,{"$f":"SUMIF(SOLICITUDES!$C$2:$C$1048576,BD!C5022,SOLICITUDES!$K$2:$K$1048576)","v":0},0]
[null,null,"T31254",5,13200,240,-76.920786642527816,1.8673186214493793,2.5,2.5,1,1,{"$f":"SUMIF(SOLICITUDES!$C$2:$C$1048576,BD!C5025,SOLICITUDES!$I$2:$I$1048576)","v":0},0,{"$f":"SUMIF(SOLICITUDES!$C$2:$C$1048576,BD!C5025,SOLICITUDES!$J$2:$J$1048576)","v":0},0,{"$f":"SUMIF(SOLICITUDES!$C$2:$C$1048576,BD!C5025,SOLICITUDES!$K$2:$K$1048576)","v":0},0]
[null,null,"T20655",5,13200,240,-76.993482109340263,1.8154979280607599,2.5,2.5,1,1,{"$f":"SUMIF(SOLICITUDES!$C$2:$C$1048576,BD!C5039,SOLICITUDES!$I$2:$I$1048576)","v":0},0,{"$f":"SUMIF(SOLICITUDES!$C$2:$C$1048576,BD!C5039,SOLICITUDES!$J$2:$J$1048576)","v":0},0,{"$f":"SUMIF(SOLICITUDES!$C$2:$C$1048576,BD!C5039,SOLICITUDES!$K$2:$K$1048576)","v":0},0]
[null,null,"T17990",15,13200,240,-76.957366423326221,1.8198209765451778,7.5,7.5,3,3,{"$f":"SUMIF(SOLICITUDES!$C$2:$C$1048576,BD!C5044,SOLICITUDES!$I$2:$I$1048576)","v":0},0,{"$f":"SUMIF(SOLICITUDES!$C$2:$C$1048576,BD!C5044,SOLICITUDES!$J$2:$J$1048576)","v":0},0,{"$f":"SUMIF(SOLICITUDES!$C$2:$C$1048576,BD!C5044,SOLICITUDES!$K$2:$K$1048576)","v":0},0]
[null,null,"T12414",25,13200,240,-76.998906760484957,1.8313087380228259,12.5,12.5,5,5,{"$f":"SUMIF(SOLICITUDES!$C$2:$C$1048576,BD!C5055,SOLICITUDES!$I$2:$I$1048576)","v":0},0,{"$f":"SUMIF(SOLICITUDES!$C$2:$C$1048576,BD!C5055,SOLICITUDES!$J$2:$J$1048576)","v":0},0,{"$f":"SUMIF(SOLICITUDES!$C$2:$C$1048576,BD!C5055,SOLICITUDES!$K$2:$K$1048576)","v":0},0]
[null,null,"T17913",25,13200,240,-76.997129104883626,1.7896990675522604,12.5,12.5,5,5,{"$f":"SUMIF(SOLICITUDES!$C$2:$C$1048576,BD!C5070,SOLICITUDES!$I$2:$I$1048576)","v":0},0,{"$f":"SUMIF(SOLICITUDES!$C$2:$C$1048576,BD!C5070,SOLICITUDES!$J$2:$J$1048576)","v":0},0,{"$f":"SUMIF(SOLICITUDES!$C$2:$C$1048576,BD!C5070,SOLICITUDES!$K$2:$K$1048576)","v":0},0]
[null,null,"T12421",37.5,13200,240,-77.005197959178773,1.835966509248286,18.75,18.75,7.5,7.5,{"$f":"SUMIF(SOLICITUDES!$C$2:$C$1048576,BD!C5081,SOLICITUDES!$I$2:$I$1048576)","v":0},0,{"$f":"SUMIF(SOLICITUDES!$C$2:$C$1048576,BD!C5081,SOLICITUDES!$J$2:$J$1048576)","v":0},0,{"$f":"SUMIF(SOLICITUDES!$C$2:$C$1048576,BD!C5081,SOLICITUDES!$K$2:$K$1048576)","v":0},0]
[null,null,"T17914",15,13200,240,-76.999241340265215,1.7855029798664288,7.5,7.5,3,3,{"$f":"SUMIF(SOLICITUDES!$C$2:$C$1048576,BD!C5086,SOLICITUDES!$I$2:$I$1048576)","v":0},0,{"$f":"SUMIF(SOLICITUDES!$C$2:$C$1048576,BD!C5086,SOLICITUDES!$J$2:$J$1048576)","v":0},0,{"$f":"SUMIF(SOLICITUDES!$C$2:$C$1048576,BD!C5086,SOLICITUDES!$K$2:$K$1048576)","v":0},0]
[null,null,"T17979",15,13200,240,-76.994692394970031,1.765076608439162,7.5,7.5,3,3,{"$f":"SUMIF(SOLICITUDES!$C$2:$C$1048576,BD!C5101,SOLICITUDES!$I$2:$I$1048576)","v":0},0,{"$f":"SUMIF(SOLICITUDES!$C$2:$C$1048576,BD!C5101,SOLICITUDES!$J$2:$J$1048576)","v":0},0,{"$f":"SUMIF(SOLICITUDES!$C$2:$C$1048576,BD!C5101,SOLICITUDES!$K$2:$K$1048576)","v":0},0]
[null,null,"T17925",25,13200,240,-76.98348679760791,1.7763410123301582,12.5,12.5,5,5,{"$f":"SUMIF(SOLICITUDES!$C$2:$C$1048576,BD!C5112,SOLICITUDES!$I$2:$I$1048576)","v":0},0,{"$f":"SUMIF(SOLICITUDES!$C$2:$C$1048576,BD!C5112,SOLICITUDES!$J$2:$J$1048576)","v":0},0,{"$f":"SUMIF(SOLICITUDES!$C$2:$C$1048576,BD!C5112,SOLICITUDES!$K$2:$K$1048576)","v":0},0]
[null,null,"T18074",25,13200,240,-76.997795909088381,1.7506127344040299,12.5,12.5,5,5,{"$f":"SUMIF(SOLICITUDES!$C$2:$C$1048576,BD!C5117,SOLICITUDES!$I$2:$I$1048576)","v":0},0,{"$f":"SUMIF(SOLICITUDES!$C$2:$C$1048576,BD!C5117,SOLICITUDES!$J$2:$J$1048576)","v":0},0,{"$f":"SUMIF(SOLICITUDES!$C$2:$C$1048576,BD!C5117,SOLICITUDES!$K$2:$K$1048576)","v":0},0]
[null,null,"T18248",15,13200,240,-76.99666327040454,1.7564367549763642,7.5,7.5,3,3,{"$f":"SUMIF(SOLICITUDES!$C$2:$C$1048576,BD!C5125,SOLICITUDES!$I$2:$I$1048576)","v":0},0,{"$f":"SUMIF(SOLICITUDES!$C$2:$C$1048576,BD!C5125,SOLICITUDES!$J$2:$J$1048576)","v":0},0,{"$f":"SUMIF(SOLICITUDES!$C$2:$C$1048576,BD!C5125,SOLICITUDES!$K$2:$K$1048576)","v":0},0]
[null,null,"T18066",15,13200,240,-77.000707921866507,1.7477731871325317,7.5,7.5,3,3,{"$f":"SUMIF(SOLICITUDES!$C$2:$C$1048576,BD!C5144,SOLICITUDES!$I$2:$I$1048576)","v":0},0,{"$f":"SUMIF(SOLICITUDES!$C$2:$C$1048576,BD!C5144,SOLICITUDES!$J$2:$J$1048576)","v":0},0,{"$f":"SUMIF(SOLICITUDES!$C$2:$C$1048576,BD!C5144,SOLICITUDES!$K$2:$K$1048576)","v":0},0]
[null,null,"T18293",25,13200,240,-76.958204623543466,1.7848224052035422,12.5,12.5,5,5,{"$f":"SUMIF(SOLICITUDES!$C$2:$C$1048576,BD!C5149,SOLICITUDES!$I$2:$I$1048576)","v":0},0,{"$f":"SUMIF(SOLICITUDES!$C$2:$C$1048576,BD!C5149,SOLICITUDES!$J$2:$J$1048576)","v":0},0,{"$f":"SUMIF(SOLICITUDES!$C$2:$C$1048576,BD!C5149,SOLICITUDES!$K$2:$K$1048576)","v":0},0]
[null,null,"T17985",15,13200,240,-76.973493819450383,1.7584432227939106,7.5,7.5,3,3,{"$f":"SUMIF(SOLICITUDES!$C$2:$C$1048576,BD!C5160,SOLICITUDES!$I$2:$I$1048576)","v":0},0,{"$f":"SUMIF(SOLICITUDES!$C$2:$C$1048576,BD!C5160,SOLICITUDES!$J$2:$J$1048576)","v":0},0,{"$f":"SUMIF(SOLICITUDES!$C$2:$C$1048576,BD!C5160,SOLICITUDES!$K$2:$K$1048576)","v":0},0]
[null,null,"T18289",10,13200,240,-76.956794163113827,1.7762851923077483,5,5,2,2,{"$f":"SUMIF(SOLICITUDES!$C$2:$C$1048576,BD!C5165,SOLICITUDES!$I$2:$I$1048576)","v":0},0,{"$f":"SUMIF(SOLICITUDES!$C$2:$C$1048576,BD!C5165,SOLICITUDES!$J$2:$J$1048576)","v":0},0,{"$f":"SUMIF(SOLICITUDES!$C$2:$C$1048576,BD!C5165,SOLICITUDES!$K$2:$K$1048576)","v":0},0]
[null,null,"T18294",15,13200,240,-76.95558962422335,1.7796945242650932,7.5,7.5,3,3,{"$f":"SUMIF(SOLICITUDES!$C$2:$C$1048576,BD!C5180,SOLICITUDES!$I$2:$I$1048576)","v":0},0,{"$f":"SUMIF(SOLICITUDES!$C$2:$C$1048576,BD!C5180,SOLICITUDES!$J$2:$J$1048576)","v":0},0,{"$f":"SUMIF(SOLICITUDES!$C$2:$C$1048576,BD!C5180,SOLICITUDES!$K$2:$K$1048576)","v":0},0]
[null,null,"T18282",25,13200,240,-76.968620649943489,1.7921484394946623,12.5,12.5,5,5,{"$f":"SUMIF(SOLICITUDES!$C$2:$C$1048576,BD!C5191,SOLICITUDES!$I$2:$I$1048576)","v":0},0,{"$f":"SUMIF(SOLICITUDES!$C$2:$C$1048576,BD!C5191,SOLICITUDES!$J$2:$J$1048576)","v":0},0,{"$f":"SUMIF(SOLICITUDES!$C$2:$C$1048576,BD!C5191,SOLICITUDES!$K$2:$K$1048576)","v":0},0]
[null,null,"T18297",15,13200,240,-76.960165407869283,1.7614810607051115,7.5,7.5,3,3,{"$f":"SUMIF(SOLICITUDES!$C$2:$C$1048576,BD!C5196,SOLICITUDES!$I$2:$I$1048576)","v":0},0,{"$f":"SUMIF(SOLICITUDES!$C$2:$C$1048576,BD!C5196,SOLICITUDES!$J$2:$J$1048576)","v":0},0,{"$f":"SUMIF(SOLICITUDES!$C$2:$C$1048576,BD!C5196,SOLICITUDES!$K$2:$K$1048576)","v":0},0]
[null,null,"T4422",15,13200,240,-76.650154933401609,2.3675291720924951,7.5,7.5,3,3,{"$f":"SUMIF(SOLICITUDES!$C$2:$C$1048576,BD!C5207,SOLICITUDES!$I$2:$I$1048576)","v":0},0,{"$f":"SUMIF(SOLICITUDES!$C$2:$C$1048576,BD!C5207,SOLICITUDES!$J$2:$J$1048576)","v":0},0,{"$f":"SUMIF(SOLICITUDES!$C$2:$C$1048576,BD!C5207,SOLICITUDES!$K$2:$K$1048576)","v":0},0]
[null,null,"T4427",10,13200,240,-76.657854926188136,2.3524821548715611,5,5,2,2,{"$f":"SUMIF(SOLICITUDES!$C$2:$C$1048576,BD!C5216,SOLICITUDES!$I$2:$I$1048576)","v":0},0,{"$f":"SUMIF(SOLICITUDES!$C$2:$C$1048576,BD!C5216,SOLICITUDES!$J$2:$J$1048576)","v":0},0,{"$f":"SUMIF(SOLICITUDES!$C$2:$C$1048576,BD!C5216,SOLICITUDES!$K$2:$K$1048576)","v":0},0]
[null,null,"T5909",25,13200,240,-76.644963643655629,2.3884060631710078,12.5,12.5,5,5,{"$f":"SUMIF(SOLICITUDES!$C$2:$C$1048576,BD!C5228,SOLICITUDES!$I$2:$I$1048576)","v":0},0,{"$f":"SUMIF(SOLICITUDES!$C$2:$C$1048576,BD!C5228,SOLICITUDES!$J$2:$J$1048576)","v":0},0,{"$f":"SUMIF(SOLICITUDES!$C$2:$C$1048576,BD!C5228,SOLICITUDES!$K$2:$K$1048576)","v":0},0]
[null,null,"T4455",5,13200,208,-76.629860504704965,2.3707295875842389,2.5,2.5,1,1,{"$f":"SUMIF(SOLICITUDES!$C$2:$C$1048576,BD!C5239,SOLICITUDES!$I$2:$I$1048576)","v":0},0,{"$f":"SUMIF(SOLICITUDES!$C$2:$C$1048576,BD!C5239,SOLICITUDES!$J$2:$J$1048576)","v":0},0,{"$f":"SUMIF(SOLICITUDES!$C$2:$C$1048576,BD!C5239,SOLICITUDES!$K$2:$K$1048576)","v":0},0]
[null,null,"T30054",75,13200,208,-76.650596781006357,2.9820166835779873,37.5,37.5,15,15,{"$f":"SUMIF(SOLICITUDES!$C$2:$C$1048576,BD!C5254,SOLICITUDES!$I$2:$I$1048576)","v":0},0,{"$f":"SUMIF(SOLICITUDES!$C$2:$C$1048576,BD!C5254,SOLICITUDES!$J$2:$J$1048576)","v":0},0,{"$f":"SUMIF(SOLICITUDES!$C$2:$C$1048576,BD!C5254,SOLICITUDES!$K$2:$K$1048576)","v":0},0]
[null,null,"T12903",500,13200,208,-76.644835309026163,2.9785310973053805,250,250,100,100,{"$f":"SUMIF(SOLICITUDES!$C$2:$C$1048576,BD!C5259,SOLICITUDES!$I$2:$I$1048576)","v":0},0,{"$f":"SUMIF(SOLICITUDES!$C$2:$C$1048576,BD!C5259,SOLICITUDES!$J$2:$J$1048576)","v":0},0,{"$f":"SUMIF(SOLICITUDES!$C$2:$C$1048576,BD!C5259,SOLICITUDES!$K$2:$K$1048576)","v":0},0]
[null,null,"T4387",15,13200,240,-76.715554144745028,2.3708646024039748,7.5,7.5,3,3,{"$f":"SUMIF(SOLICITUDES!$C$2:$C$1048576,BD!C5270,SOLICITUDES!$I$2:$I$1048576)","v":0},0,{"$f":"SUMIF(SOLICITUDES!$C$2:$C$1048576,BD!C5270,SOLICITUDES!$J$2:$J$1048576)","v":0},0,{"$f":"SUMIF(SOLICITUDES!$C$2:$C$1048576,BD!C5270,SOLICITUDES!$K$2:$K$1048576)","v":0},0]
[null,null,"T6656",15,13200,240,-76.720776224324794,2.3765090411535814,7.5,7.5,3,3,{"$f":"SUMIF(SOLICITUDES!$C$2:$C$1048576,BD!C5285,SOLICITUDES!$I$2:$I$1048576)","v":0},0,{"$f":"SUMIF(SOLICITUDES!$C$2:$C$1048576,BD!C5285,SOLICITUDES!$J$2:$J$1048576)","v":0},0,{"$f":"SUMIF(SOLICITUDES!$C$2:$C$1048576,BD!C5285,SOLICITUDES!$K$2:$K$1048576)","v":0},0]
[null,null,"T8425",15,13200,240,-76.692404527110796,2.3341875570425552,7.5,7.5,3,3,{"$f":"SUMIF(SOLICITUDES!$C$2:$C$1048576,BD!C5286,SOLICITUDES!$I$2:$I$1048576)","v":0},0,{"$f":"SUMIF(SOLICITUDES!$C$2:$C$1048576,BD!C5286,SOLICITUDES!$J$2:$J$1048576)","v":0},0,{"$f":"SUMIF(SOLICITUDES!$C$2:$C$1048576,BD!C5286,SOLICITUDES!$K$2:$K$1048576)","v":0},0]
[null,null,"T7525",25,13200,240,-76.71741135340028,2.3511053497053442,12.5,12.5,5,5,{"$f":"SUMIF(SOLICITUDES!$C$2:$C$1048576,BD!C5301,SOLICITUDES!$I$2:$I$1048576)","v":0},0,{"$f":"SUMIF(SOLICITUDES!$C$2:$C$1048576,BD!C5301,SOLICITUDES!$J$2:$J$1048576)","v":0},0,{"$f":"SUMIF(SOLICITUDES!$C$2:$C$1048576,BD!C5301,SOLICITUDES!$K$2:$K$1048576)","v":0},0]
[null,null,"T8407",25,13200,240,-76.695927360191249,2.3060908681633694,12.5,12.5,5,5,{"$f":"SUMIF(SOLICITUDES!$C$2:$C$1048576,BD!C5307,SOLICITUDES!$I$2:$I$1048576)","v":0},0,{"$f":"SUMIF(SOLICITUDES!$C$2:$C$1048576,BD!C5307,SOLICITUDES!$J$2:$J$1048576)","v":0},0,{"$f":"SUMIF(SOLICITUDES!$C$2:$C$1048576,BD!C5307,SOLICITUDES!$K$2:$K$1048576)","v":0},0]
[null,null,"T6674",5,13200,240,-76.744673417798992,2.3620018034625021,2.5,2.5,1,1,{"$f":"SUMIF(SOLICITUDES!$C$2:$C$1048576,BD!C5318,SOLICITUDES!$I$2:$I$1048576)","v":0},0,{"$f":"SUMIF(SOLICITUDES!$C$2:$C$1048576,BD!C5318,SOLICITUDES!$J$2:$J$1048576)","v":0},0,{"$f":"SUMIF(SOLICITUDES!$C$2:$C$1048576,BD!C5318,SOLICITUDES!$K$2:$K$1048576)","v":0},0]
[null,null,"T5824",10,13200,240,-76.691287518796344,2.4063168078746981,5,5,2,2,{"$f":"SUMIF(SOLICITUDES!$C$2:$C$1048576,BD!C5333,SOLICITUDES!$I$2:$I$1048576)","v":0},0,{"$f":"SUMIF(SOLICITUDES!$C$2:$C$1048576,BD!C5333,SOLICITUDES!$J$2:$J$1048576)","v":0},0,{"$f":"SUMIF(SOLICITUDES!$C$2:$C$1048576,BD!C5333,SOLICITUDES!$K$2:$K$1048576)","v":0},0]
[null,null,"T6669",25,13200,240,-76.750970092849073,2.3630058043845033,12.5,12.5,5,5,{"$f":"SUMIF(SOLICITUDES!$C$2:$C$1048576,BD!C5344,SOLICITUDES!$I$2:$I$1048576)","v":0},0,{"$f":"SUMIF(SOLICITUDES!$C$2:$C$1048576,BD!C5344,SOLICITUDES!$J$2:$J$1048576)","v":0},0,{"$f":"SUMIF(SOLICITUDES!$C$2:$C$1048576,BD!C5344,SOLICITUDES!$K$2:$K$1048576)","v":0},0]
[null,null,"T6685",10,13200,240,-76.748993207672711,2.3665591515091924,5,5,2,2,{"$f":"SUMIF(SOLICITUDES!$C$2:$C$1048576,BD!C5349,SOLICITUDES!$I$2:$I$1048576)","v":0},0,{"$f":"SUMIF(SOLICITUDES!$C$2:$C$1048576,BD!C5349,SOLICITUDES!$J$2:$J$1048576)","v":0},0,{"$f":"SUMIF(SOLICITUDES!$C$2:$C$1048576,BD!C5349,SOLICITUDES!$K$2:$K$1048576)","v":0},0]
[null,null,"T7498",37.5,13200,240,-76.738434097195778,2.3389292716768653,18.75,18.75,7.5,7.5,{"$f":"SUMIF(SOLICITUDES!$C$2:$C$1048576,BD!C5364,SOLICITUDES!$I$2:$I$1048576)","v":0},0,{"$f":"SUMIF(SOLICITUDES!$C$2:$C$1048576,BD!C5364,SOLICITUDES!$J$2:$J$1048576)","v":0},0,{"$f":"SUMIF(SOLICITUDES!$C$2:$C$1048576,BD!C5364,SOLICITUDES!$K$2:$K$1048576)","v":0},0]
[null,null,"T8404",25,13200,240,-76.711937361037371,2.3119733351574556,12.5,12.5,5,5,{"$f":"SUMIF(SOLICITUDES!$C$2:$C$1048576,BD!C5375,SOLICITUDES!$I$2:$I$1048576)","v":0},0,{"$f":"SUMIF(SOLICITUDES!$C$2:$C$1048576,BD!C5375,SOLICITUDES!$J$2:$J$1048576)","v":0},0,{"$f":"SUMIF(SOLICITUDES!$C$2:$C$1048576,BD!C5375,SOLICITUDES!$K$2:$K$1048576)","v":0},0]
[null,null,"T5621",15,13200,240,-76.723870709213188,2.4047070260848593,{"$f":"D5380*0.5","v":7.5},7.5,{"$f":"0.2*D5380","v":3},{"$f":"0.2*D5380","v":3},{"$f":"SUMIF(SOLICITUDES!$C$2:$C$1048576,BD!C5380,SOLICITUDES!$I$2:$I$1048576)","v":0},0,{"$f":"SUMIF(SOLICITUDES!$C$2:$C$1048576,BD!C5380,SOLICITUDES!$J$2:$J$1048576)","v":0},{"$f":"O5380/(2*K5380)","v":0},{"$f":"SUMIF(SOLICITUDES!$C$2:$C$1048576,BD!C5380,SOLICITUDES!$K$2:$K$1048576)","v":0},{"$f":"Q5380/(2*L5380)","v":0}]
[null,null,"T5836",25,13200,240,-76.705558350097363,2.4302766373822298,12.5,12.5,5,5,{"$f":"SUMIF(SOLICITUDES!$C$2:$C$1048576,BD!C5395,SOLICITUDES!$I$2:$I$1048576)","v":0},0,{"$f":"SUMIF(SOLICITUDES!$C$2:$C$1048576,BD!C5395,SOLICITUDES!$J$2:$J$1048576)","v":0},0,{"$f":"SUMIF(SOLICITUDES!$C$2:$C$1048576,BD!C5395,SOLICITUDES!$K$2:$K$1048576)","v":0},0]
[null,null,"T8424",37.5,13200,214,-76.72048585336816,2.316804684123154,18.75,18.75,7.5,7.5,{"$f":"SUMIF(SOLICITUDES!$C$2:$C$1048576,BD!C5402,SOLICITUDES!$I$2:$I$1048576)","v":0},0,{"$f":"SUMIF(SOLICITUDES!$C$2:$C$1048576,BD!C5402,SOLICITUDES!$J$2:$J$1048576)","v":0},0,{"$f":"SUMIF(SOLICITUDES!$C$2:$C$1048576,BD!C5402,SOLICITUDES!$K$2:$K$1048576)","v":0},0]
[null,null,"T15003",25,13200,240,-76.719325062822307,2.3209191284258468,12.5,12.5,5,5,{"$f":"SUMIF(SOLICITUDES!$C$2:$C$1048576,BD!C5412,SOLICITUDES!$I$2:$I$1048576)","v":0},0,{"$f":"SUMIF(SOLICITUDES!$C$2:$C$1048576,BD!C5412,SOLICITUDES!$J$2:$J$1048576)","v":0},0,{"$f":"SUMIF(SOLICITUDES!$C$2:$C$1048576,BD!C5412,SOLICITUDES!$K$2:$K$1048576)","v":0},0]
[null,null,"T9709",15,13200,240,-76.753224744584699,2.3490208405434583,7.5,7.5,3,3,{"$f":"SUMIF(SOLICITUDES!$C$2:$C$1048576,BD!C5423,SOLICITUDES!$I$2:$I$1048576)","v":0},0,{"$f":"SUMIF(SOLICITUDES!$C$2:$C$1048576,BD!C5423,SOLICITUDES!$J$2:$J$1048576)","v":0},0,{"$f":"SUMIF(SOLICITUDES!$C$2:$C$1048576,BD!C5423,SOLICITUDES!$K$2:$K$1048576)","v":0},0]
[null,null,"T18861",10,13200,240,-76.721371989572262,2.4312695094920658,5,5,2,2,{"$f":"SUMIF(SOLICITUDES!$C$2:$C$1048576,BD!C5428,SOLICITUDES!$I$2:$I$1048576)","v":0},0,{"$f":"SUMIF(SOLICITUDES!$C$2:$C$1048576,BD!C5428,SOLICITUDES!$J$2:$J$1048576)","v":0},0,{"$f":"SUMIF(SOLICITUDES!$C$2:$C$1048576,BD!C5428,SOLICITUDES!$K$2:$K$1048576)","v":0},0]
[null,null,"T18862",15,13200,240,-76.730090974355804,2.4403808107103138,7.5,{"$f":"D5443*0.5-M5443","v":7.5},3,3,{"$f":"SUMIF(SOLICITUDES!$C$2:$C$1048576,BD!C5443,SOLICITUDES!$I$2:$I$1048576)","v":0},{"$f":"M5443/D5443","v":0},{"$f":"SUMIF(SOLICITUDES!$C$2:$C$1048576,BD!C5443,SOLICITUDES!$J$2:$J$1048576)","v":0},0,{"$f":"SUMIF(SOLICITUDES!$C$2:$C$1048576,BD!C5443,SOLICITUDES!$K$2:$K$1048576)","v":0},0]
[null,null,"T9716",10,13200,240,-76.79138417081758,2.3649091120329939,5,5,2,2,{"$f":"SUMIF(SOLICITUDES!$C$2:$C$1048576,BD!C5454,SOLICITUDES!$I$2:$I$1048576)","v":0},0,{"$f":"SUMIF(SOLICITUDES!$C$2:$C$1048576,BD!C5454,SOLICITUDES!$J$2:$J$1048576)","v":0},0,{"$f":"SUMIF(SOLICITUDES!$C$2:$C$1048576,BD!C5454,SOLICITUDES!$K$2:$K$1048576)","v":0},0]
[null,null,"T6894",25,13200,240,-76.696248966649932,2.2961024070943381,12.5,12.5,5,5,{"$f":"SUMIF(SOLICITUDES!$C$2:$C$1048576,BD!C5459,SOLICITUDES!$I$2:$I$1048576)","v":0},0,{"$f":"SUMIF(SOLICITUDES!$C$2:$C$1048576,BD!C5459,SOLICITUDES!$J$2:$J$1048576)","v":0},0,{"$f":"SUMIF(SOLICITUDES!$C$2:$C$1048576,BD!C5459,SOLICITUDES!$K$2:$K$1048576)","v":0},0]
[null,null,"T12108",5,13200,240,-76.770073326759345,2.3393934044786753,2.5,2.5,1,1,{"$f":"SUMIF(SOLICITUDES!$C$2:$C$1048576,BD!C5470,SOLICITUDES!$I$2:$I$1048576)","v":0},0,{"$f":"SUMIF(SOLICITUDES!$C$2:$C$1048576,BD!C5470,SOLICITUDES!$J$2:$J$1048576)","v":0},0,{"$f":"SUMIF(SOLICITUDES!$C$2:$C$1048576,BD!C5470,SOLICITUDES!$K$2:$K$1048576)","v":0},0]
[null,null,"T6901",10,13200,240,-76.677873252653455,2.2806288639008381,5,5,2,2,{"$f":"SUMIF(SOLICITUDES!$C$2:$C$1048576,BD!C5485,SOLICITUDES!$I$2:$I$1048576)","v":0},0,{"$f":"SUMIF(SOLICITUDES!$C$2:$C$1048576,BD!C5485,SOLICITUDES!$J$2:$J$1048576)","v":0},0,{"$f":"SUMIF(SOLICITUDES!$C$2:$C$1048576,BD!C5485,SOLICITUDES!$K$2:$K$1048576)","v":0},0]
[null,null,"T29065",10,13200,240,-76.761765788067009,2.3184620841248651,5,5,2,2,{"$f":"SUMIF(SOLICITUDES!$C$2:$C$1048576,BD!C5493,SOLICITUDES!$I$2:$I$1048576)","v":0},0,{"$f":"SUMIF(SOLICITUDES!$C$2:$C$1048576,BD!C5493,SOLICITUDES!$J$2:$J$1048576)","v":0},0,{"$f":"SUMIF(SOLICITUDES!$C$2:$C$1048576,BD!C5493,SOLICITUDES!$K$2:$K$1048576)","v":0},0]
[null,null,"T15652",10,13200,240,-76.774021894883987,2.3221982102904888,5,5,2,2,{"$f":"SUMIF(SOLICITUDES!$C$2:$C$1048576,BD!C5502,SOLICITUDES!$I$2:$I$1048576)","v":0},0,{"$f":"SUMIF(SOLICITUDES!$C$2:$C$1048576,BD!C5502,SOLICITUDES!$J$2:$J$1048576)","v":0},0,{"$f":"SUMIF(SOLICITUDES!$C$2:$C$1048576,BD!C5502,SOLICITUDES!$K$2:$K$1048576)","v":0},0]
[null,null,"T15649",10,13200,240,-76.782139843406426,2.3238820482576559,5,5,2,2,{"$f":"SUMIF(SOLICITUDES!$C$2:$C$1048576,BD!C5517,SOLICITUDES!$I$2:$I$1048576)","v":0},0,{"$f":"SUMIF(SOLICITUDES!$C$2:$C$1048576,BD!C5517,SOLICITUDES!$J$2:$J$1048576)","v":0},0,{"$f":"SUMIF(SOLICITUDES!$C$2:$C$1048576,BD!C5517,SOLICITUDES!$K$2:$K$1048576)","v":0},0]
[null,null,"T29066",5,13200,240,-76.769210135060789,2.3118695609045572,2.5,2.5,1,1,{"$f":"SUMIF(SOLICITUDES!$C$2:$C$1048576,BD!C5522,SOLICITUDES!$I$2:$I$1048576)","v":0},0,{"$f":"SUMIF(SOLICITUDES!$C$2:$C$1048576,BD!C5522,SOLICITUDES!$J$2:$J$1048576)","v":0},0,{"$f":"SUMIF(SOLICITUDES!$C$2:$C$1048576,BD!C5522,SOLICITUDES!$K$2:$K$1048576)","v":0},0]
[null,null,"T9853",5,13200,208,-76.696598704022108,2.2686269080355812,2.5,2.5,1,1,{"$f":"SUMIF(SOLICITUDES!$C$2:$C$1048576,BD!C5533,SOLICITUDES!$I$2:$I$1048576)","v":0},0,{"$f":"SUMIF(SOLICITUDES!$C$2:$C$1048576,BD!C5533,SOLICITUDES!$J$2:$J$1048576)","v":0},0,{"$f":"SUMIF(SOLICITUDES!$C$2:$C$1048576,BD!C5533,SOLICITUDES!$K$2:$K$1048576)","v":0},0]
[null,null,"T20003",5,13200,240,-76.814721076571175,2.3303220115575756,2.5,2.5,1,1,{"$f":"SUMIF(SOLICITUDES!$C$2:$C$1048576,BD!C5548,SOLICITUDES!$I$2:$I$1048576)","v":0},0,{"$f":"SUMIF(SOLICITUDES!$C$2:$C$1048576,BD!C5548,SOLICITUDES!$J$2:$J$1048576)","v":0},0,{"$f":"SUMIF(SOLICITUDES!$C$2:$C$1048576,BD!C5548,SOLICITUDES!$K$2:$K$1048576)","v":0},0]
[null,null,"T20001",5,13200,240,-76.806315663906801,2.3288615395782823,2.5,2.5,1,1,{"$f":"SUMIF(SOLICITUDES!$C$2:$C$1048576,BD!C5549,SOLICITUDES!$I$2:$I$1048576)","v":0},0,{"$f":"SUMIF(SOLICITUDES!$C$2:$C$1048576,BD!C5549,SOLICITUDES!$J$2:$J$1048576)","v":0},0,{"$f":"SUMIF(SOLICITUDES!$C$2:$C$1048576,BD!C5549,SOLICITUDES!$K$2:$K$1048576)","v":0},0]
[null,null,"T6874",15,13200,240,-76.67162033737948,2.2661487143632573,7.5,7.5,3,3,{"$f":"SUMIF(SOLICITUDES!$C$2:$C$1048576,BD!C5564,SOLICITUDES!$I$2:$I$1048576)","v":0},0,{"$f":"SUMIF(SOLICITUDES!$C$2:$C$1048576,BD!C5564,SOLICITUDES!$J$2:$J$1048576)","v":0},0,{"$f":"SUMIF(SOLICITUDES!$C$2:$C$1048576,BD!C5564,SOLICITUDES!$K$2:$K$1048576)","v":0},0]
[null,null,"T6907",15,13200,240,-76.668248088501969,2.2696384642943612,7.5,7.5,3,3,{"$f":"SUMIF(SOLICITUDES!$C$2:$C$1048576,BD!C5569,SOLICITUDES!$I$2:$I$1048576)","v":0},0,{"$f":"SUMIF(SOLICITUDES!$C$2:$C$1048576,BD!C5569,SOLICITUDES!$J$2:$J$1048576)","v":0},0,{"$f":"SUMIF(SOLICITUDES!$C$2:$C$1048576,BD!C5569,SOLICITUDES!$K$2:$K$1048576)","v":0},0]
[null,null,"T5858",45,13200,208,-76.682997553432443,2.3570158801695662,22.5,22.5,9,9,{"$f":"SUMIF(SOLICITUDES!$C$2:$C$1048576,BD!C5588,SOLICITUDES!$I$2:$I$1048576)","v":0},0,{"$f":"SUMIF(SOLICITUDES!$C$2:$C$1048576,BD!C5588,SOLICITUDES!$J$2:$J$1048576)","v":0},0,{"$f":"SUMIF(SOLICITUDES!$C$2:$C$1048576,BD!C5588,SOLICITUDES!$K$2:$K$1048576)","v":0},0]
[null,null,"T4274",75,13200,208,-76.68712798571849,2.3555356774359058,37.5,37.5,15,15,{"$f":"SUMIF(SOLICITUDES!$C$2:$C$1048576,BD!C5596,SOLICITUDES!$I$2:$I$1048576)","v":0},0,{"$f":"SUMIF(SOLICITUDES!$C$2:$C$1048576,BD!C5596,SOLICITUDES!$J$2:$J$1048576)","v":0},0,{"$f":"SUMIF(SOLICITUDES!$C$2:$C$1048576,BD!C5596,SOLICITUDES!$K$2:$K$1048576)","v":0},0]
[null,null,"T5861",25,13200,240,-76.681438149380341,2.3593158457727958,12.5,12.5,5,5,{"$f":"SUMIF(SOLICITUDES!$C$2:$C$1048576,BD!C5601,SOLICITUDES!$I$2:$I$1048576)","v":0},0,{"$f":"SUMIF(SOLICITUDES!$C$2:$C$1048576,BD!C5601,SOLICITUDES!$J$2:$J$1048576)","v":0},0,{"$f":"SUMIF(SOLICITUDES!$C$2:$C$1048576,BD!C5601,SOLICITUDES!$K$2:$K$1048576)","v":0},0]
[null,null,"T5843",15,13200,240,-76.684306723348072,2.3571914905291393,7.5,7.5,3,3,{"$f":"SUMIF(SOLICITUDES!$C$2:$C$1048576,BD!C5612,SOLICITUDES!$I$2:$I$1048576)","v":0},0,{"$f":"SUMIF(SOLICITUDES!$C$2:$C$1048576,BD!C5612,SOLICITUDES!$J$2:$J$1048576)","v":0},0,{"$f":"SUMIF(SOLICITUDES!$C$2:$C$1048576,BD!C5612,SOLICITUDES!$K$2:$K$1048576)","v":0},0]
[null,null,"T16708",15,13200,240,-76.685989510076823,2.3833542976109339,7.5,7.5,3,3,{"$f":"SUMIF(SOLICITUDES!$C$2:$C$1048576,BD!C5627,SOLICITUDES!$I$2:$I$1048576)","v":0},0,{"$f":"SUMIF(SOLICITUDES!$C$2:$C$1048576,BD!C5627,SOLICITUDES!$J$2:$J$1048576)","v":0},0,{"$f":"SUMIF(SOLICITUDES!$C$2:$C$1048576,BD!C5627,SOLICITUDES!$K$2:$K$1048576)","v":0},0]
[null,null,"T16710",25,13200,240,-76.689108628674205,2.3856431613242011,12.5,12.5,5,5,{"$f":"SUMIF(SOLICITUDES!$C$2:$C$1048576,BD!C5638,SOLICITUDES!$I$2:$I$1048576)","v":0},0,{"$f":"SUMIF(SOLICITUDES!$C$2:$C$1048576,BD!C5638,SOLICITUDES!$J$2:$J$1048576)","v":0},0,{"$f":"SUMIF(SOLICITUDES!$C$2:$C$1048576,BD!C5638,SOLICITUDES!$K$2:$K$1048576)","v":0},0]
[null,null,"T6138",75,13200,208,-76.665371168647056,2.3926356487426799,37.5,37.5,15,15,{"$f":"SUMIF(SOLICITUDES!$C$2:$C$1048576,BD!C5643,SOLICITUDES!$I$2:$I$1048576)","v":0},0,{"$f":"SUMIF(SOLICITUDES!$C$2:$C$1048576,BD!C5643,SOLICITUDES!$J$2:$J$1048576)","v":0},0,{"$f":"SUMIF(SOLICITUDES!$C$2:$C$1048576,BD!C5643,SOLICITUDES!$K$2:$K$1048576)","v":0},0]
[null,null,"T5412",75,13200,240,-76.613397388927822,2.2523490658061949,37.5,37.5,15,15,{"$f":"SUMIF(SOLICITUDES!$C$2:$C$1048576,BD!C5658,SOLICITUDES!$I$2:$I$1048576)","v":0},0,{"$f":"SUMIF(SOLICITUDES!$C$2:$C$1048576,BD!C5658,SOLICITUDES!$J$2:$J$1048576)","v":0},0,{"$f":"SUMIF(SOLICITUDES!$C$2:$C$1048576,BD!C5658,SOLICITUDES!$K$2:$K$1048576)","v":0},0]
[null,null,"T5415",10,13200,240,-76.605954947211586,2.24890122941243,5,5,2,2,{"$f":"SUMIF(SOLICITUDES!$C$2:$C$1048576,BD!C5669,SOLICITUDES!$I$2:$I$1048576)","v":0},0,{"$f":"SUMIF(SOLICITUDES!$C$2:$C$1048576,BD!C5669,SOLICITUDES!$J$2:$J$1048576)","v":0},0,{"$f":"SUMIF(SOLICITUDES!$C$2:$C$1048576,BD!C5669,SOLICITUDES!$K$2:$K$1048576)","v":0},0]
[null,null,"T8995",10,13200,240,-76.541671451951487,2.3404766738010534,5,5,2,2,{"$f":"SUMIF(SOLICITUDES!$C$2:$C$1048576,BD!C5679,SOLICITUDES!$I$2:$I$1048576)","v":0},0,{"$f":"SUMIF(SOLICITUDES!$C$2:$C$1048576,BD!C5679,SOLICITUDES!$J$2:$J$1048576)","v":0},0,{"$f":"SUMIF(SOLICITUDES!$C$2:$C$1048576,BD!C5679,SOLICITUDES!$K$2:$K$1048576)","v":0},0]
[null,null,"T8988",10,13200,240,-76.561970945090422,2.3657962236489958,5,5,2,2,{"$f":"SUMIF(SOLICITUDES!$C$2:$C$1048576,BD!C5686,SOLICITUDES!$I$2:$I$1048576)","v":0},0,{"$f":"SUMIF(SOLICITUDES!$C$2:$C$1048576,BD!C5686,SOLICITUDES!$J$2:$J$1048576)","v":0},0,{"$f":"SUMIF(SOLICITUDES!$C$2:$C$1048576,BD!C5686,SOLICITUDES!$K$2:$K$1048576)","v":0},0]
[null,null,"T8692",15,13200,240,-76.557963474058724,2.7996027509967307,7.5,7.5,3,3,{"$f":"SUMIF(SOLICITUDES!$C$2:$C$1048576,BD!C5691,SOLICITUDES!$I$2:$I$1048576)","v":0},0,{"$f":"SUMIF(SOLICITUDES!$C$2:$C$1048576,BD!C5691,SOLICITUDES!$J$2:$J$1048576)","v":0},0,{"$f":"SUMIF(SOLICITUDES!$C$2:$C$1048576,BD!C5691,SOLICITUDES!$K$2:$K$1048576)","v":0},0]
[null,null,"T9287",10,13200,240,-76.561653663576877,2.8336878583064333,5,5,2,2,{"$f":"SUMIF(SOLICITUDES!$C$2:$C$1048576,BD!C5706,SOLICITUDES!$I$2:$I$1048576)","v":0},0,{"$f":"SUMIF(SOLICITUDES!$C$2:$C$1048576,BD!C5706,SOLICITUDES!$J$2:$J$1048576)","v":0},0,{"$f":"SUMIF(SOLICITUDES!$C$2:$C$1048576,BD!C5706,SOLICITUDES!$K$2:$K$1048576)","v":0},0]
[null,null,"T9297",15,13200,214,-76.564212904820423,2.842614556992678,7.5,7.5,3,3,{"$f":"SUMIF(SOLICITUDES!$C$2:$C$1048576,BD!C5717,SOLICITUDES!$I$2:$I$1048576)","v":0},0,{"$f":"SUMIF(SOLICITUDES!$C$2:$C$1048576,BD!C5717,SOLICITUDES!$J$2:$J$1048576)","v":0},0,{"$f":"SUMIF(SOLICITUDES!$C$2:$C$1048576,BD!C5717,SOLICITUDES!$K$2:$K$1048576)","v":0},0]
[null,null,"T8694",10,13200,240,-76.529190671266306,2.767106824632747,5,5,2,2,{"$f":"SUMIF(SOLICITUDES!$C$2:$C$1048576,BD!C5722,SOLICITUDES!$I$2:$I$1048576)","v":0},0,{"$f":"SUMIF(SOLICITUDES!$C$2:$C$1048576,BD!C5722,SOLICITUDES!$J$2:$J$1048576)","v":0},0,{"$f":"SUMIF(SOLICITUDES!$C$2:$C$1048576,BD!C5722,SOLICITUDES!$K$2:$K$1048576)","v":0},0]
[null,null,"T8082",15,13200,214,-76.507144097245956,2.7850794280296367,7.5,7.5,3,3,{"$f":"SUMIF(SOLICITUDES!$C$2:$C$1048576,BD!C5737,SOLICITUDES!$I$2:$I$1048576)","v":0},0,{"$f":"SUMIF(SOLICITUDES!$C$2:$C$1048576,BD!C5737,SOLICITUDES!$J$2:$J$1048576)","v":0},0,{"$f":"SUMIF(SOLICITUDES!$C$2:$C$1048576,BD!C5737,SOLICITUDES!$K$2:$K$1048576)","v":0},0]
[null,null,"T51438",10,13200,240,-76.608896016078631,2.8657076263733665,5,5,2,2,{"$f":"SUMIF(SOLICITUDES!$C$2:$C$1048576,BD!C5748,SOLICITUDES!$I$2:$I$1048576)","v":0},0,{"$f":"SUMIF(SOLICITUDES!$C$2:$C$1048576,BD!C5748,SOLICITUDES!$J$2:$J$1048576)","v":0},0,{"$f":"SUMIF(SOLICITUDES!$C$2:$C$1048576,BD!C5748,SOLICITUDES!$K$2:$K$1048576)","v":0},0]
[null,null,"T8079",15,13200,240,-76.514317159960513,2.8124290631712978,7.5,7.5,3,3,{"$f":"SUMIF(SOLICITUDES!$C$2:$C$1048576,BD!C5753,SOLICITUDES!$I$2:$I$1048576)","v":0},0,{"$f":"SUMIF(SOLICITUDES!$C$2:$C$1048576,BD!C5753,SOLICITUDES!$J$2:$J$1048576)","v":0},0,{"$f":"SUMIF(SOLICITUDES!$C$2:$C$1048576,BD!C5753,SOLICITUDES!$K$2:$K$1048576)","v":0},0]
[null,null,"T24122",5,13200,240,-76.527428569750782,2.8230924769009178,2.5,{"$f":"D5763*0.5-M5763","v":2.5},1,1,{"$f":"SUMIF(SOLICITUDES!$C$2:$C$1048576,BD!C5763,SOLICITUDES!$I$2:$I$1048576)","v":0},{"$f":"M5763/D5763","v":0},{"$f":"SUMIF(SOLICITUDES!$C$2:$C$1048576,BD!C5763,SOLICITUDES!$J$2:$J$1048576)","v":0},0,{"$f":"SUMIF(SOLICITUDES!$C$2:$C$1048576,BD!C5763,SOLICITUDES!$K$2:$K$1048576)","v":0},0]
[null,null,"T11097",25,13200,240,-76.498167989281143,2.7781243747544315,12.5,12.5,5,5,{"$f":"SUMIF(SOLICITUDES!$C$2:$C$1048576,BD!C5780,SOLICITUDES!$I$2:$I$1048576)","v":0},0,{"$f":"SUMIF(SOLICITUDES!$C$2:$C$1048576,BD!C5780,SOLICITUDES!$J$2:$J$1048576)","v":0},0,{"$f":"SUMIF(SOLICITUDES!$C$2:$C$1048576,BD!C5780,SOLICITUDES!$K$2:$K$1048576)","v":0},0]
[null,null,"T24783",10,13200,214,-76.51984366554575,2.7339443370298335,5,5,2,2,{"$f":"SUMIF(SOLICITUDES!$C$2:$C$1048576,BD!C5785,SOLICITUDES!$I$2:$I$1048576)","v":0},0,{"$f":"SUMIF(SOLICITUDES!$C$2:$C$1048576,BD!C5785,SOLICITUDES!$J$2:$J$1048576)","v":0},0,{"$f":"SUMIF(SOLICITUDES!$C$2:$C$1048576,BD!C5785,SOLICITUDES!$K$2:$K$1048576)","v":0},0]
[null,null,"T26518",10,13200,240,-76.517321551222693,2.7248701619450024,5,5,2,2,{"$f":"SUMIF(SOLICITUDES!$C$2:$C$1048576,BD!C5796,SOLICITUDES!$I$2:$I$1048576)","v":0},0,{"$f":"SUMIF(SOLICITUDES!$C$2:$C$1048576,BD!C5796,SOLICITUDES!$J$2:$J$1048576)","v":0},0,{"$f":"SUMIF(SOLICITUDES!$C$2:$C$1048576,BD!C5796,SOLICITUDES!$K$2:$K$1048576)","v":0},0]
[null,null,"T11294",15,13200,240,-76.502503810845724,2.7573004367382756,7.5,7.5,3,3,{"$f":"SUMIF(SOLICITUDES!$C$2:$C$1048576,BD!C5811,SOLICITUDES!$I$2:$I$1048576)","v":0},0,{"$f":"SUMIF(SOLICITUDES!$C$2:$C$1048576,BD!C5811,SOLICITUDES!$J$2:$J$1048576)","v":0},0,{"$f":"SUMIF(SOLICITUDES!$C$2:$C$1048576,BD!C5811,SOLICITUDES!$K$2:$K$1048576)","v":0},0]
[null,null,"T11298",15,13200,240,-76.494186691693628,2.7350064745901097,7.5,7.5,3,3,{"$f":"SUMIF(SOLICITUDES!$C$2:$C$1048576,BD!C5812,SOLICITUDES!$I$2:$I$1048576)","v":0},0,{"$f":"SUMIF(SOLICITUDES!$C$2:$C$1048576,BD!C5812,SOLICITUDES!$J$2:$J$1048576)","v":0},0,{"$f":"SUMIF(SOLICITUDES!$C$2:$C$1048576,BD!C5812,SOLICITUDES!$K$2:$K$1048576)","v":0},0]
[null,null,"T14024",5,13200,240,-76.462560652987065,2.7951629467668559,2.5,{"$f":"D5827*0.5-M5827","v":2.5},1,1,{"$f":"SUMIF(SOLICITUDES!$C$2:$C$1048576,BD!C5827,SOLICITUDES!$I$2:$I$1048576)","v":0},{"$f":"M5827/D5827","v":0},{"$f":"SUMIF(SOLICITUDES!$C$2:$C$1048576,BD!C5827,SOLICITUDES!$J$2:$J$1048576)","v":0},0,{"$f":"SUMIF(SOLICITUDES!$C$2:$C$1048576,BD!C5827,SOLICITUDES!$K$2:$K$1048576)","v":0},0]
[null,null,"T14023",15,13200,240,-76.460910870184321,2.8048589295316844,7.5,7.5,3,3,{"$f":"SUMIF(SOLICITUDES!$C$2:$C$1048576,BD!C5832,SOLICITUDES!$I$2:$I$1048576)","v":0},0,{"$f":"SUMIF(SOLICITUDES!$C$2:$C$1048576,BD!C5832,SOLICITUDES!$J$2:$J$1048576)","v":0},0,{"$f":"SUMIF(SOLICITUDES!$C$2:$C$1048576,BD!C5832,SOLICITUDES!$K$2:$K$1048576)","v":0},0]
[null,null,"T13878",15,13200,240,-76.478581675797656,2.7804719238994937,7.5,7.5,3,3,{"$f":"SUMIF(SOLICITUDES!$C$2:$C$1048576,BD!C5843,SOLICITUDES!$I$2:$I$1048576)","v":0},0,{"$f":"SUMIF(SOLICITUDES!$C$2:$C$1048576,BD!C5843,SOLICITUDES!$J$2:$J$1048576)","v":0},0,{"$f":"SUMIF(SOLICITUDES!$C$2:$C$1048576,BD!C5843,SOLICITUDES!$K$2:$K$1048576)","v":0},0]
[null,null,"T24209",5,13200,240,-76.483981744458262,2.7765959099766353,2.5,2.5,1,1,{"$f":"SUMIF(SOLICITUDES!$C$2:$C$1048576,BD!C5854,SOLICITUDES!$I$2:$I$1048576)","v":0},0,{"$f":"SUMIF(SOLICITUDES!$C$2:$C$1048576,BD!C5854,SOLICITUDES!$J$2:$J$1048576)","v":0},0,{"$f":"SUMIF(SOLICITUDES!$C$2:$C$1048576,BD!C5854,SOLICITUDES!$K$2:$K$1048576)","v":0},0]
[null,null,"T14644",15,13200,240,-76.405690971827994,2.7954371191623641,7.5,7.5,3,3,{"$f":"SUMIF(SOLICITUDES!$C$2:$C$1048576,BD!C5864,SOLICITUDES!$I$2:$I$1048576)","v":0},0,{"$f":"SUMIF(SOLICITUDES!$C$2:$C$1048576,BD!C5864,SOLICITUDES!$J$2:$J$1048576)","v":0},0,{"$f":"SUMIF(SOLICITUDES!$C$2:$C$1048576,BD!C5864,SOLICITUDES!$K$2:$K$1048576)","v":0},0]
[null,null,"T24073",5,13200,240,-76.430959844937419,2.7832261102355695,2.5,2.5,1,1,{"$f":"SUMIF(SOLICITUDES!$C$2:$C$1048576,BD!C5875,SOLICITUDES!$I$2:$I$1048576)","v":0},0,{"$f":"SUMIF(SOLICITUDES!$C$2:$C$1048576,BD!C5875,SOLICITUDES!$J$2:$J$1048576)","v":0},0,{"$f":"SUMIF(SOLICITUDES!$C$2:$C$1048576,BD!C5875,SOLICITUDES!$K$2:$K$1048576)","v":0},0]
[null,null,"T24071",5,13200,240,-76.438444884043392,2.78458263760806,2.5,2.5,1,1,{"$f":"SUMIF(SOLICITUDES!$C$2:$C$1048576,BD!C5890,SOLICITUDES!$I$2:$I$1048576)","v":0},0,{"$f":"SUMIF(SOLICITUDES!$C$2:$C$1048576,BD!C5890,SOLICITUDES!$J$2:$J$1048576)","v":0},0,{"$f":"SUMIF(SOLICITUDES!$C$2:$C$1048576,BD!C5890,SOLICITUDES!$K$2:$K$1048576)","v":0},0]
[null,null,"T14050",15,13200,240,-76.430185621365908,2.7512041334117985,7.5,7.5,3,3,{"$f":"SUMIF(SOLICITUDES!$C$2:$C$1048576,BD!C5901,SOLICITUDES!$I$2:$I$1048576)","v":0},0,{"$f":"SUMIF(SOLICITUDES!$C$2:$C$1048576,BD!C5901,SOLICITUDES!$J$2:$J$1048576)","v":0},0,{"$f":"SUMIF(SOLICITUDES!$C$2:$C$1048576,BD!C5901,SOLICITUDES!$K$2:$K$1048576)","v":0},0]
[null,null,"T24187",5,13200,240,-76.429699583132802,2.8120698409274421,2.5,2.5,1,1,{"$f":"SUMIF(SOLICITUDES!$C$2:$C$1048576,BD!C5906,SOLICITUDES!$I$2:$I$1048576)","v":0},0,{"$f":"SUMIF(SOLICITUDES!$C$2:$C$1048576,BD!C5906,SOLICITUDES!$J$2:$J$1048576)","v":0},0,{"$f":"SUMIF(SOLICITUDES!$C$2:$C$1048576,BD!C5906,SOLICITUDES!$K$2:$K$1048576)","v":0},0]
[null,null,"T14033",15,13200,240,-76.408097698297851,2.7698020096030973,7.5,7.5,3,3,{"$f":"SUMIF(SOLICITUDES!$C$2:$C$1048576,BD!C5921,SOLICITUDES!$I$2:$I$1048576)","v":0},0,{"$f":"SUMIF(SOLICITUDES!$C$2:$C$1048576,BD!C5921,SOLICITUDES!$J$2:$J$1048576)","v":0},0,{"$f":"SUMIF(SOLICITUDES!$C$2:$C$1048576,BD!C5921,SOLICITUDES!$K$2:$K$1048576)","v":0},0]
[null,null,"T15145",10,13200,240,-76.366595268615981,2.7806577613727192,5,5,2,2,{"$f":"SUMIF(SOLICITUDES!$C$2:$C$1048576,BD!C5932,SOLICITUDES!$I$2:$I$1048576)","v":0},0,{"$f":"SUMIF(SOLICITUDES!$C$2:$C$1048576,BD!C5932,SOLICITUDES!$J$2:$J$1048576)","v":0},0,{"$f":"SUMIF(SOLICITUDES!$C$2:$C$1048576,BD!C5932,SOLICITUDES!$K$2:$K$1048576)","v":0},0]
[null,null,"T24190",5,13200,240,-76.419104395542561,2.8233763458634109,2.5,2.5,1,1,{"$f":"SUMIF(SOLICITUDES!$C$2:$C$1048576,BD!C5937,SOLICITUDES!$I$2:$I$1048576)","v":0},0,{"$f":"SUMIF(SOLICITUDES!$C$2:$C$1048576,BD!C5937,SOLICITUDES!$J$2:$J$1048576)","v":0},0,{"$f":"SUMIF(SOLICITUDES!$C$2:$C$1048576,BD!C5937,SOLICITUDES!$K$2:$K$1048576)","v":0},0]
[null,null,"T23224",5,13200,240,-76.459346828324684,2.7320554466170717,2.5,2.5,1,1,{"$f":"SUMIF(SOLICITUDES!$C$2:$C$1048576,BD!C5945,SOLICITUDES!$I$2:$I$1048576)","v":0},0,{"$f":"SUMIF(SOLICITUDES!$C$2:$C$1048576,BD!C5945,SOLICITUDES!$J$2:$J$1048576)","v":0},0,{"$f":"SUMIF(SOLICITUDES!$C$2:$C$1048576,BD!C5945,SOLICITUDES!$K$2:$K$1048576)","v":0},0]
[null,null,"T23229",5,13200,240,-76.462249668177677,2.7302249791490438,2.5,2.5,1,1,{"$f":"SUMIF(SOLICITUDES!$C$2:$C$1048576,BD!C5954,SOLICITUDES!$I$2:$I$1048576)","v":0},0,{"$f":"SUMIF(SOLICITUDES!$C$2:$C$1048576,BD!C5954,SOLICITUDES!$J$2:$J$1048576)","v":0},0,{"$f":"SUMIF(SOLICITUDES!$C$2:$C$1048576,BD!C5954,SOLICITUDES!$K$2:$K$1048576)","v":0},0]
[null,null,"T23230",10,13200,240,-76.463740911033256,2.7287760910005301,5,5,2,2,{"$f":"SUMIF(SOLICITUDES!$C$2:$C$1048576,BD!C5969,SOLICITUDES!$I$2:$I$1048576)","v":0},0,{"$f":"SUMIF(SOLICITUDES!$C$2:$C$1048576,BD!C5969,SOLICITUDES!$J$2:$J$1048576)","v":0},0,{"$f":"SUMIF(SOLICITUDES!$C$2:$C$1048576,BD!C5969,SOLICITUDES!$K$2:$K$1048576)","v":0},0]
[null,null,"T6181",15,13200,240,-76.55186429387139,2.7832229045082855,7.5,7.5,3,3,{"$f":"SUMIF(SOLICITUDES!$C$2:$C$1048576,BD!C5980,SOLICITUDES!$I$2:$I$1048576)","v":0},0,{"$f":"SUMIF(SOLICITUDES!$C$2:$C$1048576,BD!C5980,SOLICITUDES!$J$2:$J$1048576)","v":0},0,{"$f":"SUMIF(SOLICITUDES!$C$2:$C$1048576,BD!C5980,SOLICITUDES!$K$2:$K$1048576)","v":0},0]
[null,null,"T6194",10,13200,240,-76.550394141269095,2.7726779900934559,5,5,2,2,{"$f":"SUMIF(SOLICITUDES!$C$2:$C$1048576,BD!C5985,SOLICITUDES!$I$2:$I$1048576)","v":0},0,{"$f":"SUMIF(SOLICITUDES!$C$2:$C$1048576,BD!C5985,SOLICITUDES!$J$2:$J$1048576)","v":0},0,{"$f":"SUMIF(SOLICITUDES!$C$2:$C$1048576,BD!C5985,SOLICITUDES!$K$2:$K$1048576)","v":0},0]
[null,null,"T5811",25,13200,240,-76.553827158790838,2.7577855227813277,12.5,12.5,5,5,{"$f":"SUMIF(SOLICITUDES!$C$2:$C$1048576,BD!C6000,SOLICITUDES!$I$2:$I$1048576)","v":0},0,{"$f":"SUMIF(SOLICITUDES!$C$2:$C$1048576,BD!C6000,SOLICITUDES!$J$2:$J$1048576)","v":0},0,{"$f":"SUMIF(SOLICITUDES!$C$2:$C$1048576,BD!C6000,SOLICITUDES!$K$2:$K$1048576)","v":0},0]
[null,null,"T5815",10,13200,240,-76.550889840576474,2.7294250817060206,5,5,2,2,{"$f":"SUMIF(SOLICITUDES!$C$2:$C$1048576,BD!C6011,SOLICITUDES!$I$2:$I$1048576)","v":0},0,{"$f":"SUMIF(SOLICITUDES!$C$2:$C$1048576,BD!C6011,SOLICITUDES!$J$2:$J$1048576)","v":0},0,{"$f":"SUMIF(SOLICITUDES!$C$2:$C$1048576,BD!C6011,SOLICITUDES!$K$2:$K$1048576)","v":0},0]
[null,null,"T6452",15,13200,240,-76.570627886723955,2.8097683370759601,7.5,7.5,3,3,{"$f":"SUMIF(SOLICITUDES!$C$2:$C$1048576,BD!C6016,SOLICITUDES!$I$2:$I$1048576)","v":0},0,{"$f":"SUMIF(SOLICITUDES!$C$2:$C$1048576,BD!C6016,SOLICITUDES!$J$2:$J$1048576)","v":0},0,{"$f":"SUMIF(SOLICITUDES!$C$2:$C$1048576,BD!C6016,SOLICITUDES!$K$2:$K$1048576)","v":0},0]
[null,null,"T3985",15,13200,240,-76.517273465615659,2.7123907204376625,7.5,7.5,3,3,{"$f":"SUMIF(SOLICITUDES!$C$2:$C$1048576,BD!C6027,SOLICITUDES!$I$2:$I$1048576)","v":0},0,{"$f":"SUMIF(SOLICITUDES!$C$2:$C$1048576,BD!C6027,SOLICITUDES!$J$2:$J$1048576)","v":0},0,{"$f":"SUMIF(SOLICITUDES!$C$2:$C$1048576,BD!C6027,SOLICITUDES!$K$2:$K$1048576)","v":0},0]
[null,null,"T45153",0.5,34500,240,-76.893431093227747,2.4811680787843229,0.25,0.25,0.1,0.1,{"$f":"SUMIF(SOLICITUDES!$C$2:$C$1048576,BD!C6040,SOLICITUDES!$I$2:$I$1048576)","v":0},0,{"$f":"SUMIF(SOLICITUDES!$C$2:$C$1048576,BD!C6040,SOLICITUDES!$J$2:$J$1048576)","v":0},0,{"$f":"SUMIF(SOLICITUDES!$C$2:$C$1048576,BD!C6040,SOLICITUDES!$K$2:$K$1048576)","v":0},0]
[null,null,"T7752",112.5,13200,208,-76.81074043149529,2.450776173686195,56.25,56.25,22.5,22.5,{"$f":"SUMIF(SOLICITUDES!$C$2:$C$1048576,BD!C6048,SOLICITUDES!$I$2:$I$1048576)","v":0},0,{"$f":"SUMIF(SOLICITUDES!$C$2:$C$1048576,BD!C6048,SOLICITUDES!$J$2:$J$1048576)","v":0},0,{"$f":"SUMIF(SOLICITUDES!$C$2:$C$1048576,BD!C6048,SOLICITUDES!$K$2:$K$1048576)","v":0},0]
[null,null,"T21683",5,13200,240,-76.969279006563326,2.3669675755662367,2.5,2.5,1,1,{"$f":"SUMIF(SOLICITUDES!$C$2:$C$1048576,BD!C6059,SOLICITUDES!$I$2:$I$1048576)","v":0},0,{"$f":"SUMIF(SOLICITUDES!$C$2:$C$1048576,BD!C6059,SOLICITUDES!$J$2:$J$1048576)","v":0},0,{"$f":"SUMIF(SOLICITUDES!$C$2:$C$1048576,BD!C6059,SOLICITUDES!$K$2:$K$1048576)","v":0},0]
[null,null,"T20040",5,13200,240,-76.973841659846343,2.3451432495923772,2.5,2.5,1,1,{"$f":"SUMIF(SOLICITUDES!$C$2:$C$1048576,BD!C6074,SOLICITUDES!$I$2:$I$1048576)","v":0},0,{"$f":"SUMIF(SOLICITUDES!$C$2:$C$1048576,BD!C6074,SOLICITUDES!$J$2:$J$1048576)","v":0},0,{"$f":"SUMIF(SOLICITUDES!$C$2:$C$1048576,BD!C6074,SOLICITUDES!$K$2:$K$1048576)","v":0},0]
[null,null,"T20045",5,13200,240,-76.981640300426591,2.3644211627332985,2.5,2.5,1,1,{"$f":"SUMIF(SOLICITUDES!$C$2:$C$1048576,BD!C6079,SOLICITUDES!$I$2:$I$1048576)","v":0},0,{"$f":"SUMIF(SOLICITUDES!$C$2:$C$1048576,BD!C6079,SOLICITUDES!$J$2:$J$1048576)","v":0},0,{"$f":"SUMIF(SOLICITUDES!$C$2:$C$1048576,BD!C6079,SOLICITUDES!$K$2:$K$1048576)","v":0},0]
[null,null,"T28834",5,13200,240,-76.954576729367815,2.3529679169452486,2.5,2.5,1,1,{"$f":"SUMIF(SOLICITUDES!$C$2:$C$1048576,BD!C6090,SOLICITUDES!$I$2:$I$1048576)","v":0},0,{"$f":"SUMIF(SOLICITUDES!$C$2:$C$1048576,BD!C6090,SOLICITUDES!$J$2:$J$1048576)","v":0},0,{"$f":"SUMIF(SOLICITUDES!$C$2:$C$1048576,BD!C6090,SOLICITUDES!$K$2:$K$1048576)","v":0},0]
[null,null,"T20057",5,13200,240,-76.992536866213385,2.3468364391098868,2.5,2.5,1,1,{"$f":"SUMIF(SOLICITUDES!$C$2:$C$1048576,BD!C6095,SOLICITUDES!$I$2:$I$1048576)","v":0},0,{"$f":"SUMIF(SOLICITUDES!$C$2:$C$1048576,BD!C6095,SOLICITUDES!$J$2:$J$1048576)","v":0},0,{"$f":"SUMIF(SOLICITUDES!$C$2:$C$1048576,BD!C6095,SOLICITUDES!$K$2:$K$1048576)","v":0},0]
[null,null,"T9311",15,13200,220,-76.877500021590293,2.4530761152472849,7.5,7.5,3,3,{"$f":"SUMIF(SOLICITUDES!$C$2:$C$1048576,BD!C6106,SOLICITUDES!$I$2:$I$1048576)","v":0},0,{"$f":"SUMIF(SOLICITUDES!$C$2:$C$1048576,BD!C6106,SOLICITUDES!$J$2:$J$1048576)","v":0},0,{"$f":"SUMIF(SOLICITUDES!$C$2:$C$1048576,BD!C6106,SOLICITUDES!$K$2:$K$1048576)","v":0},0]
[null,null,"T13983",37.5,13200,240,-76.884045791079544,2.4527786132863283,18.75,18.75,7.5,7.5,{"$f":"SUMIF(SOLICITUDES!$C$2:$C$1048576,BD!C6121,SOLICITUDES!$I$2:$I$1048576)","v":0},0,{"$f":"SUMIF(SOLICITUDES!$C$2:$C$1048576,BD!C6121,SOLICITUDES!$J$2:$J$1048576)","v":0},0,{"$f":"SUMIF(SOLICITUDES!$C$2:$C$1048576,BD!C6121,SOLICITUDES!$K$2:$K$1048576)","v":0},0]
[null,null,"T13820",10,13200,240,-76.844370882426333,2.3861455964916654,5,5,2,2,{"$f":"SUMIF(SOLICITUDES!$C$2:$C$1048576,BD!C6126,SOLICITUDES!$I$2:$I$1048576)","v":0},0,{"$f":"SUMIF(SOLICITUDES!$C$2:$C$1048576,BD!C6126,SOLICITUDES!$J$2:$J$1048576)","v":0},0,{"$f":"SUMIF(SOLICITUDES!$C$2:$C$1048576,BD!C6126,SOLICITUDES!$K$2:$K$1048576)","v":0},0]
[null,null,"T15753",5,13200,240,-76.889511885556075,2.4565325134084564,2.5,2.5,1,1,{"$f":"SUMIF(SOLICITUDES!$C$2:$C$1048576,BD!C6140,SOLICITUDES!$I$2:$I$1048576)","v":0},0,{"$f":"SUMIF(SOLICITUDES!$C$2:$C$1048576,BD!C6140,SOLICITUDES!$J$2:$J$1048576)","v":0},0,{"$f":"SUMIF(SOLICITUDES!$C$2:$C$1048576,BD!C6140,SOLICITUDES!$K$2:$K$1048576)","v":0},0]
[null,null,"T1618",15,13200,240,-76.816459057052214,2.4037243999664555,7.5,7.5,3,3,{"$f":"SUMIF(SOLICITUDES!$C$2:$C$1048576,BD!C6153,SOLICITUDES!$I$2:$I$1048576)","v":0},0,{"$f":"SUMIF(SOLICITUDES!$C$2:$C$1048576,BD!C6153,SOLICITUDES!$J$2:$J$1048576)","v":0},0,{"$f":"SUMIF(SOLICITUDES!$C$2:$C$1048576,BD!C6153,SOLICITUDES!$K$2:$K$1048576)","v":0},0]
[null,null,"T14705",25,13200,240,-76.888516319727657,2.4394491988691565,12.5,12.5,5,5,{"$f":"SUMIF(SOLICITUDES!$C$2:$C$1048576,BD!C6158,SOLICITUDES!$I$2:$I$1048576)","v":0},0,{"$f":"SUMIF(SOLICITUDES!$C$2:$C$1048576,BD!C6158,SOLICITUDES!$J$2:$J$1048576)","v":0},0,{"$f":"SUMIF(SOLICITUDES!$C$2:$C$1048576,BD!C6158,SOLICITUDES!$K$2:$K$1048576)","v":0},0]
[null,null,"T16233",15,13200,240,-76.941870511320118,2.4355309733406587,7.5,7.5,3,3,{"$f":"SUMIF(SOLICITUDES!$C$2:$C$1048576,BD!C6169,SOLICITUDES!$I$2:$I$1048576)","v":0},0,{"$f":"SUMIF(SOLICITUDES!$C$2:$C$1048576,BD!C6169,SOLICITUDES!$J$2:$J$1048576)","v":0},0,{"$f":"SUMIF(SOLICITUDES!$C$2:$C$1048576,BD!C6169,SOLICITUDES!$K$2:$K$1048576)","v":0},0]
[null,null,"T31831",10,13200,240,-76.924225215734197,2.4248278938175067,5,5,2,2,{"$f":"SUMIF(SOLICITUDES!$C$2:$C$1048576,BD!C6184,SOLICITUDES!$I$2:$I$1048576)","v":0},0,{"$f":"SUMIF(SOLICITUDES!$C$2:$C$1048576,BD!C6184,SOLICITUDES!$J$2:$J$1048576)","v":0},0,{"$f":"SUMIF(SOLICITUDES!$C$2:$C$1048576,BD!C6184,SOLICITUDES!$K$2:$K$1048576)","v":0},0]
[null,null,"T20127",5,13200,240,-76.94028900672393,2.4180504960822931,2.5,2.5,1,1,{"$f":"SUMIF(SOLICITUDES!$C$2:$C$1048576,BD!C6195,SOLICITUDES!$I$2:$I$1048576)","v":0},0,{"$f":"SUMIF(SOLICITUDES!$C$2:$C$1048576,BD!C6195,SOLICITUDES!$J$2:$J$1048576)","v":0},0,{"$f":"SUMIF(SOLICITUDES!$C$2:$C$1048576,BD!C6195,SOLICITUDES!$K$2:$K$1048576)","v":0},0]
[null,null,"T20128",5,13200,240,-76.941554817756057,2.4168460974471953,2.5,2.5,1,1,{"$f":"SUMIF(SOLICITUDES!$C$2:$C$1048576,BD!C6200,SOLICITUDES!$I$2:$I$1048576)","v":0},0,{"$f":"SUMIF(SOLICITUDES!$C$2:$C$1048576,BD!C6200,SOLICITUDES!$J$2:$J$1048576)","v":0},0,{"$f":"SUMIF(SOLICITUDES!$C$2:$C$1048576,BD!C6200,SOLICITUDES!$K$2:$K$1048576)","v":0},0]
[null,null,"T16807",10,13200,240,-76.958863619994787,2.43810098704206,5,5,2,2,{"$f":"SUMIF(SOLICITUDES!$C$2:$C$1048576,BD!C6215,SOLICITUDES!$I$2:$I$1048576)","v":0},0,{"$f":"SUMIF(SOLICITUDES!$C$2:$C$1048576,BD!C6215,SOLICITUDES!$J$2:$J$1048576)","v":0},0,{"$f":"SUMIF(SOLICITUDES!$C$2:$C$1048576,BD!C6215,SOLICITUDES!$K$2:$K$1048576)","v":0},0]
[null,null,"T16821",10,13200,240,-76.962650171785995,2.4239301534974969,5,5,2,2,{"$f":"SUMIF(SOLICITUDES!$C$2:$C$1048576,BD!C6216,SOLICITUDES!$I$2:$I$1048576)","v":0},0,{"$f":"SUMIF(SOLICITUDES!$C$2:$C$1048576,BD!C6216,SOLICITUDES!$J$2:$J$1048576)","v":0},0,{"$f":"SUMIF(SOLICITUDES!$C$2:$C$1048576,BD!C6216,SOLICITUDES!$K$2:$K$1048576)","v":0},0]
[null,null,"T11963",10,13200,240,-76.878086932593959,2.3140146107494162,5,5,2,2,{"$f":"SUMIF(SOLICITUDES!$C$2:$C$1048576,BD!C6231,SOLICITUDES!$I$2:$I$1048576)","v":0},0,{"$f":"SUMIF(SOLICITUDES!$C$2:$C$1048576,BD!C6231,SOLICITUDES!$J$2:$J$1048576)","v":0},0,{"$f":"SUMIF(SOLICITUDES!$C$2:$C$1048576,BD!C6231,SOLICITUDES!$K$2:$K$1048576)","v":0},0]
[null,null,"T24733",5,13200,240,-76.904358504785151,2.3133936274936966,2.5,2.5,1,1,{"$f":"SUMIF(SOLICITUDES!$C$2:$C$1048576,BD!C6243,SOLICITUDES!$I$2:$I$1048576)","v":0},0,{"$f":"SUMIF(SOLICITUDES!$C$2:$C$1048576,BD!C6243,SOLICITUDES!$J$2:$J$1048576)","v":0},0,{"$f":"SUMIF(SOLICITUDES!$C$2:$C$1048576,BD!C6243,SOLICITUDES!$K$2:$K$1048576)","v":0},0]
[null,null,"T20024",5,13200,240,-76.971668615260384,2.3800762390073871,2.5,2.5,1,1,{"$f":"SUMIF(SOLICITUDES!$C$2:$C$1048576,BD!C6248,SOLICITUDES!$I$2:$I$1048576)","v":0},0,{"$f":"SUMIF(SOLICITUDES!$C$2:$C$1048576,BD!C6248,SOLICITUDES!$J$2:$J$1048576)","v":0},0,{"$f":"SUMIF(SOLICITUDES!$C$2:$C$1048576,BD!C6248,SOLICITUDES!$K$2:$K$1048576)","v":0},0]
[null,null,"T20026",5,13200,240,-76.963454830173731,2.3832184424177845,2.5,2.5,1,1,{"$f":"SUMIF(SOLICITUDES!$C$2:$C$1048576,BD!C6263,SOLICITUDES!$I$2:$I$1048576)","v":0},0,{"$f":"SUMIF(SOLICITUDES!$C$2:$C$1048576,BD!C6263,SOLICITUDES!$J$2:$J$1048576)","v":0},0,{"$f":"SUMIF(SOLICITUDES!$C$2:$C$1048576,BD!C6263,SOLICITUDES!$K$2:$K$1048576)","v":0},0]
[null,null,"T24709",5,13200,240,-76.870709646336493,2.3275992359959554,2.5,2.5,1,1,{"$f":"SUMIF(SOLICITUDES!$C$2:$C$1048576,BD!C6274,SOLICITUDES!$I$2:$I$1048576)","v":0},0,{"$f":"SUMIF(SOLICITUDES!$C$2:$C$1048576,BD!C6274,SOLICITUDES!$J$2:$J$1048576)","v":0},0,{"$f":"SUMIF(SOLICITUDES!$C$2:$C$1048576,BD!C6274,SOLICITUDES!$K$2:$K$1048576)","v":0},0]
[null,null,"T11949",10,13200,240,-76.871641924242525,2.306516604729794,5,5,2,2,{"$f":"SUMIF(SOLICITUDES!$C$2:$C$1048576,BD!C6279,SOLICITUDES!$I$2:$I$1048576)","v":0},0,{"$f":"SUMIF(SOLICITUDES!$C$2:$C$1048576,BD!C6279,SOLICITUDES!$J$2:$J$1048576)","v":0},0,{"$f":"SUMIF(SOLICITUDES!$C$2:$C$1048576,BD!C6279,SOLICITUDES!$K$2:$K$1048576)","v":0},0]
[null,null,"T28811",5,13200,240,-77.047540929213653,2.3657975177495296,2.5,2.5,1,1,{"$f":"SUMIF(SOLICITUDES!$C$2:$C$1048576,BD!C6294,SOLICITUDES!$I$2:$I$1048576)","v":0},0,{"$f":"SUMIF(SOLICITUDES!$C$2:$C$1048576,BD!C6294,SOLICITUDES!$J$2:$J$1048576)","v":0},0,{"$f":"SUMIF(SOLICITUDES!$C$2:$C$1048576,BD!C6294,SOLICITUDES!$K$2:$K$1048576)","v":0},0]
[null,null,"T28820",5,13200,240,-77.037016767514842,2.33617409914743,2.5,2.5,1,1,{"$f":"SUMIF(SOLICITUDES!$C$2:$C$1048576,BD!C6305,SOLICITUDES!$I$2:$I$1048576)","v":0},0,{"$f":"SUMIF(SOLICITUDES!$C$2:$C$1048576,BD!C6305,SOLICITUDES!$J$2:$J$1048576)","v":0},0,{"$f":"SUMIF(SOLICITUDES!$C$2:$C$1048576,BD!C6305,SOLICITUDES!$K$2:$K$1048576)","v":0},0]
[null,null,"T28810",5,13200,240,-77.052208368249737,2.3677390797169382,2.5,2.5,1,1,{"$f":"SUMIF(SOLICITUDES!$C$2:$C$1048576,BD!C6310,SOLICITUDES!$I$2:$I$1048576)","v":0},0,{"$f":"SUMIF(SOLICITUDES!$C$2:$C$1048576,BD!C6310,SOLICITUDES!$J$2:$J$1048576)","v":0},0,{"$f":"SUMIF(SOLICITUDES!$C$2:$C$1048576,BD!C6310,SOLICITUDES!$K$2:$K$1048576)","v":0},0]
[null,null,"T20284",10,13200,240,-76.920067214431114,2.2679483758602315,5,5,2,2,{"$f":"SUMIF(SOLICITUDES!$C$2:$C$1048576,BD!C6326,SOLICITUDES!$I$2:$I$1048576)","v":0},0,{"$f":"SUMIF(SOLICITUDES!$C$2:$C$1048576,BD!C6326,SOLICITUDES!$J$2:$J$1048576)","v":0},0,{"$f":"SUMIF(SOLICITUDES!$C$2:$C$1048576,BD!C6326,SOLICITUDES!$K$2:$K$1048576)","v":0},0]
[null,null,"T20277",5,13200,240,-76.913695040687685,2.2693032172943299,2.5,2.5,1,1,{"$f":"SUMIF(SOLICITUDES!$C$2:$C$1048576,BD!C6337,SOLICITUDES!$I$2:$I$1048576)","v":0},0,{"$f":"SUMIF(SOLICITUDES!$C$2:$C$1048576,BD!C6337,SOLICITUDES!$J$2:$J$1048576)","v":0},0,{"$f":"SUMIF(SOLICITUDES!$C$2:$C$1048576,BD!C6337,SOLICITUDES!$K$2:$K$1048576)","v":0},0]
[null,null,"T20016",5,13200,240,-77.022072075315435,2.3862194629557849,2.5,2.5,1,1,{"$f":"SUMIF(SOLICITUDES!$C$2:$C$1048576,BD!C6342,SOLICITUDES!$I$2:$I$1048576)","v":0},0,{"$f":"SUMIF(SOLICITUDES!$C$2:$C$1048576,BD!C6342,SOLICITUDES!$J$2:$J$1048576)","v":0},0,{"$f":"SUMIF(SOLICITUDES!$C$2:$C$1048576,BD!C6342,SOLICITUDES!$K$2:$K$1048576)","v":0},0]
[null,null,"T28785",5,13200,240,-77.05462964774523,2.3581414072367459,2.5,2.5,1,1,{"$f":"SUMIF(SOLICITUDES!$C$2:$C$1048576,BD!C6353,SOLICITUDES!$I$2:$I$1048576)","v":0},0,{"$f":"SUMIF(SOLICITUDES!$C$2:$C$1048576,BD!C6353,SOLICITUDES!$J$2:$J$1048576)","v":0},0,{"$f":"SUMIF(SOLICITUDES!$C$2:$C$1048576,BD!C6353,SOLICITUDES!$K$2:$K$1048576)","v":0},0]
[null,null,"T20288",5,13200,240,-76.928397498720486,2.2600647553780608,2.5,2.5,1,1,{"$f":"SUMIF(SOLICITUDES!$C$2:$C$1048576,BD!C6358,SOLICITUDES!$I$2:$I$1048576)","v":0},0,{"$f":"SUMIF(SOLICITUDES!$C$2:$C$1048576,BD!C6358,SOLICITUDES!$J$2:$J$1048576)","v":0},0,{"$f":"SUMIF(SOLICITUDES!$C$2:$C$1048576,BD!C6358,SOLICITUDES!$K$2:$K$1048576)","v":0},0]
[null,null,"T28934",5,13200,240,-77.046093498613587,2.333330303286687,2.5,2.5,1,1,{"$f":"SUMIF(SOLICITUDES!$C$2:$C$1048576,BD!C6369,SOLICITUDES!$I$2:$I$1048576)","v":0},0,{"$f":"SUMIF(SOLICITUDES!$C$2:$C$1048576,BD!C6369,SOLICITUDES!$J$2:$J$1048576)","v":0},0,{"$f":"SUMIF(SOLICITUDES!$C$2:$C$1048576,BD!C6369,SOLICITUDES!$K$2:$K$1048576)","v":0},0]
[null,null,"T28942",5,13200,240,-77.050870822827719,2.3177721849054902,2.5,2.5,1,1,{"$f":"SUMIF(SOLICITUDES!$C$2:$C$1048576,BD!C6384,SOLICITUDES!$I$2:$I$1048576)","v":0},0,{"$f":"SUMIF(SOLICITUDES!$C$2:$C$1048576,BD!C6384,SOLICITUDES!$J$2:$J$1048576)","v":0},0,{"$f":"SUMIF(SOLICITUDES!$C$2:$C$1048576,BD!C6384,SOLICITUDES!$K$2:$K$1048576)","v":0},0]
[null,null,"T28939",5,13200,240,-77.049816563266262,2.3221859019166167,2.5,2.5,1,1,{"$f":"SUMIF(SOLICITUDES!$C$2:$C$1048576,BD!C6389,SOLICITUDES!$I$2:$I$1048576)","v":0},0,{"$f":"SUMIF(SOLICITUDES!$C$2:$C$1048576,BD!C6389,SOLICITUDES!$J$2:$J$1048576)","v":0},0,{"$f":"SUMIF(SOLICITUDES!$C$2:$C$1048576,BD!C6389,SOLICITUDES!$K$2:$K$1048576)","v":0},0]
[null,null,"T28941",5,13200,240,-77.060709190948003,2.3275766631265959,2.5,2.5,1,1,{"$f":"SUMIF(SOLICITUDES!$C$2:$C$1048576,BD!C6400,SOLICITUDES!$I$2:$I$1048576)","v":0},0,{"$f":"SUMIF(SOLICITUDES!$C$2:$C$1048576,BD!C6400,SOLICITUDES!$J$2:$J$1048576)","v":0},0,{"$f":"SUMIF(SOLICITUDES!$C$2:$C$1048576,BD!C6400,SOLICITUDES!$K$2:$K$1048576)","v":0},0]
[null,null,"T24748",10,13200,240,-76.965162967702526,2.2338357629024768,5,5,2,2,{"$f":"SUMIF(SOLICITUDES!$C$2:$C$1048576,BD!C6417,SOLICITUDES!$I$2:$I$1048576)","v":0},0,{"$f":"SUMIF(SOLICITUDES!$C$2:$C$1048576,BD!C6417,SOLICITUDES!$J$2:$J$1048576)","v":0},0,{"$f":"SUMIF(SOLICITUDES!$C$2:$C$1048576,BD!C6417,SOLICITUDES!$K$2:$K$1048576)","v":0},0]
[null,null,"T12790",5,13200,240,-76.900948081101632,2.2524043402274163,2.5,2.5,1,1,{"$f":"SUMIF(SOLICITUDES!$C$2:$C$1048576,BD!C6421,SOLICITUDES!$I$2:$I$1048576)","v":0},0,{"$f":"SUMIF(SOLICITUDES!$C$2:$C$1048576,BD!C6421,SOLICITUDES!$J$2:$J$1048576)","v":0},0,{"$f":"SUMIF(SOLICITUDES!$C$2:$C$1048576,BD!C6421,SOLICITUDES!$K$2:$K$1048576)","v":0},0]
[null,null,"T13789",10,13200,240,-76.906398048392631,2.2360000558728625,5,5,2,2,{"$f":"SUMIF(SOLICITUDES!$C$2:$C$1048576,BD!C6432,SOLICITUDES!$I$2:$I$1048576)","v":0},0,{"$f":"SUMIF(SOLICITUDES!$C$2:$C$1048576,BD!C6432,SOLICITUDES!$J$2:$J$1048576)","v":0},0,{"$f":"SUMIF(SOLICITUDES!$C$2:$C$1048576,BD!C6432,SOLICITUDES!$K$2:$K$1048576)","v":0},0]
[null,null,"T16048",25,13200,240,-76.839517976553267,1.7746366370795055,12.5,12.5,5,5,{"$f":"SUMIF(SOLICITUDES!$C$2:$C$1048576,BD!C6447,SOLICITUDES!$I$2:$I$1048576)","v":0},0,{"$f":"SUMIF(SOLICITUDES!$C$2:$C$1048576,BD!C6447,SOLICITUDES!$J$2:$J$1048576)","v":0},0,{"$f":"SUMIF(SOLICITUDES!$C$2:$C$1048576,BD!C6447,SOLICITUDES!$K$2:$K$1048576)","v":0},0]
[null,null,"T16143",50,13200,240,-76.825968200267923,1.7853611196453456,25,25,10,10,{"$f":"SUMIF(SOLICITUDES!$C$2:$C$1048576,BD!C6458,SOLICITUDES!$I$2:$I$1048576)","v":0},0,{"$f":"SUMIF(SOLICITUDES!$C$2:$C$1048576,BD!C6458,SOLICITUDES!$J$2:$J$1048576)","v":0},0,{"$f":"SUMIF(SOLICITUDES!$C$2:$C$1048576,BD!C6458,SOLICITUDES!$K$2:$K$1048576)","v":0},0]
[null,null,"T15242",15,13200,240,-76.893272821589363,1.7603631455547948,7.5,7.5,3,3,{"$f":"SUMIF(SOLICITUDES!$C$2:$C$1048576,BD!C6463,SOLICITUDES!$I$2:$I$1048576)","v":0},0,{"$f":"SUMIF(SOLICITUDES!$C$2:$C$1048576,BD!C6463,SOLICITUDES!$J$2:$J$1048576)","v":0},0,{"$f":"SUMIF(SOLICITUDES!$C$2:$C$1048576,BD!C6463,SOLICITUDES!$K$2:$K$1048576)","v":0},0]
[null,null,"T12250",15,13200,240,-76.789830012032638,1.8127476825046203,7.5,7.5,3,3,{"$f":"SUMIF(SOLICITUDES!$C$2:$C$1048576,BD!C6478,SOLICITUDES!$I$2:$I$1048576)","v":0},0,{"$f":"SUMIF(SOLICITUDES!$C$2:$C$1048576,BD!C6478,SOLICITUDES!$J$2:$J$1048576)","v":0},0,{"$f":"SUMIF(SOLICITUDES!$C$2:$C$1048576,BD!C6478,SOLICITUDES!$K$2:$K$1048576)","v":0},0]
[null,null,"T14625",15,13200,240,-76.802345158716633,1.7826800594454089,7.5,7.5,3,3,{"$f":"SUMIF(SOLICITUDES!$C$2:$C$1048576,BD!C6479,SOLICITUDES!$I$2:$I$1048576)","v":0},0,{"$f":"SUMIF(SOLICITUDES!$C$2:$C$1048576,BD!C6479,SOLICITUDES!$J$2:$J$1048576)","v":0},0,{"$f":"SUMIF(SOLICITUDES!$C$2:$C$1048576,BD!C6479,SOLICITUDES!$K$2:$K$1048576)","v":0},0]
[null,null,"T14593",15,13200,240,-76.849919512542996,1.8213296280700617,7.5,7.5,3,3,{"$f":"SUMIF(SOLICITUDES!$C$2:$C$1048576,BD!C6494,SOLICITUDES!$I$2:$I$1048576)","v":0},0,{"$f":"SUMIF(SOLICITUDES!$C$2:$C$1048576,BD!C6494,SOLICITUDES!$J$2:$J$1048576)","v":0},0,{"$f":"SUMIF(SOLICITUDES!$C$2:$C$1048576,BD!C6494,SOLICITUDES!$K$2:$K$1048576)","v":0},0]
[null,null,"T16043",37.5,13200,240,-76.855094525537424,1.7697647093166613,18.75,18.75,7.5,7.5,{"$f":"SUMIF(SOLICITUDES!$C$2:$C$1048576,BD!C6508,SOLICITUDES!$I$2:$I$1048576)","v":0},0,{"$f":"SUMIF(SOLICITUDES!$C$2:$C$1048576,BD!C6508,SOLICITUDES!$J$2:$J$1048576)","v":0},0,{"$f":"SUMIF(SOLICITUDES!$C$2:$C$1048576,BD!C6508,SOLICITUDES!$K$2:$K$1048576)","v":0},0]
[null,null,"T14606",25,13200,240,-76.854590713439791,1.8398603925761932,12.5,12.5,5,5,{"$f":"SUMIF(SOLICITUDES!$C$2:$C$1048576,BD!C6511,SOLICITUDES!$I$2:$I$1048576)","v":0},0,{"$f":"SUMIF(SOLICITUDES!$C$2:$C$1048576,BD!C6511,SOLICITUDES!$J$2:$J$1048576)","v":0},0,{"$f":"SUMIF(SOLICITUDES!$C$2:$C$1048576,BD!C6511,SOLICITUDES!$K$2:$K$1048576)","v":0},0]
[null,null,"T16028",25,13200,240,-76.857988856445331,1.7705213594082811,12.5,12.5,5,5,{"$f":"SUMIF(SOLICITUDES!$C$2:$C$1048576,BD!C6526,SOLICITUDES!$I$2:$I$1048576)","v":0},0,{"$f":"SUMIF(SOLICITUDES!$C$2:$C$1048576,BD!C6526,SOLICITUDES!$J$2:$J$1048576)","v":0},0,{"$f":"SUMIF(SOLICITUDES!$C$2:$C$1048576,BD!C6526,SOLICITUDES!$K$2:$K$1048576)","v":0},0]
[null,null,"T26360",15,13200,240,-76.791227840743304,2.419227805879046,7.5,7.5,3,3,{"$f":"SUMIF(SOLICITUDES!$C$2:$C$1048576,BD!C6537,SOLICITUDES!$I$2:$I$1048576)","v":0},0,{"$f":"SUMIF(SOLICITUDES!$C$2:$C$1048576,BD!C6537,SOLICITUDES!$J$2:$J$1048576)","v":0},0,{"$f":"SUMIF(SOLICITUDES!$C$2:$C$1048576,BD!C6537,SOLICITUDES!$K$2:$K$1048576)","v":0},0]
[null,null,"T22679",10,13200,240,-76.800643793043051,2.4112913773360494,5,5,2,2,{"$f":"SUMIF(SOLICITUDES!$C$2:$C$1048576,BD!C6542,SOLICITUDES!$I$2:$I$1048576)","v":0},0,{"$f":"SUMIF(SOLICITUDES!$C$2:$C$1048576,BD!C6542,SOLICITUDES!$J$2:$J$1048576)","v":0},0,{"$f":"SUMIF(SOLICITUDES!$C$2:$C$1048576,BD!C6542,SOLICITUDES!$K$2:$K$1048576)","v":0},0]
[null,null,"T31842",10,13200,240,-76.771151725113612,2.4134455151460177,5,5,2,2,{"$f":"SUMIF(SOLICITUDES!$C$2:$C$1048576,BD!C6557,SOLICITUDES!$I$2:$I$1048576)","v":0},0,{"$f":"SUMIF(SOLICITUDES!$C$2:$C$1048576,BD!C6557,SOLICITUDES!$J$2:$J$1048576)","v":0},0,{"$f":"SUMIF(SOLICITUDES!$C$2:$C$1048576,BD!C6557,SOLICITUDES!$K$2:$K$1048576)","v":0},0]
[null,null,"T31794",10,13200,240,-76.772634253667846,2.4104048268706868,5,5,2,2,{"$f":"SUMIF(SOLICITUDES!$C$2:$C$1048576,BD!C6568,SOLICITUDES!$I$2:$I$1048576)","v":0},0,{"$f":"SUMIF(SOLICITUDES!$C$2:$C$1048576,BD!C6568,SOLICITUDES!$J$2:$J$1048576)","v":0},0,{"$f":"SUMIF(SOLICITUDES!$C$2:$C$1048576,BD!C6568,SOLICITUDES!$K$2:$K$1048576)","v":0},0]
[null,null,"T7252",15,13200,240,-76.768521699252346,2.4338196461193378,7.5,7.5,3,3,{"$f":"SUMIF(SOLICITUDES!$C$2:$C$1048576,BD!C6573,SOLICITUDES!$I$2:$I$1048576)","v":0},0,{"$f":"SUMIF(SOLICITUDES!$C$2:$C$1048576,BD!C6573,SOLICITUDES!$J$2:$J$1048576)","v":0},0,{"$f":"SUMIF(SOLICITUDES!$C$2:$C$1048576,BD!C6573,SOLICITUDES!$K$2:$K$1048576)","v":0},0]
[null,null,"T7229",15,13200,240,-76.775147627426392,2.4557540341041859,7.5,7.5,3,3,{"$f":"SUMIF(SOLICITUDES!$C$2:$C$1048576,BD!C6584,SOLICITUDES!$I$2:$I$1048576)","v":0},0,{"$f":"SUMIF(SOLICITUDES!$C$2:$C$1048576,BD!C6584,SOLICITUDES!$J$2:$J$1048576)","v":0},0,{"$f":"SUMIF(SOLICITUDES!$C$2:$C$1048576,BD!C6584,SOLICITUDES!$K$2:$K$1048576)","v":0},0]
[null,null,"T7610",25,13200,240,-76.742509938504583,2.4363635701228343,12.5,12.5,5,5,{"$f":"SUMIF(SOLICITUDES!$C$2:$C$1048576,BD!C6592,SOLICITUDES!$I$2:$I$1048576)","v":0},0,{"$f":"SUMIF(SOLICITUDES!$C$2:$C$1048576,BD!C6592,SOLICITUDES!$J$2:$J$1048576)","v":0},0,{"$f":"SUMIF(SOLICITUDES!$C$2:$C$1048576,BD!C6592,SOLICITUDES!$K$2:$K$1048576)","v":0},0]
[null,null,"T7660",15,13200,240,-76.742643170802012,2.4429200795364872,7.5,7.5,3,3,{"$f":"SUMIF(SOLICITUDES!$C$2:$C$1048576,BD!C6605,SOLICITUDES!$I$2:$I$1048576)","v":0},0,{"$f":"SUMIF(SOLICITUDES!$C$2:$C$1048576,BD!C6605,SOLICITUDES!$J$2:$J$1048576)","v":0},0,{"$f":"SUMIF(SOLICITUDES!$C$2:$C$1048576,BD!C6605,SOLICITUDES!$K$2:$K$1048576)","v":0},0]
[null,null,"T11868",10,13200,240,-76.764794547912388,2.4543653765065661,5,5,2,2,{"$f":"SUMIF(SOLICITUDES!$C$2:$C$1048576,BD!C6616,SOLICITUDES!$I$2:$I$1048576)","v":0},0,{"$f":"SUMIF(SOLICITUDES!$C$2:$C$1048576,BD!C6616,SOLICITUDES!$J$2:$J$1048576)","v":0},0,{"$f":"SUMIF(SOLICITUDES!$C$2:$C$1048576,BD!C6616,SOLICITUDES!$K$2:$K$1048576)","v":0},0]
[null,null,"T7223",15,13200,240,-76.763417631053173,2.4499816561092751,7.5,7.5,3,3,{"$f":"SUMIF(SOLICITUDES!$C$2:$C$1048576,BD!C6621,SOLICITUDES!$I$2:$I$1048576)","v":0},0,{"$f":"SUMIF(SOLICITUDES!$C$2:$C$1048576,BD!C6621,SOLICITUDES!$J$2:$J$1048576)","v":0},0,{"$f":"SUMIF(SOLICITUDES!$C$2:$C$1048576,BD!C6621,SOLICITUDES!$K$2:$K$1048576)","v":0},0]
[null,null,"T7653",15,13200,240,-76.746210236328309,2.4526515871140226,7.5,7.5,3,3,{"$f":"SUMIF(SOLICITUDES!$C$2:$C$1048576,BD!C6636,SOLICITUDES!$I$2:$I$1048576)","v":0},0,{"$f":"SUMIF(SOLICITUDES!$C$2:$C$1048576,BD!C6636,SOLICITUDES!$J$2:$J$1048576)","v":0},0,{"$f":"SUMIF(SOLICITUDES!$C$2:$C$1048576,BD!C6636,SOLICITUDES!$K$2:$K$1048576)","v":0},0]
[null,null,"T7573",112.5,13200,216,-76.737680932231328,2.4035620625966767,56.25,56.25,22.5,22.5,{"$f":"SUMIF(SOLICITUDES!$C$2:$C$1048576,BD!C6647,SOLICITUDES!$I$2:$I$1048576)","v":0},0,{"$f":"SUMIF(SOLICITUDES!$C$2:$C$1048576,BD!C6647,SOLICITUDES!$J$2:$J$1048576)","v":0},0,{"$f":"SUMIF(SOLICITUDES!$C$2:$C$1048576,BD!C6647,SOLICITUDES!$K$2:$K$1048576)","v":0},0]
[null,null,"T7662",25,13200,240,-76.739033419877416,2.4597849444503068,12.5,12.5,5,5,{"$f":"SUMIF(SOLICITUDES!$C$2:$C$1048576,BD!C6652,SOLICITUDES!$I$2:$I$1048576)","v":0},0,{"$f":"SUMIF(SOLICITUDES!$C$2:$C$1048576,BD!C6652,SOLICITUDES!$J$2:$J$1048576)","v":0},0,{"$f":"SUMIF(SOLICITUDES!$C$2:$C$1048576,BD!C6652,SOLICITUDES!$K$2:$K$1048576)","v":0},0]
[null,null,"T29233",10,13200,240,-76.824007335024305,2.6258565205630906,5,5,2,2,{"$f":"SUMIF(SOLICITUDES!$C$2:$C$1048576,BD!C6663,SOLICITUDES!$I$2:$I$1048576)","v":0},0,{"$f":"SUMIF(SOLICITUDES!$C$2:$C$1048576,BD!C6663,SOLICITUDES!$J$2:$J$1048576)","v":0},0,{"$f":"SUMIF(SOLICITUDES!$C$2:$C$1048576,BD!C6663,SOLICITUDES!$K$2:$K$1048576)","v":0},0]
[null,null,"T1592",25,13200,240,-76.807031133849804,2.4747676105540797,12.5,12.5,5,5,{"$f":"SUMIF(SOLICITUDES!$C$2:$C$1048576,BD!C6678,SOLICITUDES!$I$2:$I$1048576)","v":0},0,{"$f":"SUMIF(SOLICITUDES!$C$2:$C$1048576,BD!C6678,SOLICITUDES!$J$2:$J$1048576)","v":0},0,{"$f":"SUMIF(SOLICITUDES!$C$2:$C$1048576,BD!C6678,SOLICITUDES!$K$2:$K$1048576)","v":0},0]
[null,null,"T1595",25,13200,240,-76.809325067710446,2.4695138678326982,12.5,12.5,5,5,{"$f":"SUMIF(SOLICITUDES!$C$2:$C$1048576,BD!C6683,SOLICITUDES!$I$2:$I$1048576)","v":0},0,{"$f":"SUMIF(SOLICITUDES!$C$2:$C$1048576,BD!C6683,SOLICITUDES!$J$2:$J$1048576)","v":0},0,{"$f":"SUMIF(SOLICITUDES!$C$2:$C$1048576,BD!C6683,SOLICITUDES!$K$2:$K$1048576)","v":0},0]
[null,null,"T1594",10,13200,240,-76.796421667121251,2.4731014311957358,5,5,2,2,{"$f":"SUMIF(SOLICITUDES!$C$2:$C$1048576,BD!C6695,SOLICITUDES!$I$2:$I$1048576)","v":0},0,{"$f":"SUMIF(SOLICITUDES!$C$2:$C$1048576,BD!C6695,SOLICITUDES!$J$2:$J$1048576)","v":0},0,{"$f":"SUMIF(SOLICITUDES!$C$2:$C$1048576,BD!C6695,SOLICITUDES!$K$2:$K$1048576)","v":0},0]
[null,null,"T17135",10,13200,240,-76.8128338785301,2.5028215689004401,5,5,2,2,{"$f":"SUMIF(SOLICITUDES!$C$2:$C$1048576,BD!C6710,SOLICITUDES!$I$2:$I$1048576)","v":0},0,{"$f":"SUMIF(SOLICITUDES!$C$2:$C$1048576,BD!C6710,SOLICITUDES!$J$2:$J$1048576)","v":0},0,{"$f":"SUMIF(SOLICITUDES!$C$2:$C$1048576,BD!C6710,SOLICITUDES!$K$2:$K$1048576)","v":0},0]
[null,null,"T17125",25,13200,240,-76.820032744832105,2.5199150958812311,12.5,12.5,5,5,{"$f":"SUMIF(SOLICITUDES!$C$2:$C$1048576,BD!C6715,SOLICITUDES!$I$2:$I$1048576)","v":0},0,{"$f":"SUMIF(SOLICITUDES!$C$2:$C$1048576,BD!C6715,SOLICITUDES!$J$2:$J$1048576)","v":0},0,{"$f":"SUMIF(SOLICITUDES!$C$2:$C$1048576,BD!C6715,SOLICITUDES!$K$2:$K$1048576)","v":0},0]
[null,null,"T28796",10,13200,240,-76.817196403317169,2.5493552408480302,5,5,2,2,{"$f":"SUMIF(SOLICITUDES!$C$2:$C$1048576,BD!C6726,SOLICITUDES!$I$2:$I$1048576)","v":0},0,{"$f":"SUMIF(SOLICITUDES!$C$2:$C$1048576,BD!C6726,SOLICITUDES!$J$2:$J$1048576)","v":0},0,{"$f":"SUMIF(SOLICITUDES!$C$2:$C$1048576,BD!C6726,SOLICITUDES!$K$2:$K$1048576)","v":0},0]
[null,null,"T13299",15,13200,240,-76.780411366163676,2.5378033664980575,7.5,7.5,3,3,{"$f":"SUMIF(SOLICITUDES!$C$2:$C$1048576,BD!C6741,SOLICITUDES!$I$2:$I$1048576)","v":0},0,{"$f":"SUMIF(SOLICITUDES!$C$2:$C$1048576,BD!C6741,SOLICITUDES!$J$2:$J$1048576)","v":0},0,{"$f":"SUMIF(SOLICITUDES!$C$2:$C$1048576,BD!C6741,SOLICITUDES!$K$2:$K$1048576)","v":0},0]
[null,null,"T13292",10,13200,240,-76.792654223949796,2.555296091642635,5,5,2,2,{"$f":"SUMIF(SOLICITUDES!$C$2:$C$1048576,BD!C6742,SOLICITUDES!$I$2:$I$1048576)","v":0},0,{"$f":"SUMIF(SOLICITUDES!$C$2:$C$1048576,BD!C6742,SOLICITUDES!$J$2:$J$1048576)","v":0},0,{"$f":"SUMIF(SOLICITUDES!$C$2:$C$1048576,BD!C6742,SOLICITUDES!$K$2:$K$1048576)","v":0},0]
[null,null,"T13297",25,13200,240,-76.779159526142493,2.546204377324897,12.5,12.5,5,5,{"$f":"SUMIF(SOLICITUDES!$C$2:$C$1048576,BD!C6757,SOLICITUDES!$I$2:$I$1048576)","v":0},0,{"$f":"SUMIF(SOLICITUDES!$C$2:$C$1048576,BD!C6757,SOLICITUDES!$J$2:$J$1048576)","v":0},0,{"$f":"SUMIF(SOLICITUDES!$C$2:$C$1048576,BD!C6757,SOLICITUDES!$K$2:$K$1048576)","v":0},0]
[null,null,"T28802",5,13200,240,-76.804427869318019,2.5641192411237883,2.5,2.5,1,1,{"$f":"SUMIF(SOLICITUDES!$C$2:$C$1048576,BD!C6762,SOLICITUDES!$I$2:$I$1048576)","v":0},0,{"$f":"SUMIF(SOLICITUDES!$C$2:$C$1048576,BD!C6762,SOLICITUDES!$J$2:$J$1048576)","v":0},0,{"$f":"SUMIF(SOLICITUDES!$C$2:$C$1048576,BD!C6762,SOLICITUDES!$K$2:$K$1048576)","v":0},0]
[null,null,"T18569",10,13200,240,-76.893616455230401,2.5512091833552324,5,5,2,2,{"$f":"SUMIF(SOLICITUDES!$C$2:$C$1048576,BD!C6778,SOLICITUDES!$I$2:$I$1048576)","v":0},0,{"$f":"SUMIF(SOLICITUDES!$C$2:$C$1048576,BD!C6778,SOLICITUDES!$J$2:$J$1048576)","v":0},0,{"$f":"SUMIF(SOLICITUDES!$C$2:$C$1048576,BD!C6778,SOLICITUDES!$K$2:$K$1048576)","v":0},0]
[null,null,"T18529",25,13200,240,-76.854623862091145,2.571206974878792,12.5,12.5,5,5,{"$f":"SUMIF(SOLICITUDES!$C$2:$C$1048576,BD!C6789,SOLICITUDES!$I$2:$I$1048576)","v":0},0,{"$f":"SUMIF(SOLICITUDES!$C$2:$C$1048576,BD!C6789,SOLICITUDES!$J$2:$J$1048576)","v":0},0,{"$f":"SUMIF(SOLICITUDES!$C$2:$C$1048576,BD!C6789,SOLICITUDES!$K$2:$K$1048576)","v":0},0]
[null,null,"T31824",10,13200,240,-76.812060524269455,2.5899004358289384,5,5,2,2,{"$f":"SUMIF(SOLICITUDES!$C$2:$C$1048576,BD!C6800,SOLICITUDES!$I$2:$I$1048576)","v":0},0,{"$f":"SUMIF(SOLICITUDES!$C$2:$C$1048576,BD!C6800,SOLICITUDES!$J$2:$J$1048576)","v":0},0,{"$f":"SUMIF(SOLICITUDES!$C$2:$C$1048576,BD!C6800,SOLICITUDES!$K$2:$K$1048576)","v":0},0]
[null,null,"T31720",10,13200,240,-76.897953110523886,2.5477482193265537,5,5,2,2,{"$f":"SUMIF(SOLICITUDES!$C$2:$C$1048576,BD!C6805,SOLICITUDES!$I$2:$I$1048576)","v":0},0,{"$f":"SUMIF(SOLICITUDES!$C$2:$C$1048576,BD!C6805,SOLICITUDES!$J$2:$J$1048576)","v":0},0,{"$f":"SUMIF(SOLICITUDES!$C$2:$C$1048576,BD!C6805,SOLICITUDES!$K$2:$K$1048576)","v":0},0]
[null,null,"T18528",10,13200,240,-76.909280503457694,2.5506868608205777,5,5,2,2,{"$f":"SUMIF(SOLICITUDES!$C$2:$C$1048576,BD!C6820,SOLICITUDES!$I$2:$I$1048576)","v":0},0,{"$f":"SUMIF(SOLICITUDES!$C$2:$C$1048576,BD!C6820,SOLICITUDES!$J$2:$J$1048576)","v":0},0,{"$f":"SUMIF(SOLICITUDES!$C$2:$C$1048576,BD!C6820,SOLICITUDES!$K$2:$K$1048576)","v":0},0]
[null,null,"T16851",25,13200,240,-77.215410211993131,2.1485624726739383,12.5,12.5,5,5,{"$f":"SUMIF(SOLICITUDES!$C$2:$C$1048576,BD!C6831,SOLICITUDES!$I$2:$I$1048576)","v":0},0,{"$f":"SUMIF(SOLICITUDES!$C$2:$C$1048576,BD!C6831,SOLICITUDES!$J$2:$J$1048576)","v":0},0,{"$f":"SUMIF(SOLICITUDES!$C$2:$C$1048576,BD!C6831,SOLICITUDES!$K$2:$K$1048576)","v":0},0]
[null,null,"T18206",10,13200,214,-77.228659251136023,2.1345618540372944,5,5,2,2,{"$f":"SUMIF(SOLICITUDES!$C$2:$C$1048576,BD!C6836,SOLICITUDES!$I$2:$I$1048576)","v":0},0,{"$f":"SUMIF(SOLICITUDES!$C$2:$C$1048576,BD!C6836,SOLICITUDES!$J$2:$J$1048576)","v":0},0,{"$f":"SUMIF(SOLICITUDES!$C$2:$C$1048576,BD!C6836,SOLICITUDES!$K$2:$K$1048576)","v":0},0]
[null,null,"T30960",15,13200,208,-77.077640147276526,2.2132384984952438,7.5,{"$f":"D6851*0.5-M6851","v":7.5},3,3,{"$f":"SUMIF(SOLICITUDES!$C$2:$C$1048576,BD!C6851,SOLICITUDES!$I$2:$I$1048576)","v":0},{"$f":"M6851/D6851","v":0},{"$f":"SUMIF(SOLICITUDES!$C$2:$C$1048576,BD!C6851,SOLICITUDES!$J$2:$J$1048576)","v":0},0,{"$f":"SUMIF(SOLICITUDES!$C$2:$C$1048576,BD!C6851,SOLICITUDES!$K$2:$K$1048576)","v":0},0]
[null,null,"T30883",25,13200,208,-77.106074076614362,2.2070625178924046,12.5,12.5,5,5,{"$f":"SUMIF(SOLICITUDES!$C$2:$C$1048576,BD!C6862,SOLICITUDES!$I$2:$I$1048576)","v":0},0,{"$f":"SUMIF(SOLICITUDES!$C$2:$C$1048576,BD!C6862,SOLICITUDES!$J$2:$J$1048576)","v":0},0,{"$f":"SUMIF(SOLICITUDES!$C$2:$C$1048576,BD!C6862,SOLICITUDES!$K$2:$K$1048576)","v":0},0]
[null,null,"T14442",15,13200,240,-77.187828640328547,2.1182235127344677,7.5,7.5,3,3,{"$f":"SUMIF(SOLICITUDES!$C$2:$C$1048576,BD!C6869,SOLICITUDES!$I$2:$I$1048576)","v":0},0,{"$f":"SUMIF(SOLICITUDES!$C$2:$C$1048576,BD!C6869,SOLICITUDES!$J$2:$J$1048576)","v":0},0,{"$f":"SUMIF(SOLICITUDES!$C$2:$C$1048576,BD!C6869,SOLICITUDES!$K$2:$K$1048576)","v":0},0]
[null,null,"T14447",15,13200,240,-77.179351691366506,2.1169399205320278,7.5,7.5,3,3,{"$f":"SUMIF(SOLICITUDES!$C$2:$C$1048576,BD!C6879,SOLICITUDES!$I$2:$I$1048576)","v":0},0,{"$f":"SUMIF(SOLICITUDES!$C$2:$C$1048576,BD!C6879,SOLICITUDES!$J$2:$J$1048576)","v":0},0,{"$f":"SUMIF(SOLICITUDES!$C$2:$C$1048576,BD!C6879,SOLICITUDES!$K$2:$K$1048576)","v":0},0]
[null,null,"T14287",5,13200,220,-77.18284152770805,2.1479228933532846,2.5,2.5,1,1,{"$f":"SUMIF(SOLICITUDES!$C$2:$C$1048576,BD!C6884,SOLICITUDES!$I$2:$I$1048576)","v":0},0,{"$f":"SUMIF(SOLICITUDES!$C$2:$C$1048576,BD!C6884,SOLICITUDES!$J$2:$J$1048576)","v":0},0,{"$f":"SUMIF(SOLICITUDES!$C$2:$C$1048576,BD!C6884,SOLICITUDES!$K$2:$K$1048576)","v":0},0]
[null,null,"T15560",25,13200,240,-77.223746707219703,2.0866225195546764,12.5,12.5,5,5,{"$f":"SUMIF(SOLICITUDES!$C$2:$C$1048576,BD!C6899,SOLICITUDES!$I$2:$I$1048576)","v":0},0,{"$f":"SUMIF(SOLICITUDES!$C$2:$C$1048576,BD!C6899,SOLICITUDES!$J$2:$J$1048576)","v":0},0,{"$f":"SUMIF(SOLICITUDES!$C$2:$C$1048576,BD!C6899,SOLICITUDES!$K$2:$K$1048576)","v":0},0]
[null,null,"T15561",25,13200,240,-77.231548660004833,2.0814488821763697,12.5,12.5,5,5,{"$f":"SUMIF(SOLICITUDES!$C$2:$C$1048576,BD!C6910,SOLICITUDES!$I$2:$I$1048576)","v":0},0,{"$f":"SUMIF(SOLICITUDES!$C$2:$C$1048576,BD!C6910,SOLICITUDES!$J$2:$J$1048576)","v":0},0,{"$f":"SUMIF(SOLICITUDES!$C$2:$C$1048576,BD!C6910,SOLICITUDES!$K$2:$K$1048576)","v":0},0]
[null,null,"T21219",10,13200,240,-77.312694269338067,2.0470135959509972,5,{"$f":"D6915*0.5-M6915","v":5},2,2,{"$f":"SUMIF(SOLICITUDES!$C$2:$C$1048576,BD!C6915,SOLICITUDES!$I$2:$I$1048576)","v":0},{"$f":"M6915/D6915","v":0},{"$f":"SUMIF(SOLICITUDES!$C$2:$C$1048576,BD!C6915,SOLICITUDES!$J$2:$J$1048576)","v":0},0,{"$f":"SUMIF(SOLICITUDES!$C$2:$C$1048576,BD!C6915,SOLICITUDES!$K$2:$K$1048576)","v":0},0]
[null,null,"T21226",10,13200,240,-77.326981564484868,2.0539714488851741,5,5,2,2,{"$f":"SUMIF(SOLICITUDES!$C$2:$C$1048576,BD!C6926,SOLICITUDES!$I$2:$I$1048576)","v":0},0,{"$f":"SUMIF(SOLICITUDES!$C$2:$C$1048576,BD!C6926,SOLICITUDES!$J$2:$J$1048576)","v":0},0,{"$f":"SUMIF(SOLICITUDES!$C$2:$C$1048576,BD!C6926,SOLICITUDES!$K$2:$K$1048576)","v":0},0]
[null,null,"T14975",15,13200,240,-76.658151139396608,2.9700537605396624,7.5,7.5,3,3,{"$f":"SUMIF(SOLICITUDES!$C$2:$C$1048576,BD!C6941,SOLICITUDES!$I$2:$I$1048576)","v":0},0,{"$f":"SUMIF(SOLICITUDES!$C$2:$C$1048576,BD!C6941,SOLICITUDES!$J$2:$J$1048576)","v":0},0,{"$f":"SUMIF(SOLICITUDES!$C$2:$C$1048576,BD!C6941,SOLICITUDES!$K$2:$K$1048576)","v":0},0]
[null,null,"T12851",25,13200,240,-76.661434568228643,2.9930066563131907,12.5,12.5,5,5,{"$f":"SUMIF(SOLICITUDES!$C$2:$C$1048576,BD!C6946,SOLICITUDES!$I$2:$I$1048576)","v":0},0,{"$f":"SUMIF(SOLICITUDES!$C$2:$C$1048576,BD!C6946,SOLICITUDES!$J$2:$J$1048576)","v":0},0,{"$f":"SUMIF(SOLICITUDES!$C$2:$C$1048576,BD!C6946,SOLICITUDES!$K$2:$K$1048576)","v":0},0]
[null,null,"T14965",45,13200,208,-76.658124938449816,2.9678834136372192,22.5,22.5,9,9,{"$f":"SUMIF(SOLICITUDES!$C$2:$C$1048576,BD!C6964,SOLICITUDES!$I$2:$I$1048576)","v":0},0,{"$f":"SUMIF(SOLICITUDES!$C$2:$C$1048576,BD!C6964,SOLICITUDES!$J$2:$J$1048576)","v":0},0,{"$f":"SUMIF(SOLICITUDES!$C$2:$C$1048576,BD!C6964,SOLICITUDES!$K$2:$K$1048576)","v":0},0]
[null,null,"T14999",45,13200,208,-76.659228057630628,2.9765200643377492,22.5,22.5,9,9,{"$f":"SUMIF(SOLICITUDES!$C$2:$C$1048576,BD!C6973,SOLICITUDES!$I$2:$I$1048576)","v":0},0,{"$f":"SUMIF(SOLICITUDES!$C$2:$C$1048576,BD!C6973,SOLICITUDES!$J$2:$J$1048576)","v":0},0,{"$f":"SUMIF(SOLICITUDES!$C$2:$C$1048576,BD!C6973,SOLICITUDES!$K$2:$K$1048576)","v":0},0]
[null,null,"T14962",45,13200,208,-76.655431579052717,2.9739900338377834,22.5,22.5,9,9,{"$f":"SUMIF(SOLICITUDES!$C$2:$C$1048576,BD!C6978,SOLICITUDES!$I$2:$I$1048576)","v":0},0,{"$f":"SUMIF(SOLICITUDES!$C$2:$C$1048576,BD!C6978,SOLICITUDES!$J$2:$J$1048576)","v":0},0,{"$f":"SUMIF(SOLICITUDES!$C$2:$C$1048576,BD!C6978,SOLICITUDES!$K$2:$K$1048576)","v":0},0]
[null,null,"T30060",112.5,13200,220,-76.657933824567522,2.9752014763025394,56.25,56.25,22.5,22.5,{"$f":"SUMIF(SOLICITUDES!$C$2:$C$1048576,BD!C6989,SOLICITUDES!$I$2:$I$1048576)","v":0},0,{"$f":"SUMIF(SOLICITUDES!$C$2:$C$1048576,BD!C6989,SOLICITUDES!$J$2:$J$1048576)","v":0},0,{"$f":"SUMIF(SOLICITUDES!$C$2:$C$1048576,BD!C6989,SOLICITUDES!$K$2:$K$1048576)","v":0},0]
[null,null,"T15094",45,13200,208,-76.658409219829664,2.9772884432617168,22.5,22.5,9,9,{"$f":"SUMIF(SOLICITUDES!$C$2:$C$1048576,BD!C7004,SOLICITUDES!$I$2:$I$1048576)","v":0},0,{"$f":"SUMIF(SOLICITUDES!$C$2:$C$1048576,BD!C7004,SOLICITUDES!$J$2:$J$1048576)","v":0},0,{"$f":"SUMIF(SOLICITUDES!$C$2:$C$1048576,BD!C7004,SOLICITUDES!$K$2:$K$1048576)","v":0},0]
[null,null,"T12849",15,13200,240,-76.650626777167716,2.9820511747663323,7.5,7.5,3,3,{"$f":"SUMIF(SOLICITUDES!$C$2:$C$1048576,BD!C7005,SOLICITUDES!$I$2:$I$1048576)","v":0},0,{"$f":"SUMIF(SOLICITUDES!$C$2:$C$1048576,BD!C7005,SOLICITUDES!$J$2:$J$1048576)","v":0},0,{"$f":"SUMIF(SOLICITUDES!$C$2:$C$1048576,BD!C7005,SOLICITUDES!$K$2:$K$1048576)","v":0},0]
[null,null,"T12611",15,13200,240,-76.676098065467755,2.9889879546729734,7.5,7.5,3,3,{"$f":"SUMIF(SOLICITUDES!$C$2:$C$1048576,BD!C7020,SOLICITUDES!$I$2:$I$1048576)","v":0},0,{"$f":"SUMIF(SOLICITUDES!$C$2:$C$1048576,BD!C7020,SOLICITUDES!$J$2:$J$1048576)","v":0},0,{"$f":"SUMIF(SOLICITUDES!$C$2:$C$1048576,BD!C7020,SOLICITUDES!$K$2:$K$1048576)","v":0},0]
[null,null,"T12621",25,13200,240,-76.679371037233764,2.9923803596962841,12.5,12.5,5,5,{"$f":"SUMIF(SOLICITUDES!$C$2:$C$1048576,BD!C7025,SOLICITUDES!$I$2:$I$1048576)","v":0},0,{"$f":"SUMIF(SOLICITUDES!$C$2:$C$1048576,BD!C7025,SOLICITUDES!$J$2:$J$1048576)","v":0},0,{"$f":"SUMIF(SOLICITUDES!$C$2:$C$1048576,BD!C7025,SOLICITUDES!$K$2:$K$1048576)","v":0},0]
[null,null,"T12588",15,13200,240,-76.714723211669479,2.9612025972966869,7.5,7.5,3,3,{"$f":"SUMIF(SOLICITUDES!$C$2:$C$1048576,BD!C7036,SOLICITUDES!$I$2:$I$1048576)","v":0},0,{"$f":"SUMIF(SOLICITUDES!$C$2:$C$1048576,BD!C7036,SOLICITUDES!$J$2:$J$1048576)","v":0},0,{"$f":"SUMIF(SOLICITUDES!$C$2:$C$1048576,BD!C7036,SOLICITUDES!$K$2:$K$1048576)","v":0},0]
[null,null,"T12636",10,13200,240,-76.72161755972904,2.9758187871216353,5,5,2,2,{"$f":"SUMIF(SOLICITUDES!$C$2:$C$1048576,BD!C7055,SOLICITUDES!$I$2:$I$1048576)","v":0},0,{"$f":"SUMIF(SOLICITUDES!$C$2:$C$1048576,BD!C7055,SOLICITUDES!$J$2:$J$1048576)","v":0},0,{"$f":"SUMIF(SOLICITUDES!$C$2:$C$1048576,BD!C7055,SOLICITUDES!$K$2:$K$1048576)","v":0},0]
[null,null,"T13703",75,13200,208,-76.695512679643898,2.9537715924995789,37.5,37.5,15,15,{"$f":"SUMIF(SOLICITUDES!$C$2:$C$1048576,BD!C7057,SOLICITUDES!$I$2:$I$1048576)","v":0},0,{"$f":"SUMIF(SOLICITUDES!$C$2:$C$1048576,BD!C7057,SOLICITUDES!$J$2:$J$1048576)","v":0},0,{"$f":"SUMIF(SOLICITUDES!$C$2:$C$1048576,BD!C7057,SOLICITUDES!$K$2:$K$1048576)","v":0},0]
[null,null,"T13694",75,13200,208,-76.694688481999535,2.9543902654274334,37.5,37.5,15,15,{"$f":"SUMIF(SOLICITUDES!$C$2:$C$1048576,BD!C7068,SOLICITUDES!$I$2:$I$1048576)","v":0},0,{"$f":"SUMIF(SOLICITUDES!$C$2:$C$1048576,BD!C7068,SOLICITUDES!$J$2:$J$1048576)","v":0},0,{"$f":"SUMIF(SOLICITUDES!$C$2:$C$1048576,BD!C7068,SOLICITUDES!$K$2:$K$1048576)","v":0},0]
[null,null,"T12583",75,13200,208,-76.716649979254214,2.9277612605509522,37.5,37.5,15,15,{"$f":"SUMIF(SOLICITUDES!$C$2:$C$1048576,BD!C7083,SOLICITUDES!$I$2:$I$1048576)","v":0},0,{"$f":"SUMIF(SOLICITUDES!$C$2:$C$1048576,BD!C7083,SOLICITUDES!$J$2:$J$1048576)","v":0},0,{"$f":"SUMIF(SOLICITUDES!$C$2:$C$1048576,BD!C7083,SOLICITUDES!$K$2:$K$1048576)","v":0},0]
[null,null,"T31540",10,13200,240,-76.713968518218195,2.8891466720715409,5,5,2,2,{"$f":"SUMIF(SOLICITUDES!$C$2:$C$1048576,BD!C7094,SOLICITUDES!$I$2:$I$1048576)","v":0},0,{"$f":"SUMIF(SOLICITUDES!$C$2:$C$1048576,BD!C7094,SOLICITUDES!$J$2:$J$1048576)","v":0},0,{"$f":"SUMIF(SOLICITUDES!$C$2:$C$1048576,BD!C7094,SOLICITUDES!$K$2:$K$1048576)","v":0},0]
[null,null,"T14314",10,13200,240,-76.716217346312732,2.8860943336238498,5,5,2,2,{"$f":"SUMIF(SOLICITUDES!$C$2:$C$1048576,BD!C7099,SOLICITUDES!$I$2:$I$1048576)","v":0},0,{"$f":"SUMIF(SOLICITUDES!$C$2:$C$1048576,BD!C7099,SOLICITUDES!$J$2:$J$1048576)","v":0},0,{"$f":"SUMIF(SOLICITUDES!$C$2:$C$1048576,BD!C7099,SOLICITUDES!$K$2:$K$1048576)","v":0},0]
[null,null,"T16067",10,13200,240,-76.754738733160551,2.9842066252052146,5,5,2,2,{"$f":"SUMIF(SOLICITUDES!$C$2:$C$1048576,BD!C7114,SOLICITUDES!$I$2:$I$1048576)","v":0},0,{"$f":"SUMIF(SOLICITUDES!$C$2:$C$1048576,BD!C7114,SOLICITUDES!$J$2:$J$1048576)","v":0},0,{"$f":"SUMIF(SOLICITUDES!$C$2:$C$1048576,BD!C7114,SOLICITUDES!$K$2:$K$1048576)","v":0},0]
[null,null,"T14315",15,13200,240,-76.722322111851867,2.8820583132370117,7.5,7.5,3,3,{"$f":"SUMIF(SOLICITUDES!$C$2:$C$1048576,BD!C7125,SOLICITUDES!$I$2:$I$1048576)","v":0},0,{"$f":"SUMIF(SOLICITUDES!$C$2:$C$1048576,BD!C7125,SOLICITUDES!$J$2:$J$1048576)","v":0},0,{"$f":"SUMIF(SOLICITUDES!$C$2:$C$1048576,BD!C7125,SOLICITUDES!$K$2:$K$1048576)","v":0},0]
[null,null,"T13324",10,13200,220,-76.752368627563641,2.9470624617909325,5,5,2,2,{"$f":"SUMIF(SOLICITUDES!$C$2:$C$1048576,BD!C7130,SOLICITUDES!$I$2:$I$1048576)","v":0},0,{"$f":"SUMIF(SOLICITUDES!$C$2:$C$1048576,BD!C7130,SOLICITUDES!$J$2:$J$1048576)","v":0},0,{"$f":"SUMIF(SOLICITUDES!$C$2:$C$1048576,BD!C7130,SOLICITUDES!$K$2:$K$1048576)","v":0},0]
[null,null,"T22709",10,13200,240,-76.762106325337399,2.9765829145388536,5,5,2,2,{"$f":"SUMIF(SOLICITUDES!$C$2:$C$1048576,BD!C7141,SOLICITUDES!$I$2:$I$1048576)","v":0},0,{"$f":"SUMIF(SOLICITUDES!$C$2:$C$1048576,BD!C7141,SOLICITUDES!$J$2:$J$1048576)","v":0},0,{"$f":"SUMIF(SOLICITUDES!$C$2:$C$1048576,BD!C7141,SOLICITUDES!$K$2:$K$1048576)","v":0},0]
[null,null,"T22711",5,13200,240,-76.766015043501497,2.9731967964823558,2.5,2.5,1,1,{"$f":"SUMIF(SOLICITUDES!$C$2:$C$1048576,BD!C7155,SOLICITUDES!$I$2:$I$1048576)","v":0},0,{"$f":"SUMIF(SOLICITUDES!$C$2:$C$1048576,BD!C7155,SOLICITUDES!$J$2:$J$1048576)","v":0},0,{"$f":"SUMIF(SOLICITUDES!$C$2:$C$1048576,BD!C7155,SOLICITUDES!$K$2:$K$1048576)","v":0},0]
[null,null,"T15347",10,13200,240,-76.737398998926324,2.8736707751545496,5,5,2,2,{"$f":"SUMIF(SOLICITUDES!$C$2:$C$1048576,BD!C7162,SOLICITUDES!$I$2:$I$1048576)","v":0},0,{"$f":"SUMIF(SOLICITUDES!$C$2:$C$1048576,BD!C7162,SOLICITUDES!$J$2:$J$1048576)","v":0},0,{"$f":"SUMIF(SOLICITUDES!$C$2:$C$1048576,BD!C7162,SOLICITUDES!$K$2:$K$1048576)","v":0},0]
[null,null,"T31568",10,13200,240,-76.713909225816849,3.0285578264036137,5,5,2,2,{"$f":"SUMIF(SOLICITUDES!$C$2:$C$1048576,BD!C7173,SOLICITUDES!$I$2:$I$1048576)","v":0},0,{"$f":"SUMIF(SOLICITUDES!$C$2:$C$1048576,BD!C7173,SOLICITUDES!$J$2:$J$1048576)","v":0},0,{"$f":"SUMIF(SOLICITUDES!$C$2:$C$1048576,BD!C7173,SOLICITUDES!$K$2:$K$1048576)","v":0},0]
[null,null,"T12598",15,13200,240,-76.752831225302458,3.003130360618337,7.5,7.5,3,3,{"$f":"SUMIF(SOLICITUDES!$C$2:$C$1048576,BD!C7178,SOLICITUDES!$I$2:$I$1048576)","v":0},0,{"$f":"SUMIF(SOLICITUDES!$C$2:$C$1048576,BD!C7178,SOLICITUDES!$J$2:$J$1048576)","v":0},0,{"$f":"SUMIF(SOLICITUDES!$C$2:$C$1048576,BD!C7178,SOLICITUDES!$K$2:$K$1048576)","v":0},0]
[null,null,"T31550",10,13200,240,-76.779940001579433,2.9402262624284985,5,5,2,2,{"$f":"SUMIF(SOLICITUDES!$C$2:$C$1048576,BD!C7193,SOLICITUDES!$I$2:$I$1048576)","v":0},0,{"$f":"SUMIF(SOLICITUDES!$C$2:$C$1048576,BD!C7193,SOLICITUDES!$J$2:$J$1048576)","v":0},0,{"$f":"SUMIF(SOLICITUDES!$C$2:$C$1048576,BD!C7193,SOLICITUDES!$K$2:$K$1048576)","v":0},0]
[null,null,"T22939",10,13200,240,-76.805524785447616,2.9472393592602897,5,5,2,2,{"$f":"SUMIF(SOLICITUDES!$C$2:$C$1048576,BD!C7204,SOLICITUDES!$I$2:$I$1048576)","v":0},0,{"$f":"SUMIF(SOLICITUDES!$C$2:$C$1048576,BD!C7204,SOLICITUDES!$J$2:$J$1048576)","v":0},0,{"$f":"SUMIF(SOLICITUDES!$C$2:$C$1048576,BD!C7204,SOLICITUDES!$K$2:$K$1048576)","v":0},0]
[null,null,"T22811",37.5,13200,240,-76.812188485237471,2.9187444656675092,18.75,18.75,7.5,7.5,{"$f":"SUMIF(SOLICITUDES!$C$2:$C$1048576,BD!C7209,SOLICITUDES!$I$2:$I$1048576)","v":0},0,{"$f":"SUMIF(SOLICITUDES!$C$2:$C$1048576,BD!C7209,SOLICITUDES!$J$2:$J$1048576)","v":0},0,{"$f":"SUMIF(SOLICITUDES!$C$2:$C$1048576,BD!C7209,SOLICITUDES!$K$2:$K$1048576)","v":0},0]
[null,null,"T44850",10,13200,240,-76.763248732175683,3.0151228847118694,5,5,2,2,{"$f":"SUMIF(SOLICITUDES!$C$2:$C$1048576,BD!C7220,SOLICITUDES!$I$2:$I$1048576)","v":0},0,{"$f":"SUMIF(SOLICITUDES!$C$2:$C$1048576,BD!C7220,SOLICITUDES!$J$2:$J$1048576)","v":0},0,{"$f":"SUMIF(SOLICITUDES!$C$2:$C$1048576,BD!C7220,SOLICITUDES!$K$2:$K$1048576)","v":0},0]
[null,null,"T22818",5,13200,240,-76.816705138380982,2.9310078442003666,2.5,{"$f":"D7235*0.5-M7235","v":2.5},1,1,{"$f":"SUMIF(SOLICITUDES!$C$2:$C$1048576,BD!C7235,SOLICITUDES!$I$2:$I$1048576)","v":0},{"$f":"M7235/D7235","v":0},{"$f":"SUMIF(SOLICITUDES!$C$2:$C$1048576,BD!C7235,SOLICITUDES!$J$2:$J$1048576)","v":0},0,{"$f":"SUMIF(SOLICITUDES!$C$2:$C$1048576,BD!C7235,SOLICITUDES!$K$2:$K$1048576)","v":0},0]
[null,null,"T22892",5,13200,240,-76.818998651184287,2.8974473362062332,2.5,2.5,1,1,{"$f":"SUMIF(SOLICITUDES!$C$2:$C$1048576,BD!C7246,SOLICITUDES!$I$2:$I$1048576)","v":0},0,{"$f":"SUMIF(SOLICITUDES!$C$2:$C$1048576,BD!C7246,SOLICITUDES!$J$2:$J$1048576)","v":0},0,{"$f":"SUMIF(SOLICITUDES!$C$2:$C$1048576,BD!C7246,SOLICITUDES!$K$2:$K$1048576)","v":0},0]
[null,null,"T14500",37.5,13200,240,-76.656225753998271,3.0557334537749692,18.75,18.75,7.5,7.5,{"$f":"SUMIF(SOLICITUDES!$C$2:$C$1048576,BD!C7252,SOLICITUDES!$I$2:$I$1048576)","v":0},0,{"$f":"SUMIF(SOLICITUDES!$C$2:$C$1048576,BD!C7252,SOLICITUDES!$J$2:$J$1048576)","v":0},0,{"$f":"SUMIF(SOLICITUDES!$C$2:$C$1048576,BD!C7252,SOLICITUDES!$K$2:$K$1048576)","v":0},0]
[null,null,"T15446",10,13200,240,-76.655144872462429,3.0673392882957091,5,5,2,2,{"$f":"SUMIF(SOLICITUDES!$C$2:$C$1048576,BD!C7267,SOLICITUDES!$I$2:$I$1048576)","v":0},0,{"$f":"SUMIF(SOLICITUDES!$C$2:$C$1048576,BD!C7267,SOLICITUDES!$J$2:$J$1048576)","v":0},0,{"$f":"SUMIF(SOLICITUDES!$C$2:$C$1048576,BD!C7267,SOLICITUDES!$K$2:$K$1048576)","v":0},0]
[null,null,"T12899",15,13200,240,-76.642040022336303,3.0627310356421615,7.5,7.5,3,3,{"$f":"SUMIF(SOLICITUDES!$C$2:$C$1048576,BD!C7268,SOLICITUDES!$I$2:$I$1048576)","v":0},0,{"$f":"SUMIF(SOLICITUDES!$C$2:$C$1048576,BD!C7268,SOLICITUDES!$J$2:$J$1048576)","v":0},0,{"$f":"SUMIF(SOLICITUDES!$C$2:$C$1048576,BD!C7268,SOLICITUDES!$K$2:$K$1048576)","v":0},0]
[null,null,"T15447",15,13200,240,-76.644693625157771,3.0851320476638127,7.5,7.5,3,3,{"$f":"SUMIF(SOLICITUDES!$C$2:$C$1048576,BD!C7283,SOLICITUDES!$I$2:$I$1048576)","v":0},0,{"$f":"SUMIF(SOLICITUDES!$C$2:$C$1048576,BD!C7283,SOLICITUDES!$J$2:$J$1048576)","v":0},0,{"$f":"SUMIF(SOLICITUDES!$C$2:$C$1048576,BD!C7283,SOLICITUDES!$K$2:$K$1048576)","v":0},0]
[null,null,"T30729",0.5,13200,240,-76.439210171971112,2.3815064725765316,0.25,0.25,0.1,0.1,{"$f":"SUMIF(SOLICITUDES!$C$2:$C$1048576,BD!C7288,SOLICITUDES!$I$2:$I$1048576)","v":0},0,{"$f":"SUMIF(SOLICITUDES!$C$2:$C$1048576,BD!C7288,SOLICITUDES!$J$2:$J$1048576)","v":0},0,{"$f":"SUMIF(SOLICITUDES!$C$2:$C$1048576,BD!C7288,SOLICITUDES!$K$2:$K$1048576)","v":0},0]
[null,null,"T5501",25,13200,240,-76.428680456434847,2.3859235005892705,12.5,{"$f":"D7299*0.5-M7299","v":12.5},5,5,{"$f":"SUMIF(SOLICITUDES!$C$2:$C$1048576,BD!C7299,SOLICITUDES!$I$2:$I$1048576)","v":0},{"$f":"M7299/D7299","v":0},{"$f":"SUMIF(SOLICITUDES!$C$2:$C$1048576,BD!C7299,SOLICITUDES!$J$2:$J$1048576)","v":0},0,{"$f":"SUMIF(SOLICITUDES!$C$2:$C$1048576,BD!C7299,SOLICITUDES!$K$2:$K$1048576)","v":0},0]
[null,null,"T5487",15,13200,240,-76.422416717711783,2.3995301201974963,7.5,7.5,3,3,{"$f":"SUMIF(SOLICITUDES!$C$2:$C$1048576,BD!C7314,SOLICITUDES!$I$2:$I$1048576)","v":0},0,{"$f":"SUMIF(SOLICITUDES!$C$2:$C$1048576,BD!C7314,SOLICITUDES!$J$2:$J$1048576)","v":0},0,{"$f":"SUMIF(SOLICITUDES!$C$2:$C$1048576,BD!C7314,SOLICITUDES!$K$2:$K$1048576)","v":0},0]
[null,null,"T5724",15,13200,240,-76.42084518800057,2.3957946223234825,7.5,7.5,3,3,{"$f":"SUMIF(SOLICITUDES!$C$2:$C$1048576,BD!C7319,SOLICITUDES!$I$2:$I$1048576)","v":0},0,{"$f":"SUMIF(SOLICITUDES!$C$2:$C$1048576,BD!C7319,SOLICITUDES!$J$2:$J$1048576)","v":0},0,{"$f":"SUMIF(SOLICITUDES!$C$2:$C$1048576,BD!C7319,SOLICITUDES!$K$2:$K$1048576)","v":0},0]
[null,null,"T5120",10,13200,208,-76.492986764425396,2.4111013891901409,5,5,2,2,{"$f":"SUMIF(SOLICITUDES!$C$2:$C$1048576,BD!C7330,SOLICITUDES!$I$2:$I$1048576)","v":0},0,{"$f":"SUMIF(SOLICITUDES!$C$2:$C$1048576,BD!C7330,SOLICITUDES!$J$2:$J$1048576)","v":0},0,{"$f":"SUMIF(SOLICITUDES!$C$2:$C$1048576,BD!C7330,SOLICITUDES!$K$2:$K$1048576)","v":0},0]
[null,null,"T31249",10,13200,240,-76.507921646938115,2.3429981509500153,5,5,2,2,{"$f":"SUMIF(SOLICITUDES!$C$2:$C$1048576,BD!C7346,SOLICITUDES!$I$2:$I$1048576)","v":0},0,{"$f":"SUMIF(SOLICITUDES!$C$2:$C$1048576,BD!C7346,SOLICITUDES!$J$2:$J$1048576)","v":0},0,{"$f":"SUMIF(SOLICITUDES!$C$2:$C$1048576,BD!C7346,SOLICITUDES!$K$2:$K$1048576)","v":0},0]
[null,null,"T5562",30,13200,208,-76.494525190171359,2.3448164289512161,15,15,6,6,{"$f":"SUMIF(SOLICITUDES!$C$2:$C$1048576,BD!C7357,SOLICITUDES!$I$2:$I$1048576)","v":0},0,{"$f":"SUMIF(SOLICITUDES!$C$2:$C$1048576,BD!C7357,SOLICITUDES!$J$2:$J$1048576)","v":0},0,{"$f":"SUMIF(SOLICITUDES!$C$2:$C$1048576,BD!C7357,SOLICITUDES!$K$2:$K$1048576)","v":0},0]
[null,null,"T5539",15,13200,240,-76.499621914778885,2.3248062237383027,7.5,7.5,3,3,{"$f":"SUMIF(SOLICITUDES!$C$2:$C$1048576,BD!C7362,SOLICITUDES!$I$2:$I$1048576)","v":0},0,{"$f":"SUMIF(SOLICITUDES!$C$2:$C$1048576,BD!C7362,SOLICITUDES!$J$2:$J$1048576)","v":0},0,{"$f":"SUMIF(SOLICITUDES!$C$2:$C$1048576,BD!C7362,SOLICITUDES!$K$2:$K$1048576)","v":0},0]
[null,null,"T31904",10,13200,240,-76.502834506146044,2.3146864844439676,5,5,2,2,{"$f":"SUMIF(SOLICITUDES!$C$2:$C$1048576,BD!C7377,SOLICITUDES!$I$2:$I$1048576)","v":0},0,{"$f":"SUMIF(SOLICITUDES!$C$2:$C$1048576,BD!C7377,SOLICITUDES!$J$2:$J$1048576)","v":0},0,{"$f":"SUMIF(SOLICITUDES!$C$2:$C$1048576,BD!C7377,SOLICITUDES!$K$2:$K$1048576)","v":0},0]
[null,null,"T1325",15,13200,240,-76.485768993999784,2.2356992255219028,7.5,7.5,3,3,{"$f":"SUMIF(SOLICITUDES!$C$2:$C$1048576,BD!C7388,SOLICITUDES!$I$2:$I$1048576)","v":0},0,{"$f":"SUMIF(SOLICITUDES!$C$2:$C$1048576,BD!C7388,SOLICITUDES!$J$2:$J$1048576)","v":0},0,{"$f":"SUMIF(SOLICITUDES!$C$2:$C$1048576,BD!C7388,SOLICITUDES!$K$2:$K$1048576)","v":0},0]
[null,null,"T6255",15,13200,240,-76.470032629349646,2.2900232206948834,7.5,7.5,3,3,{"$f":"SUMIF(SOLICITUDES!$C$2:$C$1048576,BD!C7393,SOLICITUDES!$I$2:$I$1048576)","v":0},0,{"$f":"SUMIF(SOLICITUDES!$C$2:$C$1048576,BD!C7393,SOLICITUDES!$J$2:$J$1048576)","v":0},0,{"$f":"SUMIF(SOLICITUDES!$C$2:$C$1048576,BD!C7393,SOLICITUDES!$K$2:$K$1048576)","v":0},0]
[null,null,"T22985",5,13200,240,-76.473075520600659,2.2500762281465558,2.5,2.5,1,1,{"$f":"SUMIF(SOLICITUDES!$C$2:$C$1048576,BD!C7408,SOLICITUDES!$I$2:$I$1048576)","v":0},0,{"$f":"SUMIF(SOLICITUDES!$C$2:$C$1048576,BD!C7408,SOLICITUDES!$J$2:$J$1048576)","v":0},0,{"$f":"SUMIF(SOLICITUDES!$C$2:$C$1048576,BD!C7408,SOLICITUDES!$K$2:$K$1048576)","v":0},0]
[null,null,"T9520",15,13200,220,-76.47571509108954,2.2663871314917023,7.5,7.5,3,3,{"$f":"SUMIF(SOLICITUDES!$C$2:$C$1048576,BD!C7409,SOLICITUDES!$I$2:$I$1048576)","v":0},0,{"$f":"SUMIF(SOLICITUDES!$C$2:$C$1048576,BD!C7409,SOLICITUDES!$J$2:$J$1048576)","v":0},0,{"$f":"SUMIF(SOLICITUDES!$C$2:$C$1048576,BD!C7409,SOLICITUDES!$K$2:$K$1048576)","v":0},0]
[null,null,"T22993",5,13200,240,-76.485652820067145,2.3021846538581769,2.5,2.5,1,1,{"$f":"SUMIF(SOLICITUDES!$C$2:$C$1048576,BD!C7421,SOLICITUDES!$I$2:$I$1048576)","v":0},0,{"$f":"SUMIF(SOLICITUDES!$C$2:$C$1048576,BD!C7421,SOLICITUDES!$J$2:$J$1048576)","v":0},0,{"$f":"SUMIF(SOLICITUDES!$C$2:$C$1048576,BD!C7421,SOLICITUDES!$K$2:$K$1048576)","v":0},0]
[null,null,"T23013",5,13200,240,-76.544375294940721,2.2031366849783978,2.5,2.5,1,1,{"$f":"SUMIF(SOLICITUDES!$C$2:$C$1048576,BD!C7436,SOLICITUDES!$I$2:$I$1048576)","v":0},0,{"$f":"SUMIF(SOLICITUDES!$C$2:$C$1048576,BD!C7436,SOLICITUDES!$J$2:$J$1048576)","v":0},0,{"$f":"SUMIF(SOLICITUDES!$C$2:$C$1048576,BD!C7436,SOLICITUDES!$K$2:$K$1048576)","v":0},0]
[null,null,"T11533",10,13200,240,-76.434495707155619,2.2303420050765004,5,5,2,2,{"$f":"SUMIF(SOLICITUDES!$C$2:$C$1048576,BD!C7441,SOLICITUDES!$I$2:$I$1048576)","v":0},0,{"$f":"SUMIF(SOLICITUDES!$C$2:$C$1048576,BD!C7441,SOLICITUDES!$J$2:$J$1048576)","v":0},0,{"$f":"SUMIF(SOLICITUDES!$C$2:$C$1048576,BD!C7441,SOLICITUDES!$K$2:$K$1048576)","v":0},0]
[null,null,"T27539",15,13200,240,-76.494551482168305,2.3568436790458258,7.5,7.5,3,3,{"$f":"SUMIF(SOLICITUDES!$C$2:$C$1048576,BD!C7456,SOLICITUDES!$I$2:$I$1048576)","v":0},0,{"$f":"SUMIF(SOLICITUDES!$C$2:$C$1048576,BD!C7456,SOLICITUDES!$J$2:$J$1048576)","v":0},0,{"$f":"SUMIF(SOLICITUDES!$C$2:$C$1048576,BD!C7456,SOLICITUDES!$K$2:$K$1048576)","v":0},0]
[null,null,"T27511",25,13200,240,-76.495950022668652,2.3450065330937475,12.5,12.5,5,5,{"$f":"SUMIF(SOLICITUDES!$C$2:$C$1048576,BD!C7467,SOLICITUDES!$I$2:$I$1048576)","v":0},0,{"$f":"SUMIF(SOLICITUDES!$C$2:$C$1048576,BD!C7467,SOLICITUDES!$J$2:$J$1048576)","v":0},0,{"$f":"SUMIF(SOLICITUDES!$C$2:$C$1048576,BD!C7467,SOLICITUDES!$K$2:$K$1048576)","v":0},0]
[null,null,"T27515",50,13200,240,-76.495452507956614,2.3419667498787207,25,25,10,10,{"$f":"SUMIF(SOLICITUDES!$C$2:$C$1048576,BD!C7472,SOLICITUDES!$I$2:$I$1048576)","v":0},0,{"$f":"SUMIF(SOLICITUDES!$C$2:$C$1048576,BD!C7472,SOLICITUDES!$J$2:$J$1048576)","v":0},0,{"$f":"SUMIF(SOLICITUDES!$C$2:$C$1048576,BD!C7472,SOLICITUDES!$K$2:$K$1048576)","v":0},0]
[null,null,"T27524",25,13200,240,-76.497939848727384,2.3239616943080925,12.5,12.5,5,5,{"$f":"SUMIF(SOLICITUDES!$C$2:$C$1048576,BD!C7483,SOLICITUDES!$I$2:$I$1048576)","v":0},0,{"$f":"SUMIF(SOLICITUDES!$C$2:$C$1048576,BD!C7483,SOLICITUDES!$J$2:$J$1048576)","v":0},0,{"$f":"SUMIF(SOLICITUDES!$C$2:$C$1048576,BD!C7483,SOLICITUDES!$K$2:$K$1048576)","v":0},0]
[null,null,"T41543",75,13200,214,-76.597019652006779,2.5033652898477414,37.5,37.5,15,15,{"$f":"SUMIF(SOLICITUDES!$C$2:$C$1048576,BD!C7498,SOLICITUDES!$I$2:$I$1048576)","v":0},0,{"$f":"SUMIF(SOLICITUDES!$C$2:$C$1048576,BD!C7498,SOLICITUDES!$J$2:$J$1048576)","v":0},0,{"$f":"SUMIF(SOLICITUDES!$C$2:$C$1048576,BD!C7498,SOLICITUDES!$K$2:$K$1048576)","v":0},0]
[null,null,"T16049",5,13200,240,-76.827233466341838,1.7659079654607337,2.5,2.5,1,1,{"$f":"SUMIF(SOLICITUDES!$C$2:$C$1048576,BD!C7503,SOLICITUDES!$I$2:$I$1048576)","v":0},0,{"$f":"SUMIF(SOLICITUDES!$C$2:$C$1048576,BD!C7503,SOLICITUDES!$J$2:$J$1048576)","v":0},0,{"$f":"SUMIF(SOLICITUDES!$C$2:$C$1048576,BD!C7503,SOLICITUDES!$K$2:$K$1048576)","v":0},0]
[null,null,"T35765",5,13200,240,-76.929949895889067,1.7883325927200522,2.5,2.5,1,1,{"$f":"SUMIF(SOLICITUDES!$C$2:$C$1048576,BD!C7516,SOLICITUDES!$I$2:$I$1048576)","v":0},0,{"$f":"SUMIF(SOLICITUDES!$C$2:$C$1048576,BD!C7516,SOLICITUDES!$J$2:$J$1048576)","v":0},0,{"$f":"SUMIF(SOLICITUDES!$C$2:$C$1048576,BD!C7516,SOLICITUDES!$K$2:$K$1048576)","v":0},0]
[null,null,"T14612",25,13200,240,-76.814055474283293,1.7844271959418745,12.5,12.5,5,5,{"$f":"SUMIF(SOLICITUDES!$C$2:$C$1048576,BD!C7530,SOLICITUDES!$I$2:$I$1048576)","v":0},0,{"$f":"SUMIF(SOLICITUDES!$C$2:$C$1048576,BD!C7530,SOLICITUDES!$J$2:$J$1048576)","v":0},0,{"$f":"SUMIF(SOLICITUDES!$C$2:$C$1048576,BD!C7530,SOLICITUDES!$K$2:$K$1048576)","v":0},0]
[null,null,"T14624",10,13200,240,-76.817300209380804,1.7822843003394464,5,5,2,2,{"$f":"SUMIF(SOLICITUDES!$C$2:$C$1048576,BD!C7535,SOLICITUDES!$I$2:$I$1048576)","v":0},0,{"$f":"SUMIF(SOLICITUDES!$C$2:$C$1048576,BD!C7535,SOLICITUDES!$J$2:$J$1048576)","v":0},0,{"$f":"SUMIF(SOLICITUDES!$C$2:$C$1048576,BD!C7535,SOLICITUDES!$K$2:$K$1048576)","v":0},0]
[null,null,"T25690",10,13200,240,-76.898720059083047,1.7508589275218978,5,5,2,2,{"$f":"SUMIF(SOLICITUDES!$C$2:$C$1048576,BD!C7546,SOLICITUDES!$I$2:$I$1048576)","v":0},0,{"$f":"SUMIF(SOLICITUDES!$C$2:$C$1048576,BD!C7546,SOLICITUDES!$J$2:$J$1048576)","v":0},0,{"$f":"SUMIF(SOLICITUDES!$C$2:$C$1048576,BD!C7546,SOLICITUDES!$K$2:$K$1048576)","v":0},0]
[null,null,"T14366",15,13200,240,-76.873348067247164,1.8393833998235649,7.5,7.5,3,3,{"$f":"SUMIF(SOLICITUDES!$C$2:$C$1048576,BD!C7551,SOLICITUDES!$I$2:$I$1048576)","v":0},0,{"$f":"SUMIF(SOLICITUDES!$C$2:$C$1048576,BD!C7551,SOLICITUDES!$J$2:$J$1048576)","v":0},0,{"$f":"SUMIF(SOLICITUDES!$C$2:$C$1048576,BD!C7551,SOLICITUDES!$K$2:$K$1048576)","v":0},0]
[null,null,"T15915",15,13200,240,-76.869223454083183,1.8326365004437366,7.5,7.5,3,3,{"$f":"SUMIF(SOLICITUDES!$C$2:$C$1048576,BD!C7562,SOLICITUDES!$I$2:$I$1048576)","v":0},0,{"$f":"SUMIF(SOLICITUDES!$C$2:$C$1048576,BD!C7562,SOLICITUDES!$J$2:$J$1048576)","v":0},0,{"$f":"SUMIF(SOLICITUDES!$C$2:$C$1048576,BD!C7562,SOLICITUDES!$K$2:$K$1048576)","v":0},0]
[null,null,"T26795",5,13200,240,-76.926174686178697,1.8797158922299315,2.5,2.5,1,1,{"$f":"SUMIF(SOLICITUDES!$C$2:$C$1048576,BD!C7577,SOLICITUDES!$I$2:$I$1048576)","v":0},0,{"$f":"SUMIF(SOLICITUDES!$C$2:$C$1048576,BD!C7577,SOLICITUDES!$J$2:$J$1048576)","v":0},0,{"$f":"SUMIF(SOLICITUDES!$C$2:$C$1048576,BD!C7577,SOLICITUDES!$K$2:$K$1048576)","v":0},0]
[null,null,"T26778",5,13200,240,-76.853191419900085,1.7986754037775667,2.5,2.5,1,1,{"$f":"SUMIF(SOLICITUDES!$C$2:$C$1048576,BD!C7582,SOLICITUDES!$I$2:$I$1048576)","v":0},0,{"$f":"SUMIF(SOLICITUDES!$C$2:$C$1048576,BD!C7582,SOLICITUDES!$J$2:$J$1048576)","v":0},0,{"$f":"SUMIF(SOLICITUDES!$C$2:$C$1048576,BD!C7582,SOLICITUDES!$K$2:$K$1048576)","v":0},0]
[null,null,"T41541",15,13200,220,-75.969550697386865,2.5661490608222142,7.5,7.5,3,3,{"$f":"SUMIF(SOLICITUDES!$C$2:$C$1048576,BD!C7593,SOLICITUDES!$I$2:$I$1048576)","v":0},0,{"$f":"SUMIF(SOLICITUDES!$C$2:$C$1048576,BD!C7593,SOLICITUDES!$J$2:$J$1048576)","v":0},0,{"$f":"SUMIF(SOLICITUDES!$C$2:$C$1048576,BD!C7593,SOLICITUDES!$K$2:$K$1048576)","v":0},0]
[null,null,"T12374",15,13200,240,-75.974416774356513,2.6314965641123718,7.5,7.5,3,3,{"$f":"SUMIF(SOLICITUDES!$C$2:$C$1048576,BD!C7607,SOLICITUDES!$I$2:$I$1048576)","v":0},0,{"$f":"SUMIF(SOLICITUDES!$C$2:$C$1048576,BD!C7607,SOLICITUDES!$J$2:$J$1048576)","v":0},0,{"$f":"SUMIF(SOLICITUDES!$C$2:$C$1048576,BD!C7607,SOLICITUDES!$K$2:$K$1048576)","v":0},0]
[null,null,"T41540",10,13200,208,-75.985787996190751,2.5784084526635196,5,5,2,2,{"$f":"SUMIF(SOLICITUDES!$C$2:$C$1048576,BD!C7614,SOLICITUDES!$I$2:$I$1048576)","v":0},0,{"$f":"SUMIF(SOLICITUDES!$C$2:$C$1048576,BD!C7614,SOLICITUDES!$J$2:$J$1048576)","v":0},0,{"$f":"SUMIF(SOLICITUDES!$C$2:$C$1048576,BD!C7614,SOLICITUDES!$K$2:$K$1048576)","v":0},0]
[null,null,"T13045",30,13200,208,-75.971242722894459,2.6439779399510273,15,15,6,6,{"$f":"SUMIF(SOLICITUDES!$C$2:$C$1048576,BD!C7625,SOLICITUDES!$I$2:$I$1048576)","v":0},0,{"$f":"SUMIF(SOLICITUDES!$C$2:$C$1048576,BD!C7625,SOLICITUDES!$J$2:$J$1048576)","v":0},0,{"$f":"SUMIF(SOLICITUDES!$C$2:$C$1048576,BD!C7625,SOLICITUDES!$K$2:$K$1048576)","v":0},0]
[null,null,"T27057",10,13200,240,-75.969940374944329,2.5985752585399324,5,5,2,2,{"$f":"SUMIF(SOLICITUDES!$C$2:$C$1048576,BD!C7640,SOLICITUDES!$I$2:$I$1048576)","v":0},0,{"$f":"SUMIF(SOLICITUDES!$C$2:$C$1048576,BD!C7640,SOLICITUDES!$J$2:$J$1048576)","v":0},0,{"$f":"SUMIF(SOLICITUDES!$C$2:$C$1048576,BD!C7640,SOLICITUDES!$K$2:$K$1048576)","v":0},0]
[null,null,"T27129",10,13200,240,-75.960672204077767,2.6084729499911279,5,5,2,2,{"$f":"SUMIF(SOLICITUDES!$C$2:$C$1048576,BD!C7651,SOLICITUDES!$I$2:$I$1048576)","v":0},0,{"$f":"SUMIF(SOLICITUDES!$C$2:$C$1048576,BD!C7651,SOLICITUDES!$J$2:$J$1048576)","v":0},0,{"$f":"SUMIF(SOLICITUDES!$C$2:$C$1048576,BD!C7651,SOLICITUDES!$K$2:$K$1048576)","v":0},0]
[null,null,"T12025",15,13200,240,-75.902854662580054,2.5783112808836357,7.5,7.5,3,3,{"$f":"SUMIF(SOLICITUDES!$C$2:$C$1048576,BD!C7656,SOLICITUDES!$I$2:$I$1048576)","v":0},0,{"$f":"SUMIF(SOLICITUDES!$C$2:$C$1048576,BD!C7656,SOLICITUDES!$J$2:$J$1048576)","v":0},0,{"$f":"SUMIF(SOLICITUDES!$C$2:$C$1048576,BD!C7656,SOLICITUDES!$K$2:$K$1048576)","v":0},0]
[null,null,"T15735",10,13200,240,-75.896049527566504,2.5778076828421841,5,5,2,2,{"$f":"SUMIF(SOLICITUDES!$C$2:$C$1048576,BD!C7671,SOLICITUDES!$I$2:$I$1048576)","v":0},0,{"$f":"SUMIF(SOLICITUDES!$C$2:$C$1048576,BD!C7671,SOLICITUDES!$J$2:$J$1048576)","v":0},0,{"$f":"SUMIF(SOLICITUDES!$C$2:$C$1048576,BD!C7671,SOLICITUDES!$K$2:$K$1048576)","v":0},0]
[null,null,"T16436",10,13200,240,-75.886201455449751,2.5527714365441709,5,5,2,2,{"$f":"SUMIF(SOLICITUDES!$C$2:$C$1048576,BD!C7672,SOLICITUDES!$I$2:$I$1048576)","v":0},0,{"$f":"SUMIF(SOLICITUDES!$C$2:$C$1048576,BD!C7672,SOLICITUDES!$J$2:$J$1048576)","v":0},0,{"$f":"SUMIF(SOLICITUDES!$C$2:$C$1048576,BD!C7672,SOLICITUDES!$K$2:$K$1048576)","v":0},0]
[null,null,"T12364",25,13200,240,-76.000268731436663,2.6174683008963093,12.5,12.5,5,5,{"$f":"SUMIF(SOLICITUDES!$C$2:$C$1048576,BD!C7687,SOLICITUDES!$I$2:$I$1048576)","v":0},0,{"$f":"SUMIF(SOLICITUDES!$C$2:$C$1048576,BD!C7687,SOLICITUDES!$J$2:$J$1048576)","v":0},0,{"$f":"SUMIF(SOLICITUDES!$C$2:$C$1048576,BD!C7687,SOLICITUDES!$K$2:$K$1048576)","v":0},0]
[null,null,"T23390",10,13200,240,-76.000366453284215,2.629288835054973,5,5,2,2,{"$f":"SUMIF(SOLICITUDES!$C$2:$C$1048576,BD!C7702,SOLICITUDES!$I$2:$I$1048576)","v":0},0,{"$f":"SUMIF(SOLICITUDES!$C$2:$C$1048576,BD!C7702,SOLICITUDES!$J$2:$J$1048576)","v":0},0,{"$f":"SUMIF(SOLICITUDES!$C$2:$C$1048576,BD!C7702,SOLICITUDES!$K$2:$K$1048576)","v":0},0]
[null,null,"T15730",25,13200,240,-75.876480532630495,2.5556736742819957,12.5,12.5,5,5,{"$f":"SUMIF(SOLICITUDES!$C$2:$C$1048576,BD!C7704,SOLICITUDES!$I$2:$I$1048576)","v":0},0,{"$f":"SUMIF(SOLICITUDES!$C$2:$C$1048576,BD!C7704,SOLICITUDES!$J$2:$J$1048576)","v":0},0,{"$f":"SUMIF(SOLICITUDES!$C$2:$C$1048576,BD!C7704,SOLICITUDES!$K$2:$K$1048576)","v":0},0]
[null,null,"T23365",5,13200,240,-75.999431752977969,2.6075436183909146,2.5,2.5,1,1,{"$f":"SUMIF(SOLICITUDES!$C$2:$C$1048576,BD!C7719,SOLICITUDES!$I$2:$I$1048576)","v":0},0,{"$f":"SUMIF(SOLICITUDES!$C$2:$C$1048576,BD!C7719,SOLICITUDES!$J$2:$J$1048576)","v":0},0,{"$f":"SUMIF(SOLICITUDES!$C$2:$C$1048576,BD!C7719,SOLICITUDES!$K$2:$K$1048576)","v":0},0]
[null,null,"T16501",10,13200,240,-75.829421781983527,2.6251111231938564,5,5,2,2,{"$f":"SUMIF(SOLICITUDES!$C$2:$C$1048576,BD!C7730,SOLICITUDES!$I$2:$I$1048576)","v":0},0,{"$f":"SUMIF(SOLICITUDES!$C$2:$C$1048576,BD!C7730,SOLICITUDES!$J$2:$J$1048576)","v":0},0,{"$f":"SUMIF(SOLICITUDES!$C$2:$C$1048576,BD!C7730,SOLICITUDES!$K$2:$K$1048576)","v":0},0]
[null,null,"T23376",5,13200,240,-75.96613830295513,2.6372853147267934,2.5,2.5,1,1,{"$f":"SUMIF(SOLICITUDES!$C$2:$C$1048576,BD!C7735,SOLICITUDES!$I$2:$I$1048576)","v":0},0,{"$f":"SUMIF(SOLICITUDES!$C$2:$C$1048576,BD!C7735,SOLICITUDES!$J$2:$J$1048576)","v":0},0,{"$f":"SUMIF(SOLICITUDES!$C$2:$C$1048576,BD!C7735,SOLICITUDES!$K$2:$K$1048576)","v":0},0]
[null,null,"T13031",37.5,13200,240,-75.952118311704083,2.6547396396132061,18.75,18.75,7.5,7.5,{"$f":"SUMIF(SOLICITUDES!$C$2:$C$1048576,BD!C7750,SOLICITUDES!$I$2:$I$1048576)","v":0},0,{"$f":"SUMIF(SOLICITUDES!$C$2:$C$1048576,BD!C7750,SOLICITUDES!$J$2:$J$1048576)","v":0},0,{"$f":"SUMIF(SOLICITUDES!$C$2:$C$1048576,BD!C7750,SOLICITUDES!$K$2:$K$1048576)","v":0},0]
[null,null,"T24762",5,13200,240,-75.943953622410618,2.663431486376286,2.5,2.5,1,1,{"$f":"SUMIF(SOLICITUDES!$C$2:$C$1048576,BD!C7761,SOLICITUDES!$I$2:$I$1048576)","v":0},0,{"$f":"SUMIF(SOLICITUDES!$C$2:$C$1048576,BD!C7761,SOLICITUDES!$J$2:$J$1048576)","v":0},0,{"$f":"SUMIF(SOLICITUDES!$C$2:$C$1048576,BD!C7761,SOLICITUDES!$K$2:$K$1048576)","v":0},0]
[null,null,"T24764",5,13200,240,-75.945860578285959,2.6624838806738627,2.5,2.5,1,1,{"$f":"SUMIF(SOLICITUDES!$C$2:$C$1048576,BD!C7766,SOLICITUDES!$I$2:$I$1048576)","v":0},0,{"$f":"SUMIF(SOLICITUDES!$C$2:$C$1048576,BD!C7766,SOLICITUDES!$J$2:$J$1048576)","v":0},0,{"$f":"SUMIF(SOLICITUDES!$C$2:$C$1048576,BD!C7766,SOLICITUDES!$K$2:$K$1048576)","v":0},0]
[null,null,"T27648",10,13200,208,-75.992063468619804,2.6549215946370834,5,5,2,2,{"$f":"SUMIF(SOLICITUDES!$C$2:$C$1048576,BD!C7777,SOLICITUDES!$I$2:$I$1048576)","v":0},0,{"$f":"SUMIF(SOLICITUDES!$C$2:$C$1048576,BD!C7777,SOLICITUDES!$J$2:$J$1048576)","v":0},0,{"$f":"SUMIF(SOLICITUDES!$C$2:$C$1048576,BD!C7777,SOLICITUDES!$K$2:$K$1048576)","v":0},0]
[null,null,"T26583",5,13200,240,-76.013494320043947,2.6680299731348525,2.5,2.5,1,1,{"$f":"SUMIF(SOLICITUDES!$C$2:$C$1048576,BD!C7793,SOLICITUDES!$I$2:$I$1048576)","v":0},0,{"$f":"SUMIF(SOLICITUDES!$C$2:$C$1048576,BD!C7793,SOLICITUDES!$J$2:$J$1048576)","v":0},0,{"$f":"SUMIF(SOLICITUDES!$C$2:$C$1048576,BD!C7793,SOLICITUDES!$K$2:$K$1048576)","v":0},0]
[null,null,"T16099",15,13200,240,-76.017683611028289,2.7122699013265645,7.5,7.5,3,3,{"$f":"SUMIF(SOLICITUDES!$C$2:$C$1048576,BD!C7798,SOLICITUDES!$I$2:$I$1048576)","v":0},0,{"$f":"SUMIF(SOLICITUDES!$C$2:$C$1048576,BD!C7798,SOLICITUDES!$J$2:$J$1048576)","v":0},0,{"$f":"SUMIF(SOLICITUDES!$C$2:$C$1048576,BD!C7798,SOLICITUDES!$K$2:$K$1048576)","v":0},0]
[null,null,"T16121",15,13200,240,-76.025552685451416,2.7209480679641675,7.5,7.5,3,3,{"$f":"SUMIF(SOLICITUDES!$C$2:$C$1048576,BD!C7809,SOLICITUDES!$I$2:$I$1048576)","v":0},0,{"$f":"SUMIF(SOLICITUDES!$C$2:$C$1048576,BD!C7809,SOLICITUDES!$J$2:$J$1048576)","v":0},0,{"$f":"SUMIF(SOLICITUDES!$C$2:$C$1048576,BD!C7809,SOLICITUDES!$K$2:$K$1048576)","v":0},0]
[null,null,"T16146",15,13200,240,-76.049753521065426,2.7267288920908315,7.5,7.5,3,3,{"$f":"SUMIF(SOLICITUDES!$C$2:$C$1048576,BD!C7814,SOLICITUDES!$I$2:$I$1048576)","v":0},0,{"$f":"SUMIF(SOLICITUDES!$C$2:$C$1048576,BD!C7814,SOLICITUDES!$J$2:$J$1048576)","v":0},0,{"$f":"SUMIF(SOLICITUDES!$C$2:$C$1048576,BD!C7814,SOLICITUDES!$K$2:$K$1048576)","v":0},0]
[null,null,"T16003",15,13200,240,-76.110985232277883,2.7192931638260935,7.5,7.5,3,3,{"$f":"SUMIF(SOLICITUDES!$C$2:$C$1048576,BD!C7825,SOLICITUDES!$I$2:$I$1048576)","v":0},0,{"$f":"SUMIF(SOLICITUDES!$C$2:$C$1048576,BD!C7825,SOLICITUDES!$J$2:$J$1048576)","v":0},0,{"$f":"SUMIF(SOLICITUDES!$C$2:$C$1048576,BD!C7825,SOLICITUDES!$K$2:$K$1048576)","v":0},0]
[null,null,"T16006",15,13200,240,-76.112497210540994,2.7289062366439087,7.5,7.5,3,3,{"$f":"SUMIF(SOLICITUDES!$C$2:$C$1048576,BD!C7840,SOLICITUDES!$I$2:$I$1048576)","v":0},0,{"$f":"SUMIF(SOLICITUDES!$C$2:$C$1048576,BD!C7840,SOLICITUDES!$J$2:$J$1048576)","v":0},0,{"$f":"SUMIF(SOLICITUDES!$C$2:$C$1048576,BD!C7840,SOLICITUDES!$K$2:$K$1048576)","v":0},0]
[null,null,"T16575",37.5,13200,240,-76.061324861614338,2.7913352028107519,18.75,18.75,7.5,7.5,{"$f":"SUMIF(SOLICITUDES!$C$2:$C$1048576,BD!C7845,SOLICITUDES!$I$2:$I$1048576)","v":0},0,{"$f":"SUMIF(SOLICITUDES!$C$2:$C$1048576,BD!C7845,SOLICITUDES!$J$2:$J$1048576)","v":0},0,{"$f":"SUMIF(SOLICITUDES!$C$2:$C$1048576,BD!C7845,SOLICITUDES!$K$2:$K$1048576)","v":0},0]
[null,null,"T16592",10,13200,240,-76.075763851207057,2.7733449123213081,5,5,2,2,{"$f":"SUMIF(SOLICITUDES!$C$2:$C$1048576,BD!C7856,SOLICITUDES!$I$2:$I$1048576)","v":0},0,{"$f":"SUMIF(SOLICITUDES!$C$2:$C$1048576,BD!C7856,SOLICITUDES!$J$2:$J$1048576)","v":0},0,{"$f":"SUMIF(SOLICITUDES!$C$2:$C$1048576,BD!C7856,SOLICITUDES!$K$2:$K$1048576)","v":0},0]
[null,null,"T30160",5,13200,240,-76.123977350818834,2.7355295220958582,2.5,2.5,1,1,{"$f":"SUMIF(SOLICITUDES!$C$2:$C$1048576,BD!C7871,SOLICITUDES!$I$2:$I$1048576)","v":0},0,{"$f":"SUMIF(SOLICITUDES!$C$2:$C$1048576,BD!C7871,SOLICITUDES!$J$2:$J$1048576)","v":0},0,{"$f":"SUMIF(SOLICITUDES!$C$2:$C$1048576,BD!C7871,SOLICITUDES!$K$2:$K$1048576)","v":0},0]
[null,null,"T27108",5,13200,240,-76.087952386457417,2.6964593099986192,2.5,2.5,1,1,{"$f":"SUMIF(SOLICITUDES!$C$2:$C$1048576,BD!C7884,SOLICITUDES!$I$2:$I$1048576)","v":0},0,{"$f":"SUMIF(SOLICITUDES!$C$2:$C$1048576,BD!C7884,SOLICITUDES!$J$2:$J$1048576)","v":0},0,{"$f":"SUMIF(SOLICITUDES!$C$2:$C$1048576,BD!C7884,SOLICITUDES!$K$2:$K$1048576)","v":0},0]
[null,null,"T16908",15,13200,240,-76.161009499707092,2.7168459185195428,7.5,7.5,3,3,{"$f":"SUMIF(SOLICITUDES!$C$2:$C$1048576,BD!C7888,SOLICITUDES!$I$2:$I$1048576)","v":0},0,{"$f":"SUMIF(SOLICITUDES!$C$2:$C$1048576,BD!C7888,SOLICITUDES!$J$2:$J$1048576)","v":0},0,{"$f":"SUMIF(SOLICITUDES!$C$2:$C$1048576,BD!C7888,SOLICITUDES!$K$2:$K$1048576)","v":0},0]
[null,null,"T16917",10,13200,240,-76.170994665508076,2.7115547114807925,5,5,2,2,{"$f":"SUMIF(SOLICITUDES!$C$2:$C$1048576,BD!C7903,SOLICITUDES!$I$2:$I$1048576)","v":0},0,{"$f":"SUMIF(SOLICITUDES!$C$2:$C$1048576,BD!C7903,SOLICITUDES!$J$2:$J$1048576)","v":0},0,{"$f":"SUMIF(SOLICITUDES!$C$2:$C$1048576,BD!C7903,SOLICITUDES!$K$2:$K$1048576)","v":0},0]
[null,null,"T16904",15,13200,240,-76.176655403525558,2.7172014112081362,7.5,7.5,3,3,{"$f":"SUMIF(SOLICITUDES!$C$2:$C$1048576,BD!C7914,SOLICITUDES!$I$2:$I$1048576)","v":0},0,{"$f":"SUMIF(SOLICITUDES!$C$2:$C$1048576,BD!C7914,SOLICITUDES!$J$2:$J$1048576)","v":0},0,{"$f":"SUMIF(SOLICITUDES!$C$2:$C$1048576,BD!C7914,SOLICITUDES!$K$2:$K$1048576)","v":0},0]
[null,null,"T10842",10,13200,240,-75.976381977820566,2.5507162888265049,5,5,2,2,{"$f":"SUMIF(SOLICITUDES!$C$2:$C$1048576,BD!C7919,SOLICITUDES!$I$2:$I$1048576)","v":0},0,{"$f":"SUMIF(SOLICITUDES!$C$2:$C$1048576,BD!C7919,SOLICITUDES!$J$2:$J$1048576)","v":0},0,{"$f":"SUMIF(SOLICITUDES!$C$2:$C$1048576,BD!C7919,SOLICITUDES!$K$2:$K$1048576)","v":0},0]
[null,null,"T12971",15,13200,240,-76.035535306305405,2.5576132415734731,7.5,7.5,3,3,{"$f":"SUMIF(SOLICITUDES!$C$2:$C$1048576,BD!C7934,SOLICITUDES!$I$2:$I$1048576)","v":0},0,{"$f":"SUMIF(SOLICITUDES!$C$2:$C$1048576,BD!C7934,SOLICITUDES!$J$2:$J$1048576)","v":0},0,{"$f":"SUMIF(SOLICITUDES!$C$2:$C$1048576,BD!C7934,SOLICITUDES!$K$2:$K$1048576)","v":0},0]
[null,null,"T11142",15,13200,240,-76.015103589830744,2.5639708753012731,7.5,7.5,3,3,{"$f":"SUMIF(SOLICITUDES!$C$2:$C$1048576,BD!C7935,SOLICITUDES!$I$2:$I$1048576)","v":0},0,{"$f":"SUMIF(SOLICITUDES!$C$2:$C$1048576,BD!C7935,SOLICITUDES!$J$2:$J$1048576)","v":0},0,{"$f":"SUMIF(SOLICITUDES!$C$2:$C$1048576,BD!C7935,SOLICITUDES!$K$2:$K$1048576)","v":0},0]
[null,null,"T12542",15,13200,240,-75.985978443618166,2.5272633247664991,7.5,7.5,3,3,{"$f":"SUMIF(SOLICITUDES!$C$2:$C$1048576,BD!C7950,SOLICITUDES!$I$2:$I$1048576)","v":0},0,{"$f":"SUMIF(SOLICITUDES!$C$2:$C$1048576,BD!C7950,SOLICITUDES!$J$2:$J$1048576)","v":0},0,{"$f":"SUMIF(SOLICITUDES!$C$2:$C$1048576,BD!C7950,SOLICITUDES!$K$2:$K$1048576)","v":0},0]
[null,null,"T16782",37.5,13200,240,-75.976367928354023,2.5058712233370986,18.75,18.75,7.5,7.5,{"$f":"SUMIF(SOLICITUDES!$C$2:$C$1048576,BD!C7955,SOLICITUDES!$I$2:$I$1048576)","v":0},0,{"$f":"SUMIF(SOLICITUDES!$C$2:$C$1048576,BD!C7955,SOLICITUDES!$J$2:$J$1048576)","v":0},0,{"$f":"SUMIF(SOLICITUDES!$C$2:$C$1048576,BD!C7955,SOLICITUDES!$K$2:$K$1048576)","v":0},0]
[null,null,"T12574",25,13200,240,-76.022681453901811,2.4989383220502339,12.5,12.5,5,5,{"$f":"SUMIF(SOLICITUDES!$C$2:$C$1048576,BD!C7968,SOLICITUDES!$I$2:$I$1048576)","v":0},0,{"$f":"SUMIF(SOLICITUDES!$C$2:$C$1048576,BD!C7968,SOLICITUDES!$J$2:$J$1048576)","v":0},0,{"$f":"SUMIF(SOLICITUDES!$C$2:$C$1048576,BD!C7968,SOLICITUDES!$K$2:$K$1048576)","v":0},0]
[null,null,"T26545",5,13200,240,-76.029191468814219,2.5131460476683021,2.5,2.5,1,1,{"$f":"SUMIF(SOLICITUDES!$C$2:$C$1048576,BD!C7982,SOLICITUDES!$I$2:$I$1048576)","v":0},0,{"$f":"SUMIF(SOLICITUDES!$C$2:$C$1048576,BD!C7982,SOLICITUDES!$J$2:$J$1048576)","v":0},0,{"$f":"SUMIF(SOLICITUDES!$C$2:$C$1048576,BD!C7982,SOLICITUDES!$K$2:$K$1048576)","v":0},0]
[null,null,"T17730",25,13200,240,-75.995239733760457,2.6001758677331934,12.5,12.5,5,5,{"$f":"SUMIF(SOLICITUDES!$C$2:$C$1048576,BD!C7993,SOLICITUDES!$I$2:$I$1048576)","v":0},0,{"$f":"SUMIF(SOLICITUDES!$C$2:$C$1048576,BD!C7993,SOLICITUDES!$J$2:$J$1048576)","v":0},0,{"$f":"SUMIF(SOLICITUDES!$C$2:$C$1048576,BD!C7993,SOLICITUDES!$K$2:$K$1048576)","v":0},0]
[null,null,"T12537",15,13200,240,-76.017117265514116,2.4980115456123615,7.5,7.5,3,3,{"$f":"SUMIF(SOLICITUDES!$C$2:$C$1048576,BD!C7998,SOLICITUDES!$I$2:$I$1048576)","v":0},0,{"$f":"SUMIF(SOLICITUDES!$C$2:$C$1048576,BD!C7998,SOLICITUDES!$J$2:$J$1048576)","v":0},0,{"$f":"SUMIF(SOLICITUDES!$C$2:$C$1048576,BD!C7998,SOLICITUDES!$K$2:$K$1048576)","v":0},0]
[null,null,"T12936",10,13200,240,-76.018869804240182,2.4875152423641396,5,5,2,2,{"$f":"SUMIF(SOLICITUDES!$C$2:$C$1048576,BD!C8013,SOLICITUDES!$I$2:$I$1048576)","v":0},0,{"$f":"SUMIF(SOLICITUDES!$C$2:$C$1048576,BD!C8013,SOLICITUDES!$J$2:$J$1048576)","v":0},0,{"$f":"SUMIF(SOLICITUDES!$C$2:$C$1048576,BD!C8013,SOLICITUDES!$K$2:$K$1048576)","v":0},0]
[null,null,"T12530",37.5,13200,240,-76.027478282904397,2.4812741279987578,18.75,18.75,7.5,7.5,{"$f":"SUMIF(SOLICITUDES!$C$2:$C$1048576,BD!C8024,SOLICITUDES!$I$2:$I$1048576)","v":0},0,{"$f":"SUMIF(SOLICITUDES!$C$2:$C$1048576,BD!C8024,SOLICITUDES!$J$2:$J$1048576)","v":0},0,{"$f":"SUMIF(SOLICITUDES!$C$2:$C$1048576,BD!C8024,SOLICITUDES!$K$2:$K$1048576)","v":0},0]
[null,null,"T12968",25,13200,240,-76.046199466550902,2.6002822222560629,12.5,12.5,5,5,{"$f":"SUMIF(SOLICITUDES!$C$2:$C$1048576,BD!C8029,SOLICITUDES!$I$2:$I$1048576)","v":0},0,{"$f":"SUMIF(SOLICITUDES!$C$2:$C$1048576,BD!C8029,SOLICITUDES!$J$2:$J$1048576)","v":0},0,{"$f":"SUMIF(SOLICITUDES!$C$2:$C$1048576,BD!C8029,SOLICITUDES!$K$2:$K$1048576)","v":0},0]
[null,null,"T12546",10,13200,240,-76.029798226774645,2.4804712922995766,5,5,2,2,{"$f":"SUMIF(SOLICITUDES!$C$2:$C$1048576,BD!C8040,SOLICITUDES!$I$2:$I$1048576)","v":0},0,{"$f":"SUMIF(SOLICITUDES!$C$2:$C$1048576,BD!C8040,SOLICITUDES!$J$2:$J$1048576)","v":0},0,{"$f":"SUMIF(SOLICITUDES!$C$2:$C$1048576,BD!C8040,SOLICITUDES!$K$2:$K$1048576)","v":0},0]
[null,null,"T16781",10,13200,240,-76.000718977607391,2.4875456261013822,5,5,2,2,{"$f":"SUMIF(SOLICITUDES!$C$2:$C$1048576,BD!C8055,SOLICITUDES!$I$2:$I$1048576)","v":0},0,{"$f":"SUMIF(SOLICITUDES!$C$2:$C$1048576,BD!C8055,SOLICITUDES!$J$2:$J$1048576)","v":0},0,{"$f":"SUMIF(SOLICITUDES!$C$2:$C$1048576,BD!C8055,SOLICITUDES!$K$2:$K$1048576)","v":0},0]
[null,null,"T14319",15,13200,208,-76.063320333491177,2.5512514442627898,7.5,7.5,3,3,{"$f":"SUMIF(SOLICITUDES!$C$2:$C$1048576,BD!C8059,SOLICITUDES!$I$2:$I$1048576)","v":0},0,{"$f":"SUMIF(SOLICITUDES!$C$2:$C$1048576,BD!C8059,SOLICITUDES!$J$2:$J$1048576)","v":0},0,{"$f":"SUMIF(SOLICITUDES!$C$2:$C$1048576,BD!C8059,SOLICITUDES!$K$2:$K$1048576)","v":0},0]
[null,null,"T14352",15,13200,240,-76.044757007817992,2.5384063862569781,7.5,7.5,3,3,{"$f":"SUMIF(SOLICITUDES!$C$2:$C$1048576,BD!C8072,SOLICITUDES!$I$2:$I$1048576)","v":0},0,{"$f":"SUMIF(SOLICITUDES!$C$2:$C$1048576,BD!C8072,SOLICITUDES!$J$2:$J$1048576)","v":0},0,{"$f":"SUMIF(SOLICITUDES!$C$2:$C$1048576,BD!C8072,SOLICITUDES!$K$2:$K$1048576)","v":0},0]
[null,null,"T26577",5,13200,240,-75.998009509073967,2.4773581938575009,2.5,2.5,1,1,{"$f":"SUMIF(SOLICITUDES!$C$2:$C$1048576,BD!C8077,SOLICITUDES!$I$2:$I$1048576)","v":0},0,{"$f":"SUMIF(SOLICITUDES!$C$2:$C$1048576,BD!C8077,SOLICITUDES!$J$2:$J$1048576)","v":0},0,{"$f":"SUMIF(SOLICITUDES!$C$2:$C$1048576,BD!C8077,SOLICITUDES!$K$2:$K$1048576)","v":0},0]
[null,null,"T26649",5,13200,240,-76.006573909673804,2.462205919023865,2.5,2.5,1,1,{"$f":"SUMIF(SOLICITUDES!$C$2:$C$1048576,BD!C8092,SOLICITUDES!$I$2:$I$1048576)","v":0},0,{"$f":"SUMIF(SOLICITUDES!$C$2:$C$1048576,BD!C8092,SOLICITUDES!$J$2:$J$1048576)","v":0},0,{"$f":"SUMIF(SOLICITUDES!$C$2:$C$1048576,BD!C8092,SOLICITUDES!$K$2:$K$1048576)","v":0},0]
[null,null,"T16744",15,13200,240,-76.059639219366588,2.5799305070296157,7.5,7.5,3,3,{"$f":"SUMIF(SOLICITUDES!$C$2:$C$1048576,BD!C8103,SOLICITUDES!$I$2:$I$1048576)","v":0},0,{"$f":"SUMIF(SOLICITUDES!$C$2:$C$1048576,BD!C8103,SOLICITUDES!$J$2:$J$1048576)","v":0},0,{"$f":"SUMIF(SOLICITUDES!$C$2:$C$1048576,BD!C8103,SOLICITUDES!$K$2:$K$1048576)","v":0},0]
[null,null,"T14709",10,13200,240,-76.052424500018205,2.5058611859764697,5,5,2,2,{"$f":"SUMIF(SOLICITUDES!$C$2:$C$1048576,BD!C8108,SOLICITUDES!$I$2:$I$1048576)","v":0},0,{"$f":"SUMIF(SOLICITUDES!$C$2:$C$1048576,BD!C8108,SOLICITUDES!$J$2:$J$1048576)","v":0},0,{"$f":"SUMIF(SOLICITUDES!$C$2:$C$1048576,BD!C8108,SOLICITUDES!$K$2:$K$1048576)","v":0},0]
[null,null,"T14710",25,13200,240,-76.04917035071395,2.5030079277788819,12.5,12.5,5,5,{"$f":"SUMIF(SOLICITUDES!$C$2:$C$1048576,BD!C8119,SOLICITUDES!$I$2:$I$1048576)","v":0},0,{"$f":"SUMIF(SOLICITUDES!$C$2:$C$1048576,BD!C8119,SOLICITUDES!$J$2:$J$1048576)","v":0},0,{"$f":"SUMIF(SOLICITUDES!$C$2:$C$1048576,BD!C8119,SOLICITUDES!$K$2:$K$1048576)","v":0},0]
[null,null,"T31212",10,13200,240,-76.041489198462841,2.4978473941518327,5,5,2,2,{"$f":"SUMIF(SOLICITUDES!$C$2:$C$1048576,BD!C8134,SOLICITUDES!$I$2:$I$1048576)","v":0},0,{"$f":"SUMIF(SOLICITUDES!$C$2:$C$1048576,BD!C8134,SOLICITUDES!$J$2:$J$1048576)","v":0},0,{"$f":"SUMIF(SOLICITUDES!$C$2:$C$1048576,BD!C8134,SOLICITUDES!$K$2:$K$1048576)","v":0},0]
[null,null,"T17278",15,13200,240,-76.025384707052609,2.4455747457499499,7.5,7.5,3,3,{"$f":"SUMIF(SOLICITUDES!$C$2:$C$1048576,BD!C8139,SOLICITUDES!$I$2:$I$1048576)","v":0},0,{"$f":"SUMIF(SOLICITUDES!$C$2:$C$1048576,BD!C8139,SOLICITUDES!$J$2:$J$1048576)","v":0},0,{"$f":"SUMIF(SOLICITUDES!$C$2:$C$1048576,BD!C8139,SOLICITUDES!$K$2:$K$1048576)","v":0},0]
[null,null,"T16754",10,13200,240,-76.086098930859009,2.5686398867421683,5,5,2,2,{"$f":"SUMIF(SOLICITUDES!$C$2:$C$1048576,BD!C8150,SOLICITUDES!$I$2:$I$1048576)","v":0},0,{"$f":"SUMIF(SOLICITUDES!$C$2:$C$1048576,BD!C8150,SOLICITUDES!$J$2:$J$1048576)","v":0},0,{"$f":"SUMIF(SOLICITUDES!$C$2:$C$1048576,BD!C8150,SOLICITUDES!$K$2:$K$1048576)","v":0},0]
[null,null,"T16261",25,13200,240,-76.084690647410611,2.5293506753792809,12.5,12.5,5,5,{"$f":"SUMIF(SOLICITUDES!$C$2:$C$1048576,BD!C8159,SOLICITUDES!$I$2:$I$1048576)","v":0},0,{"$f":"SUMIF(SOLICITUDES!$C$2:$C$1048576,BD!C8159,SOLICITUDES!$J$2:$J$1048576)","v":0},0,{"$f":"SUMIF(SOLICITUDES!$C$2:$C$1048576,BD!C8159,SOLICITUDES!$K$2:$K$1048576)","v":0},0]
[null,null,"T14708",15,13200,240,-76.048725744441967,2.4876294621808914,7.5,7.5,3,3,{"$f":"SUMIF(SOLICITUDES!$C$2:$C$1048576,BD!C8171,SOLICITUDES!$I$2:$I$1048576)","v":0},0,{"$f":"SUMIF(SOLICITUDES!$C$2:$C$1048576,BD!C8171,SOLICITUDES!$J$2:$J$1048576)","v":0},0,{"$f":"SUMIF(SOLICITUDES!$C$2:$C$1048576,BD!C8171,SOLICITUDES!$K$2:$K$1048576)","v":0},0]
[null,null,"T17316",15,13200,240,-76.092038024148479,2.5146809086058077,7.5,7.5,3,3,{"$f":"SUMIF(SOLICITUDES!$C$2:$C$1048576,BD!C8182,SOLICITUDES!$I$2:$I$1048576)","v":0},0,{"$f":"SUMIF(SOLICITUDES!$C$2:$C$1048576,BD!C8182,SOLICITUDES!$J$2:$J$1048576)","v":0},0,{"$f":"SUMIF(SOLICITUDES!$C$2:$C$1048576,BD!C8182,SOLICITUDES!$K$2:$K$1048576)","v":0},0]
[null,null,"T15428",15,13200,240,-76.043536956923461,2.4779413959998338,7.5,7.5,3,3,{"$f":"SUMIF(SOLICITUDES!$C$2:$C$1048576,BD!C8197,SOLICITUDES!$I$2:$I$1048576)","v":0},0,{"$f":"SUMIF(SOLICITUDES!$C$2:$C$1048576,BD!C8197,SOLICITUDES!$J$2:$J$1048576)","v":0},0,{"$f":"SUMIF(SOLICITUDES!$C$2:$C$1048576,BD!C8197,SOLICITUDES!$K$2:$K$1048576)","v":0},0]
[null,null,"T41956",10,13200,240,-76.095502444417647,2.4863815139915499,5,5,2,2,{"$f":"SUMIF(SOLICITUDES!$C$2:$C$1048576,BD!C8198,SOLICITUDES!$I$2:$I$1048576)","v":0},0,{"$f":"SUMIF(SOLICITUDES!$C$2:$C$1048576,BD!C8198,SOLICITUDES!$J$2:$J$1048576)","v":0},0,{"$f":"SUMIF(SOLICITUDES!$C$2:$C$1048576,BD!C8198,SOLICITUDES!$K$2:$K$1048576)","v":0},0]
[null,null,"T17286",10,13200,240,-76.109530168424442,2.4946294344884401,5,5,2,2,{"$f":"SUMIF(SOLICITUDES!$C$2:$C$1048576,BD!C8213,SOLICITUDES!$I$2:$I$1048576)","v":0},0,{"$f":"SUMIF(SOLICITUDES!$C$2:$C$1048576,BD!C8213,SOLICITUDES!$J$2:$J$1048576)","v":0},0,{"$f":"SUMIF(SOLICITUDES!$C$2:$C$1048576,BD!C8213,SOLICITUDES!$K$2:$K$1048576)","v":0},0]
[null,null,"T15138",10,13200,240,-76.033644953382279,2.4589181748411009,5,5,2,2,{"$f":"SUMIF(SOLICITUDES!$C$2:$C$1048576,BD!C8218,SOLICITUDES!$I$2:$I$1048576)","v":0},0,{"$f":"SUMIF(SOLICITUDES!$C$2:$C$1048576,BD!C8218,SOLICITUDES!$J$2:$J$1048576)","v":0},0,{"$f":"SUMIF(SOLICITUDES!$C$2:$C$1048576,BD!C8218,SOLICITUDES!$K$2:$K$1048576)","v":0},0]
[null,null,"T42101",0.5,13200,240,-76.739421707128514,2.2306077754353408,0.25,0.25,0.1,0.1,{"$f":"SUMIF(SOLICITUDES!$C$2:$C$1048576,BD!C8229,SOLICITUDES!$I$2:$I$1048576)","v":0},0,{"$f":"SUMIF(SOLICITUDES!$C$2:$C$1048576,BD!C8229,SOLICITUDES!$J$2:$J$1048576)","v":0},0,{"$f":"SUMIF(SOLICITUDES!$C$2:$C$1048576,BD!C8229,SOLICITUDES!$K$2:$K$1048576)","v":0},0]
[null,null,"T1444",15,13200,240,-76.716623008629455,2.2618447922983118,7.5,7.5,3,3,{"$f":"SUMIF(SOLICITUDES!$C$2:$C$1048576,BD!C8244,SOLICITUDES!$I$2:$I$1048576)","v":0},0,{"$f":"SUMIF(SOLICITUDES!$C$2:$C$1048576,BD!C8244,SOLICITUDES!$J$2:$J$1048576)","v":0},0,{"$f":"SUMIF(SOLICITUDES!$C$2:$C$1048576,BD!C8244,SOLICITUDES!$K$2:$K$1048576)","v":0},0]
[null,null,"T8203",25,13200,240,-76.713070160958267,2.2411821506650735,12.5,12.5,5,5,{"$f":"SUMIF(SOLICITUDES!$C$2:$C$1048576,BD!C8254,SOLICITUDES!$I$2:$I$1048576)","v":0},0,{"$f":"SUMIF(SOLICITUDES!$C$2:$C$1048576,BD!C8254,SOLICITUDES!$J$2:$J$1048576)","v":0},0,{"$f":"SUMIF(SOLICITUDES!$C$2:$C$1048576,BD!C8254,SOLICITUDES!$K$2:$K$1048576)","v":0},0]
[null,null,"T1438",25,13200,240,-76.708043652736748,2.2459105644791562,12.5,12.5,5,5,{"$f":"SUMIF(SOLICITUDES!$C$2:$C$1048576,BD!C8261,SOLICITUDES!$I$2:$I$1048576)","v":0},0,{"$f":"SUMIF(SOLICITUDES!$C$2:$C$1048576,BD!C8261,SOLICITUDES!$J$2:$J$1048576)","v":0},0,{"$f":"SUMIF(SOLICITUDES!$C$2:$C$1048576,BD!C8261,SOLICITUDES!$K$2:$K$1048576)","v":0},0]
[null,null,"T15863",15,13200,240,-77.172486775081197,2.0096656541762354,7.5,7.5,3,3,{"$f":"SUMIF(SOLICITUDES!$C$2:$C$1048576,BD!C8276,SOLICITUDES!$I$2:$I$1048576)","v":0},0,{"$f":"SUMIF(SOLICITUDES!$C$2:$C$1048576,BD!C8276,SOLICITUDES!$J$2:$J$1048576)","v":0},0,{"$f":"SUMIF(SOLICITUDES!$C$2:$C$1048576,BD!C8276,SOLICITUDES!$K$2:$K$1048576)","v":0},0]
[null,null,"T16765",25,13200,240,-77.220013420348451,2.0545092198609929,12.5,12.5,5,5,{"$f":"SUMIF(SOLICITUDES!$C$2:$C$1048576,BD!C8287,SOLICITUDES!$I$2:$I$1048576)","v":0},0,{"$f":"SUMIF(SOLICITUDES!$C$2:$C$1048576,BD!C8287,SOLICITUDES!$J$2:$J$1048576)","v":0},0,{"$f":"SUMIF(SOLICITUDES!$C$2:$C$1048576,BD!C8287,SOLICITUDES!$K$2:$K$1048576)","v":0},0]
[null,null,"T16495",75,13200,208,-77.216974099521181,2.0416043392663017,37.5,37.5,15,15,{"$f":"SUMIF(SOLICITUDES!$C$2:$C$1048576,BD!C8292,SOLICITUDES!$I$2:$I$1048576)","v":0},0,{"$f":"SUMIF(SOLICITUDES!$C$2:$C$1048576,BD!C8292,SOLICITUDES!$J$2:$J$1048576)","v":0},0,{"$f":"SUMIF(SOLICITUDES!$C$2:$C$1048576,BD!C8292,SOLICITUDES!$K$2:$K$1048576)","v":0},0]
[null,null,"T16173",25,13200,240,-77.210218387345108,2.0750668635655041,12.5,12.5,5,5,{"$f":"SUMIF(SOLICITUDES!$C$2:$C$1048576,BD!C8307,SOLICITUDES!$I$2:$I$1048576)","v":0},0,{"$f":"SUMIF(SOLICITUDES!$C$2:$C$1048576,BD!C8307,SOLICITUDES!$J$2:$J$1048576)","v":0},0,{"$f":"SUMIF(SOLICITUDES!$C$2:$C$1048576,BD!C8307,SOLICITUDES!$K$2:$K$1048576)","v":0},0]
[null,null,"T16474",75,13200,208,-77.217908815878644,2.0415071415340531,37.5,37.5,15,15,{"$f":"SUMIF(SOLICITUDES!$C$2:$C$1048576,BD!C8318,SOLICITUDES!$I$2:$I$1048576)","v":0},0,{"$f":"SUMIF(SOLICITUDES!$C$2:$C$1048576,BD!C8318,SOLICITUDES!$J$2:$J$1048576)","v":0},0,{"$f":"SUMIF(SOLICITUDES!$C$2:$C$1048576,BD!C8318,SOLICITUDES!$K$2:$K$1048576)","v":0},0]
[null,null,"T21305",5,13200,240,-77.208525121727334,1.972604763876578,2.5,{"$f":"D8323*0.5-M8323","v":2.5},1,1,{"$f":"SUMIF(SOLICITUDES!$C$2:$C$1048576,BD!C8323,SOLICITUDES!$I$2:$I$1048576)","v":0},{"$f":"M8323/D8323","v":0},{"$f":"SUMIF(SOLICITUDES!$C$2:$C$1048576,BD!C8323,SOLICITUDES!$J$2:$J$1048576)","v":0},0,{"$f":"SUMIF(SOLICITUDES!$C$2:$C$1048576,BD!C8323,SOLICITUDES!$K$2:$K$1048576)","v":0},0]
[null,null,"T16493",37.5,13200,240,-77.215742368908053,2.0384844318655766,18.75,18.75,7.5,7.5,{"$f":"SUMIF(SOLICITUDES!$C$2:$C$1048576,BD!C8334,SOLICITUDES!$I$2:$I$1048576)","v":0},0,{"$f":"SUMIF(SOLICITUDES!$C$2:$C$1048576,BD!C8334,SOLICITUDES!$J$2:$J$1048576)","v":0},0,{"$f":"SUMIF(SOLICITUDES!$C$2:$C$1048576,BD!C8334,SOLICITUDES!$K$2:$K$1048576)","v":0},0]
[null,null,"T16457",10,13200,240,-77.226015578026889,2.0278302319732511,5,5,2,2,{"$f":"SUMIF(SOLICITUDES!$C$2:$C$1048576,BD!C8345,SOLICITUDES!$I$2:$I$1048576)","v":0},0,{"$f":"SUMIF(SOLICITUDES!$C$2:$C$1048576,BD!C8345,SOLICITUDES!$J$2:$J$1048576)","v":0},0,{"$f":"SUMIF(SOLICITUDES!$C$2:$C$1048576,BD!C8345,SOLICITUDES!$K$2:$K$1048576)","v":0},0]
[null,null,"T21309",5,13200,240,-77.215309292148177,1.9930631862540837,2.5,2.5,1,1,{"$f":"SUMIF(SOLICITUDES!$C$2:$C$1048576,BD!C8355,SOLICITUDES!$I$2:$I$1048576)","v":0},0,{"$f":"SUMIF(SOLICITUDES!$C$2:$C$1048576,BD!C8355,SOLICITUDES!$J$2:$J$1048576)","v":0},0,{"$f":"SUMIF(SOLICITUDES!$C$2:$C$1048576,BD!C8355,SOLICITUDES!$K$2:$K$1048576)","v":0},0]
[null,null,"T21310",5,13200,240,-77.218746613335526,1.9967198885630859,2.5,2.5,1,1,{"$f":"SUMIF(SOLICITUDES!$C$2:$C$1048576,BD!C8366,SOLICITUDES!$I$2:$I$1048576)","v":0},0,{"$f":"SUMIF(SOLICITUDES!$C$2:$C$1048576,BD!C8366,SOLICITUDES!$J$2:$J$1048576)","v":0},0,{"$f":"SUMIF(SOLICITUDES!$C$2:$C$1048576,BD!C8366,SOLICITUDES!$K$2:$K$1048576)","v":0},0]
[null,null,"T16485",10,13200,240,-77.237809249097978,2.0328573449657243,5,5,2,2,{"$f":"SUMIF(SOLICITUDES!$C$2:$C$1048576,BD!C8371,SOLICITUDES!$I$2:$I$1048576)","v":0},0,{"$f":"SUMIF(SOLICITUDES!$C$2:$C$1048576,BD!C8371,SOLICITUDES!$J$2:$J$1048576)","v":0},0,{"$f":"SUMIF(SOLICITUDES!$C$2:$C$1048576,BD!C8371,SOLICITUDES!$K$2:$K$1048576)","v":0},0]
[null,null,"T16193",15,13200,240,-77.193997941123769,2.0939300587455971,7.5,7.5,3,3,{"$f":"SUMIF(SOLICITUDES!$C$2:$C$1048576,BD!C8382,SOLICITUDES!$I$2:$I$1048576)","v":0},0,{"$f":"SUMIF(SOLICITUDES!$C$2:$C$1048576,BD!C8382,SOLICITUDES!$J$2:$J$1048576)","v":0},0,{"$f":"SUMIF(SOLICITUDES!$C$2:$C$1048576,BD!C8382,SOLICITUDES!$K$2:$K$1048576)","v":0},0]
[null,null,"T16685",5,13200,240,-77.247213415493874,2.0514951167080824,2.5,2.5,1,1,{"$f":"SUMIF(SOLICITUDES!$C$2:$C$1048576,BD!C8397,SOLICITUDES!$I$2:$I$1048576)","v":0},0,{"$f":"SUMIF(SOLICITUDES!$C$2:$C$1048576,BD!C8397,SOLICITUDES!$J$2:$J$1048576)","v":0},0,{"$f":"SUMIF(SOLICITUDES!$C$2:$C$1048576,BD!C8397,SOLICITUDES!$K$2:$K$1048576)","v":0},0]
[null,null,"T41909",10,13200,240,-77.255720001900926,1.9959370002549612,5,5,2,2,{"$f":"SUMIF(SOLICITUDES!$C$2:$C$1048576,BD!C8402,SOLICITUDES!$I$2:$I$1048576)","v":0},0,{"$f":"SUMIF(SOLICITUDES!$C$2:$C$1048576,BD!C8402,SOLICITUDES!$J$2:$J$1048576)","v":0},0,{"$f":"SUMIF(SOLICITUDES!$C$2:$C$1048576,BD!C8402,SOLICITUDES!$K$2:$K$1048576)","v":0},0]
[null,null,"T1491",15,13200,240,-77.147963257245408,1.9453579330591273,7.5,7.5,3,3,{"$f":"SUMIF(SOLICITUDES!$C$2:$C$1048576,BD!C8413,SOLICITUDES!$I$2:$I$1048576)","v":0},0,{"$f":"SUMIF(SOLICITUDES!$C$2:$C$1048576,BD!C8413,SOLICITUDES!$J$2:$J$1048576)","v":0},0,{"$f":"SUMIF(SOLICITUDES!$C$2:$C$1048576,BD!C8413,SOLICITUDES!$K$2:$K$1048576)","v":0},0]
[null,null,"T1534",15,13200,240,-77.240421281689081,1.8982438370867412,7.5,7.5,3,3,{"$f":"SUMIF(SOLICITUDES!$C$2:$C$1048576,BD!C8428,SOLICITUDES!$I$2:$I$1048576)","v":0},0,{"$f":"SUMIF(SOLICITUDES!$C$2:$C$1048576,BD!C8428,SOLICITUDES!$J$2:$J$1048576)","v":0},0,{"$f":"SUMIF(SOLICITUDES!$C$2:$C$1048576,BD!C8428,SOLICITUDES!$K$2:$K$1048576)","v":0},0]
[null,null,"T28351",15,13200,240,-77.097853998977982,1.9956596680770451,7.5,7.5,3,3,{"$f":"SUMIF(SOLICITUDES!$C$2:$C$1048576,BD!C8436,SOLICITUDES!$I$2:$I$1048576)","v":0},0,{"$f":"SUMIF(SOLICITUDES!$C$2:$C$1048576,BD!C8436,SOLICITUDES!$J$2:$J$1048576)","v":0},0,{"$f":"SUMIF(SOLICITUDES!$C$2:$C$1048576,BD!C8436,SOLICITUDES!$K$2:$K$1048576)","v":0},0]
[null,null,"T11620",37.5,13200,240,-77.070824003299464,2.0404335191816667,18.75,18.75,7.5,7.5,{"$f":"SUMIF(SOLICITUDES!$C$2:$C$1048576,BD!C8445,SOLICITUDES!$I$2:$I$1048576)","v":0},0,{"$f":"SUMIF(SOLICITUDES!$C$2:$C$1048576,BD!C8445,SOLICITUDES!$J$2:$J$1048576)","v":0},0,{"$f":"SUMIF(SOLICITUDES!$C$2:$C$1048576,BD!C8445,SOLICITUDES!$K$2:$K$1048576)","v":0},0]
[null,null,"T15161",5,13200,240,-77.032991509505933,2.0327738509577156,2.5,2.5,1,1,{"$f":"SUMIF(SOLICITUDES!$C$2:$C$1048576,BD!C8460,SOLICITUDES!$I$2:$I$1048576)","v":0},0,{"$f":"SUMIF(SOLICITUDES!$C$2:$C$1048576,BD!C8460,SOLICITUDES!$J$2:$J$1048576)","v":0},0,{"$f":"SUMIF(SOLICITUDES!$C$2:$C$1048576,BD!C8460,SOLICITUDES!$K$2:$K$1048576)","v":0},0]
[null,null,"T15163",15,13200,240,-77.033297066656772,2.0337866519931351,7.5,7.5,3,3,{"$f":"SUMIF(SOLICITUDES!$C$2:$C$1048576,BD!C8461,SOLICITUDES!$I$2:$I$1048576)","v":0},0,{"$f":"SUMIF(SOLICITUDES!$C$2:$C$1048576,BD!C8461,SOLICITUDES!$J$2:$J$1048576)","v":0},0,{"$f":"SUMIF(SOLICITUDES!$C$2:$C$1048576,BD!C8461,SOLICITUDES!$K$2:$K$1048576)","v":0},0]
[null,null,"T11632",30,13200,208,-77.081917363107024,2.0738956917306335,15,15,6,6,{"$f":"SUMIF(SOLICITUDES!$C$2:$C$1048576,BD!C8476,SOLICITUDES!$I$2:$I$1048576)","v":0},0,{"$f":"SUMIF(SOLICITUDES!$C$2:$C$1048576,BD!C8476,SOLICITUDES!$J$2:$J$1048576)","v":0},0,{"$f":"SUMIF(SOLICITUDES!$C$2:$C$1048576,BD!C8476,SOLICITUDES!$K$2:$K$1048576)","v":0},0]
[null,null,"T41959",0.5,13200,208,-77.043920889350659,2.0740579975075932,0.25,0.25,0.1,0.1,{"$f":"SUMIF(SOLICITUDES!$C$2:$C$1048576,BD!C8481,SOLICITUDES!$I$2:$I$1048576)","v":0},0,{"$f":"SUMIF(SOLICITUDES!$C$2:$C$1048576,BD!C8481,SOLICITUDES!$J$2:$J$1048576)","v":0},0,{"$f":"SUMIF(SOLICITUDES!$C$2:$C$1048576,BD!C8481,SOLICITUDES!$K$2:$K$1048576)","v":0},0]
[null,null,"T12649",25,13200,240,-77.101908385659854,2.0353608669914682,12.5,12.5,5,5,{"$f":"SUMIF(SOLICITUDES!$C$2:$C$1048576,BD!C8492,SOLICITUDES!$I$2:$I$1048576)","v":0},0,{"$f":"SUMIF(SOLICITUDES!$C$2:$C$1048576,BD!C8492,SOLICITUDES!$J$2:$J$1048576)","v":0},0,{"$f":"SUMIF(SOLICITUDES!$C$2:$C$1048576,BD!C8492,SOLICITUDES!$K$2:$K$1048576)","v":0},0]
[null,null,"T20842",30,13200,214,-77.132715944745598,2.0329062643496849,15,15,6,6,{"$f":"SUMIF(SOLICITUDES!$C$2:$C$1048576,BD!C8507,SOLICITUDES!$I$2:$I$1048576)","v":0},0,{"$f":"SUMIF(SOLICITUDES!$C$2:$C$1048576,BD!C8507,SOLICITUDES!$J$2:$J$1048576)","v":0},0,{"$f":"SUMIF(SOLICITUDES!$C$2:$C$1048576,BD!C8507,SOLICITUDES!$K$2:$K$1048576)","v":0},0]
[null,null,"T21190",5,13200,240,-77.159452787392311,2.0592166684400803,2.5,2.5,1,1,{"$f":"SUMIF(SOLICITUDES!$C$2:$C$1048576,BD!C8512,SOLICITUDES!$I$2:$I$1048576)","v":0},0,{"$f":"SUMIF(SOLICITUDES!$C$2:$C$1048576,BD!C8512,SOLICITUDES!$J$2:$J$1048576)","v":0},0,{"$f":"SUMIF(SOLICITUDES!$C$2:$C$1048576,BD!C8512,SOLICITUDES!$K$2:$K$1048576)","v":0},0]
[null,null,"T31091",10,13200,240,-76.254392425462115,3.0386560986036324,5,5,2,2,{"$f":"SUMIF(SOLICITUDES!$C$2:$C$1048576,BD!C8531,SOLICITUDES!$I$2:$I$1048576)","v":0},0,{"$f":"SUMIF(SOLICITUDES!$C$2:$C$1048576,BD!C8531,SOLICITUDES!$J$2:$J$1048576)","v":0},0,{"$f":"SUMIF(SOLICITUDES!$C$2:$C$1048576,BD!C8531,SOLICITUDES!$K$2:$K$1048576)","v":0},0]
[null,null,"T21464",15,13200,240,-76.223491408327462,3.0465781961088241,7.5,7.5,3,3,{"$f":"SUMIF(SOLICITUDES!$C$2:$C$1048576,BD!C8539,SOLICITUDES!$I$2:$I$1048576)","v":0},0,{"$f":"SUMIF(SOLICITUDES!$C$2:$C$1048576,BD!C8539,SOLICITUDES!$J$2:$J$1048576)","v":0},0,{"$f":"SUMIF(SOLICITUDES!$C$2:$C$1048576,BD!C8539,SOLICITUDES!$K$2:$K$1048576)","v":0},0]
[null,null,"T21342",10,13200,240,-76.270262031310878,3.0126289955073684,5,5,2,2,{"$f":"SUMIF(SOLICITUDES!$C$2:$C$1048576,BD!C8550,SOLICITUDES!$I$2:$I$1048576)","v":0},0,{"$f":"SUMIF(SOLICITUDES!$C$2:$C$1048576,BD!C8550,SOLICITUDES!$J$2:$J$1048576)","v":0},0,{"$f":"SUMIF(SOLICITUDES!$C$2:$C$1048576,BD!C8550,SOLICITUDES!$K$2:$K$1048576)","v":0},0]
[null,null,"T19356",25,13200,240,-76.242320505096558,3.0561263586027474,12.5,12.5,5,5,{"$f":"SUMIF(SOLICITUDES!$C$2:$C$1048576,BD!C8555,SOLICITUDES!$I$2:$I$1048576)","v":0},0,{"$f":"SUMIF(SOLICITUDES!$C$2:$C$1048576,BD!C8555,SOLICITUDES!$J$2:$J$1048576)","v":0},0,{"$f":"SUMIF(SOLICITUDES!$C$2:$C$1048576,BD!C8555,SOLICITUDES!$K$2:$K$1048576)","v":0},0]
[null,null,"T15050",15,13200,240,-76.273128456065976,3.0298716825291945,7.5,7.5,3,3,{"$f":"SUMIF(SOLICITUDES!$C$2:$C$1048576,BD!C8570,SOLICITUDES!$I$2:$I$1048576)","v":0},0,{"$f":"SUMIF(SOLICITUDES!$C$2:$C$1048576,BD!C8570,SOLICITUDES!$J$2:$J$1048576)","v":0},0,{"$f":"SUMIF(SOLICITUDES!$C$2:$C$1048576,BD!C8570,SOLICITUDES!$K$2:$K$1048576)","v":0},0]
[null,null,"T21501",5,13200,240,-76.212525190277432,3.0366958249788176,2.5,2.5,1,1,{"$f":"SUMIF(SOLICITUDES!$C$2:$C$1048576,BD!C8581,SOLICITUDES!$I$2:$I$1048576)","v":0},0,{"$f":"SUMIF(SOLICITUDES!$C$2:$C$1048576,BD!C8581,SOLICITUDES!$J$2:$J$1048576)","v":0},0,{"$f":"SUMIF(SOLICITUDES!$C$2:$C$1048576,BD!C8581,SOLICITUDES!$K$2:$K$1048576)","v":0},0]
[null,null,"T14680",15,13200,240,-76.285691250297944,3.0215256987526549,7.5,7.5,3,3,{"$f":"SUMIF(SOLICITUDES!$C$2:$C$1048576,BD!C8586,SOLICITUDES!$I$2:$I$1048576)","v":0},0,{"$f":"SUMIF(SOLICITUDES!$C$2:$C$1048576,BD!C8586,SOLICITUDES!$J$2:$J$1048576)","v":0},0,{"$f":"SUMIF(SOLICITUDES!$C$2:$C$1048576,BD!C8586,SOLICITUDES!$K$2:$K$1048576)","v":0},0]
[null,null,"T21470",15,13200,240,-76.213432570479114,3.0501716563294297,7.5,7.5,3,3,{"$f":"SUMIF(SOLICITUDES!$C$2:$C$1048576,BD!C8597,SOLICITUDES!$I$2:$I$1048576)","v":0},0,{"$f":"SUMIF(SOLICITUDES!$C$2:$C$1048576,BD!C8597,SOLICITUDES!$J$2:$J$1048576)","v":0},0,{"$f":"SUMIF(SOLICITUDES!$C$2:$C$1048576,BD!C8597,SOLICITUDES!$K$2:$K$1048576)","v":0},0]
[null,null,"T13951",10,13200,240,-76.328137084405626,3.0481053718888065,5,5,2,2,{"$f":"SUMIF(SOLICITUDES!$C$2:$C$1048576,BD!C8602,SOLICITUDES!$I$2:$I$1048576)","v":0},0,{"$f":"SUMIF(SOLICITUDES!$C$2:$C$1048576,BD!C8602,SOLICITUDES!$J$2:$J$1048576)","v":0},0,{"$f":"SUMIF(SOLICITUDES!$C$2:$C$1048576,BD!C8602,SOLICITUDES!$K$2:$K$1048576)","v":0},0]
[null,null,"T13942",15,13200,240,-76.340572432012479,3.052626331556858,7.5,7.5,3,3,{"$f":"SUMIF(SOLICITUDES!$C$2:$C$1048576,BD!C8622,SOLICITUDES!$I$2:$I$1048576)","v":0},0,{"$f":"SUMIF(SOLICITUDES!$C$2:$C$1048576,BD!C8622,SOLICITUDES!$J$2:$J$1048576)","v":0},0,{"$f":"SUMIF(SOLICITUDES!$C$2:$C$1048576,BD!C8622,SOLICITUDES!$K$2:$K$1048576)","v":0},0]
[null,null,"T14678",37.5,13200,240,-76.295651612907321,3.0543847364778953,18.75,18.75,7.5,7.5,{"$f":"SUMIF(SOLICITUDES!$C$2:$C$1048576,BD!C8629,SOLICITUDES!$I$2:$I$1048576)","v":0},0,{"$f":"SUMIF(SOLICITUDES!$C$2:$C$1048576,BD!C8629,SOLICITUDES!$J$2:$J$1048576)","v":0},0,{"$f":"SUMIF(SOLICITUDES!$C$2:$C$1048576,BD!C8629,SOLICITUDES!$K$2:$K$1048576)","v":0},0]
[null,null,"T13943",10,13200,240,-76.346858568121931,3.0571881804018384,5,5,2,2,{"$f":"SUMIF(SOLICITUDES!$C$2:$C$1048576,BD!C8634,SOLICITUDES!$I$2:$I$1048576)","v":0},0,{"$f":"SUMIF(SOLICITUDES!$C$2:$C$1048576,BD!C8634,SOLICITUDES!$J$2:$J$1048576)","v":0},0,{"$f":"SUMIF(SOLICITUDES!$C$2:$C$1048576,BD!C8634,SOLICITUDES!$K$2:$K$1048576)","v":0},0]
[null,null,"T20509",25,13200,240,-76.316042623264238,2.9584460035050006,12.5,12.5,5,5,{"$f":"SUMIF(SOLICITUDES!$C$2:$C$1048576,BD!C8649,SOLICITUDES!$I$2:$I$1048576)","v":0},0,{"$f":"SUMIF(SOLICITUDES!$C$2:$C$1048576,BD!C8649,SOLICITUDES!$J$2:$J$1048576)","v":0},0,{"$f":"SUMIF(SOLICITUDES!$C$2:$C$1048576,BD!C8649,SOLICITUDES!$K$2:$K$1048576)","v":0},0]
[null,null,"T22135",25,13200,240,-76.323541729838098,2.9536752899669136,12.5,12.5,5,5,{"$f":"SUMIF(SOLICITUDES!$C$2:$C$1048576,BD!C8660,SOLICITUDES!$I$2:$I$1048576)","v":0},0,{"$f":"SUMIF(SOLICITUDES!$C$2:$C$1048576,BD!C8660,SOLICITUDES!$J$2:$J$1048576)","v":0},0,{"$f":"SUMIF(SOLICITUDES!$C$2:$C$1048576,BD!C8660,SOLICITUDES!$K$2:$K$1048576)","v":0},0]
[null,null,"T31456",10,13200,240,-76.329595035527674,2.9565106475821699,5,5,2,2,{"$f":"SUMIF(SOLICITUDES!$C$2:$C$1048576,BD!C8665,SOLICITUDES!$I$2:$I$1048576)","v":0},0,{"$f":"SUMIF(SOLICITUDES!$C$2:$C$1048576,BD!C8665,SOLICITUDES!$J$2:$J$1048576)","v":0},0,{"$f":"SUMIF(SOLICITUDES!$C$2:$C$1048576,BD!C8665,SOLICITUDES!$K$2:$K$1048576)","v":0},0]
[null,null,"T25712",15,13200,240,-76.263485668735299,2.9652938868260903,7.5,7.5,3,3,{"$f":"SUMIF(SOLICITUDES!$C$2:$C$1048576,BD!C8676,SOLICITUDES!$I$2:$I$1048576)","v":0},0,{"$f":"SUMIF(SOLICITUDES!$C$2:$C$1048576,BD!C8676,SOLICITUDES!$J$2:$J$1048576)","v":0},0,{"$f":"SUMIF(SOLICITUDES!$C$2:$C$1048576,BD!C8676,SOLICITUDES!$K$2:$K$1048576)","v":0},0]
[null,null,"T26082",10,13200,240,-76.279742143737465,2.9941542165701147,5,5,2,2,{"$f":"SUMIF(SOLICITUDES!$C$2:$C$1048576,BD!C8691,SOLICITUDES!$I$2:$I$1048576)","v":0},0,{"$f":"SUMIF(SOLICITUDES!$C$2:$C$1048576,BD!C8691,SOLICITUDES!$J$2:$J$1048576)","v":0},0,{"$f":"SUMIF(SOLICITUDES!$C$2:$C$1048576,BD!C8691,SOLICITUDES!$K$2:$K$1048576)","v":0},0]
[null,null,"T30692",15,13200,240,-76.261762117237566,2.9590667027172919,7.5,7.5,3,3,{"$f":"SUMIF(SOLICITUDES!$C$2:$C$1048576,BD!C8696,SOLICITUDES!$I$2:$I$1048576)","v":0},0,{"$f":"SUMIF(SOLICITUDES!$C$2:$C$1048576,BD!C8696,SOLICITUDES!$J$2:$J$1048576)","v":0},0,{"$f":"SUMIF(SOLICITUDES!$C$2:$C$1048576,BD!C8696,SOLICITUDES!$K$2:$K$1048576)","v":0},0]
[null,null,"T26084",10,13200,240,-76.280232761325664,2.9827662306616922,5,5,2,2,{"$f":"SUMIF(SOLICITUDES!$C$2:$C$1048576,BD!C8706,SOLICITUDES!$I$2:$I$1048576)","v":0},0,{"$f":"SUMIF(SOLICITUDES!$C$2:$C$1048576,BD!C8706,SOLICITUDES!$J$2:$J$1048576)","v":0},0,{"$f":"SUMIF(SOLICITUDES!$C$2:$C$1048576,BD!C8706,SOLICITUDES!$K$2:$K$1048576)","v":0},0]
[null,null,"T25465",37.5,13200,208,-76.258378168667264,2.9502306626837456,18.75,18.75,7.5,7.5,{"$f":"SUMIF(SOLICITUDES!$C$2:$C$1048576,BD!C8723,SOLICITUDES!$I$2:$I$1048576)","v":0},0,{"$f":"SUMIF(SOLICITUDES!$C$2:$C$1048576,BD!C8723,SOLICITUDES!$J$2:$J$1048576)","v":0},0,{"$f":"SUMIF(SOLICITUDES!$C$2:$C$1048576,BD!C8723,SOLICITUDES!$K$2:$K$1048576)","v":0},0]
[null,null,"T25663",10,13200,240,-76.272083470836066,2.9469299767165302,5,5,2,2,{"$f":"SUMIF(SOLICITUDES!$C$2:$C$1048576,BD!C8724,SOLICITUDES!$I$2:$I$1048576)","v":0},0,{"$f":"SUMIF(SOLICITUDES!$C$2:$C$1048576,BD!C8724,SOLICITUDES!$J$2:$J$1048576)","v":0},0,{"$f":"SUMIF(SOLICITUDES!$C$2:$C$1048576,BD!C8724,SOLICITUDES!$K$2:$K$1048576)","v":0},0]
[null,null,"T25464",75,13200,208,-76.285604910055866,2.9388375277394521,37.5,37.5,15,15,{"$f":"SUMIF(SOLICITUDES!$C$2:$C$1048576,BD!C8739,SOLICITUDES!$I$2:$I$1048576)","v":0},0,{"$f":"SUMIF(SOLICITUDES!$C$2:$C$1048576,BD!C8739,SOLICITUDES!$J$2:$J$1048576)","v":0},0,{"$f":"SUMIF(SOLICITUDES!$C$2:$C$1048576,BD!C8739,SOLICITUDES!$K$2:$K$1048576)","v":0},0]
[null,null,"T25674",15,13200,240,-76.255316579047033,2.9429256608530494,7.5,7.5,3,3,{"$f":"SUMIF(SOLICITUDES!$C$2:$C$1048576,BD!C8744,SOLICITUDES!$I$2:$I$1048576)","v":0},0,{"$f":"SUMIF(SOLICITUDES!$C$2:$C$1048576,BD!C8744,SOLICITUDES!$J$2:$J$1048576)","v":0},0,{"$f":"SUMIF(SOLICITUDES!$C$2:$C$1048576,BD!C8744,SOLICITUDES!$K$2:$K$1048576)","v":0},0]
[null,null,"T22670",15,13200,240,-76.234366704604668,2.9406190572798128,7.5,7.5,3,3,{"$f":"SUMIF(SOLICITUDES!$C$2:$C$1048576,BD!C8755,SOLICITUDES!$I$2:$I$1048576)","v":0},0,{"$f":"SUMIF(SOLICITUDES!$C$2:$C$1048576,BD!C8755,SOLICITUDES!$J$2:$J$1048576)","v":0},0,{"$f":"SUMIF(SOLICITUDES!$C$2:$C$1048576,BD!C8755,SOLICITUDES!$K$2:$K$1048576)","v":0},0]
[null,null,"T25660",15,13200,240,-76.279545019997229,2.9281226872169062,7.5,7.5,3,3,{"$f":"SUMIF(SOLICITUDES!$C$2:$C$1048576,BD!C8770,SOLICITUDES!$I$2:$I$1048576)","v":0},0,{"$f":"SUMIF(SOLICITUDES!$C$2:$C$1048576,BD!C8770,SOLICITUDES!$J$2:$J$1048576)","v":0},0,{"$f":"SUMIF(SOLICITUDES!$C$2:$C$1048576,BD!C8770,SOLICITUDES!$K$2:$K$1048576)","v":0},0]
[null,null,"T30206",50,13200,240,-76.229711739770991,2.9337581881290054,25,25,10,10,{"$f":"SUMIF(SOLICITUDES!$C$2:$C$1048576,BD!C8775,SOLICITUDES!$I$2:$I$1048576)","v":0},0,{"$f":"SUMIF(SOLICITUDES!$C$2:$C$1048576,BD!C8775,SOLICITUDES!$J$2:$J$1048576)","v":0},0,{"$f":"SUMIF(SOLICITUDES!$C$2:$C$1048576,BD!C8775,SOLICITUDES!$K$2:$K$1048576)","v":0},0]
[null,null,"T26126",10,13200,240,-76.306735965700042,2.9361184606729855,5,5,2,2,{"$f":"SUMIF(SOLICITUDES!$C$2:$C$1048576,BD!C8786,SOLICITUDES!$I$2:$I$1048576)","v":0},0,{"$f":"SUMIF(SOLICITUDES!$C$2:$C$1048576,BD!C8786,SOLICITUDES!$J$2:$J$1048576)","v":0},0,{"$f":"SUMIF(SOLICITUDES!$C$2:$C$1048576,BD!C8786,SOLICITUDES!$K$2:$K$1048576)","v":0},0]
[null,null,"T22571",15,13200,240,-76.210135113831853,2.920742611993322,7.5,7.5,3,3,{"$f":"SUMIF(SOLICITUDES!$C$2:$C$1048576,BD!C8797,SOLICITUDES!$I$2:$I$1048576)","v":0},0,{"$f":"SUMIF(SOLICITUDES!$C$2:$C$1048576,BD!C8797,SOLICITUDES!$J$2:$J$1048576)","v":0},0,{"$f":"SUMIF(SOLICITUDES!$C$2:$C$1048576,BD!C8797,SOLICITUDES!$K$2:$K$1048576)","v":0},0]
[null,null,"T26132",10,13200,240,-76.307491775039608,2.9513959868953759,5,5,2,2,{"$f":"SUMIF(SOLICITUDES!$C$2:$C$1048576,BD!C8813,SOLICITUDES!$I$2:$I$1048576)","v":0},0,{"$f":"SUMIF(SOLICITUDES!$C$2:$C$1048576,BD!C8813,SOLICITUDES!$J$2:$J$1048576)","v":0},0,{"$f":"SUMIF(SOLICITUDES!$C$2:$C$1048576,BD!C8813,SOLICITUDES!$K$2:$K$1048576)","v":0},0]
[null,null,"T17658",10,13200,240,-76.289248648007487,2.9029167313083994,5,5,2,2,{"$f":"SUMIF(SOLICITUDES!$C$2:$C$1048576,BD!C8818,SOLICITUDES!$I$2:$I$1048576)","v":0},0,{"$f":"SUMIF(SOLICITUDES!$C$2:$C$1048576,BD!C8818,SOLICITUDES!$J$2:$J$1048576)","v":0},0,{"$f":"SUMIF(SOLICITUDES!$C$2:$C$1048576,BD!C8818,SOLICITUDES!$K$2:$K$1048576)","v":0},0]
[null,null,"T22085",10,13200,240,-76.281464080088483,2.8924913182065062,5,5,2,2,{"$f":"SUMIF(SOLICITUDES!$C$2:$C$1048576,BD!C8833,SOLICITUDES!$I$2:$I$1048576)","v":0},0,{"$f":"SUMIF(SOLICITUDES!$C$2:$C$1048576,BD!C8833,SOLICITUDES!$J$2:$J$1048576)","v":0},0,{"$f":"SUMIF(SOLICITUDES!$C$2:$C$1048576,BD!C8833,SOLICITUDES!$K$2:$K$1048576)","v":0},0]
[null,null,"T26145",5,13200,240,-76.299282789956351,2.972031203656214,2.5,2.5,1,1,{"$f":"SUMIF(SOLICITUDES!$C$2:$C$1048576,BD!C8844,SOLICITUDES!$I$2:$I$1048576)","v":0},0,{"$f":"SUMIF(SOLICITUDES!$C$2:$C$1048576,BD!C8844,SOLICITUDES!$J$2:$J$1048576)","v":0},0,{"$f":"SUMIF(SOLICITUDES!$C$2:$C$1048576,BD!C8844,SOLICITUDES!$K$2:$K$1048576)","v":0},0]
[null,null,"T26147",5,13200,240,-76.304222956989832,2.9717504737731923,2.5,2.5,1,1,{"$f":"SUMIF(SOLICITUDES!$C$2:$C$1048576,BD!C8849,SOLICITUDES!$I$2:$I$1048576)","v":0},0,{"$f":"SUMIF(SOLICITUDES!$C$2:$C$1048576,BD!C8849,SOLICITUDES!$J$2:$J$1048576)","v":0},0,{"$f":"SUMIF(SOLICITUDES!$C$2:$C$1048576,BD!C8849,SOLICITUDES!$K$2:$K$1048576)","v":0},0]
[null,null,"T14557",15,13200,240,-76.217058647990086,3.0227691220592665,7.5,7.5,3,3,{"$f":"SUMIF(SOLICITUDES!$C$2:$C$1048576,BD!C8864,SOLICITUDES!$I$2:$I$1048576)","v":0},0,{"$f":"SUMIF(SOLICITUDES!$C$2:$C$1048576,BD!C8864,SOLICITUDES!$J$2:$J$1048576)","v":0},0,{"$f":"SUMIF(SOLICITUDES!$C$2:$C$1048576,BD!C8864,SOLICITUDES!$K$2:$K$1048576)","v":0},0]
[null,null,"T14551",25,13200,240,-76.217173486608658,3.0173949134498179,12.5,12.5,5,5,{"$f":"SUMIF(SOLICITUDES!$C$2:$C$1048576,BD!C8865,SOLICITUDES!$I$2:$I$1048576)","v":0},0,{"$f":"SUMIF(SOLICITUDES!$C$2:$C$1048576,BD!C8865,SOLICITUDES!$J$2:$J$1048576)","v":0},0,{"$f":"SUMIF(SOLICITUDES!$C$2:$C$1048576,BD!C8865,SOLICITUDES!$K$2:$K$1048576)","v":0},0]
[null,null,"T14562",25,13200,240,-76.206787808402112,3.0136159400950238,12.5,12.5,5,5,{"$f":"SUMIF(SOLICITUDES!$C$2:$C$1048576,BD!C8880,SOLICITUDES!$I$2:$I$1048576)","v":0},0,{"$f":"SUMIF(SOLICITUDES!$C$2:$C$1048576,BD!C8880,SOLICITUDES!$J$2:$J$1048576)","v":0},0,{"$f":"SUMIF(SOLICITUDES!$C$2:$C$1048576,BD!C8880,SOLICITUDES!$K$2:$K$1048576)","v":0},0]
[null,null,"T31049",15,13200,240,-76.200379388377854,3.0057276821529597,7.5,7.5,3,3,{"$f":"SUMIF(SOLICITUDES!$C$2:$C$1048576,BD!C8892,SOLICITUDES!$I$2:$I$1048576)","v":0},0,{"$f":"SUMIF(SOLICITUDES!$C$2:$C$1048576,BD!C8892,SOLICITUDES!$J$2:$J$1048576)","v":0},0,{"$f":"SUMIF(SOLICITUDES!$C$2:$C$1048576,BD!C8892,SOLICITUDES!$K$2:$K$1048576)","v":0},0]
[null,null,"T22128",15,13200,240,-76.203633984600245,2.9942435324624612,7.5,7.5,3,3,{"$f":"SUMIF(SOLICITUDES!$C$2:$C$1048576,BD!C8897,SOLICITUDES!$I$2:$I$1048576)","v":0},0,{"$f":"SUMIF(SOLICITUDES!$C$2:$C$1048576,BD!C8897,SOLICITUDES!$J$2:$J$1048576)","v":0},0,{"$f":"SUMIF(SOLICITUDES!$C$2:$C$1048576,BD!C8897,SOLICITUDES!$K$2:$K$1048576)","v":0},0]
[null,null,"T22637",15,13200,240,-76.17503159961629,3.0009894907821031,7.5,7.5,3,3,{"$f":"SUMIF(SOLICITUDES!$C$2:$C$1048576,BD!C8912,SOLICITUDES!$I$2:$I$1048576)","v":0},0,{"$f":"SUMIF(SOLICITUDES!$C$2:$C$1048576,BD!C8912,SOLICITUDES!$J$2:$J$1048576)","v":0},0,{"$f":"SUMIF(SOLICITUDES!$C$2:$C$1048576,BD!C8912,SOLICITUDES!$K$2:$K$1048576)","v":0},0]
[null,null,"T31073",5,13200,240,-76.18726035979752,2.9891563547898743,2.5,2.5,1,1,{"$f":"SUMIF(SOLICITUDES!$C$2:$C$1048576,BD!C8923,SOLICITUDES!$I$2:$I$1048576)","v":0},0,{"$f":"SUMIF(SOLICITUDES!$C$2:$C$1048576,BD!C8923,SOLICITUDES!$J$2:$J$1048576)","v":0},0,{"$f":"SUMIF(SOLICITUDES!$C$2:$C$1048576,BD!C8923,SOLICITUDES!$K$2:$K$1048576)","v":0},0]
[null,null,"T26150",10,13200,240,-76.147418266366842,3.0141919243184323,5,5,2,2,{"$f":"SUMIF(SOLICITUDES!$C$2:$C$1048576,BD!C8928,SOLICITUDES!$I$2:$I$1048576)","v":0},0,{"$f":"SUMIF(SOLICITUDES!$C$2:$C$1048576,BD!C8928,SOLICITUDES!$J$2:$J$1048576)","v":0},0,{"$f":"SUMIF(SOLICITUDES!$C$2:$C$1048576,BD!C8928,SOLICITUDES!$K$2:$K$1048576)","v":0},0]
[null,null,"T40262",5,13200,240,-76.834878979089623,1.9237425584348229,2.5,2.5,1,1,{"$f":"SUMIF(SOLICITUDES!$C$2:$C$1048576,BD!C8939,SOLICITUDES!$I$2:$I$1048576)","v":0},0,{"$f":"SUMIF(SOLICITUDES!$C$2:$C$1048576,BD!C8939,SOLICITUDES!$J$2:$J$1048576)","v":0},0,{"$f":"SUMIF(SOLICITUDES!$C$2:$C$1048576,BD!C8939,SOLICITUDES!$K$2:$K$1048576)","v":0},0]
[null,null,"T12216",25,13200,240,-76.788843791146633,1.9072969858015927,12.5,12.5,5,5,{"$f":"SUMIF(SOLICITUDES!$C$2:$C$1048576,BD!C8954,SOLICITUDES!$I$2:$I$1048576)","v":0},0,{"$f":"SUMIF(SOLICITUDES!$C$2:$C$1048576,BD!C8954,SOLICITUDES!$J$2:$J$1048576)","v":0},0,{"$f":"SUMIF(SOLICITUDES!$C$2:$C$1048576,BD!C8954,SOLICITUDES!$K$2:$K$1048576)","v":0},0]
[null,null,"T10935",25,13200,240,-76.795683594090306,1.9076780237956521,12.5,12.5,5,5,{"$f":"SUMIF(SOLICITUDES!$C$2:$C$1048576,BD!C8959,SOLICITUDES!$I$2:$I$1048576)","v":0},0,{"$f":"SUMIF(SOLICITUDES!$C$2:$C$1048576,BD!C8959,SOLICITUDES!$J$2:$J$1048576)","v":0},0,{"$f":"SUMIF(SOLICITUDES!$C$2:$C$1048576,BD!C8959,SOLICITUDES!$K$2:$K$1048576)","v":0},0]
[null,null,"T10958",25,13200,240,-76.788437420551389,1.918782110191237,12.5,12.5,5,5,{"$f":"SUMIF(SOLICITUDES!$C$2:$C$1048576,BD!C8970,SOLICITUDES!$I$2:$I$1048576)","v":0},0,{"$f":"SUMIF(SOLICITUDES!$C$2:$C$1048576,BD!C8970,SOLICITUDES!$J$2:$J$1048576)","v":0},0,{"$f":"SUMIF(SOLICITUDES!$C$2:$C$1048576,BD!C8970,SOLICITUDES!$K$2:$K$1048576)","v":0},0]
[null,null,"T13595",15,13200,240,-76.789765433743767,1.9835878420139257,7.5,7.5,3,3,{"$f":"SUMIF(SOLICITUDES!$C$2:$C$1048576,BD!C8983,SOLICITUDES!$I$2:$I$1048576)","v":0},0,{"$f":"SUMIF(SOLICITUDES!$C$2:$C$1048576,BD!C8983,SOLICITUDES!$J$2:$J$1048576)","v":0},0,{"$f":"SUMIF(SOLICITUDES!$C$2:$C$1048576,BD!C8983,SOLICITUDES!$K$2:$K$1048576)","v":0},0]
[null,null,"T31267",5,13200,240,-76.816159394425583,1.9705193835362662,2.5,2.5,1,1,{"$f":"SUMIF(SOLICITUDES!$C$2:$C$1048576,BD!C8991,SOLICITUDES!$I$2:$I$1048576)","v":0},0,{"$f":"SUMIF(SOLICITUDES!$C$2:$C$1048576,BD!C8991,SOLICITUDES!$J$2:$J$1048576)","v":0},0,{"$f":"SUMIF(SOLICITUDES!$C$2:$C$1048576,BD!C8991,SOLICITUDES!$K$2:$K$1048576)","v":0},0]
[null,null,"T31270",5,13200,240,-76.823991434041943,1.9602159869699345,2.5,2.5,1,1,{"$f":"SUMIF(SOLICITUDES!$C$2:$C$1048576,BD!C9002,SOLICITUDES!$I$2:$I$1048576)","v":0},0,{"$f":"SUMIF(SOLICITUDES!$C$2:$C$1048576,BD!C9002,SOLICITUDES!$J$2:$J$1048576)","v":0},0,{"$f":"SUMIF(SOLICITUDES!$C$2:$C$1048576,BD!C9002,SOLICITUDES!$K$2:$K$1048576)","v":0},0]
[null,null,"T14114",25,13200,240,-76.774779283782536,1.9976115397303669,12.5,12.5,5,5,{"$f":"SUMIF(SOLICITUDES!$C$2:$C$1048576,BD!C9007,SOLICITUDES!$I$2:$I$1048576)","v":0},0,{"$f":"SUMIF(SOLICITUDES!$C$2:$C$1048576,BD!C9007,SOLICITUDES!$J$2:$J$1048576)","v":0},0,{"$f":"SUMIF(SOLICITUDES!$C$2:$C$1048576,BD!C9007,SOLICITUDES!$K$2:$K$1048576)","v":0},0]
[null,null,"T31278",45,13200,240,-76.777942468508328,2.0013741661910829,22.5,22.5,9,9,{"$f":"SUMIF(SOLICITUDES!$C$2:$C$1048576,BD!C9018,SOLICITUDES!$I$2:$I$1048576)","v":0},0,{"$f":"SUMIF(SOLICITUDES!$C$2:$C$1048576,BD!C9018,SOLICITUDES!$J$2:$J$1048576)","v":0},0,{"$f":"SUMIF(SOLICITUDES!$C$2:$C$1048576,BD!C9018,SOLICITUDES!$K$2:$K$1048576)","v":0},0]
[null,null,"T15808",15,13200,240,-76.892581002729514,1.929260318133506,7.5,7.5,3,3,{"$f":"SUMIF(SOLICITUDES!$C$2:$C$1048576,BD!C9033,SOLICITUDES!$I$2:$I$1048576)","v":0},0,{"$f":"SUMIF(SOLICITUDES!$C$2:$C$1048576,BD!C9033,SOLICITUDES!$J$2:$J$1048576)","v":0},0,{"$f":"SUMIF(SOLICITUDES!$C$2:$C$1048576,BD!C9033,SOLICITUDES!$K$2:$K$1048576)","v":0},0]
[null,null,"T15832",15,13200,240,-76.893842219101344,1.9026181732351513,7.5,7.5,3,3,{"$f":"SUMIF(SOLICITUDES!$C$2:$C$1048576,BD!C9038,SOLICITUDES!$I$2:$I$1048576)","v":0},0,{"$f":"SUMIF(SOLICITUDES!$C$2:$C$1048576,BD!C9038,SOLICITUDES!$J$2:$J$1048576)","v":0},0,{"$f":"SUMIF(SOLICITUDES!$C$2:$C$1048576,BD!C9038,SOLICITUDES!$K$2:$K$1048576)","v":0},0]
[null,null,"T16250",25,13200,240,-76.905460542614122,1.9340095567650808,12.5,12.5,5,5,{"$f":"SUMIF(SOLICITUDES!$C$2:$C$1048576,BD!C9049,SOLICITUDES!$I$2:$I$1048576)","v":0},0,{"$f":"SUMIF(SOLICITUDES!$C$2:$C$1048576,BD!C9049,SOLICITUDES!$J$2:$J$1048576)","v":0},0,{"$f":"SUMIF(SOLICITUDES!$C$2:$C$1048576,BD!C9049,SOLICITUDES!$K$2:$K$1048576)","v":0},0]
[null,null,"T15814",10,13200,240,-76.867853278128223,1.9397297765941217,5,5,2,2,{"$f":"SUMIF(SOLICITUDES!$C$2:$C$1048576,BD!C9064,SOLICITUDES!$I$2:$I$1048576)","v":0},0,{"$f":"SUMIF(SOLICITUDES!$C$2:$C$1048576,BD!C9064,SOLICITUDES!$J$2:$J$1048576)","v":0},0,{"$f":"SUMIF(SOLICITUDES!$C$2:$C$1048576,BD!C9064,SOLICITUDES!$K$2:$K$1048576)","v":0},0]
[null,null,"T16241",15,13200,240,-76.905885169773057,1.9125854662467361,7.5,7.5,3,3,{"$f":"SUMIF(SOLICITUDES!$C$2:$C$1048576,BD!C9074,SOLICITUDES!$I$2:$I$1048576)","v":0},0,{"$f":"SUMIF(SOLICITUDES!$C$2:$C$1048576,BD!C9074,SOLICITUDES!$J$2:$J$1048576)","v":0},0,{"$f":"SUMIF(SOLICITUDES!$C$2:$C$1048576,BD!C9074,SOLICITUDES!$K$2:$K$1048576)","v":0},0]
[null,null,"T12470",15,13200,240,-76.842217887816687,1.8827883696351773,7.5,7.5,3,3,{"$f":"SUMIF(SOLICITUDES!$C$2:$C$1048576,BD!C9081,SOLICITUDES!$I$2:$I$1048576)","v":0},0,{"$f":"SUMIF(SOLICITUDES!$C$2:$C$1048576,BD!C9081,SOLICITUDES!$J$2:$J$1048576)","v":0},0,{"$f":"SUMIF(SOLICITUDES!$C$2:$C$1048576,BD!C9081,SOLICITUDES!$K$2:$K$1048576)","v":0},0]
[null,null,"T12484",25,13200,240,-76.848299655003345,1.882856944955654,12.5,12.5,5,5,{"$f":"SUMIF(SOLICITUDES!$C$2:$C$1048576,BD!C9096,SOLICITUDES!$I$2:$I$1048576)","v":0},0,{"$f":"SUMIF(SOLICITUDES!$C$2:$C$1048576,BD!C9096,SOLICITUDES!$J$2:$J$1048576)","v":0},0,{"$f":"SUMIF(SOLICITUDES!$C$2:$C$1048576,BD!C9096,SOLICITUDES!$K$2:$K$1048576)","v":0},0]
[null,null,"T13087",15,13200,240,-76.862065049754918,1.8674622287577503,7.5,7.5,3,3,{"$f":"SUMIF(SOLICITUDES!$C$2:$C$1048576,BD!C9107,SOLICITUDES!$I$2:$I$1048576)","v":0},0,{"$f":"SUMIF(SOLICITUDES!$C$2:$C$1048576,BD!C9107,SOLICITUDES!$J$2:$J$1048576)","v":0},0,{"$f":"SUMIF(SOLICITUDES!$C$2:$C$1048576,BD!C9107,SOLICITUDES!$K$2:$K$1048576)","v":0},0]
[null,null,"T12483",15,13200,240,-76.849902208046274,1.8770680478531865,7.5,7.5,3,3,{"$f":"SUMIF(SOLICITUDES!$C$2:$C$1048576,BD!C9112,SOLICITUDES!$I$2:$I$1048576)","v":0},0,{"$f":"SUMIF(SOLICITUDES!$C$2:$C$1048576,BD!C9112,SOLICITUDES!$J$2:$J$1048576)","v":0},0,{"$f":"SUMIF(SOLICITUDES!$C$2:$C$1048576,BD!C9112,SOLICITUDES!$K$2:$K$1048576)","v":0},0]
[null,null,"T15986",5,13200,240,-76.825601270684203,1.8688318899067611,2.5,2.5,1,1,{"$f":"SUMIF(SOLICITUDES!$C$2:$C$1048576,BD!C9127,SOLICITUDES!$I$2:$I$1048576)","v":0},0,{"$f":"SUMIF(SOLICITUDES!$C$2:$C$1048576,BD!C9127,SOLICITUDES!$J$2:$J$1048576)","v":0},0,{"$f":"SUMIF(SOLICITUDES!$C$2:$C$1048576,BD!C9127,SOLICITUDES!$K$2:$K$1048576)","v":0},0]
[null,null,"T19373",25,13200,240,-76.55940805467317,2.8872399977259935,12.5,12.5,5,5,{"$f":"SUMIF(SOLICITUDES!$C$2:$C$1048576,BD!C9128,SOLICITUDES!$I$2:$I$1048576)","v":0},0,{"$f":"SUMIF(SOLICITUDES!$C$2:$C$1048576,BD!C9128,SOLICITUDES!$J$2:$J$1048576)","v":0},0,{"$f":"SUMIF(SOLICITUDES!$C$2:$C$1048576,BD!C9128,SOLICITUDES!$K$2:$K$1048576)","v":0},0]
[null,null,"T40348",30,13200,214,-76.555692551442633,2.8923586906394698,15,15,6,6,{"$f":"SUMIF(SOLICITUDES!$C$2:$C$1048576,BD!C9143,SOLICITUDES!$I$2:$I$1048576)","v":0},0,{"$f":"SUMIF(SOLICITUDES!$C$2:$C$1048576,BD!C9143,SOLICITUDES!$J$2:$J$1048576)","v":0},0,{"$f":"SUMIF(SOLICITUDES!$C$2:$C$1048576,BD!C9143,SOLICITUDES!$K$2:$K$1048576)","v":0},0]
[null,null,"T7968",15,13200,240,-76.549066453725985,2.8838258957580867,7.5,7.5,3,3,{"$f":"SUMIF(SOLICITUDES!$C$2:$C$1048576,BD!C9154,SOLICITUDES!$I$2:$I$1048576)","v":0},0,{"$f":"SUMIF(SOLICITUDES!$C$2:$C$1048576,BD!C9154,SOLICITUDES!$J$2:$J$1048576)","v":0},0,{"$f":"SUMIF(SOLICITUDES!$C$2:$C$1048576,BD!C9154,SOLICITUDES!$K$2:$K$1048576)","v":0},0]
[null,null,"T17191",10,13200,240,-76.547318704588008,2.8823207414825003,5,5,2,2,{"$f":"SUMIF(SOLICITUDES!$C$2:$C$1048576,BD!C9159,SOLICITUDES!$I$2:$I$1048576)","v":0},0,{"$f":"SUMIF(SOLICITUDES!$C$2:$C$1048576,BD!C9159,SOLICITUDES!$J$2:$J$1048576)","v":0},0,{"$f":"SUMIF(SOLICITUDES!$C$2:$C$1048576,BD!C9159,SOLICITUDES!$K$2:$K$1048576)","v":0},0]
[null,null,"T14865",5,13200,240,-76.559970008739256,2.9170552907210099,2.5,2.5,1,1,{"$f":"SUMIF(SOLICITUDES!$C$2:$C$1048576,BD!C9174,SOLICITUDES!$I$2:$I$1048576)","v":0},0,{"$f":"SUMIF(SOLICITUDES!$C$2:$C$1048576,BD!C9174,SOLICITUDES!$J$2:$J$1048576)","v":0},0,{"$f":"SUMIF(SOLICITUDES!$C$2:$C$1048576,BD!C9174,SOLICITUDES!$K$2:$K$1048576)","v":0},0]
[null,null,"T14878",30,13200,208,-76.542043248822878,2.9191448527417116,15,15,6,6,{"$f":"SUMIF(SOLICITUDES!$C$2:$C$1048576,BD!C9186,SOLICITUDES!$I$2:$I$1048576)","v":0},0,{"$f":"SUMIF(SOLICITUDES!$C$2:$C$1048576,BD!C9186,SOLICITUDES!$J$2:$J$1048576)","v":0},0,{"$f":"SUMIF(SOLICITUDES!$C$2:$C$1048576,BD!C9186,SOLICITUDES!$K$2:$K$1048576)","v":0},0]
[null,null,"T29135",5,13200,240,-76.606320875394076,2.9085685111633275,2.5,2.5,1,1,{"$f":"SUMIF(SOLICITUDES!$C$2:$C$1048576,BD!C9191,SOLICITUDES!$I$2:$I$1048576)","v":0},0,{"$f":"SUMIF(SOLICITUDES!$C$2:$C$1048576,BD!C9191,SOLICITUDES!$J$2:$J$1048576)","v":0},0,{"$f":"SUMIF(SOLICITUDES!$C$2:$C$1048576,BD!C9191,SOLICITUDES!$K$2:$K$1048576)","v":0},0]
[null,null,"T24024",10,13200,240,-76.600096381449148,2.9429373771430658,5,5,2,2,{"$f":"SUMIF(SOLICITUDES!$C$2:$C$1048576,BD!C9206,SOLICITUDES!$I$2:$I$1048576)","v":0},0,{"$f":"SUMIF(SOLICITUDES!$C$2:$C$1048576,BD!C9206,SOLICITUDES!$J$2:$J$1048576)","v":0},0,{"$f":"SUMIF(SOLICITUDES!$C$2:$C$1048576,BD!C9206,SOLICITUDES!$K$2:$K$1048576)","v":0},0]
[null,null,"T15505",10,13200,240,-76.594914918654936,2.9545548545367613,5,5,2,2,{"$f":"SUMIF(SOLICITUDES!$C$2:$C$1048576,BD!C9217,SOLICITUDES!$I$2:$I$1048576)","v":0},0,{"$f":"SUMIF(SOLICITUDES!$C$2:$C$1048576,BD!C9217,SOLICITUDES!$J$2:$J$1048576)","v":0},0,{"$f":"SUMIF(SOLICITUDES!$C$2:$C$1048576,BD!C9217,SOLICITUDES!$K$2:$K$1048576)","v":0},0]
[null,null,"T14852",30,13200,208,-76.53687706747921,2.9263948573036425,15,15,6,6,{"$f":"SUMIF(SOLICITUDES!$C$2:$C$1048576,BD!C9222,SOLICITUDES!$I$2:$I$1048576)","v":0},0,{"$f":"SUMIF(SOLICITUDES!$C$2:$C$1048576,BD!C9222,SOLICITUDES!$J$2:$J$1048576)","v":0},0,{"$f":"SUMIF(SOLICITUDES!$C$2:$C$1048576,BD!C9222,SOLICITUDES!$K$2:$K$1048576)","v":0},0]
[null,null,"T14874",10,13200,240,-76.563251431368045,2.9399900698514458,5,5,2,2,{"$f":"SUMIF(SOLICITUDES!$C$2:$C$1048576,BD!C9233,SOLICITUDES!$I$2:$I$1048576)","v":0},0,{"$f":"SUMIF(SOLICITUDES!$C$2:$C$1048576,BD!C9233,SOLICITUDES!$J$2:$J$1048576)","v":0},0,{"$f":"SUMIF(SOLICITUDES!$C$2:$C$1048576,BD!C9233,SOLICITUDES!$K$2:$K$1048576)","v":0},0]
[null,null,"T17271",15,13200,240,-76.554026732217196,2.8738898741609855,7.5,7.5,3,3,{"$f":"SUMIF(SOLICITUDES!$C$2:$C$1048576,BD!C9248,SOLICITUDES!$I$2:$I$1048576)","v":0},0,{"$f":"SUMIF(SOLICITUDES!$C$2:$C$1048576,BD!C9248,SOLICITUDES!$J$2:$J$1048576)","v":0},0,{"$f":"SUMIF(SOLICITUDES!$C$2:$C$1048576,BD!C9248,SOLICITUDES!$K$2:$K$1048576)","v":0},0]
[null,null,"T7986",15,13200,240,-76.58482343469835,2.8711004563780413,7.5,7.5,3,3,{"$f":"SUMIF(SOLICITUDES!$C$2:$C$1048576,BD!C9253,SOLICITUDES!$I$2:$I$1048576)","v":0},0,{"$f":"SUMIF(SOLICITUDES!$C$2:$C$1048576,BD!C9253,SOLICITUDES!$J$2:$J$1048576)","v":0},0,{"$f":"SUMIF(SOLICITUDES!$C$2:$C$1048576,BD!C9253,SOLICITUDES!$K$2:$K$1048576)","v":0},0]
[null,null,"T24051",5,13200,240,-76.545632853810091,2.8598602072109851,2.5,2.5,1,1,{"$f":"SUMIF(SOLICITUDES!$C$2:$C$1048576,BD!C9269,SOLICITUDES!$I$2:$I$1048576)","v":0},0,{"$f":"SUMIF(SOLICITUDES!$C$2:$C$1048576,BD!C9269,SOLICITUDES!$J$2:$J$1048576)","v":0},0,{"$f":"SUMIF(SOLICITUDES!$C$2:$C$1048576,BD!C9269,SOLICITUDES!$K$2:$K$1048576)","v":0},0]
[null,null,"T7933",15,13200,240,-76.551263572151939,2.8780936822341641,7.5,7.5,3,3,{"$f":"SUMIF(SOLICITUDES!$C$2:$C$1048576,BD!C9270,SOLICITUDES!$I$2:$I$1048576)","v":0},0,{"$f":"SUMIF(SOLICITUDES!$C$2:$C$1048576,BD!C9270,SOLICITUDES!$J$2:$J$1048576)","v":0},0,{"$f":"SUMIF(SOLICITUDES!$C$2:$C$1048576,BD!C9270,SOLICITUDES!$K$2:$K$1048576)","v":0},0]
[null,null,"T9353",30,13200,208,-76.543338911197324,2.841465505011775,15,15,6,6,{"$f":"SUMIF(SOLICITUDES!$C$2:$C$1048576,BD!C9281,SOLICITUDES!$I$2:$I$1048576)","v":0},0,{"$f":"SUMIF(SOLICITUDES!$C$2:$C$1048576,BD!C9281,SOLICITUDES!$J$2:$J$1048576)","v":0},0,{"$f":"SUMIF(SOLICITUDES!$C$2:$C$1048576,BD!C9281,SOLICITUDES!$K$2:$K$1048576)","v":0},0]
[null,null,"T24108",10,13200,240,-76.53527743078061,2.8398352987349109,5,5,2,2,{"$f":"SUMIF(SOLICITUDES!$C$2:$C$1048576,BD!C9296,SOLICITUDES!$I$2:$I$1048576)","v":0},0,{"$f":"SUMIF(SOLICITUDES!$C$2:$C$1048576,BD!C9296,SOLICITUDES!$J$2:$J$1048576)","v":0},0,{"$f":"SUMIF(SOLICITUDES!$C$2:$C$1048576,BD!C9296,SOLICITUDES!$K$2:$K$1048576)","v":0},0]
[null,null,"T9371",15,13200,240,-76.515571555043067,2.8338020139225271,7.5,7.5,3,3,{"$f":"SUMIF(SOLICITUDES!$C$2:$C$1048576,BD!C9301,SOLICITUDES!$I$2:$I$1048576)","v":0},0,{"$f":"SUMIF(SOLICITUDES!$C$2:$C$1048576,BD!C9301,SOLICITUDES!$J$2:$J$1048576)","v":0},0,{"$f":"SUMIF(SOLICITUDES!$C$2:$C$1048576,BD!C9301,SOLICITUDES!$K$2:$K$1048576)","v":0},0]
[null,null,"T23997",5,13200,240,-76.619961975234276,2.9361188834477789,2.5,2.5,1,1,{"$f":"SUMIF(SOLICITUDES!$C$2:$C$1048576,BD!C9312,SOLICITUDES!$I$2:$I$1048576)","v":0},0,{"$f":"SUMIF(SOLICITUDES!$C$2:$C$1048576,BD!C9312,SOLICITUDES!$J$2:$J$1048576)","v":0},0,{"$f":"SUMIF(SOLICITUDES!$C$2:$C$1048576,BD!C9312,SOLICITUDES!$K$2:$K$1048576)","v":0},0]
[null,null,"T26235",10,13200,240,-76.536485205852642,2.8144024246080157,5,5,2,2,{"$f":"SUMIF(SOLICITUDES!$C$2:$C$1048576,BD!C9327,SOLICITUDES!$I$2:$I$1048576)","v":0},0,{"$f":"SUMIF(SOLICITUDES!$C$2:$C$1048576,BD!C9327,SOLICITUDES!$J$2:$J$1048576)","v":0},0,{"$f":"SUMIF(SOLICITUDES!$C$2:$C$1048576,BD!C9327,SOLICITUDES!$K$2:$K$1048576)","v":0},0]
[null,null,"T12039",15,13200,240,-76.500146935473211,2.8856195212966909,7.5,7.5,3,3,{"$f":"SUMIF(SOLICITUDES!$C$2:$C$1048576,BD!C9332,SOLICITUDES!$I$2:$I$1048576)","v":0},0,{"$f":"SUMIF(SOLICITUDES!$C$2:$C$1048576,BD!C9332,SOLICITUDES!$J$2:$J$1048576)","v":0},0,{"$f":"SUMIF(SOLICITUDES!$C$2:$C$1048576,BD!C9332,SOLICITUDES!$K$2:$K$1048576)","v":0},0]
[null,null,"T12383",15,13200,240,-76.481322327229108,2.8940911031984369,7.5,7.5,3,3,{"$f":"SUMIF(SOLICITUDES!$C$2:$C$1048576,BD!C9343,SOLICITUDES!$I$2:$I$1048576)","v":0},0,{"$f":"SUMIF(SOLICITUDES!$C$2:$C$1048576,BD!C9343,SOLICITUDES!$J$2:$J$1048576)","v":0},0,{"$f":"SUMIF(SOLICITUDES!$C$2:$C$1048576,BD!C9343,SOLICITUDES!$K$2:$K$1048576)","v":0},0]
[null,null,"T24054",10,13200,240,-76.498120443576354,2.8342623373737603,5,5,2,2,{"$f":"SUMIF(SOLICITUDES!$C$2:$C$1048576,BD!C9360,SOLICITUDES!$I$2:$I$1048576)","v":0},0,{"$f":"SUMIF(SOLICITUDES!$C$2:$C$1048576,BD!C9360,SOLICITUDES!$J$2:$J$1048576)","v":0},0,{"$f":"SUMIF(SOLICITUDES!$C$2:$C$1048576,BD!C9360,SOLICITUDES!$K$2:$K$1048576)","v":0},0]
[null,null,"T24053",5,13200,240,-76.492854468448584,2.8327462418796299,2.5,2.5,1,1,{"$f":"SUMIF(SOLICITUDES!$C$2:$C$1048576,BD!C9370,SOLICITUDES!$I$2:$I$1048576)","v":0},0,{"$f":"SUMIF(SOLICITUDES!$C$2:$C$1048576,BD!C9370,SOLICITUDES!$J$2:$J$1048576)","v":0},0,{"$f":"SUMIF(SOLICITUDES!$C$2:$C$1048576,BD!C9370,SOLICITUDES!$K$2:$K$1048576)","v":0},0]
[null,null,"T12386",30,13200,208,-76.482487999802629,2.909755038979279,15,15,6,6,{"$f":"SUMIF(SOLICITUDES!$C$2:$C$1048576,BD!C9375,SOLICITUDES!$I$2:$I$1048576)","v":0},0,{"$f":"SUMIF(SOLICITUDES!$C$2:$C$1048576,BD!C9375,SOLICITUDES!$J$2:$J$1048576)","v":0},0,{"$f":"SUMIF(SOLICITUDES!$C$2:$C$1048576,BD!C9375,SOLICITUDES!$K$2:$K$1048576)","v":0},0]
[null,null,"T23928",10,13200,240,-76.465625061366296,2.8905904272112011,5,5,2,2,{"$f":"SUMIF(SOLICITUDES!$C$2:$C$1048576,BD!C9390,SOLICITUDES!$I$2:$I$1048576)","v":0},0,{"$f":"SUMIF(SOLICITUDES!$C$2:$C$1048576,BD!C9390,SOLICITUDES!$J$2:$J$1048576)","v":0},0,{"$f":"SUMIF(SOLICITUDES!$C$2:$C$1048576,BD!C9390,SOLICITUDES!$K$2:$K$1048576)","v":0},0]
[null,null,"T23925",5,13200,240,-76.452188758699606,2.8732593798673998,2.5,2.5,1,1,{"$f":"SUMIF(SOLICITUDES!$C$2:$C$1048576,BD!C9391,SOLICITUDES!$I$2:$I$1048576)","v":0},0,{"$f":"SUMIF(SOLICITUDES!$C$2:$C$1048576,BD!C9391,SOLICITUDES!$J$2:$J$1048576)","v":0},0,{"$f":"SUMIF(SOLICITUDES!$C$2:$C$1048576,BD!C9391,SOLICITUDES!$K$2:$K$1048576)","v":0},0]
[null,null,"T15641",25,13200,240,-76.459302252000555,2.8410161903573203,12.5,12.5,5,5,{"$f":"SUMIF(SOLICITUDES!$C$2:$C$1048576,BD!C9406,SOLICITUDES!$I$2:$I$1048576)","v":0},0,{"$f":"SUMIF(SOLICITUDES!$C$2:$C$1048576,BD!C9406,SOLICITUDES!$J$2:$J$1048576)","v":0},0,{"$f":"SUMIF(SOLICITUDES!$C$2:$C$1048576,BD!C9406,SOLICITUDES!$K$2:$K$1048576)","v":0},0]
[null,null,"T24213",10,13200,240,-76.44817625577322,2.8495984520815685,5,{"$f":"D9411*0.5-M9411","v":5},2,2,{"$f":"SUMIF(SOLICITUDES!$C$2:$C$1048576,BD!C9411,SOLICITUDES!$I$2:$I$1048576)","v":0},{"$f":"M9411/D9411","v":0},{"$f":"SUMIF(SOLICITUDES!$C$2:$C$1048576,BD!C9411,SOLICITUDES!$J$2:$J$1048576)","v":0},0,{"$f":"SUMIF(SOLICITUDES!$C$2:$C$1048576,BD!C9411,SOLICITUDES!$K$2:$K$1048576)","v":0},0]
[null,null,"T23944",5,13200,240,-76.443051738514441,2.8945831370746311,2.5,2.5,1,1,{"$f":"SUMIF(SOLICITUDES!$C$2:$C$1048576,BD!C9422,SOLICITUDES!$I$2:$I$1048576)","v":0},0,{"$f":"SUMIF(SOLICITUDES!$C$2:$C$1048576,BD!C9422,SOLICITUDES!$J$2:$J$1048576)","v":0},0,{"$f":"SUMIF(SOLICITUDES!$C$2:$C$1048576,BD!C9422,SOLICITUDES!$K$2:$K$1048576)","v":0},0]
[null,null,"T29130",10,13200,240,-76.455375241717178,2.8981787213993297,5,5,2,2,{"$f":"SUMIF(SOLICITUDES!$C$2:$C$1048576,BD!C9437,SOLICITUDES!$I$2:$I$1048576)","v":0},0,{"$f":"SUMIF(SOLICITUDES!$C$2:$C$1048576,BD!C9437,SOLICITUDES!$J$2:$J$1048576)","v":0},0,{"$f":"SUMIF(SOLICITUDES!$C$2:$C$1048576,BD!C9437,SOLICITUDES!$K$2:$K$1048576)","v":0},0]
[null,null,"T24173",5,13200,240,-76.440422856808979,2.8280015658036119,2.5,2.5,1,1,{"$f":"SUMIF(SOLICITUDES!$C$2:$C$1048576,BD!C9444,SOLICITUDES!$I$2:$I$1048576)","v":0},0,{"$f":"SUMIF(SOLICITUDES!$C$2:$C$1048576,BD!C9444,SOLICITUDES!$J$2:$J$1048576)","v":0},0,{"$f":"SUMIF(SOLICITUDES!$C$2:$C$1048576,BD!C9444,SOLICITUDES!$K$2:$K$1048576)","v":0},0]
[null,null,"T24178",15,13200,240,-76.447052073003817,2.8243114547781629,7.5,7.5,3,3,{"$f":"SUMIF(SOLICITUDES!$C$2:$C$1048576,BD!C9454,SOLICITUDES!$I$2:$I$1048576)","v":0},0,{"$f":"SUMIF(SOLICITUDES!$C$2:$C$1048576,BD!C9454,SOLICITUDES!$J$2:$J$1048576)","v":0},0,{"$f":"SUMIF(SOLICITUDES!$C$2:$C$1048576,BD!C9454,SOLICITUDES!$K$2:$K$1048576)","v":0},0]
[null,null,"T24278",5,13200,240,-76.409925588722174,2.8463540097418281,2.5,2.5,1,1,{"$f":"SUMIF(SOLICITUDES!$C$2:$C$1048576,BD!C9469,SOLICITUDES!$I$2:$I$1048576)","v":0},0,{"$f":"SUMIF(SOLICITUDES!$C$2:$C$1048576,BD!C9469,SOLICITUDES!$J$2:$J$1048576)","v":0},0,{"$f":"SUMIF(SOLICITUDES!$C$2:$C$1048576,BD!C9469,SOLICITUDES!$K$2:$K$1048576)","v":0},0]
[null,null,"43TR2",15,13200,208,-76.567774770040842,2.8795410854497803,7.5,7.5,3,3,{"$f":"SUMIF(SOLICITUDES!$C$2:$C$1048576,BD!C9480,SOLICITUDES!$I$2:$I$1048576)","v":0},0,{"$f":"SUMIF(SOLICITUDES!$C$2:$C$1048576,BD!C9480,SOLICITUDES!$J$2:$J$1048576)","v":0},0,{"$f":"SUMIF(SOLICITUDES!$C$2:$C$1048576,BD!C9480,SOLICITUDES!$K$2:$K$1048576)","v":0},0]
[null,null,"T13412",25,13200,240,-76.165562323031267,2.2422609511586638,12.5,12.5,5,5,{"$f":"SUMIF(SOLICITUDES!$C$2:$C$1048576,BD!C9485,SOLICITUDES!$I$2:$I$1048576)","v":0},0,{"$f":"SUMIF(SOLICITUDES!$C$2:$C$1048576,BD!C9485,SOLICITUDES!$J$2:$J$1048576)","v":0},0,{"$f":"SUMIF(SOLICITUDES!$C$2:$C$1048576,BD!C9485,SOLICITUDES!$K$2:$K$1048576)","v":0},0]
[null,null,"T29985",15,13200,240,-76.167296204933521,2.2430097871090595,7.5,7.5,3,3,{"$f":"SUMIF(SOLICITUDES!$C$2:$C$1048576,BD!C9496,SOLICITUDES!$I$2:$I$1048576)","v":0},0,{"$f":"SUMIF(SOLICITUDES!$C$2:$C$1048576,BD!C9496,SOLICITUDES!$J$2:$J$1048576)","v":0},0,{"$f":"SUMIF(SOLICITUDES!$C$2:$C$1048576,BD!C9496,SOLICITUDES!$K$2:$K$1048576)","v":0},0]
[null,null,"T14215",15,13200,240,-76.191629047378626,2.2586982008751293,7.5,7.5,3,3,{"$f":"SUMIF(SOLICITUDES!$C$2:$C$1048576,BD!C9511,SOLICITUDES!$I$2:$I$1048576)","v":0},0,{"$f":"SUMIF(SOLICITUDES!$C$2:$C$1048576,BD!C9511,SOLICITUDES!$J$2:$J$1048576)","v":0},0,{"$f":"SUMIF(SOLICITUDES!$C$2:$C$1048576,BD!C9511,SOLICITUDES!$K$2:$K$1048576)","v":0},0]
[null,null,"T14225",37.5,13200,240,-76.184183481922403,2.27764655781476,18.75,18.75,7.5,7.5,{"$f":"SUMIF(SOLICITUDES!$C$2:$C$1048576,BD!C9516,SOLICITUDES!$I$2:$I$1048576)","v":0},0,{"$f":"SUMIF(SOLICITUDES!$C$2:$C$1048576,BD!C9516,SOLICITUDES!$J$2:$J$1048576)","v":0},0,{"$f":"SUMIF(SOLICITUDES!$C$2:$C$1048576,BD!C9516,SOLICITUDES!$K$2:$K$1048576)","v":0},0]
[null,null,"T29962",5,13200,240,-76.168585246335795,2.2918623265161493,2.5,2.5,1,1,{"$f":"SUMIF(SOLICITUDES!$C$2:$C$1048576,BD!C9527,SOLICITUDES!$I$2:$I$1048576)","v":0},0,{"$f":"SUMIF(SOLICITUDES!$C$2:$C$1048576,BD!C9527,SOLICITUDES!$J$2:$J$1048576)","v":0},0,{"$f":"SUMIF(SOLICITUDES!$C$2:$C$1048576,BD!C9527,SOLICITUDES!$K$2:$K$1048576)","v":0},0]
[null,null,"T29964",5,13200,240,-76.180741492094754,2.3016754303658402,2.5,2.5,1,1,{"$f":"SUMIF(SOLICITUDES!$C$2:$C$1048576,BD!C9535,SOLICITUDES!$I$2:$I$1048576)","v":0},0,{"$f":"SUMIF(SOLICITUDES!$C$2:$C$1048576,BD!C9535,SOLICITUDES!$J$2:$J$1048576)","v":0},0,{"$f":"SUMIF(SOLICITUDES!$C$2:$C$1048576,BD!C9535,SOLICITUDES!$K$2:$K$1048576)","v":0},0]
[null,null,"T10620",5,13200,240,-76.421588147890319,2.5124215526645939,2.5,2.5,1,1,{"$f":"SUMIF(SOLICITUDES!$C$2:$C$1048576,BD!C9548,SOLICITUDES!$I$2:$I$1048576)","v":0},0,{"$f":"SUMIF(SOLICITUDES!$C$2:$C$1048576,BD!C9548,SOLICITUDES!$J$2:$J$1048576)","v":0},0,{"$f":"SUMIF(SOLICITUDES!$C$2:$C$1048576,BD!C9548,SOLICITUDES!$K$2:$K$1048576)","v":0},0]
[null,null,"T5706",10,13200,240,-76.427586187182385,2.5105255266985207,5,5,2,2,{"$f":"SUMIF(SOLICITUDES!$C$2:$C$1048576,BD!C9559,SOLICITUDES!$I$2:$I$1048576)","v":0},0,{"$f":"SUMIF(SOLICITUDES!$C$2:$C$1048576,BD!C9559,SOLICITUDES!$J$2:$J$1048576)","v":0},0,{"$f":"SUMIF(SOLICITUDES!$C$2:$C$1048576,BD!C9559,SOLICITUDES!$K$2:$K$1048576)","v":0},0]
[null,null,"T5690",25,13200,240,-76.439935992039892,2.4819016981253292,12.5,12.5,5,5,{"$f":"SUMIF(SOLICITUDES!$C$2:$C$1048576,BD!C9564,SOLICITUDES!$I$2:$I$1048576)","v":0},0,{"$f":"SUMIF(SOLICITUDES!$C$2:$C$1048576,BD!C9564,SOLICITUDES!$J$2:$J$1048576)","v":0},0,{"$f":"SUMIF(SOLICITUDES!$C$2:$C$1048576,BD!C9564,SOLICITUDES!$K$2:$K$1048576)","v":0},0]
[null,null,"T6796",10,13200,240,-76.439584025768809,2.5031615633187472,5,5,2,2,{"$f":"SUMIF(SOLICITUDES!$C$2:$C$1048576,BD!C9575,SOLICITUDES!$I$2:$I$1048576)","v":0},0,{"$f":"SUMIF(SOLICITUDES!$C$2:$C$1048576,BD!C9575,SOLICITUDES!$J$2:$J$1048576)","v":0},0,{"$f":"SUMIF(SOLICITUDES!$C$2:$C$1048576,BD!C9575,SOLICITUDES!$K$2:$K$1048576)","v":0},0]
[null,null,"T6812",10,13200,240,-76.438460311189701,2.4467601112915043,5,5,2,2,{"$f":"SUMIF(SOLICITUDES!$C$2:$C$1048576,BD!C9590,SOLICITUDES!$I$2:$I$1048576)","v":0},0,{"$f":"SUMIF(SOLICITUDES!$C$2:$C$1048576,BD!C9590,SOLICITUDES!$J$2:$J$1048576)","v":0},0,{"$f":"SUMIF(SOLICITUDES!$C$2:$C$1048576,BD!C9590,SOLICITUDES!$K$2:$K$1048576)","v":0},0]
[null,null,"T40366",10,13200,120,-76.466408531089229,2.4540279985413607,5,5,2,2,{"$f":"SUMIF(SOLICITUDES!$C$2:$C$1048576,BD!C9595,SOLICITUDES!$I$2:$I$1048576)","v":0},0,{"$f":"SUMIF(SOLICITUDES!$C$2:$C$1048576,BD!C9595,SOLICITUDES!$J$2:$J$1048576)","v":0},0,{"$f":"SUMIF(SOLICITUDES!$C$2:$C$1048576,BD!C9595,SOLICITUDES!$K$2:$K$1048576)","v":0},0]
[null,null,"T3614",15,13200,240,-76.489758300260391,2.4557934754681576,7.5,7.5,3,3,{"$f":"SUMIF(SOLICITUDES!$C$2:$C$1048576,BD!C9606,SOLICITUDES!$I$2:$I$1048576)","v":0},0,{"$f":"SUMIF(SOLICITUDES!$C$2:$C$1048576,BD!C9606,SOLICITUDES!$J$2:$J$1048576)","v":0},0,{"$f":"SUMIF(SOLICITUDES!$C$2:$C$1048576,BD!C9606,SOLICITUDES!$K$2:$K$1048576)","v":0},0]
[null,null,"T20840",10,13200,240,-76.508222143858504,2.4532591429770774,5,5,2,2,{"$f":"SUMIF(SOLICITUDES!$C$2:$C$1048576,BD!C9621,SOLICITUDES!$I$2:$I$1048576)","v":0},0,{"$f":"SUMIF(SOLICITUDES!$C$2:$C$1048576,BD!C9621,SOLICITUDES!$J$2:$J$1048576)","v":0},0,{"$f":"SUMIF(SOLICITUDES!$C$2:$C$1048576,BD!C9621,SOLICITUDES!$K$2:$K$1048576)","v":0},0]
[null,null,"T30862",10,13200,240,-76.481859740643827,2.4289471025669314,5,5,2,2,{"$f":"SUMIF(SOLICITUDES!$C$2:$C$1048576,BD!C9630,SOLICITUDES!$I$2:$I$1048576)","v":0},0,{"$f":"SUMIF(SOLICITUDES!$C$2:$C$1048576,BD!C9630,SOLICITUDES!$J$2:$J$1048576)","v":0},0,{"$f":"SUMIF(SOLICITUDES!$C$2:$C$1048576,BD!C9630,SOLICITUDES!$K$2:$K$1048576)","v":0},0]
[null,null,"T13822",5,13200,240,-76.475844885407454,2.4458684413248966,2.5,2.5,1,1,{"$f":"SUMIF(SOLICITUDES!$C$2:$C$1048576,BD!C9638,SOLICITUDES!$I$2:$I$1048576)","v":0},0,{"$f":"SUMIF(SOLICITUDES!$C$2:$C$1048576,BD!C9638,SOLICITUDES!$J$2:$J$1048576)","v":0},0,{"$f":"SUMIF(SOLICITUDES!$C$2:$C$1048576,BD!C9638,SOLICITUDES!$K$2:$K$1048576)","v":0},0]
[null,null,"T9855",37.5,13200,240,-76.318339656542264,2.5199879840914341,18.75,18.75,7.5,7.5,{"$f":"SUMIF(SOLICITUDES!$C$2:$C$1048576,BD!C9653,SOLICITUDES!$I$2:$I$1048576)","v":0},0,{"$f":"SUMIF(SOLICITUDES!$C$2:$C$1048576,BD!C9653,SOLICITUDES!$J$2:$J$1048576)","v":0},0,{"$f":"SUMIF(SOLICITUDES!$C$2:$C$1048576,BD!C9653,SOLICITUDES!$K$2:$K$1048576)","v":0},0]
[null,null,"T9070",25,13200,240,-76.337144705227232,2.4954931120515238,12.5,12.5,5,5,{"$f":"SUMIF(SOLICITUDES!$C$2:$C$1048576,BD!C9654,SOLICITUDES!$I$2:$I$1048576)","v":0},0,{"$f":"SUMIF(SOLICITUDES!$C$2:$C$1048576,BD!C9654,SOLICITUDES!$J$2:$J$1048576)","v":0},0,{"$f":"SUMIF(SOLICITUDES!$C$2:$C$1048576,BD!C9654,SOLICITUDES!$K$2:$K$1048576)","v":0},0]
[null,null,"T9865",15,13200,240,-76.306887080849592,2.5318994401033779,7.5,7.5,3,3,{"$f":"SUMIF(SOLICITUDES!$C$2:$C$1048576,BD!C9669,SOLICITUDES!$I$2:$I$1048576)","v":0},0,{"$f":"SUMIF(SOLICITUDES!$C$2:$C$1048576,BD!C9669,SOLICITUDES!$J$2:$J$1048576)","v":0},0,{"$f":"SUMIF(SOLICITUDES!$C$2:$C$1048576,BD!C9669,SOLICITUDES!$K$2:$K$1048576)","v":0},0]
[null,null,"T8228",25,13200,240,-76.34630894470439,2.4583595388698107,12.5,12.5,5,5,{"$f":"SUMIF(SOLICITUDES!$C$2:$C$1048576,BD!C9674,SOLICITUDES!$I$2:$I$1048576)","v":0},0,{"$f":"SUMIF(SOLICITUDES!$C$2:$C$1048576,BD!C9674,SOLICITUDES!$J$2:$J$1048576)","v":0},0,{"$f":"SUMIF(SOLICITUDES!$C$2:$C$1048576,BD!C9674,SOLICITUDES!$K$2:$K$1048576)","v":0},0]
[null,null,"T10649",15,13200,240,-76.28137997052464,2.516511409452082,7.5,7.5,3,3,{"$f":"SUMIF(SOLICITUDES!$C$2:$C$1048576,BD!C9685,SOLICITUDES!$I$2:$I$1048576)","v":0},0,{"$f":"SUMIF(SOLICITUDES!$C$2:$C$1048576,BD!C9685,SOLICITUDES!$J$2:$J$1048576)","v":0},0,{"$f":"SUMIF(SOLICITUDES!$C$2:$C$1048576,BD!C9685,SOLICITUDES!$K$2:$K$1048576)","v":0},0]
[null,null,"T11409",10,13200,240,-76.297253404037576,2.463295920929395,5,5,2,2,{"$f":"SUMIF(SOLICITUDES!$C$2:$C$1048576,BD!C9700,SOLICITUDES!$I$2:$I$1048576)","v":0},0,{"$f":"SUMIF(SOLICITUDES!$C$2:$C$1048576,BD!C9700,SOLICITUDES!$J$2:$J$1048576)","v":0},0,{"$f":"SUMIF(SOLICITUDES!$C$2:$C$1048576,BD!C9700,SOLICITUDES!$K$2:$K$1048576)","v":0},0]
[null,null,"T19257",15,13200,240,-77.245779296473017,2.2767858870161013,7.5,7.5,3,3,{"$f":"SUMIF(SOLICITUDES!$C$2:$C$1048576,BD!C9711,SOLICITUDES!$I$2:$I$1048576)","v":0},0,{"$f":"SUMIF(SOLICITUDES!$C$2:$C$1048576,BD!C9711,SOLICITUDES!$J$2:$J$1048576)","v":0},0,{"$f":"SUMIF(SOLICITUDES!$C$2:$C$1048576,BD!C9711,SOLICITUDES!$K$2:$K$1048576)","v":0},0]
[null,null,"T22291",15,13200,240,-77.247121996321667,2.2637700140951247,7.5,7.5,3,3,{"$f":"SUMIF(SOLICITUDES!$C$2:$C$1048576,BD!C9721,SOLICITUDES!$I$2:$I$1048576)","v":0},0,{"$f":"SUMIF(SOLICITUDES!$C$2:$C$1048576,BD!C9721,SOLICITUDES!$J$2:$J$1048576)","v":0},0,{"$f":"SUMIF(SOLICITUDES!$C$2:$C$1048576,BD!C9721,SOLICITUDES!$K$2:$K$1048576)","v":0},0]
[null,null,"T17546",25,13200,240,-77.225611842961754,2.3307634903805976,{"$f":"D9732*0.5","v":12.5},12.5,{"$f":"0.2*D9732","v":5},{"$f":"0.2*D9732","v":5},{"$f":"SUMIF(SOLICITUDES!$C$2:$C$1048576,BD!C9732,SOLICITUDES!$I$2:$I$1048576)","v":0},0,{"$f":"SUMIF(SOLICITUDES!$C$2:$C$1048576,BD!C9732,SOLICITUDES!$J$2:$J$1048576)","v":0},{"$f":"O9732/(2*K9732)","v":0},{"$f":"SUMIF(SOLICITUDES!$C$2:$C$1048576,BD!C9732,SOLICITUDES!$K$2:$K$1048576)","v":0},{"$f":"Q9732/(2*L9732)","v":0}]
[null,null,"T25131",5,13200,240,-77.273493360531148,2.322809093709862,2.5,2.5,1,1,{"$f":"SUMIF(SOLICITUDES!$C$2:$C$1048576,BD!C9743,SOLICITUDES!$I$2:$I$1048576)","v":0},0,{"$f":"SUMIF(SOLICITUDES!$C$2:$C$1048576,BD!C9743,SOLICITUDES!$J$2:$J$1048576)","v":0},0,{"$f":"SUMIF(SOLICITUDES!$C$2:$C$1048576,BD!C9743,SOLICITUDES!$K$2:$K$1048576)","v":0},0]
[null,null,"T17570",75,13200,240,-77.235439980719377,2.3329397941026535,37.5,37.5,15,15,{"$f":"SUMIF(SOLICITUDES!$C$2:$C$1048576,BD!C9748,SOLICITUDES!$I$2:$I$1048576)","v":0},0,{"$f":"SUMIF(SOLICITUDES!$C$2:$C$1048576,BD!C9748,SOLICITUDES!$J$2:$J$1048576)","v":0},0,{"$f":"SUMIF(SOLICITUDES!$C$2:$C$1048576,BD!C9748,SOLICITUDES!$K$2:$K$1048576)","v":0},0]
[null,null,"T17234",25,13200,240,-77.238885002000302,2.3477707696718357,12.5,12.5,5,5,{"$f":"SUMIF(SOLICITUDES!$C$2:$C$1048576,BD!C9763,SOLICITUDES!$I$2:$I$1048576)","v":0},0,{"$f":"SUMIF(SOLICITUDES!$C$2:$C$1048576,BD!C9763,SOLICITUDES!$J$2:$J$1048576)","v":0},0,{"$f":"SUMIF(SOLICITUDES!$C$2:$C$1048576,BD!C9763,SOLICITUDES!$K$2:$K$1048576)","v":0},0]
[null,null,"T29827",10,13200,240,-77.219177031794828,2.3255413290956577,5,5,2,2,{"$f":"SUMIF(SOLICITUDES!$C$2:$C$1048576,BD!C9774,SOLICITUDES!$I$2:$I$1048576)","v":0},0,{"$f":"SUMIF(SOLICITUDES!$C$2:$C$1048576,BD!C9774,SOLICITUDES!$J$2:$J$1048576)","v":0},0,{"$f":"SUMIF(SOLICITUDES!$C$2:$C$1048576,BD!C9774,SOLICITUDES!$K$2:$K$1048576)","v":0},0]
[null,null,"T17219",15,13200,240,-77.240198911080725,2.3592920257596068,7.5,7.5,3,3,{"$f":"SUMIF(SOLICITUDES!$C$2:$C$1048576,BD!C9779,SOLICITUDES!$I$2:$I$1048576)","v":0},0,{"$f":"SUMIF(SOLICITUDES!$C$2:$C$1048576,BD!C9779,SOLICITUDES!$J$2:$J$1048576)","v":0},0,{"$f":"SUMIF(SOLICITUDES!$C$2:$C$1048576,BD!C9779,SOLICITUDES!$K$2:$K$1048576)","v":0},0]
[null,null,"T17584",5,13200,240,-77.250063953917163,2.3778662233787609,2.5,2.5,1,1,{"$f":"SUMIF(SOLICITUDES!$C$2:$C$1048576,BD!C9790,SOLICITUDES!$I$2:$I$1048576)","v":0},0,{"$f":"SUMIF(SOLICITUDES!$C$2:$C$1048576,BD!C9790,SOLICITUDES!$J$2:$J$1048576)","v":0},0,{"$f":"SUMIF(SOLICITUDES!$C$2:$C$1048576,BD!C9790,SOLICITUDES!$K$2:$K$1048576)","v":0},0]
[null,null,"T25090",5,13200,240,-77.242900876919407,2.395414967014565,2.5,{"$f":"D9795*0.5-M9795","v":2.5},1,1,{"$f":"SUMIF(SOLICITUDES!$C$2:$C$1048576,BD!C9795,SOLICITUDES!$I$2:$I$1048576)","v":0},{"$f":"M9795/D9795","v":0},{"$f":"SUMIF(SOLICITUDES!$C$2:$C$1048576,BD!C9795,SOLICITUDES!$J$2:$J$1048576)","v":0},0,{"$f":"SUMIF(SOLICITUDES!$C$2:$C$1048576,BD!C9795,SOLICITUDES!$K$2:$K$1048576)","v":0},0]
[null,null,"T17057",15,13200,240,-77.22642648151735,2.2841329291216756,7.5,7.5,3,3,{"$f":"SUMIF(SOLICITUDES!$C$2:$C$1048576,BD!C9812,SOLICITUDES!$I$2:$I$1048576)","v":0},0,{"$f":"SUMIF(SOLICITUDES!$C$2:$C$1048576,BD!C9812,SOLICITUDES!$J$2:$J$1048576)","v":0},0,{"$f":"SUMIF(SOLICITUDES!$C$2:$C$1048576,BD!C9812,SOLICITUDES!$K$2:$K$1048576)","v":0},0]
[null,null,"T17359",15,13200,240,-76.360355293551805,1.5204691771701688,7.5,7.5,3,3,{"$f":"SUMIF(SOLICITUDES!$C$2:$C$1048576,BD!C9822,SOLICITUDES!$I$2:$I$1048576)","v":0},0,{"$f":"SUMIF(SOLICITUDES!$C$2:$C$1048576,BD!C9822,SOLICITUDES!$J$2:$J$1048576)","v":0},0,{"$f":"SUMIF(SOLICITUDES!$C$2:$C$1048576,BD!C9822,SOLICITUDES!$K$2:$K$1048576)","v":0},0]
[null,null,"T17358",25,13200,240,-76.332516662950553,1.5246102962575656,12.5,12.5,5,5,{"$f":"SUMIF(SOLICITUDES!$C$2:$C$1048576,BD!C9827,SOLICITUDES!$I$2:$I$1048576)","v":0},0,{"$f":"SUMIF(SOLICITUDES!$C$2:$C$1048576,BD!C9827,SOLICITUDES!$J$2:$J$1048576)","v":0},0,{"$f":"SUMIF(SOLICITUDES!$C$2:$C$1048576,BD!C9827,SOLICITUDES!$K$2:$K$1048576)","v":0},0]
[null,null,"T13639",10,13200,240,-76.488010136876568,1.4231877348391748,5,5,2,2,{"$f":"SUMIF(SOLICITUDES!$C$2:$C$1048576,BD!C9838,SOLICITUDES!$I$2:$I$1048576)","v":0},0,{"$f":"SUMIF(SOLICITUDES!$C$2:$C$1048576,BD!C9838,SOLICITUDES!$J$2:$J$1048576)","v":0},0,{"$f":"SUMIF(SOLICITUDES!$C$2:$C$1048576,BD!C9838,SOLICITUDES!$K$2:$K$1048576)","v":0},0]
[null,null,"T13637",10,13200,240,-76.54707886858607,1.3259676305598624,5,5,2,2,{"$f":"SUMIF(SOLICITUDES!$C$2:$C$1048576,BD!C9853,SOLICITUDES!$I$2:$I$1048576)","v":0},0,{"$f":"SUMIF(SOLICITUDES!$C$2:$C$1048576,BD!C9853,SOLICITUDES!$J$2:$J$1048576)","v":0},0,{"$f":"SUMIF(SOLICITUDES!$C$2:$C$1048576,BD!C9853,SOLICITUDES!$K$2:$K$1048576)","v":0},0]
[null,null,"T20725",10,13200,240,-76.502046293706087,1.2965400841331665,5,5,2,2,{"$f":"SUMIF(SOLICITUDES!$C$2:$C$1048576,BD!C9858,SOLICITUDES!$I$2:$I$1048576)","v":0},0,{"$f":"SUMIF(SOLICITUDES!$C$2:$C$1048576,BD!C9858,SOLICITUDES!$J$2:$J$1048576)","v":0},0,{"$f":"SUMIF(SOLICITUDES!$C$2:$C$1048576,BD!C9858,SOLICITUDES!$K$2:$K$1048576)","v":0},0]
[null,null,"T20724",10,13200,240,-76.487616326263449,1.2916152291811298,5,5,2,2,{"$f":"SUMIF(SOLICITUDES!$C$2:$C$1048576,BD!C9869,SOLICITUDES!$I$2:$I$1048576)","v":0},0,{"$f":"SUMIF(SOLICITUDES!$C$2:$C$1048576,BD!C9869,SOLICITUDES!$J$2:$J$1048576)","v":0},0,{"$f":"SUMIF(SOLICITUDES!$C$2:$C$1048576,BD!C9869,SOLICITUDES!$K$2:$K$1048576)","v":0},0]
[null,null,"T26187",5,13200,240,-76.624084272938717,1.4967126913897588,2.5,2.5,1,1,{"$f":"SUMIF(SOLICITUDES!$C$2:$C$1048576,BD!C9884,SOLICITUDES!$I$2:$I$1048576)","v":0},0,{"$f":"SUMIF(SOLICITUDES!$C$2:$C$1048576,BD!C9884,SOLICITUDES!$J$2:$J$1048576)","v":0},0,{"$f":"SUMIF(SOLICITUDES!$C$2:$C$1048576,BD!C9884,SOLICITUDES!$K$2:$K$1048576)","v":0},0]
[null,null,"T16224",0.5,13200,240,-76.558471718765063,1.2391186173199353,0.25,0.25,0.1,0.1,{"$f":"SUMIF(SOLICITUDES!$C$2:$C$1048576,BD!C9889,SOLICITUDES!$I$2:$I$1048576)","v":0},0,{"$f":"SUMIF(SOLICITUDES!$C$2:$C$1048576,BD!C9889,SOLICITUDES!$J$2:$J$1048576)","v":0},0,{"$f":"SUMIF(SOLICITUDES!$C$2:$C$1048576,BD!C9889,SOLICITUDES!$K$2:$K$1048576)","v":0},0]
[null,null,"T26192",5,13200,240,-76.577752896411411,1.5117413552315822,2.5,2.5,1,1,{"$f":"SUMIF(SOLICITUDES!$C$2:$C$1048576,BD!C9896,SOLICITUDES!$I$2:$I$1048576)","v":0},0,{"$f":"SUMIF(SOLICITUDES!$C$2:$C$1048576,BD!C9896,SOLICITUDES!$J$2:$J$1048576)","v":0},0,{"$f":"SUMIF(SOLICITUDES!$C$2:$C$1048576,BD!C9896,SOLICITUDES!$K$2:$K$1048576)","v":0},0]
[null,null,"T22347",25,13200,240,-77.096205077934158,2.2577708213701535,12.5,12.5,5,5,{"$f":"SUMIF(SOLICITUDES!$C$2:$C$1048576,BD!C9916,SOLICITUDES!$I$2:$I$1048576)","v":0},0,{"$f":"SUMIF(SOLICITUDES!$C$2:$C$1048576,BD!C9916,SOLICITUDES!$J$2:$J$1048576)","v":0},0,{"$f":"SUMIF(SOLICITUDES!$C$2:$C$1048576,BD!C9916,SOLICITUDES!$K$2:$K$1048576)","v":0},0]
[null,null,"T22346",25,13200,240,-77.092133068272375,2.2537528088092444,12.5,12.5,5,5,{"$f":"SUMIF(SOLICITUDES!$C$2:$C$1048576,BD!C9917,SOLICITUDES!$I$2:$I$1048576)","v":0},0,{"$f":"SUMIF(SOLICITUDES!$C$2:$C$1048576,BD!C9917,SOLICITUDES!$J$2:$J$1048576)","v":0},0,{"$f":"SUMIF(SOLICITUDES!$C$2:$C$1048576,BD!C9917,SOLICITUDES!$K$2:$K$1048576)","v":0},0]
[null,null,"T19541",10,13200,240,-77.066461308892329,2.2647766200344654,5,5,2,2,{"$f":"SUMIF(SOLICITUDES!$C$2:$C$1048576,BD!C9932,SOLICITUDES!$I$2:$I$1048576)","v":0},0,{"$f":"SUMIF(SOLICITUDES!$C$2:$C$1048576,BD!C9932,SOLICITUDES!$J$2:$J$1048576)","v":0},0,{"$f":"SUMIF(SOLICITUDES!$C$2:$C$1048576,BD!C9932,SOLICITUDES!$K$2:$K$1048576)","v":0},0]
[null,null,"T22612",25,13200,240,-77.120980907942183,2.1817933146018706,12.5,12.5,5,5,{"$f":"SUMIF(SOLICITUDES!$C$2:$C$1048576,BD!C9937,SOLICITUDES!$I$2:$I$1048576)","v":0},0,{"$f":"SUMIF(SOLICITUDES!$C$2:$C$1048576,BD!C9937,SOLICITUDES!$J$2:$J$1048576)","v":0},0,{"$f":"SUMIF(SOLICITUDES!$C$2:$C$1048576,BD!C9937,SOLICITUDES!$K$2:$K$1048576)","v":0},0]
[null,null,"T22610",25,13200,240,-77.120714138558768,2.1835447373878876,12.5,12.5,5,5,{"$f":"SUMIF(SOLICITUDES!$C$2:$C$1048576,BD!C9948,SOLICITUDES!$I$2:$I$1048576)","v":0},0,{"$f":"SUMIF(SOLICITUDES!$C$2:$C$1048576,BD!C9948,SOLICITUDES!$J$2:$J$1048576)","v":0},0,{"$f":"SUMIF(SOLICITUDES!$C$2:$C$1048576,BD!C9948,SOLICITUDES!$K$2:$K$1048576)","v":0},0]
[null,null,"T22363",15,13200,240,-77.132780130075062,2.2504648265076832,7.5,7.5,3,3,{"$f":"SUMIF(SOLICITUDES!$C$2:$C$1048576,BD!C9963,SOLICITUDES!$I$2:$I$1048576)","v":0},0,{"$f":"SUMIF(SOLICITUDES!$C$2:$C$1048576,BD!C9963,SOLICITUDES!$J$2:$J$1048576)","v":0},0,{"$f":"SUMIF(SOLICITUDES!$C$2:$C$1048576,BD!C9963,SOLICITUDES!$K$2:$K$1048576)","v":0},0]
[null,null,"T22393",15,13200,240,-77.130935550081944,2.152986027830059,7.5,7.5,3,3,{"$f":"SUMIF(SOLICITUDES!$C$2:$C$1048576,BD!C9968,SOLICITUDES!$I$2:$I$1048576)","v":0},0,{"$f":"SUMIF(SOLICITUDES!$C$2:$C$1048576,BD!C9968,SOLICITUDES!$J$2:$J$1048576)","v":0},0,{"$f":"SUMIF(SOLICITUDES!$C$2:$C$1048576,BD!C9968,SOLICITUDES!$K$2:$K$1048576)","v":0},0]
[null,null,"T43854",10,13200,240,-77.077594882966352,2.3006903416396756,5,5,2,2,{"$f":"SUMIF(SOLICITUDES!$C$2:$C$1048576,BD!C9979,SOLICITUDES!$I$2:$I$1048576)","v":0},0,{"$f":"SUMIF(SOLICITUDES!$C$2:$C$1048576,BD!C9979,SOLICITUDES!$J$2:$J$1048576)","v":0},0,{"$f":"SUMIF(SOLICITUDES!$C$2:$C$1048576,BD!C9979,SOLICITUDES!$K$2:$K$1048576)","v":0},0]
[null,null,"T19518",15,13200,240,-77.075687687611435,2.2994906532496753,7.5,{"$f":"D9987*0.5-M9987","v":7.5},3,3,{"$f":"SUMIF(SOLICITUDES!$C$2:$C$1048576,BD!C9987,SOLICITUDES!$I$2:$I$1048576)","v":0},{"$f":"M9987/D9987","v":0},{"$f":"SUMIF(SOLICITUDES!$C$2:$C$1048576,BD!C9987,SOLICITUDES!$J$2:$J$1048576)","v":0},0,{"$f":"SUMIF(SOLICITUDES!$C$2:$C$1048576,BD!C9987,SOLICITUDES!$K$2:$K$1048576)","v":0},0]
[null,null,"T21565",15,13200,240,-77.131893217674659,2.1557363958859672,7.5,7.5,3,3,{"$f":"SUMIF(SOLICITUDES!$C$2:$C$1048576,BD!C10006,SOLICITUDES!$I$2:$I$1048576)","v":0},0,{"$f":"SUMIF(SOLICITUDES!$C$2:$C$1048576,BD!C10006,SOLICITUDES!$J$2:$J$1048576)","v":0},0,{"$f":"SUMIF(SOLICITUDES!$C$2:$C$1048576,BD!C10006,SOLICITUDES!$K$2:$K$1048576)","v":0},0]
[null,null,"T19563",10,13200,240,-77.022657662720306,2.2868187039365484,5,5,2,2,{"$f":"SUMIF(SOLICITUDES!$C$2:$C$1048576,BD!C10011,SOLICITUDES!$I$2:$I$1048576)","v":0},0,{"$f":"SUMIF(SOLICITUDES!$C$2:$C$1048576,BD!C10011,SOLICITUDES!$J$2:$J$1048576)","v":0},0,{"$f":"SUMIF(SOLICITUDES!$C$2:$C$1048576,BD!C10011,SOLICITUDES!$K$2:$K$1048576)","v":0},0]
[null,null,"T22350",25,13200,240,-77.059344054419427,2.1526536810390562,12.5,12.5,5,5,{"$f":"SUMIF(SOLICITUDES!$C$2:$C$1048576,BD!C10026,SOLICITUDES!$I$2:$I$1048576)","v":0},0,{"$f":"SUMIF(SOLICITUDES!$C$2:$C$1048576,BD!C10026,SOLICITUDES!$J$2:$J$1048576)","v":0},0,{"$f":"SUMIF(SOLICITUDES!$C$2:$C$1048576,BD!C10026,SOLICITUDES!$K$2:$K$1048576)","v":0},0]
[null,null,"T21289",5,13200,240,-76.918944075841125,2.2289570088118116,2.5,2.5,1,1,{"$f":"SUMIF(SOLICITUDES!$C$2:$C$1048576,BD!C10037,SOLICITUDES!$I$2:$I$1048576)","v":0},0,{"$f":"SUMIF(SOLICITUDES!$C$2:$C$1048576,BD!C10037,SOLICITUDES!$J$2:$J$1048576)","v":0},0,{"$f":"SUMIF(SOLICITUDES!$C$2:$C$1048576,BD!C10037,SOLICITUDES!$K$2:$K$1048576)","v":0},0]
[null,null,"T21293",10,13200,240,-76.934755996671441,2.2505104045592339,5,5,2,2,{"$f":"SUMIF(SOLICITUDES!$C$2:$C$1048576,BD!C10042,SOLICITUDES!$I$2:$I$1048576)","v":0},0,{"$f":"SUMIF(SOLICITUDES!$C$2:$C$1048576,BD!C10042,SOLICITUDES!$J$2:$J$1048576)","v":0},0,{"$f":"SUMIF(SOLICITUDES!$C$2:$C$1048576,BD!C10042,SOLICITUDES!$K$2:$K$1048576)","v":0},0]
[null,null,"T21297",5,13200,240,-76.948142884178878,2.2460528934645416,2.5,2.5,1,1,{"$f":"SUMIF(SOLICITUDES!$C$2:$C$1048576,BD!C10053,SOLICITUDES!$I$2:$I$1048576)","v":0},0,{"$f":"SUMIF(SOLICITUDES!$C$2:$C$1048576,BD!C10053,SOLICITUDES!$J$2:$J$1048576)","v":0},0,{"$f":"SUMIF(SOLICITUDES!$C$2:$C$1048576,BD!C10053,SOLICITUDES!$K$2:$K$1048576)","v":0},0]
[null,null,"T15386",37.5,13200,220,-76.61105123909077,2.6149091744788437,18.75,18.75,7.5,7.5,{"$f":"SUMIF(SOLICITUDES!$C$2:$C$1048576,BD!C10058,SOLICITUDES!$I$2:$I$1048576)","v":0},0,{"$f":"SUMIF(SOLICITUDES!$C$2:$C$1048576,BD!C10058,SOLICITUDES!$J$2:$J$1048576)","v":0},0,{"$f":"SUMIF(SOLICITUDES!$C$2:$C$1048576,BD!C10058,SOLICITUDES!$K$2:$K$1048576)","v":0},0]
[null,null,"T8114",15,13200,240,-76.590301911748952,2.6264131398786161,7.5,7.5,3,3,{"$f":"SUMIF(SOLICITUDES!$C$2:$C$1048576,BD!C10073,SOLICITUDES!$I$2:$I$1048576)","v":0},0,{"$f":"SUMIF(SOLICITUDES!$C$2:$C$1048576,BD!C10073,SOLICITUDES!$J$2:$J$1048576)","v":0},0,{"$f":"SUMIF(SOLICITUDES!$C$2:$C$1048576,BD!C10073,SOLICITUDES!$K$2:$K$1048576)","v":0},0]
[null,null,"T8090",15,13200,240,-76.5937903683662,2.6278523943421175,7.5,7.5,3,3,{"$f":"SUMIF(SOLICITUDES!$C$2:$C$1048576,BD!C10082,SOLICITUDES!$I$2:$I$1048576)","v":0},0,{"$f":"SUMIF(SOLICITUDES!$C$2:$C$1048576,BD!C10082,SOLICITUDES!$J$2:$J$1048576)","v":0},0,{"$f":"SUMIF(SOLICITUDES!$C$2:$C$1048576,BD!C10082,SOLICITUDES!$K$2:$K$1048576)","v":0},0]
[null,null,"T8105",15,13200,240,-76.567500098605862,2.6426725205141697,7.5,7.5,3,3,{"$f":"SUMIF(SOLICITUDES!$C$2:$C$1048576,BD!C10090,SOLICITUDES!$I$2:$I$1048576)","v":0},0,{"$f":"SUMIF(SOLICITUDES!$C$2:$C$1048576,BD!C10090,SOLICITUDES!$J$2:$J$1048576)","v":0},0,{"$f":"SUMIF(SOLICITUDES!$C$2:$C$1048576,BD!C10090,SOLICITUDES!$K$2:$K$1048576)","v":0},0]
[null,null,"T6079",37.5,13200,240,-76.546464432772794,2.5854116712792523,18.75,18.75,7.5,7.5,{"$f":"SUMIF(SOLICITUDES!$C$2:$C$1048576,BD!C10105,SOLICITUDES!$I$2:$I$1048576)","v":0},0,{"$f":"SUMIF(SOLICITUDES!$C$2:$C$1048576,BD!C10105,SOLICITUDES!$J$2:$J$1048576)","v":0},0,{"$f":"SUMIF(SOLICITUDES!$C$2:$C$1048576,BD!C10105,SOLICITUDES!$K$2:$K$1048576)","v":0},0]
[null,null,"T6071",30,13200,208,-76.547145029056466,2.5919682412390257,{"$f":"D10116*0.5","v":15},15,{"$f":"0.2*D10116","v":6},{"$f":"0.2*D10116","v":6},{"$f":"SUMIF(SOLICITUDES!$C$2:$C$1048576,BD!C10116,SOLICITUDES!$I$2:$I$1048576)","v":0},0,{"$f":"SUMIF(SOLICITUDES!$C$2:$C$1048576,BD!C10116,SOLICITUDES!$J$2:$J$1048576)","v":0},{"$f":"O10116/(2*K10116)","v":0},{"$f":"SUMIF(SOLICITUDES!$C$2:$C$1048576,BD!C10116,SOLICITUDES!$K$2:$K$1048576)","v":0},{"$f":"Q10116/(2*L10116)","v":0}]
[null,null,"T40012",75,13200,214,-76.551927557237903,2.5868317728042296,37.5,37.5,15,15,{"$f":"SUMIF(SOLICITUDES!$C$2:$C$1048576,BD!C10121,SOLICITUDES!$I$2:$I$1048576)","v":0},0,{"$f":"SUMIF(SOLICITUDES!$C$2:$C$1048576,BD!C10121,SOLICITUDES!$J$2:$J$1048576)","v":0},0,{"$f":"SUMIF(SOLICITUDES!$C$2:$C$1048576,BD!C10121,SOLICITUDES!$K$2:$K$1048576)","v":0},0]
[null,null,"T17541",10,13200,240,-76.657699409988879,2.6662236163361595,5,5,2,2,{"$f":"SUMIF(SOLICITUDES!$C$2:$C$1048576,BD!C10132,SOLICITUDES!$I$2:$I$1048576)","v":0},0,{"$f":"SUMIF(SOLICITUDES!$C$2:$C$1048576,BD!C10132,SOLICITUDES!$J$2:$J$1048576)","v":0},0,{"$f":"SUMIF(SOLICITUDES!$C$2:$C$1048576,BD!C10132,SOLICITUDES!$K$2:$K$1048576)","v":0},0]
[null,null,"T21885",5,13200,240,-76.654035925318382,2.6962073035938841,2.5,2.5,1,1,{"$f":"SUMIF(SOLICITUDES!$C$2:$C$1048576,BD!C10147,SOLICITUDES!$I$2:$I$1048576)","v":0},0,{"$f":"SUMIF(SOLICITUDES!$C$2:$C$1048576,BD!C10147,SOLICITUDES!$J$2:$J$1048576)","v":0},0,{"$f":"SUMIF(SOLICITUDES!$C$2:$C$1048576,BD!C10147,SOLICITUDES!$K$2:$K$1048576)","v":0},0]
[null,null,"T21886",5,13200,240,-76.654600668832799,2.6990206540916617,2.5,2.5,1,1,{"$f":"SUMIF(SOLICITUDES!$C$2:$C$1048576,BD!C10152,SOLICITUDES!$I$2:$I$1048576)","v":0},0,{"$f":"SUMIF(SOLICITUDES!$C$2:$C$1048576,BD!C10152,SOLICITUDES!$J$2:$J$1048576)","v":0},0,{"$f":"SUMIF(SOLICITUDES!$C$2:$C$1048576,BD!C10152,SOLICITUDES!$K$2:$K$1048576)","v":0},0]
[null,null,"T21872",5,13200,240,-76.650239526230237,2.6985848801517243,2.5,2.5,1,1,{"$f":"SUMIF(SOLICITUDES!$C$2:$C$1048576,BD!C10163,SOLICITUDES!$I$2:$I$1048576)","v":0},0,{"$f":"SUMIF(SOLICITUDES!$C$2:$C$1048576,BD!C10163,SOLICITUDES!$J$2:$J$1048576)","v":0},0,{"$f":"SUMIF(SOLICITUDES!$C$2:$C$1048576,BD!C10163,SOLICITUDES!$K$2:$K$1048576)","v":0},0]
[null,null,"T21880",0.5,13200,240,-76.654250507619949,2.7143743958224751,0.25,0.25,0.1,0.1,{"$f":"SUMIF(SOLICITUDES!$C$2:$C$1048576,BD!C10178,SOLICITUDES!$I$2:$I$1048576)","v":0},0,{"$f":"SUMIF(SOLICITUDES!$C$2:$C$1048576,BD!C10178,SOLICITUDES!$J$2:$J$1048576)","v":0},0,{"$f":"SUMIF(SOLICITUDES!$C$2:$C$1048576,BD!C10178,SOLICITUDES!$K$2:$K$1048576)","v":0},0]
[null,null,"T11655",10,13200,240,-76.712846884478353,2.6325235825953497,5,5,2,2,{"$f":"SUMIF(SOLICITUDES!$C$2:$C$1048576,BD!C10182,SOLICITUDES!$I$2:$I$1048576)","v":0},0,{"$f":"SUMIF(SOLICITUDES!$C$2:$C$1048576,BD!C10182,SOLICITUDES!$J$2:$J$1048576)","v":0},0,{"$f":"SUMIF(SOLICITUDES!$C$2:$C$1048576,BD!C10182,SOLICITUDES!$K$2:$K$1048576)","v":0},0]
[null,null,"T24478",5,13200,240,-76.72361005649644,2.6450077925693409,2.5,2.5,1,1,{"$f":"SUMIF(SOLICITUDES!$C$2:$C$1048576,BD!C10195,SOLICITUDES!$I$2:$I$1048576)","v":0},0,{"$f":"SUMIF(SOLICITUDES!$C$2:$C$1048576,BD!C10195,SOLICITUDES!$J$2:$J$1048576)","v":0},0,{"$f":"SUMIF(SOLICITUDES!$C$2:$C$1048576,BD!C10195,SOLICITUDES!$K$2:$K$1048576)","v":0},0]
[null,null,"T12670",25,13200,214,-76.736557675293412,2.640687502320914,12.5,12.5,5,5,{"$f":"SUMIF(SOLICITUDES!$C$2:$C$1048576,BD!C10200,SOLICITUDES!$I$2:$I$1048576)","v":0},0,{"$f":"SUMIF(SOLICITUDES!$C$2:$C$1048576,BD!C10200,SOLICITUDES!$J$2:$J$1048576)","v":0},0,{"$f":"SUMIF(SOLICITUDES!$C$2:$C$1048576,BD!C10200,SOLICITUDES!$K$2:$K$1048576)","v":0},0]
[null,null,"T24348",10,13200,240,-76.743916111338038,2.6519602747855195,5,5,2,2,{"$f":"SUMIF(SOLICITUDES!$C$2:$C$1048576,BD!C10211,SOLICITUDES!$I$2:$I$1048576)","v":0},0,{"$f":"SUMIF(SOLICITUDES!$C$2:$C$1048576,BD!C10211,SOLICITUDES!$J$2:$J$1048576)","v":0},0,{"$f":"SUMIF(SOLICITUDES!$C$2:$C$1048576,BD!C10211,SOLICITUDES!$K$2:$K$1048576)","v":0},0]
[null,null,"T13599",25,13200,240,-76.733020925982174,2.6180329428535809,12.5,12.5,5,5,{"$f":"SUMIF(SOLICITUDES!$C$2:$C$1048576,BD!C10226,SOLICITUDES!$I$2:$I$1048576)","v":0},0,{"$f":"SUMIF(SOLICITUDES!$C$2:$C$1048576,BD!C10226,SOLICITUDES!$J$2:$J$1048576)","v":0},0,{"$f":"SUMIF(SOLICITUDES!$C$2:$C$1048576,BD!C10226,SOLICITUDES!$K$2:$K$1048576)","v":0},0]
[null,null,"T24366",5,13200,240,-76.744840802698761,2.6334135815653692,2.5,2.5,1,1,{"$f":"SUMIF(SOLICITUDES!$C$2:$C$1048576,BD!C10231,SOLICITUDES!$I$2:$I$1048576)","v":0},0,{"$f":"SUMIF(SOLICITUDES!$C$2:$C$1048576,BD!C10231,SOLICITUDES!$J$2:$J$1048576)","v":0},0,{"$f":"SUMIF(SOLICITUDES!$C$2:$C$1048576,BD!C10231,SOLICITUDES!$K$2:$K$1048576)","v":0},0]
[null,null,"T24384",5,13200,240,-76.755533773523084,2.660386611430869,2.5,2.5,1,1,{"$f":"SUMIF(SOLICITUDES!$C$2:$C$1048576,BD!C10242,SOLICITUDES!$I$2:$I$1048576)","v":0},0,{"$f":"SUMIF(SOLICITUDES!$C$2:$C$1048576,BD!C10242,SOLICITUDES!$J$2:$J$1048576)","v":0},0,{"$f":"SUMIF(SOLICITUDES!$C$2:$C$1048576,BD!C10242,SOLICITUDES!$K$2:$K$1048576)","v":0},0]
[null,null,"T21906",5,13200,240,-76.785153764200658,2.6001590116730413,2.5,2.5,1,1,{"$f":"SUMIF(SOLICITUDES!$C$2:$C$1048576,BD!C10257,SOLICITUDES!$I$2:$I$1048576)","v":0},0,{"$f":"SUMIF(SOLICITUDES!$C$2:$C$1048576,BD!C10257,SOLICITUDES!$J$2:$J$1048576)","v":0},0,{"$f":"SUMIF(SOLICITUDES!$C$2:$C$1048576,BD!C10257,SOLICITUDES!$K$2:$K$1048576)","v":0},0]
[null,null,"T26172",10,13200,240,-76.780982051678663,2.6575184330055115,5,5,2,2,{"$f":"SUMIF(SOLICITUDES!$C$2:$C$1048576,BD!C10268,SOLICITUDES!$I$2:$I$1048576)","v":0},0,{"$f":"SUMIF(SOLICITUDES!$C$2:$C$1048576,BD!C10268,SOLICITUDES!$J$2:$J$1048576)","v":0},0,{"$f":"SUMIF(SOLICITUDES!$C$2:$C$1048576,BD!C10268,SOLICITUDES!$K$2:$K$1048576)","v":0},0]
[null,null,"T7771",25,13200,240,-76.691592149440751,2.5929165352148198,12.5,12.5,5,5,{"$f":"SUMIF(SOLICITUDES!$C$2:$C$1048576,BD!C10273,SOLICITUDES!$I$2:$I$1048576)","v":0},0,{"$f":"SUMIF(SOLICITUDES!$C$2:$C$1048576,BD!C10273,SOLICITUDES!$J$2:$J$1048576)","v":0},0,{"$f":"SUMIF(SOLICITUDES!$C$2:$C$1048576,BD!C10273,SOLICITUDES!$K$2:$K$1048576)","v":0},0]
[null,null,"T10634",10,13200,240,-76.744374085920086,2.5821143007698519,5,5,2,2,{"$f":"SUMIF(SOLICITUDES!$C$2:$C$1048576,BD!C10289,SOLICITUDES!$I$2:$I$1048576)","v":0},0,{"$f":"SUMIF(SOLICITUDES!$C$2:$C$1048576,BD!C10289,SOLICITUDES!$J$2:$J$1048576)","v":0},0,{"$f":"SUMIF(SOLICITUDES!$C$2:$C$1048576,BD!C10289,SOLICITUDES!$K$2:$K$1048576)","v":0},0]
[null,null,"T10633",15,13200,214,-76.751641648122146,2.5922825308064743,7.5,7.5,3,3,{"$f":"SUMIF(SOLICITUDES!$C$2:$C$1048576,BD!C10300,SOLICITUDES!$I$2:$I$1048576)","v":0},0,{"$f":"SUMIF(SOLICITUDES!$C$2:$C$1048576,BD!C10300,SOLICITUDES!$J$2:$J$1048576)","v":0},0,{"$f":"SUMIF(SOLICITUDES!$C$2:$C$1048576,BD!C10300,SOLICITUDES!$K$2:$K$1048576)","v":0},0]
[null,null,"T3714",15,13200,240,-76.699381871935842,2.6438235966475401,7.5,7.5,3,3,{"$f":"SUMIF(SOLICITUDES!$C$2:$C$1048576,BD!C10305,SOLICITUDES!$I$2:$I$1048576)","v":0},0,{"$f":"SUMIF(SOLICITUDES!$C$2:$C$1048576,BD!C10305,SOLICITUDES!$J$2:$J$1048576)","v":0},0,{"$f":"SUMIF(SOLICITUDES!$C$2:$C$1048576,BD!C10305,SOLICITUDES!$K$2:$K$1048576)","v":0},0]
[null,null,"T24590",5,13200,240,-76.731917707032252,2.6621538263747322,2.5,2.5,1,1,{"$f":"SUMIF(SOLICITUDES!$C$2:$C$1048576,BD!C10320,SOLICITUDES!$I$2:$I$1048576)","v":0},0,{"$f":"SUMIF(SOLICITUDES!$C$2:$C$1048576,BD!C10320,SOLICITUDES!$J$2:$J$1048576)","v":0},0,{"$f":"SUMIF(SOLICITUDES!$C$2:$C$1048576,BD!C10320,SOLICITUDES!$K$2:$K$1048576)","v":0},0]
[null,null,"T3707",10,13200,240,-76.729003652240948,2.6603545494668883,5,5,2,2,{"$f":"SUMIF(SOLICITUDES!$C$2:$C$1048576,BD!C10321,SOLICITUDES!$I$2:$I$1048576)","v":0},0,{"$f":"SUMIF(SOLICITUDES!$C$2:$C$1048576,BD!C10321,SOLICITUDES!$J$2:$J$1048576)","v":0},0,{"$f":"SUMIF(SOLICITUDES!$C$2:$C$1048576,BD!C10321,SOLICITUDES!$K$2:$K$1048576)","v":0},0]
[null,null,"T5203",10,13200,240,-76.730810127302817,2.6773475771425059,5,5,2,2,{"$f":"SUMIF(SOLICITUDES!$C$2:$C$1048576,BD!C10336,SOLICITUDES!$I$2:$I$1048576)","v":0},0,{"$f":"SUMIF(SOLICITUDES!$C$2:$C$1048576,BD!C10336,SOLICITUDES!$J$2:$J$1048576)","v":0},0,{"$f":"SUMIF(SOLICITUDES!$C$2:$C$1048576,BD!C10336,SOLICITUDES!$K$2:$K$1048576)","v":0},0]
[null,null,"T4750",5,13200,240,-76.690588958921566,2.6860345972131108,2.5,2.5,1,1,{"$f":"SUMIF(SOLICITUDES!$C$2:$C$1048576,BD!C10347,SOLICITUDES!$I$2:$I$1048576)","v":0},0,{"$f":"SUMIF(SOLICITUDES!$C$2:$C$1048576,BD!C10347,SOLICITUDES!$J$2:$J$1048576)","v":0},0,{"$f":"SUMIF(SOLICITUDES!$C$2:$C$1048576,BD!C10347,SOLICITUDES!$K$2:$K$1048576)","v":0},0]
[null,null,"T4732",15,13200,240,-76.714680867027582,2.6950767548848051,7.5,7.5,3,3,{"$f":"SUMIF(SOLICITUDES!$C$2:$C$1048576,BD!C10352,SOLICITUDES!$I$2:$I$1048576)","v":0},0,{"$f":"SUMIF(SOLICITUDES!$C$2:$C$1048576,BD!C10352,SOLICITUDES!$J$2:$J$1048576)","v":0},0,{"$f":"SUMIF(SOLICITUDES!$C$2:$C$1048576,BD!C10352,SOLICITUDES!$K$2:$K$1048576)","v":0},0]
[null,null,"T4760",15,13200,240,-76.694985522944023,2.6696589569757418,7.5,7.5,3,3,{"$f":"SUMIF(SOLICITUDES!$C$2:$C$1048576,BD!C10364,SOLICITUDES!$I$2:$I$1048576)","v":0},0,{"$f":"SUMIF(SOLICITUDES!$C$2:$C$1048576,BD!C10364,SOLICITUDES!$J$2:$J$1048576)","v":0},0,{"$f":"SUMIF(SOLICITUDES!$C$2:$C$1048576,BD!C10364,SOLICITUDES!$K$2:$K$1048576)","v":0},0]
[null,null,"T24582",5,13200,240,-76.746814147914193,2.693311002294636,2.5,2.5,1,1,{"$f":"SUMIF(SOLICITUDES!$C$2:$C$1048576,BD!C10379,SOLICITUDES!$I$2:$I$1048576)","v":0},0,{"$f":"SUMIF(SOLICITUDES!$C$2:$C$1048576,BD!C10379,SOLICITUDES!$J$2:$J$1048576)","v":0},0,{"$f":"SUMIF(SOLICITUDES!$C$2:$C$1048576,BD!C10379,SOLICITUDES!$K$2:$K$1048576)","v":0},0]
[null,null,"T5190",10,13200,240,-76.755514352612977,2.7067180951245926,5,5,2,2,{"$f":"SUMIF(SOLICITUDES!$C$2:$C$1048576,BD!C10384,SOLICITUDES!$I$2:$I$1048576)","v":0},0,{"$f":"SUMIF(SOLICITUDES!$C$2:$C$1048576,BD!C10384,SOLICITUDES!$J$2:$J$1048576)","v":0},0,{"$f":"SUMIF(SOLICITUDES!$C$2:$C$1048576,BD!C10384,SOLICITUDES!$K$2:$K$1048576)","v":0},0]
[null,null,"T24423",10,13200,240,-76.75920543155506,2.6904152705822795,5,5,2,2,{"$f":"SUMIF(SOLICITUDES!$C$2:$C$1048576,BD!C10395,SOLICITUDES!$I$2:$I$1048576)","v":0},0,{"$f":"SUMIF(SOLICITUDES!$C$2:$C$1048576,BD!C10395,SOLICITUDES!$J$2:$J$1048576)","v":0},0,{"$f":"SUMIF(SOLICITUDES!$C$2:$C$1048576,BD!C10395,SOLICITUDES!$K$2:$K$1048576)","v":0},0]
[null,null,"T5212",15,13200,240,-76.764940818069107,2.6998296325112254,7.5,7.5,3,3,{"$f":"SUMIF(SOLICITUDES!$C$2:$C$1048576,BD!C10410,SOLICITUDES!$I$2:$I$1048576)","v":0},0,{"$f":"SUMIF(SOLICITUDES!$C$2:$C$1048576,BD!C10410,SOLICITUDES!$J$2:$J$1048576)","v":0},0,{"$f":"SUMIF(SOLICITUDES!$C$2:$C$1048576,BD!C10410,SOLICITUDES!$K$2:$K$1048576)","v":0},0]
[null,null,"T24636",10,13200,240,-76.770825634667275,2.6805296981953517,5,5,2,2,{"$f":"SUMIF(SOLICITUDES!$C$2:$C$1048576,BD!C10415,SOLICITUDES!$I$2:$I$1048576)","v":0},0,{"$f":"SUMIF(SOLICITUDES!$C$2:$C$1048576,BD!C10415,SOLICITUDES!$J$2:$J$1048576)","v":0},0,{"$f":"SUMIF(SOLICITUDES!$C$2:$C$1048576,BD!C10415,SOLICITUDES!$K$2:$K$1048576)","v":0},0]
[null,null,"T24644",5,13200,240,-76.76147353036211,2.6650858973177312,2.5,2.5,1,1,{"$f":"SUMIF(SOLICITUDES!$C$2:$C$1048576,BD!C10426,SOLICITUDES!$I$2:$I$1048576)","v":0},0,{"$f":"SUMIF(SOLICITUDES!$C$2:$C$1048576,BD!C10426,SOLICITUDES!$J$2:$J$1048576)","v":0},0,{"$f":"SUMIF(SOLICITUDES!$C$2:$C$1048576,BD!C10426,SOLICITUDES!$K$2:$K$1048576)","v":0},0]
[null,null,"T24534",5,13200,240,-76.790044666367791,2.6654838627851287,2.5,2.5,1,1,{"$f":"SUMIF(SOLICITUDES!$C$2:$C$1048576,BD!C10441,SOLICITUDES!$I$2:$I$1048576)","v":0},0,{"$f":"SUMIF(SOLICITUDES!$C$2:$C$1048576,BD!C10441,SOLICITUDES!$J$2:$J$1048576)","v":0},0,{"$f":"SUMIF(SOLICITUDES!$C$2:$C$1048576,BD!C10441,SOLICITUDES!$K$2:$K$1048576)","v":0},0]
[null,null,"T24537",5,13200,240,-76.78983472508763,2.6758024962295233,2.5,2.5,1,1,{"$f":"SUMIF(SOLICITUDES!$C$2:$C$1048576,BD!C10446,SOLICITUDES!$I$2:$I$1048576)","v":0},0,{"$f":"SUMIF(SOLICITUDES!$C$2:$C$1048576,BD!C10446,SOLICITUDES!$J$2:$J$1048576)","v":0},0,{"$f":"SUMIF(SOLICITUDES!$C$2:$C$1048576,BD!C10446,SOLICITUDES!$K$2:$K$1048576)","v":0},0]
[null,null,"T24539",10,13200,240,-76.79596750588081,2.681741845412883,5,5,2,2,{"$f":"SUMIF(SOLICITUDES!$C$2:$C$1048576,BD!C10459,SOLICITUDES!$I$2:$I$1048576)","v":0},0,{"$f":"SUMIF(SOLICITUDES!$C$2:$C$1048576,BD!C10459,SOLICITUDES!$J$2:$J$1048576)","v":0},0,{"$f":"SUMIF(SOLICITUDES!$C$2:$C$1048576,BD!C10459,SOLICITUDES!$K$2:$K$1048576)","v":0},0]
[null,null,"T24443",10,13200,208,-76.817661387934422,2.7010457215300803,5,5,2,2,{"$f":"SUMIF(SOLICITUDES!$C$2:$C$1048576,BD!C10463,SOLICITUDES!$I$2:$I$1048576)","v":0},0,{"$f":"SUMIF(SOLICITUDES!$C$2:$C$1048576,BD!C10463,SOLICITUDES!$J$2:$J$1048576)","v":0},0,{"$f":"SUMIF(SOLICITUDES!$C$2:$C$1048576,BD!C10463,SOLICITUDES!$K$2:$K$1048576)","v":0},0]
[null,null,"T21915",5,13200,240,-76.786362402948427,2.7100920567538473,2.5,2.5,1,1,{"$f":"SUMIF(SOLICITUDES!$C$2:$C$1048576,BD!C10474,SOLICITUDES!$I$2:$I$1048576)","v":0},0,{"$f":"SUMIF(SOLICITUDES!$C$2:$C$1048576,BD!C10474,SOLICITUDES!$J$2:$J$1048576)","v":0},0,{"$f":"SUMIF(SOLICITUDES!$C$2:$C$1048576,BD!C10474,SOLICITUDES!$K$2:$K$1048576)","v":0},0]
[null,null,"T24519",5,13200,240,-76.815675338678773,2.6861568033211567,2.5,2.5,1,1,{"$f":"SUMIF(SOLICITUDES!$C$2:$C$1048576,BD!C10489,SOLICITUDES!$I$2:$I$1048576)","v":0},0,{"$f":"SUMIF(SOLICITUDES!$C$2:$C$1048576,BD!C10489,SOLICITUDES!$J$2:$J$1048576)","v":0},0,{"$f":"SUMIF(SOLICITUDES!$C$2:$C$1048576,BD!C10489,SOLICITUDES!$K$2:$K$1048576)","v":0},0]
[null,null,"T24548",10,13200,240,-76.805548723412485,2.6757837094971597,5,5,2,2,{"$f":"SUMIF(SOLICITUDES!$C$2:$C$1048576,BD!C10494,SOLICITUDES!$I$2:$I$1048576)","v":0},0,{"$f":"SUMIF(SOLICITUDES!$C$2:$C$1048576,BD!C10494,SOLICITUDES!$J$2:$J$1048576)","v":0},0,{"$f":"SUMIF(SOLICITUDES!$C$2:$C$1048576,BD!C10494,SOLICITUDES!$K$2:$K$1048576)","v":0},0]
[null,null,"T24531",5,13200,240,-76.807183732798038,2.66948469631257,2.5,2.5,1,1,{"$f":"SUMIF(SOLICITUDES!$C$2:$C$1048576,BD!C10505,SOLICITUDES!$I$2:$I$1048576)","v":0},0,{"$f":"SUMIF(SOLICITUDES!$C$2:$C$1048576,BD!C10505,SOLICITUDES!$J$2:$J$1048576)","v":0},0,{"$f":"SUMIF(SOLICITUDES!$C$2:$C$1048576,BD!C10505,SOLICITUDES!$K$2:$K$1048576)","v":0},0]
[null,null,"T29244",5,13200,240,-76.827162519365729,2.6662899869648813,2.5,2.5,1,1,{"$f":"SUMIF(SOLICITUDES!$C$2:$C$1048576,BD!C10520,SOLICITUDES!$I$2:$I$1048576)","v":0},0,{"$f":"SUMIF(SOLICITUDES!$C$2:$C$1048576,BD!C10520,SOLICITUDES!$J$2:$J$1048576)","v":0},0,{"$f":"SUMIF(SOLICITUDES!$C$2:$C$1048576,BD!C10520,SOLICITUDES!$K$2:$K$1048576)","v":0},0]
[null,null,"T24504",5,13200,240,-76.817907978385563,2.6714221913737717,2.5,2.5,1,1,{"$f":"SUMIF(SOLICITUDES!$C$2:$C$1048576,BD!C10525,SOLICITUDES!$I$2:$I$1048576)","v":0},0,{"$f":"SUMIF(SOLICITUDES!$C$2:$C$1048576,BD!C10525,SOLICITUDES!$J$2:$J$1048576)","v":0},0,{"$f":"SUMIF(SOLICITUDES!$C$2:$C$1048576,BD!C10525,SOLICITUDES!$K$2:$K$1048576)","v":0},0]
[null,null,"T2774",25,13200,240,-76.516332708280316,2.6260200075125919,12.5,12.5,5,5,{"$f":"SUMIF(SOLICITUDES!$C$2:$C$1048576,BD!C10536,SOLICITUDES!$I$2:$I$1048576)","v":0},0,{"$f":"SUMIF(SOLICITUDES!$C$2:$C$1048576,BD!C10536,SOLICITUDES!$J$2:$J$1048576)","v":0},0,{"$f":"SUMIF(SOLICITUDES!$C$2:$C$1048576,BD!C10536,SOLICITUDES!$K$2:$K$1048576)","v":0},0]
[null,null,"T29074",5,13200,240,-77.095040077059409,2.5224939836781957,2.5,2.5,1,1,{"$f":"SUMIF(SOLICITUDES!$C$2:$C$1048576,BD!C10550,SOLICITUDES!$I$2:$I$1048576)","v":0},0,{"$f":"SUMIF(SOLICITUDES!$C$2:$C$1048576,BD!C10550,SOLICITUDES!$J$2:$J$1048576)","v":0},0,{"$f":"SUMIF(SOLICITUDES!$C$2:$C$1048576,BD!C10550,SOLICITUDES!$K$2:$K$1048576)","v":0},0]
[null,null,"T29050",5,13200,240,-77.088725208799659,2.5376960411704776,2.5,{"$f":"D10563*0.5-M10563","v":2.5},1,1,{"$f":"SUMIF(SOLICITUDES!$C$2:$C$1048576,BD!C10563,SOLICITUDES!$I$2:$I$1048576)","v":0},{"$f":"M10563/D10563","v":0},{"$f":"SUMIF(SOLICITUDES!$C$2:$C$1048576,BD!C10563,SOLICITUDES!$J$2:$J$1048576)","v":0},0,{"$f":"SUMIF(SOLICITUDES!$C$2:$C$1048576,BD!C10563,SOLICITUDES!$K$2:$K$1048576)","v":0},0]
[null,null,"T18954",10,13200,240,-77.070999207119513,2.4502086856464871,5,5,2,2,{"$f":"SUMIF(SOLICITUDES!$C$2:$C$1048576,BD!C10568,SOLICITUDES!$I$2:$I$1048576)","v":0},0,{"$f":"SUMIF(SOLICITUDES!$C$2:$C$1048576,BD!C10568,SOLICITUDES!$J$2:$J$1048576)","v":0},0,{"$f":"SUMIF(SOLICITUDES!$C$2:$C$1048576,BD!C10568,SOLICITUDES!$K$2:$K$1048576)","v":0},0]
[null,null,"T22196",5,13200,240,-77.080312509639583,2.4779862971456628,2.5,2.5,1,1,{"$f":"SUMIF(SOLICITUDES!$C$2:$C$1048576,BD!C10583,SOLICITUDES!$I$2:$I$1048576)","v":0},0,{"$f":"SUMIF(SOLICITUDES!$C$2:$C$1048576,BD!C10583,SOLICITUDES!$J$2:$J$1048576)","v":0},0,{"$f":"SUMIF(SOLICITUDES!$C$2:$C$1048576,BD!C10583,SOLICITUDES!$K$2:$K$1048576)","v":0},0]
[null,null,"T18915",10,13200,240,-77.083078523997898,2.4552471967589726,5,5,2,2,{"$f":"SUMIF(SOLICITUDES!$C$2:$C$1048576,BD!C10584,SOLICITUDES!$I$2:$I$1048576)","v":0},0,{"$f":"SUMIF(SOLICITUDES!$C$2:$C$1048576,BD!C10584,SOLICITUDES!$J$2:$J$1048576)","v":0},0,{"$f":"SUMIF(SOLICITUDES!$C$2:$C$1048576,BD!C10584,SOLICITUDES!$K$2:$K$1048576)","v":0},0]
[null,null,"T22198",10,13200,240,-77.099992239885751,2.4833191731115973,5,5,2,2,{"$f":"SUMIF(SOLICITUDES!$C$2:$C$1048576,BD!C10599,SOLICITUDES!$I$2:$I$1048576)","v":0},0,{"$f":"SUMIF(SOLICITUDES!$C$2:$C$1048576,BD!C10599,SOLICITUDES!$J$2:$J$1048576)","v":0},0,{"$f":"SUMIF(SOLICITUDES!$C$2:$C$1048576,BD!C10599,SOLICITUDES!$K$2:$K$1048576)","v":0},0]
[null,null,"T18961",5,13200,240,-77.087676338406055,2.4297032887018482,2.5,2.5,1,1,{"$f":"SUMIF(SOLICITUDES!$C$2:$C$1048576,BD!C10610,SOLICITUDES!$I$2:$I$1048576)","v":0},0,{"$f":"SUMIF(SOLICITUDES!$C$2:$C$1048576,BD!C10610,SOLICITUDES!$J$2:$J$1048576)","v":0},0,{"$f":"SUMIF(SOLICITUDES!$C$2:$C$1048576,BD!C10610,SOLICITUDES!$K$2:$K$1048576)","v":0},0]
[null,null,"T22173",5,13200,240,-77.07759029788204,2.422307977350064,2.5,2.5,1,1,{"$f":"SUMIF(SOLICITUDES!$C$2:$C$1048576,BD!C10615,SOLICITUDES!$I$2:$I$1048576)","v":0},0,{"$f":"SUMIF(SOLICITUDES!$C$2:$C$1048576,BD!C10615,SOLICITUDES!$J$2:$J$1048576)","v":0},0,{"$f":"SUMIF(SOLICITUDES!$C$2:$C$1048576,BD!C10615,SOLICITUDES!$K$2:$K$1048576)","v":0},0]
[null,null,"T28862",5,13200,240,-77.102799754878674,2.3749254171858567,2.5,2.5,1,1,{"$f":"SUMIF(SOLICITUDES!$C$2:$C$1048576,BD!C10630,SOLICITUDES!$I$2:$I$1048576)","v":0},0,{"$f":"SUMIF(SOLICITUDES!$C$2:$C$1048576,BD!C10630,SOLICITUDES!$J$2:$J$1048576)","v":0},0,{"$f":"SUMIF(SOLICITUDES!$C$2:$C$1048576,BD!C10630,SOLICITUDES!$K$2:$K$1048576)","v":0},0]
[null,null,"T7741",45,13200,208,-76.810282275395991,2.4488317293063728,22.5,22.5,9,9,{"$f":"SUMIF(SOLICITUDES!$C$2:$C$1048576,BD!C10634,SOLICITUDES!$I$2:$I$1048576)","v":0},0,{"$f":"SUMIF(SOLICITUDES!$C$2:$C$1048576,BD!C10634,SOLICITUDES!$J$2:$J$1048576)","v":0},0,{"$f":"SUMIF(SOLICITUDES!$C$2:$C$1048576,BD!C10634,SOLICITUDES!$K$2:$K$1048576)","v":0},0]
[null,null,"T9126",15,13200,240,-76.819411029265368,2.4352775019572799,7.5,7.5,3,3,{"$f":"SUMIF(SOLICITUDES!$C$2:$C$1048576,BD!C10647,SOLICITUDES!$I$2:$I$1048576)","v":0},0,{"$f":"SUMIF(SOLICITUDES!$C$2:$C$1048576,BD!C10647,SOLICITUDES!$J$2:$J$1048576)","v":0},0,{"$f":"SUMIF(SOLICITUDES!$C$2:$C$1048576,BD!C10647,SOLICITUDES!$K$2:$K$1048576)","v":0},0]
[null,null,"T31957",25,13200,240,-76.302412045636814,3.1279644860290783,12.5,12.5,5,5,{"$f":"SUMIF(SOLICITUDES!$C$2:$C$1048576,BD!C10662,SOLICITUDES!$I$2:$I$1048576)","v":0},0,{"$f":"SUMIF(SOLICITUDES!$C$2:$C$1048576,BD!C10662,SOLICITUDES!$J$2:$J$1048576)","v":0},0,{"$f":"SUMIF(SOLICITUDES!$C$2:$C$1048576,BD!C10662,SOLICITUDES!$K$2:$K$1048576)","v":0},0]
[null,null,"T40177",10,13200,240,-76.293172015099131,3.1136715151176699,5,5,2,2,{"$f":"SUMIF(SOLICITUDES!$C$2:$C$1048576,BD!C10673,SOLICITUDES!$I$2:$I$1048576)","v":0},0,{"$f":"SUMIF(SOLICITUDES!$C$2:$C$1048576,BD!C10673,SOLICITUDES!$J$2:$J$1048576)","v":0},0,{"$f":"SUMIF(SOLICITUDES!$C$2:$C$1048576,BD!C10673,SOLICITUDES!$K$2:$K$1048576)","v":0},0]
[null,null,"T21859",5,13200,240,-76.28891789602055,3.1289103851837012,2.5,2.5,1,1,{"$f":"SUMIF(SOLICITUDES!$C$2:$C$1048576,BD!C10678,SOLICITUDES!$I$2:$I$1048576)","v":0},0,{"$f":"SUMIF(SOLICITUDES!$C$2:$C$1048576,BD!C10678,SOLICITUDES!$J$2:$J$1048576)","v":0},0,{"$f":"SUMIF(SOLICITUDES!$C$2:$C$1048576,BD!C10678,SOLICITUDES!$K$2:$K$1048576)","v":0},0]
[null,null,"T19160",15,13200,240,-76.290501111313816,3.106719861585991,7.5,7.5,3,3,{"$f":"SUMIF(SOLICITUDES!$C$2:$C$1048576,BD!C10689,SOLICITUDES!$I$2:$I$1048576)","v":0},0,{"$f":"SUMIF(SOLICITUDES!$C$2:$C$1048576,BD!C10689,SOLICITUDES!$J$2:$J$1048576)","v":0},0,{"$f":"SUMIF(SOLICITUDES!$C$2:$C$1048576,BD!C10689,SOLICITUDES!$K$2:$K$1048576)","v":0},0]
[null,null,"T18735",10,13200,240,-76.272627399974809,3.1155166880429017,5,5,2,2,{"$f":"SUMIF(SOLICITUDES!$C$2:$C$1048576,BD!C10704,SOLICITUDES!$I$2:$I$1048576)","v":0},0,{"$f":"SUMIF(SOLICITUDES!$C$2:$C$1048576,BD!C10704,SOLICITUDES!$J$2:$J$1048576)","v":0},0,{"$f":"SUMIF(SOLICITUDES!$C$2:$C$1048576,BD!C10704,SOLICITUDES!$K$2:$K$1048576)","v":0},0]
[null,null,"T19439",15,13200,240,-76.280885044575555,3.1311900494965577,7.5,7.5,3,3,{"$f":"SUMIF(SOLICITUDES!$C$2:$C$1048576,BD!C10709,SOLICITUDES!$I$2:$I$1048576)","v":0},0,{"$f":"SUMIF(SOLICITUDES!$C$2:$C$1048576,BD!C10709,SOLICITUDES!$J$2:$J$1048576)","v":0},0,{"$f":"SUMIF(SOLICITUDES!$C$2:$C$1048576,BD!C10709,SOLICITUDES!$K$2:$K$1048576)","v":0},0]
[null,null,"T31033",25,13200,240,-76.282277301783608,3.1002136197127084,12.5,12.5,5,5,{"$f":"SUMIF(SOLICITUDES!$C$2:$C$1048576,BD!C10720,SOLICITUDES!$I$2:$I$1048576)","v":0},0,{"$f":"SUMIF(SOLICITUDES!$C$2:$C$1048576,BD!C10720,SOLICITUDES!$J$2:$J$1048576)","v":0},0,{"$f":"SUMIF(SOLICITUDES!$C$2:$C$1048576,BD!C10720,SOLICITUDES!$K$2:$K$1048576)","v":0},0]
[null,null,"T18744",15,13200,240,-76.269982370375558,3.1215323129747623,7.5,7.5,3,3,{"$f":"SUMIF(SOLICITUDES!$C$2:$C$1048576,BD!C10725,SOLICITUDES!$I$2:$I$1048576)","v":0},0,{"$f":"SUMIF(SOLICITUDES!$C$2:$C$1048576,BD!C10725,SOLICITUDES!$J$2:$J$1048576)","v":0},0,{"$f":"SUMIF(SOLICITUDES!$C$2:$C$1048576,BD!C10725,SOLICITUDES!$K$2:$K$1048576)","v":0},0]
[null,null,"T18742",10,13200,240,-76.273841192987305,3.1224304215050114,5,5,2,2,{"$f":"SUMIF(SOLICITUDES!$C$2:$C$1048576,BD!C10737,SOLICITUDES!$I$2:$I$1048576)","v":0},0,{"$f":"SUMIF(SOLICITUDES!$C$2:$C$1048576,BD!C10737,SOLICITUDES!$J$2:$J$1048576)","v":0},0,{"$f":"SUMIF(SOLICITUDES!$C$2:$C$1048576,BD!C10737,SOLICITUDES!$K$2:$K$1048576)","v":0},0]
[null,null,"T14608",10,13200,240,-76.863263649767376,1.8413898657322259,5,5,2,2,{"$f":"SUMIF(SOLICITUDES!$C$2:$C$1048576,BD!C10752,SOLICITUDES!$I$2:$I$1048576)","v":0},0,{"$f":"SUMIF(SOLICITUDES!$C$2:$C$1048576,BD!C10752,SOLICITUDES!$J$2:$J$1048576)","v":0},0,{"$f":"SUMIF(SOLICITUDES!$C$2:$C$1048576,BD!C10752,SOLICITUDES!$K$2:$K$1048576)","v":0},0]
[null,null,"T41838",10,13200,240,-76.855073427726992,1.7666179535025666,5,5,2,2,{"$f":"SUMIF(SOLICITUDES!$C$2:$C$1048576,BD!C10757,SOLICITUDES!$I$2:$I$1048576)","v":0},0,{"$f":"SUMIF(SOLICITUDES!$C$2:$C$1048576,BD!C10757,SOLICITUDES!$J$2:$J$1048576)","v":0},0,{"$f":"SUMIF(SOLICITUDES!$C$2:$C$1048576,BD!C10757,SOLICITUDES!$K$2:$K$1048576)","v":0},0]
[null,null,"T17025",10,13200,240,-76.84513911437179,1.7428534546820997,5,5,2,2,{"$f":"SUMIF(SOLICITUDES!$C$2:$C$1048576,BD!C10768,SOLICITUDES!$I$2:$I$1048576)","v":0},0,{"$f":"SUMIF(SOLICITUDES!$C$2:$C$1048576,BD!C10768,SOLICITUDES!$J$2:$J$1048576)","v":0},0,{"$f":"SUMIF(SOLICITUDES!$C$2:$C$1048576,BD!C10768,SOLICITUDES!$K$2:$K$1048576)","v":0},0]
[null,null,"T25691",50,13200,240,-76.850541257926352,1.7355338145656993,25,25,10,10,{"$f":"SUMIF(SOLICITUDES!$C$2:$C$1048576,BD!C10783,SOLICITUDES!$I$2:$I$1048576)","v":0},0,{"$f":"SUMIF(SOLICITUDES!$C$2:$C$1048576,BD!C10783,SOLICITUDES!$J$2:$J$1048576)","v":0},0,{"$f":"SUMIF(SOLICITUDES!$C$2:$C$1048576,BD!C10783,SOLICITUDES!$K$2:$K$1048576)","v":0},0]
[null,null,"T41839",10,13200,240,-76.860613119828258,1.7707990263367241,5,5,2,2,{"$f":"SUMIF(SOLICITUDES!$C$2:$C$1048576,BD!C10788,SOLICITUDES!$I$2:$I$1048576)","v":0},0,{"$f":"SUMIF(SOLICITUDES!$C$2:$C$1048576,BD!C10788,SOLICITUDES!$J$2:$J$1048576)","v":0},0,{"$f":"SUMIF(SOLICITUDES!$C$2:$C$1048576,BD!C10788,SOLICITUDES!$K$2:$K$1048576)","v":0},0]
[null,null,"T6220",25,13200,240,-76.358058859240103,2.6370606309093541,12.5,12.5,5,5,{"$f":"SUMIF(SOLICITUDES!$C$2:$C$1048576,BD!C10799,SOLICITUDES!$I$2:$I$1048576)","v":0},0,{"$f":"SUMIF(SOLICITUDES!$C$2:$C$1048576,BD!C10799,SOLICITUDES!$J$2:$J$1048576)","v":0},0,{"$f":"SUMIF(SOLICITUDES!$C$2:$C$1048576,BD!C10799,SOLICITUDES!$K$2:$K$1048576)","v":0},0]
[null,null,"T6249",15,13200,240,-76.346049221973203,2.6766789437706588,7.5,7.5,3,3,{"$f":"SUMIF(SOLICITUDES!$C$2:$C$1048576,BD!C10814,SOLICITUDES!$I$2:$I$1048576)","v":0},0,{"$f":"SUMIF(SOLICITUDES!$C$2:$C$1048576,BD!C10814,SOLICITUDES!$J$2:$J$1048576)","v":0},0,{"$f":"SUMIF(SOLICITUDES!$C$2:$C$1048576,BD!C10814,SOLICITUDES!$K$2:$K$1048576)","v":0},0]
[null,null,"T6212",25,13200,240,-76.331934236099073,2.6945956372902473,{"$f":"D10820*0.5","v":12.5},12.5,{"$f":"0.2*D10820","v":5},{"$f":"0.2*D10820","v":5},{"$f":"SUMIF(SOLICITUDES!$C$2:$C$1048576,BD!C10820,SOLICITUDES!$I$2:$I$1048576)","v":0},0,{"$f":"SUMIF(SOLICITUDES!$C$2:$C$1048576,BD!C10820,SOLICITUDES!$J$2:$J$1048576)","v":0},{"$f":"O10820/(2*K10820)","v":0},{"$f":"SUMIF(SOLICITUDES!$C$2:$C$1048576,BD!C10820,SOLICITUDES!$K$2:$K$1048576)","v":0},{"$f":"Q10820/(2*L10820)","v":0}]
[null,null,"T3299",75,13200,208,-76.619492282338854,2.4443029845216038,37.5,37.5,15,15,{"$f":"SUMIF(SOLICITUDES!$C$2:$C$1048576,BD!C10831,SOLICITUDES!$I$2:$I$1048576)","v":0},0,{"$f":"SUMIF(SOLICITUDES!$C$2:$C$1048576,BD!C10831,SOLICITUDES!$J$2:$J$1048576)","v":0},0,{"$f":"SUMIF(SOLICITUDES!$C$2:$C$1048576,BD!C10831,SOLICITUDES!$K$2:$K$1048576)","v":0},0]
[null,null,"T23956",15,13200,240,-76.497196091634748,2.9755002356236595,7.5,7.5,3,3,{"$f":"SUMIF(SOLICITUDES!$C$2:$C$1048576,BD!C10846,SOLICITUDES!$I$2:$I$1048576)","v":0},0,{"$f":"SUMIF(SOLICITUDES!$C$2:$C$1048576,BD!C10846,SOLICITUDES!$J$2:$J$1048576)","v":0},0,{"$f":"SUMIF(SOLICITUDES!$C$2:$C$1048576,BD!C10846,SOLICITUDES!$K$2:$K$1048576)","v":0},0]
[null,null,"T8273",15,13200,240,-76.496530576805498,2.9736240562810292,7.5,7.5,3,3,{"$f":"SUMIF(SOLICITUDES!$C$2:$C$1048576,BD!C10847,SOLICITUDES!$I$2:$I$1048576)","v":0},0,{"$f":"SUMIF(SOLICITUDES!$C$2:$C$1048576,BD!C10847,SOLICITUDES!$J$2:$J$1048576)","v":0},0,{"$f":"SUMIF(SOLICITUDES!$C$2:$C$1048576,BD!C10847,SOLICITUDES!$K$2:$K$1048576)","v":0},0]
[null,null,"T8533",37.5,13200,240,-76.514630931993665,3.0029780430233011,18.75,18.75,7.5,7.5,{"$f":"SUMIF(SOLICITUDES!$C$2:$C$1048576,BD!C10862,SOLICITUDES!$I$2:$I$1048576)","v":0},0,{"$f":"SUMIF(SOLICITUDES!$C$2:$C$1048576,BD!C10862,SOLICITUDES!$J$2:$J$1048576)","v":0},0,{"$f":"SUMIF(SOLICITUDES!$C$2:$C$1048576,BD!C10862,SOLICITUDES!$K$2:$K$1048576)","v":0},0]
[null,null,"T8256",15,13200,240,-76.501197415652712,2.9764931693177656,7.5,7.5,3,3,{"$f":"SUMIF(SOLICITUDES!$C$2:$C$1048576,BD!C10867,SOLICITUDES!$I$2:$I$1048576)","v":0},0,{"$f":"SUMIF(SOLICITUDES!$C$2:$C$1048576,BD!C10867,SOLICITUDES!$J$2:$J$1048576)","v":0},0,{"$f":"SUMIF(SOLICITUDES!$C$2:$C$1048576,BD!C10867,SOLICITUDES!$K$2:$K$1048576)","v":0},0]
[null,null,"T7360",15,13200,240,-76.484820279815139,2.9554413288766197,7.5,7.5,3,3,{"$f":"SUMIF(SOLICITUDES!$C$2:$C$1048576,BD!C10878,SOLICITUDES!$I$2:$I$1048576)","v":0},0,{"$f":"SUMIF(SOLICITUDES!$C$2:$C$1048576,BD!C10878,SOLICITUDES!$J$2:$J$1048576)","v":0},0,{"$f":"SUMIF(SOLICITUDES!$C$2:$C$1048576,BD!C10878,SOLICITUDES!$K$2:$K$1048576)","v":0},0]
[null,null,"T26347",15,13200,240,-76.555234148093831,2.8292899803972622,7.5,7.5,3,3,{"$f":"SUMIF(SOLICITUDES!$C$2:$C$1048576,BD!C10893,SOLICITUDES!$I$2:$I$1048576)","v":0},0,{"$f":"SUMIF(SOLICITUDES!$C$2:$C$1048576,BD!C10893,SOLICITUDES!$J$2:$J$1048576)","v":0},0,{"$f":"SUMIF(SOLICITUDES!$C$2:$C$1048576,BD!C10893,SOLICITUDES!$K$2:$K$1048576)","v":0},0]
[null,null,"T26351",10,13200,240,-76.567133359328636,2.8279841168723943,5,5,2,2,{"$f":"SUMIF(SOLICITUDES!$C$2:$C$1048576,BD!C10904,SOLICITUDES!$I$2:$I$1048576)","v":0},0,{"$f":"SUMIF(SOLICITUDES!$C$2:$C$1048576,BD!C10904,SOLICITUDES!$J$2:$J$1048576)","v":0},0,{"$f":"SUMIF(SOLICITUDES!$C$2:$C$1048576,BD!C10904,SOLICITUDES!$K$2:$K$1048576)","v":0},0]
[null,null,"T8688",25,13200,240,-76.533041800558692,2.7821653012750494,12.5,12.5,5,5,{"$f":"SUMIF(SOLICITUDES!$C$2:$C$1048576,BD!C10911,SOLICITUDES!$I$2:$I$1048576)","v":0},0,{"$f":"SUMIF(SOLICITUDES!$C$2:$C$1048576,BD!C10911,SOLICITUDES!$J$2:$J$1048576)","v":0},0,{"$f":"SUMIF(SOLICITUDES!$C$2:$C$1048576,BD!C10911,SOLICITUDES!$K$2:$K$1048576)","v":0},0]
[null,null,"T42738",10,13200,240,-76.575667992862108,2.8374021774405884,5,5,2,2,{"$f":"SUMIF(SOLICITUDES!$C$2:$C$1048576,BD!C10925,SOLICITUDES!$I$2:$I$1048576)","v":0},0,{"$f":"SUMIF(SOLICITUDES!$C$2:$C$1048576,BD!C10925,SOLICITUDES!$J$2:$J$1048576)","v":0},0,{"$f":"SUMIF(SOLICITUDES!$C$2:$C$1048576,BD!C10925,SOLICITUDES!$K$2:$K$1048576)","v":0},0]
[null,null,"T2398",75,13200,208,-76.613582228874577,2.4268746249130269,37.5,37.5,15,15,{"$f":"SUMIF(SOLICITUDES!$C$2:$C$1048576,BD!C10936,SOLICITUDES!$I$2:$I$1048576)","v":0},0,{"$f":"SUMIF(SOLICITUDES!$C$2:$C$1048576,BD!C10936,SOLICITUDES!$J$2:$J$1048576)","v":0},0,{"$f":"SUMIF(SOLICITUDES!$C$2:$C$1048576,BD!C10936,SOLICITUDES!$K$2:$K$1048576)","v":0},0]
[null,null,"T2378",75,13200,208,-76.613177943254982,2.4259972973374548,37.5,37.5,15,15,{"$f":"SUMIF(SOLICITUDES!$C$2:$C$1048576,BD!C10941,SOLICITUDES!$I$2:$I$1048576)","v":0},0,{"$f":"SUMIF(SOLICITUDES!$C$2:$C$1048576,BD!C10941,SOLICITUDES!$J$2:$J$1048576)","v":0},0,{"$f":"SUMIF(SOLICITUDES!$C$2:$C$1048576,BD!C10941,SOLICITUDES!$K$2:$K$1048576)","v":0},0]
[null,null,"T2399",112.5,13200,208,-76.612277789950952,2.4290988064371395,56.25,56.25,22.5,22.5,{"$f":"SUMIF(SOLICITUDES!$C$2:$C$1048576,BD!C10952,SOLICITUDES!$I$2:$I$1048576)","v":0},0,{"$f":"SUMIF(SOLICITUDES!$C$2:$C$1048576,BD!C10952,SOLICITUDES!$J$2:$J$1048576)","v":0},0,{"$f":"SUMIF(SOLICITUDES!$C$2:$C$1048576,BD!C10952,SOLICITUDES!$K$2:$K$1048576)","v":0},0]
[null,null,"T51242",25,13200,240,-76.609524424050662,2.4333579751098413,12.5,12.5,5,5,{"$f":"SUMIF(SOLICITUDES!$C$2:$C$1048576,BD!C10967,SOLICITUDES!$I$2:$I$1048576)","v":0},0,{"$f":"SUMIF(SOLICITUDES!$C$2:$C$1048576,BD!C10967,SOLICITUDES!$J$2:$J$1048576)","v":0},0,{"$f":"SUMIF(SOLICITUDES!$C$2:$C$1048576,BD!C10967,SOLICITUDES!$K$2:$K$1048576)","v":0},0]
[null,null,"T3377",112.5,13200,208,-76.607447957507915,2.4340708834763869,56.25,56.25,22.5,22.5,{"$f":"SUMIF(SOLICITUDES!$C$2:$C$1048576,BD!C10972,SOLICITUDES!$I$2:$I$1048576)","v":0},0,{"$f":"SUMIF(SOLICITUDES!$C$2:$C$1048576,BD!C10972,SOLICITUDES!$J$2:$J$1048576)","v":0},0,{"$f":"SUMIF(SOLICITUDES!$C$2:$C$1048576,BD!C10972,SOLICITUDES!$K$2:$K$1048576)","v":0},0]
[null,null,"T24467",15,13200,240,-76.817900011066754,2.7117608085870759,7.5,7.5,3,3,{"$f":"SUMIF(SOLICITUDES!$C$2:$C$1048576,BD!C10983,SOLICITUDES!$I$2:$I$1048576)","v":0},0,{"$f":"SUMIF(SOLICITUDES!$C$2:$C$1048576,BD!C10983,SOLICITUDES!$J$2:$J$1048576)","v":0},0,{"$f":"SUMIF(SOLICITUDES!$C$2:$C$1048576,BD!C10983,SOLICITUDES!$K$2:$K$1048576)","v":0},0]
[null,null,"T24372",10,13200,240,-76.776940505688245,2.7139965987419163,5,5,2,2,{"$f":"SUMIF(SOLICITUDES!$C$2:$C$1048576,BD!C10988,SOLICITUDES!$I$2:$I$1048576)","v":0},0,{"$f":"SUMIF(SOLICITUDES!$C$2:$C$1048576,BD!C10988,SOLICITUDES!$J$2:$J$1048576)","v":0},0,{"$f":"SUMIF(SOLICITUDES!$C$2:$C$1048576,BD!C10988,SOLICITUDES!$K$2:$K$1048576)","v":0},0]
[null,null,"T24370",5,13200,240,-76.779056148502903,2.7192748653277077,2.5,2.5,1,1,{"$f":"SUMIF(SOLICITUDES!$C$2:$C$1048576,BD!C11002,SOLICITUDES!$I$2:$I$1048576)","v":0},0,{"$f":"SUMIF(SOLICITUDES!$C$2:$C$1048576,BD!C11002,SOLICITUDES!$J$2:$J$1048576)","v":0},0,{"$f":"SUMIF(SOLICITUDES!$C$2:$C$1048576,BD!C11002,SOLICITUDES!$K$2:$K$1048576)","v":0},0]
[null,null,"T24401",5,13200,240,-76.778841219792412,2.6889908606136945,2.5,2.5,1,1,{"$f":"SUMIF(SOLICITUDES!$C$2:$C$1048576,BD!C11015,SOLICITUDES!$I$2:$I$1048576)","v":0},0,{"$f":"SUMIF(SOLICITUDES!$C$2:$C$1048576,BD!C11015,SOLICITUDES!$J$2:$J$1048576)","v":0},0,{"$f":"SUMIF(SOLICITUDES!$C$2:$C$1048576,BD!C11015,SOLICITUDES!$K$2:$K$1048576)","v":0},0]
[null,null,"T21927",5,13200,240,-76.827592080759402,2.7298893072962782,2.5,2.5,1,1,{"$f":"SUMIF(SOLICITUDES!$C$2:$C$1048576,BD!C11020,SOLICITUDES!$I$2:$I$1048576)","v":0},0,{"$f":"SUMIF(SOLICITUDES!$C$2:$C$1048576,BD!C11020,SOLICITUDES!$J$2:$J$1048576)","v":0},0,{"$f":"SUMIF(SOLICITUDES!$C$2:$C$1048576,BD!C11020,SOLICITUDES!$K$2:$K$1048576)","v":0},0]
[null,null,"T24407",30,13200,240,-76.782448879225711,2.6867619086921768,15,15,6,6,{"$f":"SUMIF(SOLICITUDES!$C$2:$C$1048576,BD!C11031,SOLICITUDES!$I$2:$I$1048576)","v":0},0,{"$f":"SUMIF(SOLICITUDES!$C$2:$C$1048576,BD!C11031,SOLICITUDES!$J$2:$J$1048576)","v":0},0,{"$f":"SUMIF(SOLICITUDES!$C$2:$C$1048576,BD!C11031,SOLICITUDES!$K$2:$K$1048576)","v":0},0]
[null,null,"T21929",10,13200,240,-76.824815208251437,2.7325204690158342,5,5,2,2,{"$f":"SUMIF(SOLICITUDES!$C$2:$C$1048576,BD!C11046,SOLICITUDES!$I$2:$I$1048576)","v":0},0,{"$f":"SUMIF(SOLICITUDES!$C$2:$C$1048576,BD!C11046,SOLICITUDES!$J$2:$J$1048576)","v":0},0,{"$f":"SUMIF(SOLICITUDES!$C$2:$C$1048576,BD!C11046,SOLICITUDES!$K$2:$K$1048576)","v":0},0]
[null,null,"T14819",15,13200,240,-76.225967923923406,3.2166852680649862,7.5,7.5,3,3,{"$f":"SUMIF(SOLICITUDES!$C$2:$C$1048576,BD!C11051,SOLICITUDES!$I$2:$I$1048576)","v":0},0,{"$f":"SUMIF(SOLICITUDES!$C$2:$C$1048576,BD!C11051,SOLICITUDES!$J$2:$J$1048576)","v":0},0,{"$f":"SUMIF(SOLICITUDES!$C$2:$C$1048576,BD!C11051,SOLICITUDES!$K$2:$K$1048576)","v":0},0]
[null,null,"T22663",15,13200,240,-76.219817144470412,3.2033615972250584,7.5,7.5,3,3,{"$f":"SUMIF(SOLICITUDES!$C$2:$C$1048576,BD!C11062,SOLICITUDES!$I$2:$I$1048576)","v":0},0,{"$f":"SUMIF(SOLICITUDES!$C$2:$C$1048576,BD!C11062,SOLICITUDES!$J$2:$J$1048576)","v":0},0,{"$f":"SUMIF(SOLICITUDES!$C$2:$C$1048576,BD!C11062,SOLICITUDES!$K$2:$K$1048576)","v":0},0]
[null,null,"T27544",15,13200,240,-76.204911624729661,3.1963442540601754,7.5,7.5,3,3,{"$f":"SUMIF(SOLICITUDES!$C$2:$C$1048576,BD!C11077,SOLICITUDES!$I$2:$I$1048576)","v":0},0,{"$f":"SUMIF(SOLICITUDES!$C$2:$C$1048576,BD!C11077,SOLICITUDES!$J$2:$J$1048576)","v":0},0,{"$f":"SUMIF(SOLICITUDES!$C$2:$C$1048576,BD!C11077,SOLICITUDES!$K$2:$K$1048576)","v":0},0]
[null,null,"T21399",45,13200,208,-76.207805363362368,3.1899006845480034,22.5,22.5,9,9,{"$f":"SUMIF(SOLICITUDES!$C$2:$C$1048576,BD!C11088,SOLICITUDES!$I$2:$I$1048576)","v":0},0,{"$f":"SUMIF(SOLICITUDES!$C$2:$C$1048576,BD!C11088,SOLICITUDES!$J$2:$J$1048576)","v":0},0,{"$f":"SUMIF(SOLICITUDES!$C$2:$C$1048576,BD!C11088,SOLICITUDES!$K$2:$K$1048576)","v":0},0]
[null,null,"T21609",25,13200,240,-76.183367821495679,3.2229298027940483,12.5,12.5,5,5,{"$f":"SUMIF(SOLICITUDES!$C$2:$C$1048576,BD!C11097,SOLICITUDES!$I$2:$I$1048576)","v":0},0,{"$f":"SUMIF(SOLICITUDES!$C$2:$C$1048576,BD!C11097,SOLICITUDES!$J$2:$J$1048576)","v":0},0,{"$f":"SUMIF(SOLICITUDES!$C$2:$C$1048576,BD!C11097,SOLICITUDES!$K$2:$K$1048576)","v":0},0]
[null,null,"T2533",37.5,13200,240,-76.616856315368594,2.4469810666254603,18.75,18.75,7.5,7.5,{"$f":"SUMIF(SOLICITUDES!$C$2:$C$1048576,BD!C11109,SOLICITUDES!$I$2:$I$1048576)","v":0},0,{"$f":"SUMIF(SOLICITUDES!$C$2:$C$1048576,BD!C11109,SOLICITUDES!$J$2:$J$1048576)","v":0},0,{"$f":"SUMIF(SOLICITUDES!$C$2:$C$1048576,BD!C11109,SOLICITUDES!$K$2:$K$1048576)","v":0},0]
[null,null,"T2536",75,13200,208,-76.618411389002929,2.4500540977811913,37.5,37.5,15,15,{"$f":"SUMIF(SOLICITUDES!$C$2:$C$1048576,BD!C11110,SOLICITUDES!$I$2:$I$1048576)","v":0},0,{"$f":"SUMIF(SOLICITUDES!$C$2:$C$1048576,BD!C11110,SOLICITUDES!$J$2:$J$1048576)","v":0},0,{"$f":"SUMIF(SOLICITUDES!$C$2:$C$1048576,BD!C11110,SOLICITUDES!$K$2:$K$1048576)","v":0},0]
[null,null,"T2176",75,13200,208,-76.604168062802685,2.4544712037660203,37.5,37.5,15,15,{"$f":"SUMIF(SOLICITUDES!$C$2:$C$1048576,BD!C11125,SOLICITUDES!$I$2:$I$1048576)","v":0},0,{"$f":"SUMIF(SOLICITUDES!$C$2:$C$1048576,BD!C11125,SOLICITUDES!$J$2:$J$1048576)","v":0},0,{"$f":"SUMIF(SOLICITUDES!$C$2:$C$1048576,BD!C11125,SOLICITUDES!$K$2:$K$1048576)","v":0},0]
[null,null,"T2170",75,13200,208,-76.605148767563534,2.4525363116982701,37.5,37.5,15,15,{"$f":"SUMIF(SOLICITUDES!$C$2:$C$1048576,BD!C11130,SOLICITUDES!$I$2:$I$1048576)","v":0},0,{"$f":"SUMIF(SOLICITUDES!$C$2:$C$1048576,BD!C11130,SOLICITUDES!$J$2:$J$1048576)","v":0},0,{"$f":"SUMIF(SOLICITUDES!$C$2:$C$1048576,BD!C11130,SOLICITUDES!$K$2:$K$1048576)","v":0},0]
[null,null,"T2174",75,13200,208,-76.608682251475145,2.4525104402018658,37.5,37.5,15,15,{"$f":"SUMIF(SOLICITUDES!$C$2:$C$1048576,BD!C11141,SOLICITUDES!$I$2:$I$1048576)","v":0},0,{"$f":"SUMIF(SOLICITUDES!$C$2:$C$1048576,BD!C11141,SOLICITUDES!$J$2:$J$1048576)","v":0},0,{"$f":"SUMIF(SOLICITUDES!$C$2:$C$1048576,BD!C11141,SOLICITUDES!$K$2:$K$1048576)","v":0},0]
[null,null,"T2346",25,13200,240,-76.618473510155951,2.4326296027379395,12.5,12.5,5,5,{"$f":"SUMIF(SOLICITUDES!$C$2:$C$1048576,BD!C11156,SOLICITUDES!$I$2:$I$1048576)","v":0},0,{"$f":"SUMIF(SOLICITUDES!$C$2:$C$1048576,BD!C11156,SOLICITUDES!$J$2:$J$1048576)","v":0},0,{"$f":"SUMIF(SOLICITUDES!$C$2:$C$1048576,BD!C11156,SOLICITUDES!$K$2:$K$1048576)","v":0},0]
[null,null,"T5946",15,13200,240,-76.686647200171365,2.4288431521591685,7.5,7.5,3,3,{"$f":"SUMIF(SOLICITUDES!$C$2:$C$1048576,BD!C11167,SOLICITUDES!$I$2:$I$1048576)","v":0},0,{"$f":"SUMIF(SOLICITUDES!$C$2:$C$1048576,BD!C11167,SOLICITUDES!$J$2:$J$1048576)","v":0},0,{"$f":"SUMIF(SOLICITUDES!$C$2:$C$1048576,BD!C11167,SOLICITUDES!$K$2:$K$1048576)","v":0},0]
[null,null,"T5944",5,13200,240,-76.582567381096595,2.32290841053329,2.5,2.5,1,1,{"$f":"SUMIF(SOLICITUDES!$C$2:$C$1048576,BD!C11172,SOLICITUDES!$I$2:$I$1048576)","v":0},0,{"$f":"SUMIF(SOLICITUDES!$C$2:$C$1048576,BD!C11172,SOLICITUDES!$J$2:$J$1048576)","v":0},0,{"$f":"SUMIF(SOLICITUDES!$C$2:$C$1048576,BD!C11172,SOLICITUDES!$K$2:$K$1048576)","v":0},0]
[null,null,"T5914",15,13200,240,-76.583065037215221,2.3052461808686089,7.5,7.5,3,3,{"$f":"SUMIF(SOLICITUDES!$C$2:$C$1048576,BD!C11187,SOLICITUDES!$I$2:$I$1048576)","v":0},0,{"$f":"SUMIF(SOLICITUDES!$C$2:$C$1048576,BD!C11187,SOLICITUDES!$J$2:$J$1048576)","v":0},0,{"$f":"SUMIF(SOLICITUDES!$C$2:$C$1048576,BD!C11187,SOLICITUDES!$K$2:$K$1048576)","v":0},0]
[null,null,"T5925",15,13200,240,-76.703540067398066,2.4527506914360151,7.5,7.5,3,3,{"$f":"SUMIF(SOLICITUDES!$C$2:$C$1048576,BD!C11197,SOLICITUDES!$I$2:$I$1048576)","v":0},0,{"$f":"SUMIF(SOLICITUDES!$C$2:$C$1048576,BD!C11197,SOLICITUDES!$J$2:$J$1048576)","v":0},0,{"$f":"SUMIF(SOLICITUDES!$C$2:$C$1048576,BD!C11197,SOLICITUDES!$K$2:$K$1048576)","v":0},0]
[null,null,"T44897",25,13200,240,-76.658684845413688,2.4295892447828722,{"$f":"D11204*0.5","v":12.5},12.5,{"$f":"0.2*D11204","v":5},{"$f":"0.2*D11204","v":5},{"$f":"SUMIF(SOLICITUDES!$C$2:$C$1048576,BD!C11204,SOLICITUDES!$I$2:$I$1048576)","v":0},0,{"$f":"SUMIF(SOLICITUDES!$C$2:$C$1048576,BD!C11204,SOLICITUDES!$J$2:$J$1048576)","v":0},{"$f":"O11204/(2*K11204)","v":0},{"$f":"SUMIF(SOLICITUDES!$C$2:$C$1048576,BD!C11204,SOLICITUDES!$K$2:$K$1048576)","v":0},{"$f":"Q11204/(2*L11204)","v":0}]
[null,null,"T30943",1250,13200,216,-76.559747643275429,2.4874898646327592,625,625,250,250,{"$f":"SUMIF(SOLICITUDES!$C$2:$C$1048576,BD!C11219,SOLICITUDES!$I$2:$I$1048576)","v":0},0,{"$f":"SUMIF(SOLICITUDES!$C$2:$C$1048576,BD!C11219,SOLICITUDES!$J$2:$J$1048576)","v":0},0,{"$f":"SUMIF(SOLICITUDES!$C$2:$C$1048576,BD!C11219,SOLICITUDES!$K$2:$K$1048576)","v":0},0]
[null,null,"T4164",75,13200,220,-76.592786257810872,2.4521701017901201,37.5,37.5,15,15,{"$f":"SUMIF(SOLICITUDES!$C$2:$C$1048576,BD!C11230,SOLICITUDES!$I$2:$I$1048576)","v":0},0,{"$f":"SUMIF(SOLICITUDES!$C$2:$C$1048576,BD!C11230,SOLICITUDES!$J$2:$J$1048576)","v":0},0,{"$f":"SUMIF(SOLICITUDES!$C$2:$C$1048576,BD!C11230,SOLICITUDES!$K$2:$K$1048576)","v":0},0]
[null,null,"T5029",10,13200,220,-76.562355894640319,2.4414967108007355,5,5,2,2,{"$f":"SUMIF(SOLICITUDES!$C$2:$C$1048576,BD!C11235,SOLICITUDES!$I$2:$I$1048576)","v":0},0,{"$f":"SUMIF(SOLICITUDES!$C$2:$C$1048576,BD!C11235,SOLICITUDES!$J$2:$J$1048576)","v":0},0,{"$f":"SUMIF(SOLICITUDES!$C$2:$C$1048576,BD!C11235,SOLICITUDES!$K$2:$K$1048576)","v":0},0]
[null,null,"T16739",112.5,13200,208,-76.415071197714553,3.2242717387709554,56.25,56.25,22.5,22.5,{"$f":"SUMIF(SOLICITUDES!$C$2:$C$1048576,BD!C11246,SOLICITUDES!$I$2:$I$1048576)","v":0},0,{"$f":"SUMIF(SOLICITUDES!$C$2:$C$1048576,BD!C11246,SOLICITUDES!$J$2:$J$1048576)","v":0},0,{"$f":"SUMIF(SOLICITUDES!$C$2:$C$1048576,BD!C11246,SOLICITUDES!$K$2:$K$1048576)","v":0},0]
[null,null,"T16736",37.5,13200,240,-76.414344871970698,3.2205546717767013,18.75,18.75,7.5,7.5,{"$f":"SUMIF(SOLICITUDES!$C$2:$C$1048576,BD!C11251,SOLICITUDES!$I$2:$I$1048576)","v":0},0,{"$f":"SUMIF(SOLICITUDES!$C$2:$C$1048576,BD!C11251,SOLICITUDES!$J$2:$J$1048576)","v":0},0,{"$f":"SUMIF(SOLICITUDES!$C$2:$C$1048576,BD!C11251,SOLICITUDES!$K$2:$K$1048576)","v":0},0]
[null,null,"T25454",45,13200,214,-76.396089850351018,3.221799461237,22.5,22.5,9,9,{"$f":"SUMIF(SOLICITUDES!$C$2:$C$1048576,BD!C11266,SOLICITUDES!$I$2:$I$1048576)","v":0},0,{"$f":"SUMIF(SOLICITUDES!$C$2:$C$1048576,BD!C11266,SOLICITUDES!$J$2:$J$1048576)","v":0},0,{"$f":"SUMIF(SOLICITUDES!$C$2:$C$1048576,BD!C11266,SOLICITUDES!$K$2:$K$1048576)","v":0},0]
[null,null,"T10795",15,13200,240,-76.821517633543749,2.3931140268332212,7.5,7.5,3,3,{"$f":"SUMIF(SOLICITUDES!$C$2:$C$1048576,BD!C11277,SOLICITUDES!$I$2:$I$1048576)","v":0},0,{"$f":"SUMIF(SOLICITUDES!$C$2:$C$1048576,BD!C11277,SOLICITUDES!$J$2:$J$1048576)","v":0},0,{"$f":"SUMIF(SOLICITUDES!$C$2:$C$1048576,BD!C11277,SOLICITUDES!$K$2:$K$1048576)","v":0},0]
[null,null,"T7569",25,13200,240,-76.755950511039359,2.4028973553302104,12.5,12.5,5,5,{"$f":"SUMIF(SOLICITUDES!$C$2:$C$1048576,BD!C11288,SOLICITUDES!$I$2:$I$1048576)","v":0},0,{"$f":"SUMIF(SOLICITUDES!$C$2:$C$1048576,BD!C11288,SOLICITUDES!$J$2:$J$1048576)","v":0},0,{"$f":"SUMIF(SOLICITUDES!$C$2:$C$1048576,BD!C11288,SOLICITUDES!$K$2:$K$1048576)","v":0},0]
[null,null,"T7563",25,13200,214,-76.757422201607469,2.4148982619394457,12.5,12.5,5,5,{"$f":"SUMIF(SOLICITUDES!$C$2:$C$1048576,BD!C11294,SOLICITUDES!$I$2:$I$1048576)","v":0},0,{"$f":"SUMIF(SOLICITUDES!$C$2:$C$1048576,BD!C11294,SOLICITUDES!$J$2:$J$1048576)","v":0},0,{"$f":"SUMIF(SOLICITUDES!$C$2:$C$1048576,BD!C11294,SOLICITUDES!$K$2:$K$1048576)","v":0},0]
[null,null,"T4993",45,13200,220,-76.615098354906962,2.4365785362493653,22.5,22.5,9,9,{"$f":"SUMIF(SOLICITUDES!$C$2:$C$1048576,BD!C11309,SOLICITUDES!$I$2:$I$1048576)","v":0},0,{"$f":"SUMIF(SOLICITUDES!$C$2:$C$1048576,BD!C11309,SOLICITUDES!$J$2:$J$1048576)","v":0},0,{"$f":"SUMIF(SOLICITUDES!$C$2:$C$1048576,BD!C11309,SOLICITUDES!$K$2:$K$1048576)","v":0},0]
[null,null,"T4975",150,13200,208,-76.613406900225201,2.4359031492330971,75,75,30,30,{"$f":"SUMIF(SOLICITUDES!$C$2:$C$1048576,BD!C11314,SOLICITUDES!$I$2:$I$1048576)","v":0},0,{"$f":"SUMIF(SOLICITUDES!$C$2:$C$1048576,BD!C11314,SOLICITUDES!$J$2:$J$1048576)","v":0},0,{"$f":"SUMIF(SOLICITUDES!$C$2:$C$1048576,BD!C11314,SOLICITUDES!$K$2:$K$1048576)","v":0},0]
[null,null,"T7296",25,34500,240,-76.480144303504773,3.0356407712454683,12.5,12.5,5,5,{"$f":"SUMIF(SOLICITUDES!$C$2:$C$1048576,BD!C11325,SOLICITUDES!$I$2:$I$1048576)","v":0},0,{"$f":"SUMIF(SOLICITUDES!$C$2:$C$1048576,BD!C11325,SOLICITUDES!$J$2:$J$1048576)","v":0},0,{"$f":"SUMIF(SOLICITUDES!$C$2:$C$1048576,BD!C11325,SOLICITUDES!$K$2:$K$1048576)","v":0},0]
[null,null,"T6046",15,13200,240,-76.3872198119643,2.5207140499565175,7.5,7.5,3,3,{"$f":"SUMIF(SOLICITUDES!$C$2:$C$1048576,BD!C11340,SOLICITUDES!$I$2:$I$1048576)","v":0},0,{"$f":"SUMIF(SOLICITUDES!$C$2:$C$1048576,BD!C11340,SOLICITUDES!$J$2:$J$1048576)","v":0},0,{"$f":"SUMIF(SOLICITUDES!$C$2:$C$1048576,BD!C11340,SOLICITUDES!$K$2:$K$1048576)","v":0},0]
[null,null,"T6455",15,13200,240,-76.371336977664797,2.5124855110082072,7.5,7.5,3,3,{"$f":"SUMIF(SOLICITUDES!$C$2:$C$1048576,BD!C11345,SOLICITUDES!$I$2:$I$1048576)","v":0},0,{"$f":"SUMIF(SOLICITUDES!$C$2:$C$1048576,BD!C11345,SOLICITUDES!$J$2:$J$1048576)","v":0},0,{"$f":"SUMIF(SOLICITUDES!$C$2:$C$1048576,BD!C11345,SOLICITUDES!$K$2:$K$1048576)","v":0},0]
[null,null,"T7218",15,13200,240,-76.363786463400913,2.5251864244549092,7.5,7.5,3,3,{"$f":"SUMIF(SOLICITUDES!$C$2:$C$1048576,BD!C11356,SOLICITUDES!$I$2:$I$1048576)","v":0},0,{"$f":"SUMIF(SOLICITUDES!$C$2:$C$1048576,BD!C11356,SOLICITUDES!$J$2:$J$1048576)","v":0},0,{"$f":"SUMIF(SOLICITUDES!$C$2:$C$1048576,BD!C11356,SOLICITUDES!$K$2:$K$1048576)","v":0},0]
[null,null,"T6464",25,13200,240,-76.351277879973168,2.496468612834823,12.5,12.5,5,5,{"$f":"SUMIF(SOLICITUDES!$C$2:$C$1048576,BD!C11371,SOLICITUDES!$I$2:$I$1048576)","v":0},0,{"$f":"SUMIF(SOLICITUDES!$C$2:$C$1048576,BD!C11371,SOLICITUDES!$J$2:$J$1048576)","v":0},0,{"$f":"SUMIF(SOLICITUDES!$C$2:$C$1048576,BD!C11371,SOLICITUDES!$K$2:$K$1048576)","v":0},0]
[null,null,"T8676",10,13200,240,-76.336018627821971,2.5468009756575154,5,5,2,2,{"$f":"SUMIF(SOLICITUDES!$C$2:$C$1048576,BD!C11372,SOLICITUDES!$I$2:$I$1048576)","v":0},0,{"$f":"SUMIF(SOLICITUDES!$C$2:$C$1048576,BD!C11372,SOLICITUDES!$J$2:$J$1048576)","v":0},0,{"$f":"SUMIF(SOLICITUDES!$C$2:$C$1048576,BD!C11372,SOLICITUDES!$K$2:$K$1048576)","v":0},0]
[null,null,"T13255",25,13200,240,-76.394665990624333,2.960476764836474,12.5,12.5,5,5,{"$f":"SUMIF(SOLICITUDES!$C$2:$C$1048576,BD!C11388,SOLICITUDES!$I$2:$I$1048576)","v":0},0,{"$f":"SUMIF(SOLICITUDES!$C$2:$C$1048576,BD!C11388,SOLICITUDES!$J$2:$J$1048576)","v":0},0,{"$f":"SUMIF(SOLICITUDES!$C$2:$C$1048576,BD!C11388,SOLICITUDES!$K$2:$K$1048576)","v":0},0]
[null,null,"T14006",15,13200,240,-76.564081751827416,2.9533109014692869,7.5,7.5,3,3,{"$f":"SUMIF(SOLICITUDES!$C$2:$C$1048576,BD!C11393,SOLICITUDES!$I$2:$I$1048576)","v":0},0,{"$f":"SUMIF(SOLICITUDES!$C$2:$C$1048576,BD!C11393,SOLICITUDES!$J$2:$J$1048576)","v":0},0,{"$f":"SUMIF(SOLICITUDES!$C$2:$C$1048576,BD!C11393,SOLICITUDES!$K$2:$K$1048576)","v":0},0]
[null,null,"T20856",10,13200,220,-76.387249185343819,2.9826451846075077,5,5,2,2,{"$f":"SUMIF(SOLICITUDES!$C$2:$C$1048576,BD!C11404,SOLICITUDES!$I$2:$I$1048576)","v":0},0,{"$f":"SUMIF(SOLICITUDES!$C$2:$C$1048576,BD!C11404,SOLICITUDES!$J$2:$J$1048576)","v":0},0,{"$f":"SUMIF(SOLICITUDES!$C$2:$C$1048576,BD!C11404,SOLICITUDES!$K$2:$K$1048576)","v":0},0]
[null,null,"T29148",15,13200,240,-76.55317247262029,2.9315018834799749,7.5,7.5,3,3,{"$f":"SUMIF(SOLICITUDES!$C$2:$C$1048576,BD!C11419,SOLICITUDES!$I$2:$I$1048576)","v":0},0,{"$f":"SUMIF(SOLICITUDES!$C$2:$C$1048576,BD!C11419,SOLICITUDES!$J$2:$J$1048576)","v":0},0,{"$f":"SUMIF(SOLICITUDES!$C$2:$C$1048576,BD!C11419,SOLICITUDES!$K$2:$K$1048576)","v":0},0]
[null,null,"T13967",15,13200,240,-76.409863845445983,2.9192451397740746,7.5,7.5,3,3,{"$f":"SUMIF(SOLICITUDES!$C$2:$C$1048576,BD!C11424,SOLICITUDES!$I$2:$I$1048576)","v":0},0,{"$f":"SUMIF(SOLICITUDES!$C$2:$C$1048576,BD!C11424,SOLICITUDES!$J$2:$J$1048576)","v":0},0,{"$f":"SUMIF(SOLICITUDES!$C$2:$C$1048576,BD!C11424,SOLICITUDES!$K$2:$K$1048576)","v":0},0]
[null,null,"T13253",5,13200,240,-76.430910424381821,2.8990019056135514,2.5,2.5,1,1,{"$f":"SUMIF(SOLICITUDES!$C$2:$C$1048576,BD!C11435,SOLICITUDES!$I$2:$I$1048576)","v":0},0,{"$f":"SUMIF(SOLICITUDES!$C$2:$C$1048576,BD!C11435,SOLICITUDES!$J$2:$J$1048576)","v":0},0,{"$f":"SUMIF(SOLICITUDES!$C$2:$C$1048576,BD!C11435,SOLICITUDES!$K$2:$K$1048576)","v":0},0]
[null,null,"T12924",75,13200,208,-76.641875239284843,3.0174442509220869,37.5,37.5,15,15,{"$f":"SUMIF(SOLICITUDES!$C$2:$C$1048576,BD!C11450,SOLICITUDES!$I$2:$I$1048576)","v":0},0,{"$f":"SUMIF(SOLICITUDES!$C$2:$C$1048576,BD!C11450,SOLICITUDES!$J$2:$J$1048576)","v":0},0,{"$f":"SUMIF(SOLICITUDES!$C$2:$C$1048576,BD!C11450,SOLICITUDES!$K$2:$K$1048576)","v":0},0]
[null,null,"T12910",37.5,13200,240,-76.644130449107166,3.0094132953891424,18.75,18.75,7.5,7.5,{"$f":"SUMIF(SOLICITUDES!$C$2:$C$1048576,BD!C11461,SOLICITUDES!$I$2:$I$1048576)","v":0},0,{"$f":"SUMIF(SOLICITUDES!$C$2:$C$1048576,BD!C11461,SOLICITUDES!$J$2:$J$1048576)","v":0},0,{"$f":"SUMIF(SOLICITUDES!$C$2:$C$1048576,BD!C11461,SOLICITUDES!$K$2:$K$1048576)","v":0},0]
[null,null,"T10903",25,13200,240,-76.656103622605229,3.0996780990231168,12.5,12.5,5,5,{"$f":"SUMIF(SOLICITUDES!$C$2:$C$1048576,BD!C11463,SOLICITUDES!$I$2:$I$1048576)","v":0},0,{"$f":"SUMIF(SOLICITUDES!$C$2:$C$1048576,BD!C11463,SOLICITUDES!$J$2:$J$1048576)","v":0},0,{"$f":"SUMIF(SOLICITUDES!$C$2:$C$1048576,BD!C11463,SOLICITUDES!$K$2:$K$1048576)","v":0},0]
[null,null,"T11491",10,13200,240,-76.693068421161911,3.0990864474018496,5,5,2,2,{"$f":"SUMIF(SOLICITUDES!$C$2:$C$1048576,BD!C11482,SOLICITUDES!$I$2:$I$1048576)","v":0},0,{"$f":"SUMIF(SOLICITUDES!$C$2:$C$1048576,BD!C11482,SOLICITUDES!$J$2:$J$1048576)","v":0},0,{"$f":"SUMIF(SOLICITUDES!$C$2:$C$1048576,BD!C11482,SOLICITUDES!$K$2:$K$1048576)","v":0},0]
[null,null,"T12861",25,13200,240,-76.661590757122511,3.0080365813974175,12.5,12.5,5,5,{"$f":"SUMIF(SOLICITUDES!$C$2:$C$1048576,BD!C11493,SOLICITUDES!$I$2:$I$1048576)","v":0},0,{"$f":"SUMIF(SOLICITUDES!$C$2:$C$1048576,BD!C11493,SOLICITUDES!$J$2:$J$1048576)","v":0},0,{"$f":"SUMIF(SOLICITUDES!$C$2:$C$1048576,BD!C11493,SOLICITUDES!$K$2:$K$1048576)","v":0},0]
[null,null,"T12865",15,13200,240,-76.66091385461732,3.0139686375888286,7.5,7.5,3,3,{"$f":"SUMIF(SOLICITUDES!$C$2:$C$1048576,BD!C11498,SOLICITUDES!$I$2:$I$1048576)","v":0},0,{"$f":"SUMIF(SOLICITUDES!$C$2:$C$1048576,BD!C11498,SOLICITUDES!$J$2:$J$1048576)","v":0},0,{"$f":"SUMIF(SOLICITUDES!$C$2:$C$1048576,BD!C11498,SOLICITUDES!$K$2:$K$1048576)","v":0},0]
[null,null,"T16142",15,13200,240,-76.61115087576411,3.0169444661164122,7.5,7.5,3,3,{"$f":"SUMIF(SOLICITUDES!$C$2:$C$1048576,BD!C11509,SOLICITUDES!$I$2:$I$1048576)","v":0},0,{"$f":"SUMIF(SOLICITUDES!$C$2:$C$1048576,BD!C11509,SOLICITUDES!$J$2:$J$1048576)","v":0},0,{"$f":"SUMIF(SOLICITUDES!$C$2:$C$1048576,BD!C11509,SOLICITUDES!$K$2:$K$1048576)","v":0},0]
[null,null,"T42788",0.5,13200,240,-76.63789103916065,2.5684277780084841,0.25,0.25,0.1,0.1,{"$f":"SUMIF(SOLICITUDES!$C$2:$C$1048576,BD!C11514,SOLICITUDES!$I$2:$I$1048576)","v":0},0,{"$f":"SUMIF(SOLICITUDES!$C$2:$C$1048576,BD!C11514,SOLICITUDES!$J$2:$J$1048576)","v":0},0,{"$f":"SUMIF(SOLICITUDES!$C$2:$C$1048576,BD!C11514,SOLICITUDES!$K$2:$K$1048576)","v":0},0]
[null,null,"T17328",15,13200,240,-76.725996174442727,3.1190022880403361,7.5,7.5,3,3,{"$f":"SUMIF(SOLICITUDES!$C$2:$C$1048576,BD!C11529,SOLICITUDES!$I$2:$I$1048576)","v":0},0,{"$f":"SUMIF(SOLICITUDES!$C$2:$C$1048576,BD!C11529,SOLICITUDES!$J$2:$J$1048576)","v":0},0,{"$f":"SUMIF(SOLICITUDES!$C$2:$C$1048576,BD!C11529,SOLICITUDES!$K$2:$K$1048576)","v":0},0]
[null,null,"T13107",10,13200,240,-76.723472207884669,3.0805133113510488,5,5,2,2,{"$f":"SUMIF(SOLICITUDES!$C$2:$C$1048576,BD!C11540,SOLICITUDES!$I$2:$I$1048576)","v":0},0,{"$f":"SUMIF(SOLICITUDES!$C$2:$C$1048576,BD!C11540,SOLICITUDES!$J$2:$J$1048576)","v":0},0,{"$f":"SUMIF(SOLICITUDES!$C$2:$C$1048576,BD!C11540,SOLICITUDES!$K$2:$K$1048576)","v":0},0]
[null,null,"T13103",25,13200,240,-76.7186725629102,3.0680681972343824,12.5,12.5,5,5,{"$f":"SUMIF(SOLICITUDES!$C$2:$C$1048576,BD!C11545,SOLICITUDES!$I$2:$I$1048576)","v":0},0,{"$f":"SUMIF(SOLICITUDES!$C$2:$C$1048576,BD!C11545,SOLICITUDES!$J$2:$J$1048576)","v":0},0,{"$f":"SUMIF(SOLICITUDES!$C$2:$C$1048576,BD!C11545,SOLICITUDES!$K$2:$K$1048576)","v":0},0]
[null,null,"T17666",10,13200,240,-76.747046895646562,3.0918251584056362,5,5,2,2,{"$f":"SUMIF(SOLICITUDES!$C$2:$C$1048576,BD!C11554,SOLICITUDES!$I$2:$I$1048576)","v":0},0,{"$f":"SUMIF(SOLICITUDES!$C$2:$C$1048576,BD!C11554,SOLICITUDES!$J$2:$J$1048576)","v":0},0,{"$f":"SUMIF(SOLICITUDES!$C$2:$C$1048576,BD!C11554,SOLICITUDES!$K$2:$K$1048576)","v":0},0]
[null,null,"T13110",15,13200,240,-76.747728179798273,3.0415898383809097,7.5,7.5,3,3,{"$f":"SUMIF(SOLICITUDES!$C$2:$C$1048576,BD!C11572,SOLICITUDES!$I$2:$I$1048576)","v":0},0,{"$f":"SUMIF(SOLICITUDES!$C$2:$C$1048576,BD!C11572,SOLICITUDES!$J$2:$J$1048576)","v":0},0,{"$f":"SUMIF(SOLICITUDES!$C$2:$C$1048576,BD!C11572,SOLICITUDES!$K$2:$K$1048576)","v":0},0]
[null,null,"T28324",5,13200,240,-76.737140722813905,3.1057873984568154,2.5,2.5,1,1,{"$f":"SUMIF(SOLICITUDES!$C$2:$C$1048576,BD!C11577,SOLICITUDES!$I$2:$I$1048576)","v":0},0,{"$f":"SUMIF(SOLICITUDES!$C$2:$C$1048576,BD!C11577,SOLICITUDES!$J$2:$J$1048576)","v":0},0,{"$f":"SUMIF(SOLICITUDES!$C$2:$C$1048576,BD!C11577,SOLICITUDES!$K$2:$K$1048576)","v":0},0]
[null,null,"T28337",10,13200,240,-76.765255450954498,3.0884739017471303,{"$f":"D11588*0.5","v":5},5,{"$f":"0.2*D11588","v":2},{"$f":"0.2*D11588","v":2},{"$f":"SUMIF(SOLICITUDES!$C$2:$C$1048576,BD!C11588,SOLICITUDES!$I$2:$I$1048576)","v":0},0,{"$f":"SUMIF(SOLICITUDES!$C$2:$C$1048576,BD!C11588,SOLICITUDES!$J$2:$J$1048576)","v":0},{"$f":"O11588/(2*K11588)","v":0},{"$f":"SUMIF(SOLICITUDES!$C$2:$C$1048576,BD!C11588,SOLICITUDES!$K$2:$K$1048576)","v":0},{"$f":"Q11588/(2*L11588)","v":0}]
[null,null,"T24010",10,13200,240,-76.769441510110653,3.0780419007791071,5,5,2,2,{"$f":"SUMIF(SOLICITUDES!$C$2:$C$1048576,BD!C11603,SOLICITUDES!$I$2:$I$1048576)","v":0},0,{"$f":"SUMIF(SOLICITUDES!$C$2:$C$1048576,BD!C11603,SOLICITUDES!$J$2:$J$1048576)","v":0},0,{"$f":"SUMIF(SOLICITUDES!$C$2:$C$1048576,BD!C11603,SOLICITUDES!$K$2:$K$1048576)","v":0},0]
[null,null,"T29138",10,13200,240,-76.773086360129184,3.0936866761828203,5,5,2,2,{"$f":"SUMIF(SOLICITUDES!$C$2:$C$1048576,BD!C11608,SOLICITUDES!$I$2:$I$1048576)","v":0},0,{"$f":"SUMIF(SOLICITUDES!$C$2:$C$1048576,BD!C11608,SOLICITUDES!$J$2:$J$1048576)","v":0},0,{"$f":"SUMIF(SOLICITUDES!$C$2:$C$1048576,BD!C11608,SOLICITUDES!$K$2:$K$1048576)","v":0},0]
[null,null,"T29145",25,13200,240,-76.802038106859214,3.0796406593106522,12.5,12.5,5,5,{"$f":"SUMIF(SOLICITUDES!$C$2:$C$1048576,BD!C11619,SOLICITUDES!$I$2:$I$1048576)","v":0},0,{"$f":"SUMIF(SOLICITUDES!$C$2:$C$1048576,BD!C11619,SOLICITUDES!$J$2:$J$1048576)","v":0},0,{"$f":"SUMIF(SOLICITUDES!$C$2:$C$1048576,BD!C11619,SOLICITUDES!$K$2:$K$1048576)","v":0},0]
[null,null,"T19565",5,13200,240,-77.014553108771409,2.295293067078966,2.5,2.5,1,1,{"$f":"SUMIF(SOLICITUDES!$C$2:$C$1048576,BD!C11634,SOLICITUDES!$I$2:$I$1048576)","v":0},0,{"$f":"SUMIF(SOLICITUDES!$C$2:$C$1048576,BD!C11634,SOLICITUDES!$J$2:$J$1048576)","v":0},0,{"$f":"SUMIF(SOLICITUDES!$C$2:$C$1048576,BD!C11634,SOLICITUDES!$K$2:$K$1048576)","v":0},0]
[null,null,"T22326",37.5,13200,240,-77.035331975107994,2.2947568415122861,18.75,18.75,7.5,7.5,{"$f":"SUMIF(SOLICITUDES!$C$2:$C$1048576,BD!C11635,SOLICITUDES!$I$2:$I$1048576)","v":0},0,{"$f":"SUMIF(SOLICITUDES!$C$2:$C$1048576,BD!C11635,SOLICITUDES!$J$2:$J$1048576)","v":0},0,{"$f":"SUMIF(SOLICITUDES!$C$2:$C$1048576,BD!C11635,SOLICITUDES!$K$2:$K$1048576)","v":0},0]
[null,null,"T19566",5,13200,240,-77.026087616029798,2.2970759316937874,2.5,2.5,1,1,{"$f":"SUMIF(SOLICITUDES!$C$2:$C$1048576,BD!C11649,SOLICITUDES!$I$2:$I$1048576)","v":0},0,{"$f":"SUMIF(SOLICITUDES!$C$2:$C$1048576,BD!C11649,SOLICITUDES!$J$2:$J$1048576)","v":0},0,{"$f":"SUMIF(SOLICITUDES!$C$2:$C$1048576,BD!C11649,SOLICITUDES!$K$2:$K$1048576)","v":0},0]
[null,null,"T19534",5,13200,240,-77.02727074601016,2.2300135194390305,2.5,2.5,1,1,{"$f":"SUMIF(SOLICITUDES!$C$2:$C$1048576,BD!C11656,SOLICITUDES!$I$2:$I$1048576)","v":0},0,{"$f":"SUMIF(SOLICITUDES!$C$2:$C$1048576,BD!C11656,SOLICITUDES!$J$2:$J$1048576)","v":0},0,{"$f":"SUMIF(SOLICITUDES!$C$2:$C$1048576,BD!C11656,SOLICITUDES!$K$2:$K$1048576)","v":0},0]
[null,null,"T22335",25,13200,240,-77.005969963021528,2.2191467412314716,12.5,12.5,5,5,{"$f":"SUMIF(SOLICITUDES!$C$2:$C$1048576,BD!C11667,SOLICITUDES!$I$2:$I$1048576)","v":0},0,{"$f":"SUMIF(SOLICITUDES!$C$2:$C$1048576,BD!C11667,SOLICITUDES!$J$2:$J$1048576)","v":0},0,{"$f":"SUMIF(SOLICITUDES!$C$2:$C$1048576,BD!C11667,SOLICITUDES!$K$2:$K$1048576)","v":0},0]
[null,null,"T12757",10,13200,240,-76.273950458863183,3.1677076201639531,5,5,2,2,{"$f":"SUMIF(SOLICITUDES!$C$2:$C$1048576,BD!C11682,SOLICITUDES!$I$2:$I$1048576)","v":0},0,{"$f":"SUMIF(SOLICITUDES!$C$2:$C$1048576,BD!C11682,SOLICITUDES!$J$2:$J$1048576)","v":0},0,{"$f":"SUMIF(SOLICITUDES!$C$2:$C$1048576,BD!C11682,SOLICITUDES!$K$2:$K$1048576)","v":0},0]
[null,null,"T18379",10,13200,240,-76.22378338491086,3.1645098536670475,5,5,2,2,{"$f":"SUMIF(SOLICITUDES!$C$2:$C$1048576,BD!C11687,SOLICITUDES!$I$2:$I$1048576)","v":0},0,{"$f":"SUMIF(SOLICITUDES!$C$2:$C$1048576,BD!C11687,SOLICITUDES!$J$2:$J$1048576)","v":0},0,{"$f":"SUMIF(SOLICITUDES!$C$2:$C$1048576,BD!C11687,SOLICITUDES!$K$2:$K$1048576)","v":0},0]
[null,null,"T18367",10,13200,240,-76.224179188351869,3.1687574542409305,5,5,2,2,{"$f":"SUMIF(SOLICITUDES!$C$2:$C$1048576,BD!C11698,SOLICITUDES!$I$2:$I$1048576)","v":0},0,{"$f":"SUMIF(SOLICITUDES!$C$2:$C$1048576,BD!C11698,SOLICITUDES!$J$2:$J$1048576)","v":0},0,{"$f":"SUMIF(SOLICITUDES!$C$2:$C$1048576,BD!C11698,SOLICITUDES!$K$2:$K$1048576)","v":0},0]
[null,null,"T40168",5,13200,240,-76.229944132308333,3.1506713259731707,2.5,2.5,1,1,{"$f":"SUMIF(SOLICITUDES!$C$2:$C$1048576,BD!C11713,SOLICITUDES!$I$2:$I$1048576)","v":0},0,{"$f":"SUMIF(SOLICITUDES!$C$2:$C$1048576,BD!C11713,SOLICITUDES!$J$2:$J$1048576)","v":0},0,{"$f":"SUMIF(SOLICITUDES!$C$2:$C$1048576,BD!C11713,SOLICITUDES!$K$2:$K$1048576)","v":0},0]
[null,null,"T22625",15,13200,240,-77.121263144806903,2.1724117258047868,7.5,7.5,3,3,{"$f":"SUMIF(SOLICITUDES!$C$2:$C$1048576,BD!C11724,SOLICITUDES!$I$2:$I$1048576)","v":0},0,{"$f":"SUMIF(SOLICITUDES!$C$2:$C$1048576,BD!C11724,SOLICITUDES!$J$2:$J$1048576)","v":0},0,{"$f":"SUMIF(SOLICITUDES!$C$2:$C$1048576,BD!C11724,SOLICITUDES!$K$2:$K$1048576)","v":0},0]
[null,null,"T22371",10,13200,240,-77.127031119533541,2.2658208432318143,5,5,2,2,{"$f":"SUMIF(SOLICITUDES!$C$2:$C$1048576,BD!C11729,SOLICITUDES!$I$2:$I$1048576)","v":0},0,{"$f":"SUMIF(SOLICITUDES!$C$2:$C$1048576,BD!C11729,SOLICITUDES!$J$2:$J$1048576)","v":0},0,{"$f":"SUMIF(SOLICITUDES!$C$2:$C$1048576,BD!C11729,SOLICITUDES!$K$2:$K$1048576)","v":0},0]
[null,null,"T19553",15,13200,208,-77.116904059074528,2.2338112609805658,7.5,7.5,3,3,{"$f":"SUMIF(SOLICITUDES!$C$2:$C$1048576,BD!C11740,SOLICITUDES!$I$2:$I$1048576)","v":0},0,{"$f":"SUMIF(SOLICITUDES!$C$2:$C$1048576,BD!C11740,SOLICITUDES!$J$2:$J$1048576)","v":0},0,{"$f":"SUMIF(SOLICITUDES!$C$2:$C$1048576,BD!C11740,SOLICITUDES!$K$2:$K$1048576)","v":0},0]
[null,null,"T19501",15,13200,240,-77.114790685547504,2.2726263929614339,7.5,7.5,3,3,{"$f":"SUMIF(SOLICITUDES!$C$2:$C$1048576,BD!C11756,SOLICITUDES!$I$2:$I$1048576)","v":0},0,{"$f":"SUMIF(SOLICITUDES!$C$2:$C$1048576,BD!C11756,SOLICITUDES!$J$2:$J$1048576)","v":0},0,{"$f":"SUMIF(SOLICITUDES!$C$2:$C$1048576,BD!C11756,SOLICITUDES!$K$2:$K$1048576)","v":0},0]
[null,null,"T22311",15,13200,240,-77.045240987125283,2.3081918623744069,7.5,7.5,3,3,{"$f":"SUMIF(SOLICITUDES!$C$2:$C$1048576,BD!C11761,SOLICITUDES!$I$2:$I$1048576)","v":0},0,{"$f":"SUMIF(SOLICITUDES!$C$2:$C$1048576,BD!C11761,SOLICITUDES!$J$2:$J$1048576)","v":0},0,{"$f":"SUMIF(SOLICITUDES!$C$2:$C$1048576,BD!C11761,SOLICITUDES!$K$2:$K$1048576)","v":0},0]
[null,null,"T29466",10,13200,240,-77.097929415956997,2.1496564188068552,5,5,2,2,{"$f":"SUMIF(SOLICITUDES!$C$2:$C$1048576,BD!C11776,SOLICITUDES!$I$2:$I$1048576)","v":0},0,{"$f":"SUMIF(SOLICITUDES!$C$2:$C$1048576,BD!C11776,SOLICITUDES!$J$2:$J$1048576)","v":0},0,{"$f":"SUMIF(SOLICITUDES!$C$2:$C$1048576,BD!C11776,SOLICITUDES!$K$2:$K$1048576)","v":0},0]
[null,null,"T19543",5,13200,240,-77.053720981137545,2.2294160682855422,2.5,2.5,1,1,{"$f":"SUMIF(SOLICITUDES!$C$2:$C$1048576,BD!C11777,SOLICITUDES!$I$2:$I$1048576)","v":0},0,{"$f":"SUMIF(SOLICITUDES!$C$2:$C$1048576,BD!C11777,SOLICITUDES!$J$2:$J$1048576)","v":0},0,{"$f":"SUMIF(SOLICITUDES!$C$2:$C$1048576,BD!C11777,SOLICITUDES!$K$2:$K$1048576)","v":0},0]
[null,null,"T22157",25,13200,208,-76.200559012660193,3.1700344317221054,12.5,12.5,5,5,{"$f":"SUMIF(SOLICITUDES!$C$2:$C$1048576,BD!C11792,SOLICITUDES!$I$2:$I$1048576)","v":0},0,{"$f":"SUMIF(SOLICITUDES!$C$2:$C$1048576,BD!C11792,SOLICITUDES!$J$2:$J$1048576)","v":0},0,{"$f":"SUMIF(SOLICITUDES!$C$2:$C$1048576,BD!C11792,SOLICITUDES!$K$2:$K$1048576)","v":0},0]
[null,null,"T22204",10,13200,240,-76.20744982376894,3.1410371834841122,5,5,2,2,{"$f":"SUMIF(SOLICITUDES!$C$2:$C$1048576,BD!C11803,SOLICITUDES!$I$2:$I$1048576)","v":0},0,{"$f":"SUMIF(SOLICITUDES!$C$2:$C$1048576,BD!C11803,SOLICITUDES!$J$2:$J$1048576)","v":0},0,{"$f":"SUMIF(SOLICITUDES!$C$2:$C$1048576,BD!C11803,SOLICITUDES!$K$2:$K$1048576)","v":0},0]
[null,null,"T25765",10,13200,240,-76.231913537143825,3.1033819856318621,5,5,2,2,{"$f":"SUMIF(SOLICITUDES!$C$2:$C$1048576,BD!C11808,SOLICITUDES!$I$2:$I$1048576)","v":0},0,{"$f":"SUMIF(SOLICITUDES!$C$2:$C$1048576,BD!C11808,SOLICITUDES!$J$2:$J$1048576)","v":0},0,{"$f":"SUMIF(SOLICITUDES!$C$2:$C$1048576,BD!C11808,SOLICITUDES!$K$2:$K$1048576)","v":0},0]
[null,null,"T22159",15,13200,240,-76.193475962738944,3.1666329103339064,7.5,7.5,3,3,{"$f":"SUMIF(SOLICITUDES!$C$2:$C$1048576,BD!C11823,SOLICITUDES!$I$2:$I$1048576)","v":0},0,{"$f":"SUMIF(SOLICITUDES!$C$2:$C$1048576,BD!C11823,SOLICITUDES!$J$2:$J$1048576)","v":0},0,{"$f":"SUMIF(SOLICITUDES!$C$2:$C$1048576,BD!C11823,SOLICITUDES!$K$2:$K$1048576)","v":0},0]
[null,null,"T19081",10,13200,240,-76.212042952812141,3.1061032910412014,5,5,2,2,{"$f":"SUMIF(SOLICITUDES!$C$2:$C$1048576,BD!C11835,SOLICITUDES!$I$2:$I$1048576)","v":0},0,{"$f":"SUMIF(SOLICITUDES!$C$2:$C$1048576,BD!C11835,SOLICITUDES!$J$2:$J$1048576)","v":0},0,{"$f":"SUMIF(SOLICITUDES!$C$2:$C$1048576,BD!C11835,SOLICITUDES!$K$2:$K$1048576)","v":0},0]
[null,null,"T31927",25,13200,240,-76.197970357405183,3.1097047888215776,12.5,12.5,5,5,{"$f":"SUMIF(SOLICITUDES!$C$2:$C$1048576,BD!C11840,SOLICITUDES!$I$2:$I$1048576)","v":0},0,{"$f":"SUMIF(SOLICITUDES!$C$2:$C$1048576,BD!C11840,SOLICITUDES!$J$2:$J$1048576)","v":0},0,{"$f":"SUMIF(SOLICITUDES!$C$2:$C$1048576,BD!C11840,SOLICITUDES!$K$2:$K$1048576)","v":0},0]
[null,null,"T25768",10,13200,240,-76.235464079616676,3.0918524951654192,5,5,2,2,{"$f":"SUMIF(SOLICITUDES!$C$2:$C$1048576,BD!C11851,SOLICITUDES!$I$2:$I$1048576)","v":0},0,{"$f":"SUMIF(SOLICITUDES!$C$2:$C$1048576,BD!C11851,SOLICITUDES!$J$2:$J$1048576)","v":0},0,{"$f":"SUMIF(SOLICITUDES!$C$2:$C$1048576,BD!C11851,SOLICITUDES!$K$2:$K$1048576)","v":0},0]
[null,null,"T3356",37.5,13200,208,-76.529895161995654,2.6739442207077486,18.75,18.75,7.5,7.5,{"$f":"SUMIF(SOLICITUDES!$C$2:$C$1048576,BD!C11866,SOLICITUDES!$I$2:$I$1048576)","v":0},0,{"$f":"SUMIF(SOLICITUDES!$C$2:$C$1048576,BD!C11866,SOLICITUDES!$J$2:$J$1048576)","v":0},0,{"$f":"SUMIF(SOLICITUDES!$C$2:$C$1048576,BD!C11866,SOLICITUDES!$K$2:$K$1048576)","v":0},0]
[null,null,"T30785",75,13200,208,-76.531754620690293,2.6669493091490728,37.5,37.5,15,15,{"$f":"SUMIF(SOLICITUDES!$C$2:$C$1048576,BD!C11871,SOLICITUDES!$I$2:$I$1048576)","v":0},0,{"$f":"SUMIF(SOLICITUDES!$C$2:$C$1048576,BD!C11871,SOLICITUDES!$J$2:$J$1048576)","v":0},0,{"$f":"SUMIF(SOLICITUDES!$C$2:$C$1048576,BD!C11871,SOLICITUDES!$K$2:$K$1048576)","v":0},0]
[null,null,"T3362",15,13200,240,-76.529627712931813,2.6762603328245516,7.5,7.5,3,3,{"$f":"SUMIF(SOLICITUDES!$C$2:$C$1048576,BD!C11882,SOLICITUDES!$I$2:$I$1048576)","v":0},0,{"$f":"SUMIF(SOLICITUDES!$C$2:$C$1048576,BD!C11882,SOLICITUDES!$J$2:$J$1048576)","v":0},0,{"$f":"SUMIF(SOLICITUDES!$C$2:$C$1048576,BD!C11882,SOLICITUDES!$K$2:$K$1048576)","v":0},0]
[null,null,"T3350",15,13200,240,-76.528891034531171,2.6812390207361276,7.5,7.5,3,3,{"$f":"SUMIF(SOLICITUDES!$C$2:$C$1048576,BD!C11897,SOLICITUDES!$I$2:$I$1048576)","v":0},0,{"$f":"SUMIF(SOLICITUDES!$C$2:$C$1048576,BD!C11897,SOLICITUDES!$J$2:$J$1048576)","v":0},0,{"$f":"SUMIF(SOLICITUDES!$C$2:$C$1048576,BD!C11897,SOLICITUDES!$K$2:$K$1048576)","v":0},0]
[null,null,"T18371",75,13200,208,-76.525753339297921,2.6731156733164823,37.5,37.5,15,15,{"$f":"SUMIF(SOLICITUDES!$C$2:$C$1048576,BD!C11902,SOLICITUDES!$I$2:$I$1048576)","v":0},0,{"$f":"SUMIF(SOLICITUDES!$C$2:$C$1048576,BD!C11902,SOLICITUDES!$J$2:$J$1048576)","v":0},0,{"$f":"SUMIF(SOLICITUDES!$C$2:$C$1048576,BD!C11902,SOLICITUDES!$K$2:$K$1048576)","v":0},0]
[null,null,"T4242",10,13200,220,-76.642839880404892,2.3108552840917094,5,5,2,2,{"$f":"SUMIF(SOLICITUDES!$C$2:$C$1048576,BD!C11913,SOLICITUDES!$I$2:$I$1048576)","v":0},0,{"$f":"SUMIF(SOLICITUDES!$C$2:$C$1048576,BD!C11913,SOLICITUDES!$J$2:$J$1048576)","v":0},0,{"$f":"SUMIF(SOLICITUDES!$C$2:$C$1048576,BD!C11913,SOLICITUDES!$K$2:$K$1048576)","v":0},0]
[null,null,"T10501",10,13200,240,-76.335360241657739,2.4385859831464134,5,5,2,2,{"$f":"SUMIF(SOLICITUDES!$C$2:$C$1048576,BD!C11926,SOLICITUDES!$I$2:$I$1048576)","v":0},0,{"$f":"SUMIF(SOLICITUDES!$C$2:$C$1048576,BD!C11926,SOLICITUDES!$J$2:$J$1048576)","v":0},0,{"$f":"SUMIF(SOLICITUDES!$C$2:$C$1048576,BD!C11926,SOLICITUDES!$K$2:$K$1048576)","v":0},0]
[null,null,"T11387",10,13200,240,-76.283417706411683,2.5069184030718925,5,5,2,2,{"$f":"SUMIF(SOLICITUDES!$C$2:$C$1048576,BD!C11930,SOLICITUDES!$I$2:$I$1048576)","v":0},0,{"$f":"SUMIF(SOLICITUDES!$C$2:$C$1048576,BD!C11930,SOLICITUDES!$J$2:$J$1048576)","v":0},0,{"$f":"SUMIF(SOLICITUDES!$C$2:$C$1048576,BD!C11930,SOLICITUDES!$K$2:$K$1048576)","v":0},0]
[null,null,"T10645",10,13200,240,-76.272031209435667,2.5427653852904046,5,5,2,2,{"$f":"SUMIF(SOLICITUDES!$C$2:$C$1048576,BD!C11945,SOLICITUDES!$I$2:$I$1048576)","v":0},0,{"$f":"SUMIF(SOLICITUDES!$C$2:$C$1048576,BD!C11945,SOLICITUDES!$J$2:$J$1048576)","v":0},0,{"$f":"SUMIF(SOLICITUDES!$C$2:$C$1048576,BD!C11945,SOLICITUDES!$K$2:$K$1048576)","v":0},0]
[null,null,"T1311",10,13200,240,-76.294195870677655,2.5100627516041722,5,5,2,2,{"$f":"SUMIF(SOLICITUDES!$C$2:$C$1048576,BD!C11950,SOLICITUDES!$I$2:$I$1048576)","v":0},0,{"$f":"SUMIF(SOLICITUDES!$C$2:$C$1048576,BD!C11950,SOLICITUDES!$J$2:$J$1048576)","v":0},0,{"$f":"SUMIF(SOLICITUDES!$C$2:$C$1048576,BD!C11950,SOLICITUDES!$K$2:$K$1048576)","v":0},0]
[null,null,"T24592",5,13200,240,-76.73804739460347,2.6664351995393689,2.5,2.5,1,1,{"$f":"SUMIF(SOLICITUDES!$C$2:$C$1048576,BD!C11961,SOLICITUDES!$I$2:$I$1048576)","v":0},0,{"$f":"SUMIF(SOLICITUDES!$C$2:$C$1048576,BD!C11961,SOLICITUDES!$J$2:$J$1048576)","v":0},0,{"$f":"SUMIF(SOLICITUDES!$C$2:$C$1048576,BD!C11961,SOLICITUDES!$K$2:$K$1048576)","v":0},0]
[null,null,"T29495",5,13200,240,-76.716854380037702,2.4926872881777569,2.5,2.5,1,1,{"$f":"SUMIF(SOLICITUDES!$C$2:$C$1048576,BD!C11976,SOLICITUDES!$I$2:$I$1048576)","v":0},0,{"$f":"SUMIF(SOLICITUDES!$C$2:$C$1048576,BD!C11976,SOLICITUDES!$J$2:$J$1048576)","v":0},0,{"$f":"SUMIF(SOLICITUDES!$C$2:$C$1048576,BD!C11976,SOLICITUDES!$K$2:$K$1048576)","v":0},0]
[null,null,"T31152",15,13200,240,-76.618155271870293,2.4681997046266164,7.5,7.5,3,3,{"$f":"SUMIF(SOLICITUDES!$C$2:$C$1048576,BD!C11987,SOLICITUDES!$I$2:$I$1048576)","v":0},0,{"$f":"SUMIF(SOLICITUDES!$C$2:$C$1048576,BD!C11987,SOLICITUDES!$J$2:$J$1048576)","v":0},0,{"$f":"SUMIF(SOLICITUDES!$C$2:$C$1048576,BD!C11987,SOLICITUDES!$K$2:$K$1048576)","v":0},0]
[null,null,"T2583",10,13200,240,-76.742876170384207,2.5166596636037557,5,5,2,2,{"$f":"SUMIF(SOLICITUDES!$C$2:$C$1048576,BD!C11992,SOLICITUDES!$I$2:$I$1048576)","v":0},0,{"$f":"SUMIF(SOLICITUDES!$C$2:$C$1048576,BD!C11992,SOLICITUDES!$J$2:$J$1048576)","v":0},0,{"$f":"SUMIF(SOLICITUDES!$C$2:$C$1048576,BD!C11992,SOLICITUDES!$K$2:$K$1048576)","v":0},0]
[null,null,"T16704",45,13200,213,-76.618825500159716,2.4363230974530263,22.5,22.5,9,9,{"$f":"SUMIF(SOLICITUDES!$C$2:$C$1048576,BD!C12007,SOLICITUDES!$I$2:$I$1048576)","v":0},0,{"$f":"SUMIF(SOLICITUDES!$C$2:$C$1048576,BD!C12007,SOLICITUDES!$J$2:$J$1048576)","v":0},0,{"$f":"SUMIF(SOLICITUDES!$C$2:$C$1048576,BD!C12007,SOLICITUDES!$K$2:$K$1048576)","v":0},0]
[null,null,"T3329",75,13200,208,-76.617514439260106,2.4357987362646005,37.5,37.5,15,15,{"$f":"SUMIF(SOLICITUDES!$C$2:$C$1048576,BD!C12010,SOLICITUDES!$I$2:$I$1048576)","v":0},0,{"$f":"SUMIF(SOLICITUDES!$C$2:$C$1048576,BD!C12010,SOLICITUDES!$J$2:$J$1048576)","v":0},0,{"$f":"SUMIF(SOLICITUDES!$C$2:$C$1048576,BD!C12010,SOLICITUDES!$K$2:$K$1048576)","v":0},0]
[null,null,"T31142",25,13200,240,-76.609745269240364,2.4735328473680882,12.5,12.5,5,5,{"$f":"SUMIF(SOLICITUDES!$C$2:$C$1048576,BD!C12024,SOLICITUDES!$I$2:$I$1048576)","v":0},0,{"$f":"SUMIF(SOLICITUDES!$C$2:$C$1048576,BD!C12024,SOLICITUDES!$J$2:$J$1048576)","v":0},0,{"$f":"SUMIF(SOLICITUDES!$C$2:$C$1048576,BD!C12024,SOLICITUDES!$K$2:$K$1048576)","v":0},0]
[null,null,"T4063",25,13200,220,-76.703557046565308,2.5126698070512514,12.5,12.5,5,5,{"$f":"SUMIF(SOLICITUDES!$C$2:$C$1048576,BD!C12039,SOLICITUDES!$I$2:$I$1048576)","v":0},0,{"$f":"SUMIF(SOLICITUDES!$C$2:$C$1048576,BD!C12039,SOLICITUDES!$J$2:$J$1048576)","v":0},0,{"$f":"SUMIF(SOLICITUDES!$C$2:$C$1048576,BD!C12039,SOLICITUDES!$K$2:$K$1048576)","v":0},0]
[null,null,"T4086",10,13200,214,-76.706101315320666,2.5140450912125156,5,5,2,2,{"$f":"SUMIF(SOLICITUDES!$C$2:$C$1048576,BD!C12040,SOLICITUDES!$I$2:$I$1048576)","v":0},0,{"$f":"SUMIF(SOLICITUDES!$C$2:$C$1048576,BD!C12040,SOLICITUDES!$J$2:$J$1048576)","v":0},0,{"$f":"SUMIF(SOLICITUDES!$C$2:$C$1048576,BD!C12040,SOLICITUDES!$K$2:$K$1048576)","v":0},0]
[null,null,"T20135",15,13200,240,-76.921016787192116,2.3804450380345052,7.5,7.5,3,3,{"$f":"SUMIF(SOLICITUDES!$C$2:$C$1048576,BD!C12055,SOLICITUDES!$I$2:$I$1048576)","v":0},0,{"$f":"SUMIF(SOLICITUDES!$C$2:$C$1048576,BD!C12055,SOLICITUDES!$J$2:$J$1048576)","v":0},0,{"$f":"SUMIF(SOLICITUDES!$C$2:$C$1048576,BD!C12055,SOLICITUDES!$K$2:$K$1048576)","v":0},0]
[null,null,"T21677",5,13200,240,-76.967905537791992,2.4249184453952144,2.5,2.5,1,1,{"$f":"SUMIF(SOLICITUDES!$C$2:$C$1048576,BD!C12066,SOLICITUDES!$I$2:$I$1048576)","v":0},0,{"$f":"SUMIF(SOLICITUDES!$C$2:$C$1048576,BD!C12066,SOLICITUDES!$J$2:$J$1048576)","v":0},0,{"$f":"SUMIF(SOLICITUDES!$C$2:$C$1048576,BD!C12066,SOLICITUDES!$K$2:$K$1048576)","v":0},0]
[null,null,"T20134",5,13200,240,-76.933986020084646,2.3722618889506579,2.5,2.5,1,1,{"$f":"SUMIF(SOLICITUDES!$C$2:$C$1048576,BD!C12071,SOLICITUDES!$I$2:$I$1048576)","v":0},0,{"$f":"SUMIF(SOLICITUDES!$C$2:$C$1048576,BD!C12071,SOLICITUDES!$J$2:$J$1048576)","v":0},0,{"$f":"SUMIF(SOLICITUDES!$C$2:$C$1048576,BD!C12071,SOLICITUDES!$K$2:$K$1048576)","v":0},0]
[null,null,"T21679",5,13200,240,-76.977210027523697,2.4525675600293617,2.5,2.5,1,1,{"$f":"SUMIF(SOLICITUDES!$C$2:$C$1048576,BD!C12086,SOLICITUDES!$I$2:$I$1048576)","v":0},0,{"$f":"SUMIF(SOLICITUDES!$C$2:$C$1048576,BD!C12086,SOLICITUDES!$J$2:$J$1048576)","v":0},0,{"$f":"SUMIF(SOLICITUDES!$C$2:$C$1048576,BD!C12086,SOLICITUDES!$K$2:$K$1048576)","v":0},0]
[null,null,"T20873",5,13200,240,-76.982205822108511,2.417474205969802,2.5,2.5,1,1,{"$f":"SUMIF(SOLICITUDES!$C$2:$C$1048576,BD!C12097,SOLICITUDES!$I$2:$I$1048576)","v":0},0,{"$f":"SUMIF(SOLICITUDES!$C$2:$C$1048576,BD!C12097,SOLICITUDES!$J$2:$J$1048576)","v":0},0,{"$f":"SUMIF(SOLICITUDES!$C$2:$C$1048576,BD!C12097,SOLICITUDES!$K$2:$K$1048576)","v":0},0]
[null,null,"T18357",10,13200,240,-76.967629676705286,2.3989822600837996,5,5,2,2,{"$f":"SUMIF(SOLICITUDES!$C$2:$C$1048576,BD!C12101,SOLICITUDES!$I$2:$I$1048576)","v":0},0,{"$f":"SUMIF(SOLICITUDES!$C$2:$C$1048576,BD!C12101,SOLICITUDES!$J$2:$J$1048576)","v":0},0,{"$f":"SUMIF(SOLICITUDES!$C$2:$C$1048576,BD!C12101,SOLICITUDES!$K$2:$K$1048576)","v":0},0]
[null,null,"T13742",1000,34500,208,-76.494234151344557,3.0294811578722034,500,500,200,200,{"$f":"SUMIF(SOLICITUDES!$C$2:$C$1048576,BD!C12118,SOLICITUDES!$I$2:$I$1048576)","v":0},0,{"$f":"SUMIF(SOLICITUDES!$C$2:$C$1048576,BD!C12118,SOLICITUDES!$J$2:$J$1048576)","v":0},0,{"$f":"SUMIF(SOLICITUDES!$C$2:$C$1048576,BD!C12118,SOLICITUDES!$K$2:$K$1048576)","v":0},0]
[null,null,"T18411",10,13200,240,-76.268046075157343,3.1442133481293086,5,5,2,2,{"$f":"SUMIF(SOLICITUDES!$C$2:$C$1048576,BD!C12129,SOLICITUDES!$I$2:$I$1048576)","v":0},0,{"$f":"SUMIF(SOLICITUDES!$C$2:$C$1048576,BD!C12129,SOLICITUDES!$J$2:$J$1048576)","v":0},0,{"$f":"SUMIF(SOLICITUDES!$C$2:$C$1048576,BD!C12129,SOLICITUDES!$K$2:$K$1048576)","v":0},0]
[null,null,"T12123",15,13200,240,-76.299073387970367,3.1352369686036927,7.5,7.5,3,3,{"$f":"SUMIF(SOLICITUDES!$C$2:$C$1048576,BD!C12134,SOLICITUDES!$I$2:$I$1048576)","v":0},0,{"$f":"SUMIF(SOLICITUDES!$C$2:$C$1048576,BD!C12134,SOLICITUDES!$J$2:$J$1048576)","v":0},0,{"$f":"SUMIF(SOLICITUDES!$C$2:$C$1048576,BD!C12134,SOLICITUDES!$K$2:$K$1048576)","v":0},0]
[null,null,"T10055",112.5,13200,214,-76.664035713348596,2.4775871035567358,56.25,56.25,22.5,22.5,{"$f":"SUMIF(SOLICITUDES!$C$2:$C$1048576,BD!C12145,SOLICITUDES!$I$2:$I$1048576)","v":0},0,{"$f":"SUMIF(SOLICITUDES!$C$2:$C$1048576,BD!C12145,SOLICITUDES!$J$2:$J$1048576)","v":0},0,{"$f":"SUMIF(SOLICITUDES!$C$2:$C$1048576,BD!C12145,SOLICITUDES!$K$2:$K$1048576)","v":0},0]
[null,null,"T3148",10,13200,240,-76.634080728117027,2.4831486301874581,5,5,2,2,{"$f":"SUMIF(SOLICITUDES!$C$2:$C$1048576,BD!C12160,SOLICITUDES!$I$2:$I$1048576)","v":0},0,{"$f":"SUMIF(SOLICITUDES!$C$2:$C$1048576,BD!C12160,SOLICITUDES!$J$2:$J$1048576)","v":0},0,{"$f":"SUMIF(SOLICITUDES!$C$2:$C$1048576,BD!C12160,SOLICITUDES!$K$2:$K$1048576)","v":0},0]
[null,null,"T45080",75,13200,228,-76.668033793496292,2.479954122838302,37.5,37.5,15,15,{"$f":"SUMIF(SOLICITUDES!$C$2:$C$1048576,BD!C12165,SOLICITUDES!$I$2:$I$1048576)","v":0},0,{"$f":"SUMIF(SOLICITUDES!$C$2:$C$1048576,BD!C12165,SOLICITUDES!$J$2:$J$1048576)","v":0},0,{"$f":"SUMIF(SOLICITUDES!$C$2:$C$1048576,BD!C12165,SOLICITUDES!$K$2:$K$1048576)","v":0},0]
[null,null,"T11821",37.5,13200,240,-76.368172965967517,3.0634692307301736,18.75,18.75,7.5,7.5,{"$f":"SUMIF(SOLICITUDES!$C$2:$C$1048576,BD!C12176,SOLICITUDES!$I$2:$I$1048576)","v":0},0,{"$f":"SUMIF(SOLICITUDES!$C$2:$C$1048576,BD!C12176,SOLICITUDES!$J$2:$J$1048576)","v":0},0,{"$f":"SUMIF(SOLICITUDES!$C$2:$C$1048576,BD!C12176,SOLICITUDES!$K$2:$K$1048576)","v":0},0]
[null,null,"T24324",5,13200,220,-76.384405073069331,3.0630081781301928,2.5,2.5,1,1,{"$f":"SUMIF(SOLICITUDES!$C$2:$C$1048576,BD!C12181,SOLICITUDES!$I$2:$I$1048576)","v":0},0,{"$f":"SUMIF(SOLICITUDES!$C$2:$C$1048576,BD!C12181,SOLICITUDES!$J$2:$J$1048576)","v":0},0,{"$f":"SUMIF(SOLICITUDES!$C$2:$C$1048576,BD!C12181,SOLICITUDES!$K$2:$K$1048576)","v":0},0]
[null,null,"T11829",45,13200,208,-76.353382984742836,3.0661720693808565,22.5,22.5,9,9,{"$f":"SUMIF(SOLICITUDES!$C$2:$C$1048576,BD!C12192,SOLICITUDES!$I$2:$I$1048576)","v":0},0,{"$f":"SUMIF(SOLICITUDES!$C$2:$C$1048576,BD!C12192,SOLICITUDES!$J$2:$J$1048576)","v":0},0,{"$f":"SUMIF(SOLICITUDES!$C$2:$C$1048576,BD!C12192,SOLICITUDES!$K$2:$K$1048576)","v":0},0]
[null,null,"T11848",37.5,13200,240,-76.353541584056245,3.0710913667803075,18.75,18.75,7.5,7.5,{"$f":"SUMIF(SOLICITUDES!$C$2:$C$1048576,BD!C12201,SOLICITUDES!$I$2:$I$1048576)","v":0},0,{"$f":"SUMIF(SOLICITUDES!$C$2:$C$1048576,BD!C12201,SOLICITUDES!$J$2:$J$1048576)","v":0},0,{"$f":"SUMIF(SOLICITUDES!$C$2:$C$1048576,BD!C12201,SOLICITUDES!$K$2:$K$1048576)","v":0},0]
[null,null,"T13393",10,13200,240,-76.119844931792883,2.2292376765591349,5,5,2,2,{"$f":"SUMIF(SOLICITUDES!$C$2:$C$1048576,BD!C12213,SOLICITUDES!$I$2:$I$1048576)","v":0},0,{"$f":"SUMIF(SOLICITUDES!$C$2:$C$1048576,BD!C12213,SOLICITUDES!$J$2:$J$1048576)","v":0},0,{"$f":"SUMIF(SOLICITUDES!$C$2:$C$1048576,BD!C12213,SOLICITUDES!$K$2:$K$1048576)","v":0},0]
[null,null,"T16087",25,13200,240,-76.135152090533325,2.2579570035520238,12.5,12.5,5,5,{"$f":"SUMIF(SOLICITUDES!$C$2:$C$1048576,BD!C12224,SOLICITUDES!$I$2:$I$1048576)","v":0},0,{"$f":"SUMIF(SOLICITUDES!$C$2:$C$1048576,BD!C12224,SOLICITUDES!$J$2:$J$1048576)","v":0},0,{"$f":"SUMIF(SOLICITUDES!$C$2:$C$1048576,BD!C12224,SOLICITUDES!$K$2:$K$1048576)","v":0},0]
[null,null,"T16093",15,13200,240,-76.131061552639778,2.2450509708565649,7.5,7.5,3,3,{"$f":"SUMIF(SOLICITUDES!$C$2:$C$1048576,BD!C12239,SOLICITUDES!$I$2:$I$1048576)","v":0},0,{"$f":"SUMIF(SOLICITUDES!$C$2:$C$1048576,BD!C12239,SOLICITUDES!$J$2:$J$1048576)","v":0},0,{"$f":"SUMIF(SOLICITUDES!$C$2:$C$1048576,BD!C12239,SOLICITUDES!$K$2:$K$1048576)","v":0},0]
[null,null,"T13398",10,13200,240,-76.110310614218463,2.2251804822146743,5,5,2,2,{"$f":"SUMIF(SOLICITUDES!$C$2:$C$1048576,BD!C12244,SOLICITUDES!$I$2:$I$1048576)","v":0},0,{"$f":"SUMIF(SOLICITUDES!$C$2:$C$1048576,BD!C12244,SOLICITUDES!$J$2:$J$1048576)","v":0},0,{"$f":"SUMIF(SOLICITUDES!$C$2:$C$1048576,BD!C12244,SOLICITUDES!$K$2:$K$1048576)","v":0},0]
[null,null,"T27935",5,13200,240,-76.137884096898162,2.2661078559896932,2.5,2.5,1,1,{"$f":"SUMIF(SOLICITUDES!$C$2:$C$1048576,BD!C12255,SOLICITUDES!$I$2:$I$1048576)","v":0},0,{"$f":"SUMIF(SOLICITUDES!$C$2:$C$1048576,BD!C12255,SOLICITUDES!$J$2:$J$1048576)","v":0},0,{"$f":"SUMIF(SOLICITUDES!$C$2:$C$1048576,BD!C12255,SOLICITUDES!$K$2:$K$1048576)","v":0},0]
[null,null,"T6989",25,13200,240,-76.498821646478675,3.0126185623963084,12.5,12.5,5,5,{"$f":"SUMIF(SOLICITUDES!$C$2:$C$1048576,BD!C12270,SOLICITUDES!$I$2:$I$1048576)","v":0},0,{"$f":"SUMIF(SOLICITUDES!$C$2:$C$1048576,BD!C12270,SOLICITUDES!$J$2:$J$1048576)","v":0},0,{"$f":"SUMIF(SOLICITUDES!$C$2:$C$1048576,BD!C12270,SOLICITUDES!$K$2:$K$1048576)","v":0},0]
[null,null,"T6982",10,13200,240,-76.507328957338217,2.999293741780066,5,5,2,2,{"$f":"SUMIF(SOLICITUDES!$C$2:$C$1048576,BD!C12281,SOLICITUDES!$I$2:$I$1048576)","v":0},0,{"$f":"SUMIF(SOLICITUDES!$C$2:$C$1048576,BD!C12281,SOLICITUDES!$J$2:$J$1048576)","v":0},0,{"$f":"SUMIF(SOLICITUDES!$C$2:$C$1048576,BD!C12281,SOLICITUDES!$K$2:$K$1048576)","v":0},0]
[null,null,"T8651",15,13200,240,-76.55019494346331,2.2654760292695579,7.5,7.5,3,3,{"$f":"SUMIF(SOLICITUDES!$C$2:$C$1048576,BD!C12286,SOLICITUDES!$I$2:$I$1048576)","v":0},0,{"$f":"SUMIF(SOLICITUDES!$C$2:$C$1048576,BD!C12286,SOLICITUDES!$J$2:$J$1048576)","v":0},0,{"$f":"SUMIF(SOLICITUDES!$C$2:$C$1048576,BD!C12286,SOLICITUDES!$K$2:$K$1048576)","v":0},0]
[null,null,"T6428",15,13200,240,-76.633264489336838,2.1934293733717309,{"$f":"D12292*0.5","v":7.5},7.5,{"$f":"0.2*D12292","v":3},{"$f":"0.2*D12292","v":3},{"$f":"SUMIF(SOLICITUDES!$C$2:$C$1048576,BD!C12292,SOLICITUDES!$I$2:$I$1048576)","v":0},0,{"$f":"SUMIF(SOLICITUDES!$C$2:$C$1048576,BD!C12292,SOLICITUDES!$J$2:$J$1048576)","v":0},{"$f":"O12292/(2*K12292)","v":0},{"$f":"SUMIF(SOLICITUDES!$C$2:$C$1048576,BD!C12292,SOLICITUDES!$K$2:$K$1048576)","v":0},{"$f":"Q12292/(2*L12292)","v":0}]
[null,null,"T6423",5,13200,220,-76.634267789193785,2.205375892208659,2.5,2.5,1,1,{"$f":"SUMIF(SOLICITUDES!$C$2:$C$1048576,BD!C12303,SOLICITUDES!$I$2:$I$1048576)","v":0},0,{"$f":"SUMIF(SOLICITUDES!$C$2:$C$1048576,BD!C12303,SOLICITUDES!$J$2:$J$1048576)","v":0},0,{"$f":"SUMIF(SOLICITUDES!$C$2:$C$1048576,BD!C12303,SOLICITUDES!$K$2:$K$1048576)","v":0},0]
[null,null,"T42675",10,13200,240,-76.538845340249466,2.2282392710151715,5,5,2,2,{"$f":"SUMIF(SOLICITUDES!$C$2:$C$1048576,BD!C12318,SOLICITUDES!$I$2:$I$1048576)","v":0},0,{"$f":"SUMIF(SOLICITUDES!$C$2:$C$1048576,BD!C12318,SOLICITUDES!$J$2:$J$1048576)","v":0},0,{"$f":"SUMIF(SOLICITUDES!$C$2:$C$1048576,BD!C12318,SOLICITUDES!$K$2:$K$1048576)","v":0},0]
[null,null,"T6012",10,13200,240,-76.625238113012202,2.2592556625388411,5,5,2,2,{"$f":"SUMIF(SOLICITUDES!$C$2:$C$1048576,BD!C12323,SOLICITUDES!$I$2:$I$1048576)","v":0},0,{"$f":"SUMIF(SOLICITUDES!$C$2:$C$1048576,BD!C12323,SOLICITUDES!$J$2:$J$1048576)","v":0},0,{"$f":"SUMIF(SOLICITUDES!$C$2:$C$1048576,BD!C12323,SOLICITUDES!$K$2:$K$1048576)","v":0},0]
[null,null,"T31354",25,13200,240,-76.542108608358305,2.30200733730346,12.5,12.5,5,5,{"$f":"SUMIF(SOLICITUDES!$C$2:$C$1048576,BD!C12334,SOLICITUDES!$I$2:$I$1048576)","v":0},0,{"$f":"SUMIF(SOLICITUDES!$C$2:$C$1048576,BD!C12334,SOLICITUDES!$J$2:$J$1048576)","v":0},0,{"$f":"SUMIF(SOLICITUDES!$C$2:$C$1048576,BD!C12334,SOLICITUDES!$K$2:$K$1048576)","v":0},0]
[null,null,"T42682",10,13200,240,-76.531289981566616,2.3019099942117451,5,5,2,2,{"$f":"SUMIF(SOLICITUDES!$C$2:$C$1048576,BD!C12349,SOLICITUDES!$I$2:$I$1048576)","v":0},0,{"$f":"SUMIF(SOLICITUDES!$C$2:$C$1048576,BD!C12349,SOLICITUDES!$J$2:$J$1048576)","v":0},0,{"$f":"SUMIF(SOLICITUDES!$C$2:$C$1048576,BD!C12349,SOLICITUDES!$K$2:$K$1048576)","v":0},0]
[null,null,"T13548",15,13200,240,-76.839167619449725,1.8413415309419046,7.5,7.5,3,3,{"$f":"SUMIF(SOLICITUDES!$C$2:$C$1048576,BD!C12360,SOLICITUDES!$I$2:$I$1048576)","v":0},0,{"$f":"SUMIF(SOLICITUDES!$C$2:$C$1048576,BD!C12360,SOLICITUDES!$J$2:$J$1048576)","v":0},0,{"$f":"SUMIF(SOLICITUDES!$C$2:$C$1048576,BD!C12360,SOLICITUDES!$K$2:$K$1048576)","v":0},0]
[null,null,"T16047",15,13200,240,-76.869239775200157,1.7692232370459062,7.5,7.5,3,3,{"$f":"SUMIF(SOLICITUDES!$C$2:$C$1048576,BD!C12365,SOLICITUDES!$I$2:$I$1048576)","v":0},0,{"$f":"SUMIF(SOLICITUDES!$C$2:$C$1048576,BD!C12365,SOLICITUDES!$J$2:$J$1048576)","v":0},0,{"$f":"SUMIF(SOLICITUDES!$C$2:$C$1048576,BD!C12365,SOLICITUDES!$K$2:$K$1048576)","v":0},0]
[null,null,"T16650",25,13200,240,-76.906660372776358,1.7007854706175562,12.5,12.5,5,5,{"$f":"SUMIF(SOLICITUDES!$C$2:$C$1048576,BD!C12380,SOLICITUDES!$I$2:$I$1048576)","v":0},0,{"$f":"SUMIF(SOLICITUDES!$C$2:$C$1048576,BD!C12380,SOLICITUDES!$J$2:$J$1048576)","v":0},0,{"$f":"SUMIF(SOLICITUDES!$C$2:$C$1048576,BD!C12380,SOLICITUDES!$K$2:$K$1048576)","v":0},0]
[null,null,"T12246",15,13200,240,-76.813132446212336,1.8272480411994878,7.5,7.5,3,3,{"$f":"SUMIF(SOLICITUDES!$C$2:$C$1048576,BD!C12387,SOLICITUDES!$I$2:$I$1048576)","v":0},0,{"$f":"SUMIF(SOLICITUDES!$C$2:$C$1048576,BD!C12387,SOLICITUDES!$J$2:$J$1048576)","v":0},0,{"$f":"SUMIF(SOLICITUDES!$C$2:$C$1048576,BD!C12387,SOLICITUDES!$K$2:$K$1048576)","v":0},0]
[null,null,"T13149",10,13200,240,-76.7759349042027,1.8155940340269137,5,5,2,2,{"$f":"SUMIF(SOLICITUDES!$C$2:$C$1048576,BD!C12397,SOLICITUDES!$I$2:$I$1048576)","v":0},0,{"$f":"SUMIF(SOLICITUDES!$C$2:$C$1048576,BD!C12397,SOLICITUDES!$J$2:$J$1048576)","v":0},0,{"$f":"SUMIF(SOLICITUDES!$C$2:$C$1048576,BD!C12397,SOLICITUDES!$K$2:$K$1048576)","v":0},0]
[null,null,"T13156",25,13200,240,-76.780903814462619,1.8225312068961197,12.5,12.5,5,5,{"$f":"SUMIF(SOLICITUDES!$C$2:$C$1048576,BD!C12408,SOLICITUDES!$I$2:$I$1048576)","v":0},0,{"$f":"SUMIF(SOLICITUDES!$C$2:$C$1048576,BD!C12408,SOLICITUDES!$J$2:$J$1048576)","v":0},0,{"$f":"SUMIF(SOLICITUDES!$C$2:$C$1048576,BD!C12408,SOLICITUDES!$K$2:$K$1048576)","v":0},0]
[null,null,"T17469",5,13200,220,-76.907413772187837,1.9940317295505607,2.5,2.5,1,1,{"$f":"SUMIF(SOLICITUDES!$C$2:$C$1048576,BD!C12423,SOLICITUDES!$I$2:$I$1048576)","v":0},0,{"$f":"SUMIF(SOLICITUDES!$C$2:$C$1048576,BD!C12423,SOLICITUDES!$J$2:$J$1048576)","v":0},0,{"$f":"SUMIF(SOLICITUDES!$C$2:$C$1048576,BD!C12423,SOLICITUDES!$K$2:$K$1048576)","v":0},0]
[null,null,"T29941",10,13200,240,-76.915831021670897,2.0062010568966295,5,5,2,2,{"$f":"SUMIF(SOLICITUDES!$C$2:$C$1048576,BD!C12428,SOLICITUDES!$I$2:$I$1048576)","v":0},0,{"$f":"SUMIF(SOLICITUDES!$C$2:$C$1048576,BD!C12428,SOLICITUDES!$J$2:$J$1048576)","v":0},0,{"$f":"SUMIF(SOLICITUDES!$C$2:$C$1048576,BD!C12428,SOLICITUDES!$K$2:$K$1048576)","v":0},0]
[null,null,"T20677",10,13200,240,-77.060965343510929,1.9053860664820732,5,5,2,2,{"$f":"SUMIF(SOLICITUDES!$C$2:$C$1048576,BD!C12439,SOLICITUDES!$I$2:$I$1048576)","v":0},0,{"$f":"SUMIF(SOLICITUDES!$C$2:$C$1048576,BD!C12439,SOLICITUDES!$J$2:$J$1048576)","v":0},0,{"$f":"SUMIF(SOLICITUDES!$C$2:$C$1048576,BD!C12439,SOLICITUDES!$K$2:$K$1048576)","v":0},0]
[null,null,"T18185",15,13200,240,-76.930950096481624,1.944990864731198,7.5,7.5,3,3,{"$f":"SUMIF(SOLICITUDES!$C$2:$C$1048576,BD!C12444,SOLICITUDES!$I$2:$I$1048576)","v":0},0,{"$f":"SUMIF(SOLICITUDES!$C$2:$C$1048576,BD!C12444,SOLICITUDES!$J$2:$J$1048576)","v":0},0,{"$f":"SUMIF(SOLICITUDES!$C$2:$C$1048576,BD!C12444,SOLICITUDES!$K$2:$K$1048576)","v":0},0]
[null,null,"T11590",5,13200,240,-76.593831943810088,2.4446374990990534,2.5,2.5,1,1,{"$f":"SUMIF(SOLICITUDES!$C$2:$C$1048576,BD!C12459,SOLICITUDES!$I$2:$I$1048576)","v":0},0,{"$f":"SUMIF(SOLICITUDES!$C$2:$C$1048576,BD!C12459,SOLICITUDES!$J$2:$J$1048576)","v":0},0,{"$f":"SUMIF(SOLICITUDES!$C$2:$C$1048576,BD!C12459,SOLICITUDES!$K$2:$K$1048576)","v":0},0]
[null,null,"T17137",75,13200,208,-76.602697848537133,2.4425463429627778,37.5,37.5,15,15,{"$f":"SUMIF(SOLICITUDES!$C$2:$C$1048576,BD!C12470,SOLICITUDES!$I$2:$I$1048576)","v":0},0,{"$f":"SUMIF(SOLICITUDES!$C$2:$C$1048576,BD!C12470,SOLICITUDES!$J$2:$J$1048576)","v":0},0,{"$f":"SUMIF(SOLICITUDES!$C$2:$C$1048576,BD!C12470,SOLICITUDES!$K$2:$K$1048576)","v":0},0]
[null,null,"T4157",75,13200,220,-76.596806592700744,2.4484096036442673,37.5,37.5,15,15,{"$f":"SUMIF(SOLICITUDES!$C$2:$C$1048576,BD!C12478,SOLICITUDES!$I$2:$I$1048576)","v":0},0,{"$f":"SUMIF(SOLICITUDES!$C$2:$C$1048576,BD!C12478,SOLICITUDES!$J$2:$J$1048576)","v":0},0,{"$f":"SUMIF(SOLICITUDES!$C$2:$C$1048576,BD!C12478,SOLICITUDES!$K$2:$K$1048576)","v":0},0]
[null,null,"T22869",5,13200,240,-76.818779949483456,2.8329745135253033,2.5,2.5,1,1,{"$f":"SUMIF(SOLICITUDES!$C$2:$C$1048576,BD!C12487,SOLICITUDES!$I$2:$I$1048576)","v":0},0,{"$f":"SUMIF(SOLICITUDES!$C$2:$C$1048576,BD!C12487,SOLICITUDES!$J$2:$J$1048576)","v":0},0,{"$f":"SUMIF(SOLICITUDES!$C$2:$C$1048576,BD!C12487,SOLICITUDES!$K$2:$K$1048576)","v":0},0]
[null,null,"T22787",5,13200,240,-76.873586069430274,2.8625452842506376,2.5,2.5,1,1,{"$f":"SUMIF(SOLICITUDES!$C$2:$C$1048576,BD!C12502,SOLICITUDES!$I$2:$I$1048576)","v":0},0,{"$f":"SUMIF(SOLICITUDES!$C$2:$C$1048576,BD!C12502,SOLICITUDES!$J$2:$J$1048576)","v":0},0,{"$f":"SUMIF(SOLICITUDES!$C$2:$C$1048576,BD!C12502,SOLICITUDES!$K$2:$K$1048576)","v":0},0]
[null,null,"T22878",15,13200,240,-76.821794606829627,2.822706501943764,7.5,7.5,3,3,{"$f":"SUMIF(SOLICITUDES!$C$2:$C$1048576,BD!C12507,SOLICITUDES!$I$2:$I$1048576)","v":0},0,{"$f":"SUMIF(SOLICITUDES!$C$2:$C$1048576,BD!C12507,SOLICITUDES!$J$2:$J$1048576)","v":0},0,{"$f":"SUMIF(SOLICITUDES!$C$2:$C$1048576,BD!C12507,SOLICITUDES!$K$2:$K$1048576)","v":0},0]
[null,null,"T22905",10,13200,240,-76.880028853115022,2.8204070184559096,5,5,2,2,{"$f":"SUMIF(SOLICITUDES!$C$2:$C$1048576,BD!C12518,SOLICITUDES!$I$2:$I$1048576)","v":0},0,{"$f":"SUMIF(SOLICITUDES!$C$2:$C$1048576,BD!C12518,SOLICITUDES!$J$2:$J$1048576)","v":0},0,{"$f":"SUMIF(SOLICITUDES!$C$2:$C$1048576,BD!C12518,SOLICITUDES!$K$2:$K$1048576)","v":0},0]
[null,null,"T22914",5,13200,240,-76.861898715572124,2.8142965929125645,2.5,2.5,1,1,{"$f":"SUMIF(SOLICITUDES!$C$2:$C$1048576,BD!C12533,SOLICITUDES!$I$2:$I$1048576)","v":0},0,{"$f":"SUMIF(SOLICITUDES!$C$2:$C$1048576,BD!C12533,SOLICITUDES!$J$2:$J$1048576)","v":0},0,{"$f":"SUMIF(SOLICITUDES!$C$2:$C$1048576,BD!C12533,SOLICITUDES!$K$2:$K$1048576)","v":0},0]
[null,null,"T31657",10,13200,240,-76.812221676197936,2.8301777537420061,5,5,2,2,{"$f":"SUMIF(SOLICITUDES!$C$2:$C$1048576,BD!C12544,SOLICITUDES!$I$2:$I$1048576)","v":0},0,{"$f":"SUMIF(SOLICITUDES!$C$2:$C$1048576,BD!C12544,SOLICITUDES!$J$2:$J$1048576)","v":0},0,{"$f":"SUMIF(SOLICITUDES!$C$2:$C$1048576,BD!C12544,SOLICITUDES!$K$2:$K$1048576)","v":0},0]
[null,null,"T30898",30,13200,208,-76.624830080709941,2.7589270840965834,15,15,6,6,{"$f":"SUMIF(SOLICITUDES!$C$2:$C$1048576,BD!C12549,SOLICITUDES!$I$2:$I$1048576)","v":0},0,{"$f":"SUMIF(SOLICITUDES!$C$2:$C$1048576,BD!C12549,SOLICITUDES!$J$2:$J$1048576)","v":0},0,{"$f":"SUMIF(SOLICITUDES!$C$2:$C$1048576,BD!C12549,SOLICITUDES!$K$2:$K$1048576)","v":0},0]
[null,null,"T11498",37.5,13200,240,-76.491008987159006,3.0050996652225428,18.75,18.75,7.5,7.5,{"$f":"SUMIF(SOLICITUDES!$C$2:$C$1048576,BD!C12564,SOLICITUDES!$I$2:$I$1048576)","v":0},0,{"$f":"SUMIF(SOLICITUDES!$C$2:$C$1048576,BD!C12564,SOLICITUDES!$J$2:$J$1048576)","v":0},0,{"$f":"SUMIF(SOLICITUDES!$C$2:$C$1048576,BD!C12564,SOLICITUDES!$K$2:$K$1048576)","v":0},0]
[null,null,"T17007",10,13200,240,-76.908359995028903,1.6888661898136708,5,5,2,2,{"$f":"SUMIF(SOLICITUDES!$C$2:$C$1048576,BD!C12573,SOLICITUDES!$I$2:$I$1048576)","v":0},0,{"$f":"SUMIF(SOLICITUDES!$C$2:$C$1048576,BD!C12573,SOLICITUDES!$J$2:$J$1048576)","v":0},0,{"$f":"SUMIF(SOLICITUDES!$C$2:$C$1048576,BD!C12573,SOLICITUDES!$K$2:$K$1048576)","v":0},0]
[null,null,"T13838",15,13200,240,-76.760030818357109,1.7940045749819995,7.5,7.5,3,3,{"$f":"SUMIF(SOLICITUDES!$C$2:$C$1048576,BD!C12581,SOLICITUDES!$I$2:$I$1048576)","v":0},0,{"$f":"SUMIF(SOLICITUDES!$C$2:$C$1048576,BD!C12581,SOLICITUDES!$J$2:$J$1048576)","v":0},0,{"$f":"SUMIF(SOLICITUDES!$C$2:$C$1048576,BD!C12581,SOLICITUDES!$K$2:$K$1048576)","v":0},0]
[null,null,"T13162",37.5,13200,240,-76.770540057940138,1.8293844186489974,18.75,18.75,7.5,7.5,{"$f":"SUMIF(SOLICITUDES!$C$2:$C$1048576,BD!C12586,SOLICITUDES!$I$2:$I$1048576)","v":0},0,{"$f":"SUMIF(SOLICITUDES!$C$2:$C$1048576,BD!C12586,SOLICITUDES!$J$2:$J$1048576)","v":0},0,{"$f":"SUMIF(SOLICITUDES!$C$2:$C$1048576,BD!C12586,SOLICITUDES!$K$2:$K$1048576)","v":0},0]
[null,null,"T31343",37.5,13200,208,-76.768493222113364,1.839527129902635,18.75,18.75,7.5,7.5,{"$f":"SUMIF(SOLICITUDES!$C$2:$C$1048576,BD!C12597,SOLICITUDES!$I$2:$I$1048576)","v":0},0,{"$f":"SUMIF(SOLICITUDES!$C$2:$C$1048576,BD!C12597,SOLICITUDES!$J$2:$J$1048576)","v":0},0,{"$f":"SUMIF(SOLICITUDES!$C$2:$C$1048576,BD!C12597,SOLICITUDES!$K$2:$K$1048576)","v":0},0]
[null,null,"T14196",25,13200,240,-76.774059784118478,1.8489188405500729,{"$f":"D12612*0.5","v":12.5},12.5,{"$f":"0.2*D12612","v":5},{"$f":"0.2*D12612","v":5},{"$f":"SUMIF(SOLICITUDES!$C$2:$C$1048576,BD!C12612,SOLICITUDES!$I$2:$I$1048576)","v":0},0,{"$f":"SUMIF(SOLICITUDES!$C$2:$C$1048576,BD!C12612,SOLICITUDES!$J$2:$J$1048576)","v":0},{"$f":"O12612/(2*K12612)","v":0},{"$f":"SUMIF(SOLICITUDES!$C$2:$C$1048576,BD!C12612,SOLICITUDES!$K$2:$K$1048576)","v":0},{"$f":"Q12612/(2*L12612)","v":0}]
[null,null,"T11638",15,13200,240,-77.097881611975069,2.0559621503126539,7.5,7.5,3,3,{"$f":"SUMIF(SOLICITUDES!$C$2:$C$1048576,BD!C12623,SOLICITUDES!$I$2:$I$1048576)","v":0},0,{"$f":"SUMIF(SOLICITUDES!$C$2:$C$1048576,BD!C12623,SOLICITUDES!$J$2:$J$1048576)","v":0},0,{"$f":"SUMIF(SOLICITUDES!$C$2:$C$1048576,BD!C12623,SOLICITUDES!$K$2:$K$1048576)","v":0},0]
[null,null,"T11625",10,13200,240,-77.085980260192883,2.0510787711230436,5,5,2,2,{"$f":"SUMIF(SOLICITUDES!$C$2:$C$1048576,BD!C12628,SOLICITUDES!$I$2:$I$1048576)","v":0},0,{"$f":"SUMIF(SOLICITUDES!$C$2:$C$1048576,BD!C12628,SOLICITUDES!$J$2:$J$1048576)","v":0},0,{"$f":"SUMIF(SOLICITUDES!$C$2:$C$1048576,BD!C12628,SOLICITUDES!$K$2:$K$1048576)","v":0},0]
[null,null,"T12650",15,13200,240,-77.10921633520347,2.0424509535833701,7.5,7.5,3,3,{"$f":"SUMIF(SOLICITUDES!$C$2:$C$1048576,BD!C12643,SOLICITUDES!$I$2:$I$1048576)","v":0},0,{"$f":"SUMIF(SOLICITUDES!$C$2:$C$1048576,BD!C12643,SOLICITUDES!$J$2:$J$1048576)","v":0},0,{"$f":"SUMIF(SOLICITUDES!$C$2:$C$1048576,BD!C12643,SOLICITUDES!$K$2:$K$1048576)","v":0},0]
[null,null,"T15933",15,13200,240,-76.763406712592584,1.8638749160957713,7.5,7.5,3,3,{"$f":"SUMIF(SOLICITUDES!$C$2:$C$1048576,BD!C12654,SOLICITUDES!$I$2:$I$1048576)","v":0},0,{"$f":"SUMIF(SOLICITUDES!$C$2:$C$1048576,BD!C12654,SOLICITUDES!$J$2:$J$1048576)","v":0},0,{"$f":"SUMIF(SOLICITUDES!$C$2:$C$1048576,BD!C12654,SOLICITUDES!$K$2:$K$1048576)","v":0},0]
[null,null,"T15940",15,13200,240,-76.738966497174886,1.8773088381972074,7.5,7.5,3,3,{"$f":"SUMIF(SOLICITUDES!$C$2:$C$1048576,BD!C12664,SOLICITUDES!$I$2:$I$1048576)","v":0},0,{"$f":"SUMIF(SOLICITUDES!$C$2:$C$1048576,BD!C12664,SOLICITUDES!$J$2:$J$1048576)","v":0},0,{"$f":"SUMIF(SOLICITUDES!$C$2:$C$1048576,BD!C12664,SOLICITUDES!$K$2:$K$1048576)","v":0},0]
[null,null,"T16508",25,13200,240,-76.75189015165418,1.8814713117547344,12.5,{"$f":"D12675*0.5-M12675","v":12.5},5,5,{"$f":"SUMIF(SOLICITUDES!$C$2:$C$1048576,BD!C12675,SOLICITUDES!$I$2:$I$1048576)","v":0},{"$f":"M12675/D12675","v":0},{"$f":"SUMIF(SOLICITUDES!$C$2:$C$1048576,BD!C12675,SOLICITUDES!$J$2:$J$1048576)","v":0},0,{"$f":"SUMIF(SOLICITUDES!$C$2:$C$1048576,BD!C12675,SOLICITUDES!$K$2:$K$1048576)","v":0},0]
[null,null,"T16525",10,13200,240,-76.756824716961788,1.8800705313864634,5,5,2,2,{"$f":"SUMIF(SOLICITUDES!$C$2:$C$1048576,BD!C12686,SOLICITUDES!$I$2:$I$1048576)","v":0},0,{"$f":"SUMIF(SOLICITUDES!$C$2:$C$1048576,BD!C12686,SOLICITUDES!$J$2:$J$1048576)","v":0},0,{"$f":"SUMIF(SOLICITUDES!$C$2:$C$1048576,BD!C12686,SOLICITUDES!$K$2:$K$1048576)","v":0},0]
[null,null,"T22109",10,13200,240,-76.301851028075305,3.098630292027249,5,5,2,2,{"$f":"SUMIF(SOLICITUDES!$C$2:$C$1048576,BD!C12691,SOLICITUDES!$I$2:$I$1048576)","v":0},0,{"$f":"SUMIF(SOLICITUDES!$C$2:$C$1048576,BD!C12691,SOLICITUDES!$J$2:$J$1048576)","v":0},0,{"$f":"SUMIF(SOLICITUDES!$C$2:$C$1048576,BD!C12691,SOLICITUDES!$K$2:$K$1048576)","v":0},0]
[null,null,"T22123",37.5,13200,240,-76.323750532806045,3.0643362026254395,18.75,18.75,7.5,7.5,{"$f":"SUMIF(SOLICITUDES!$C$2:$C$1048576,BD!C12702,SOLICITUDES!$I$2:$I$1048576)","v":0},0,{"$f":"SUMIF(SOLICITUDES!$C$2:$C$1048576,BD!C12702,SOLICITUDES!$J$2:$J$1048576)","v":0},0,{"$f":"SUMIF(SOLICITUDES!$C$2:$C$1048576,BD!C12702,SOLICITUDES!$K$2:$K$1048576)","v":0},0]
[null,null,"T22101",15,13200,240,-76.30569012920509,3.0997532099352099,7.5,7.5,3,3,{"$f":"SUMIF(SOLICITUDES!$C$2:$C$1048576,BD!C12707,SOLICITUDES!$I$2:$I$1048576)","v":0},0,{"$f":"SUMIF(SOLICITUDES!$C$2:$C$1048576,BD!C12707,SOLICITUDES!$J$2:$J$1048576)","v":0},0,{"$f":"SUMIF(SOLICITUDES!$C$2:$C$1048576,BD!C12707,SOLICITUDES!$K$2:$K$1048576)","v":0},0]
[null,null,"T26224",45,13200,208,-76.630997091273599,2.758776040308669,22.5,22.5,9,9,{"$f":"SUMIF(SOLICITUDES!$C$2:$C$1048576,BD!C12722,SOLICITUDES!$I$2:$I$1048576)","v":0},0,{"$f":"SUMIF(SOLICITUDES!$C$2:$C$1048576,BD!C12722,SOLICITUDES!$J$2:$J$1048576)","v":0},0,{"$f":"SUMIF(SOLICITUDES!$C$2:$C$1048576,BD!C12722,SOLICITUDES!$K$2:$K$1048576)","v":0},0]
[null,null,"T11074",25,13200,240,-76.628516366971098,2.7550492989265933,12.5,12.5,5,5,{"$f":"SUMIF(SOLICITUDES!$C$2:$C$1048576,BD!C12733,SOLICITUDES!$I$2:$I$1048576)","v":0},0,{"$f":"SUMIF(SOLICITUDES!$C$2:$C$1048576,BD!C12733,SOLICITUDES!$J$2:$J$1048576)","v":0},0,{"$f":"SUMIF(SOLICITUDES!$C$2:$C$1048576,BD!C12733,SOLICITUDES!$K$2:$K$1048576)","v":0},0]
[null,null,"T17200",25,13200,240,-76.741790962653866,1.9116382599337896,12.5,12.5,5,5,{"$f":"SUMIF(SOLICITUDES!$C$2:$C$1048576,BD!C12738,SOLICITUDES!$I$2:$I$1048576)","v":0},0,{"$f":"SUMIF(SOLICITUDES!$C$2:$C$1048576,BD!C12738,SOLICITUDES!$J$2:$J$1048576)","v":0},0,{"$f":"SUMIF(SOLICITUDES!$C$2:$C$1048576,BD!C12738,SOLICITUDES!$K$2:$K$1048576)","v":0},0]
[null,null,"T15936",10,13200,240,-76.712819673342338,1.8840951086331283,5,5,2,2,{"$f":"SUMIF(SOLICITUDES!$C$2:$C$1048576,BD!C12748,SOLICITUDES!$I$2:$I$1048576)","v":0},0,{"$f":"SUMIF(SOLICITUDES!$C$2:$C$1048576,BD!C12748,SOLICITUDES!$J$2:$J$1048576)","v":0},0,{"$f":"SUMIF(SOLICITUDES!$C$2:$C$1048576,BD!C12748,SOLICITUDES!$K$2:$K$1048576)","v":0},0]
[null,null,"T17192",10,13200,240,-76.738344426953205,1.932455526794747,5,5,2,2,{"$f":"SUMIF(SOLICITUDES!$C$2:$C$1048576,BD!C12765,SOLICITUDES!$I$2:$I$1048576)","v":0},0,{"$f":"SUMIF(SOLICITUDES!$C$2:$C$1048576,BD!C12765,SOLICITUDES!$J$2:$J$1048576)","v":0},0,{"$f":"SUMIF(SOLICITUDES!$C$2:$C$1048576,BD!C12765,SOLICITUDES!$K$2:$K$1048576)","v":0},0]
[null,null,"T17766",10,13200,240,-76.752734736868348,1.9303151181111589,5,5,2,2,{"$f":"SUMIF(SOLICITUDES!$C$2:$C$1048576,BD!C12770,SOLICITUDES!$I$2:$I$1048576)","v":0},0,{"$f":"SUMIF(SOLICITUDES!$C$2:$C$1048576,BD!C12770,SOLICITUDES!$J$2:$J$1048576)","v":0},0,{"$f":"SUMIF(SOLICITUDES!$C$2:$C$1048576,BD!C12770,SOLICITUDES!$K$2:$K$1048576)","v":0},0]
[null,null,"T15952",15,13200,240,-76.694018904241858,1.9169998423567671,7.5,7.5,3,3,{"$f":"SUMIF(SOLICITUDES!$C$2:$C$1048576,BD!C12781,SOLICITUDES!$I$2:$I$1048576)","v":0},0,{"$f":"SUMIF(SOLICITUDES!$C$2:$C$1048576,BD!C12781,SOLICITUDES!$J$2:$J$1048576)","v":0},0,{"$f":"SUMIF(SOLICITUDES!$C$2:$C$1048576,BD!C12781,SOLICITUDES!$K$2:$K$1048576)","v":0},0]
[null,null,"T10919",15,13200,240,-76.578951304373774,2.8065751026231207,7.5,7.5,3,3,{"$f":"SUMIF(SOLICITUDES!$C$2:$C$1048576,BD!C12796,SOLICITUDES!$I$2:$I$1048576)","v":0},0,{"$f":"SUMIF(SOLICITUDES!$C$2:$C$1048576,BD!C12796,SOLICITUDES!$J$2:$J$1048576)","v":0},0,{"$f":"SUMIF(SOLICITUDES!$C$2:$C$1048576,BD!C12796,SOLICITUDES!$K$2:$K$1048576)","v":0},0]
[null,null,"T11703",10,13200,240,-76.591730703414342,2.8371741414547262,5,5,2,2,{"$f":"SUMIF(SOLICITUDES!$C$2:$C$1048576,BD!C12801,SOLICITUDES!$I$2:$I$1048576)","v":0},0,{"$f":"SUMIF(SOLICITUDES!$C$2:$C$1048576,BD!C12801,SOLICITUDES!$J$2:$J$1048576)","v":0},0,{"$f":"SUMIF(SOLICITUDES!$C$2:$C$1048576,BD!C12801,SOLICITUDES!$K$2:$K$1048576)","v":0},0]
[null,null,"T4909",37.5,13200,240,-76.514226529591411,2.6304772653477242,18.75,18.75,7.5,7.5,{"$f":"SUMIF(SOLICITUDES!$C$2:$C$1048576,BD!C12812,SOLICITUDES!$I$2:$I$1048576)","v":0},0,{"$f":"SUMIF(SOLICITUDES!$C$2:$C$1048576,BD!C12812,SOLICITUDES!$J$2:$J$1048576)","v":0},0,{"$f":"SUMIF(SOLICITUDES!$C$2:$C$1048576,BD!C12812,SOLICITUDES!$K$2:$K$1048576)","v":0},0]
[null,null,"T23477",10,13200,240,-76.787175075716561,2.9965154508782619,5,5,2,2,{"$f":"SUMIF(SOLICITUDES!$C$2:$C$1048576,BD!C12827,SOLICITUDES!$I$2:$I$1048576)","v":0},0,{"$f":"SUMIF(SOLICITUDES!$C$2:$C$1048576,BD!C12827,SOLICITUDES!$J$2:$J$1048576)","v":0},0,{"$f":"SUMIF(SOLICITUDES!$C$2:$C$1048576,BD!C12827,SOLICITUDES!$K$2:$K$1048576)","v":0},0]
[null,null,"T15339",10,13200,240,-76.719976233763418,2.8541904093989432,5,5,2,2,{"$f":"SUMIF(SOLICITUDES!$C$2:$C$1048576,BD!C12828,SOLICITUDES!$I$2:$I$1048576)","v":0},0,{"$f":"SUMIF(SOLICITUDES!$C$2:$C$1048576,BD!C12828,SOLICITUDES!$J$2:$J$1048576)","v":0},0,{"$f":"SUMIF(SOLICITUDES!$C$2:$C$1048576,BD!C12828,SOLICITUDES!$K$2:$K$1048576)","v":0},0]
[null,null,"T22706",10,13200,240,-76.740619472915142,3.0310803563588045,5,5,2,2,{"$f":"SUMIF(SOLICITUDES!$C$2:$C$1048576,BD!C12839,SOLICITUDES!$I$2:$I$1048576)","v":0},0,{"$f":"SUMIF(SOLICITUDES!$C$2:$C$1048576,BD!C12839,SOLICITUDES!$J$2:$J$1048576)","v":0},0,{"$f":"SUMIF(SOLICITUDES!$C$2:$C$1048576,BD!C12839,SOLICITUDES!$K$2:$K$1048576)","v":0},0]
[null,null,"T13146",5,13200,240,-76.783291071449625,2.9808327640465966,2.5,2.5,1,1,{"$f":"SUMIF(SOLICITUDES!$C$2:$C$1048576,BD!C12849,SOLICITUDES!$I$2:$I$1048576)","v":0},0,{"$f":"SUMIF(SOLICITUDES!$C$2:$C$1048576,BD!C12849,SOLICITUDES!$J$2:$J$1048576)","v":0},0,{"$f":"SUMIF(SOLICITUDES!$C$2:$C$1048576,BD!C12849,SOLICITUDES!$K$2:$K$1048576)","v":0},0]
[null,null,"T13151",10,13200,220,-76.796946367229026,2.9763524433754487,5,5,2,2,{"$f":"SUMIF(SOLICITUDES!$C$2:$C$1048576,BD!C12860,SOLICITUDES!$I$2:$I$1048576)","v":0},0,{"$f":"SUMIF(SOLICITUDES!$C$2:$C$1048576,BD!C12860,SOLICITUDES!$J$2:$J$1048576)","v":0},0,{"$f":"SUMIF(SOLICITUDES!$C$2:$C$1048576,BD!C12860,SOLICITUDES!$K$2:$K$1048576)","v":0},0]
[null,null,"T23480",10,13200,240,-76.805991870182211,2.9966471984212135,5,5,2,2,{"$f":"SUMIF(SOLICITUDES!$C$2:$C$1048576,BD!C12875,SOLICITUDES!$I$2:$I$1048576)","v":0},0,{"$f":"SUMIF(SOLICITUDES!$C$2:$C$1048576,BD!C12875,SOLICITUDES!$J$2:$J$1048576)","v":0},0,{"$f":"SUMIF(SOLICITUDES!$C$2:$C$1048576,BD!C12875,SOLICITUDES!$K$2:$K$1048576)","v":0},0]
[null,null,"T22800",15,13200,240,-76.812720472451787,2.9363675192354739,7.5,7.5,3,3,{"$f":"SUMIF(SOLICITUDES!$C$2:$C$1048576,BD!C12880,SOLICITUDES!$I$2:$I$1048576)","v":0},0,{"$f":"SUMIF(SOLICITUDES!$C$2:$C$1048576,BD!C12880,SOLICITUDES!$J$2:$J$1048576)","v":0},0,{"$f":"SUMIF(SOLICITUDES!$C$2:$C$1048576,BD!C12880,SOLICITUDES!$K$2:$K$1048576)","v":0},0]
[null,null,"T29295",5,13200,240,-76.349258819380424,2.7604399912183459,2.5,2.5,1,1,{"$f":"SUMIF(SOLICITUDES!$C$2:$C$1048576,BD!C12891,SOLICITUDES!$I$2:$I$1048576)","v":0},0,{"$f":"SUMIF(SOLICITUDES!$C$2:$C$1048576,BD!C12891,SOLICITUDES!$J$2:$J$1048576)","v":0},0,{"$f":"SUMIF(SOLICITUDES!$C$2:$C$1048576,BD!C12891,SOLICITUDES!$K$2:$K$1048576)","v":0},0]
[null,null,"T9471",10,13200,240,-76.343953903250508,2.7656129710805759,5,5,2,2,{"$f":"SUMIF(SOLICITUDES!$C$2:$C$1048576,BD!C12906,SOLICITUDES!$I$2:$I$1048576)","v":0},0,{"$f":"SUMIF(SOLICITUDES!$C$2:$C$1048576,BD!C12906,SOLICITUDES!$J$2:$J$1048576)","v":0},0,{"$f":"SUMIF(SOLICITUDES!$C$2:$C$1048576,BD!C12906,SOLICITUDES!$K$2:$K$1048576)","v":0},0]
[null,null,"T9468",5,13200,240,-76.314693405555516,2.7765268880331737,2.5,2.5,1,1,{"$f":"SUMIF(SOLICITUDES!$C$2:$C$1048576,BD!C12917,SOLICITUDES!$I$2:$I$1048576)","v":0},0,{"$f":"SUMIF(SOLICITUDES!$C$2:$C$1048576,BD!C12917,SOLICITUDES!$J$2:$J$1048576)","v":0},0,{"$f":"SUMIF(SOLICITUDES!$C$2:$C$1048576,BD!C12917,SOLICITUDES!$K$2:$K$1048576)","v":0},0]
[null,null,"T9481",10,13200,240,-76.319692329347092,2.7782573282319447,5,5,2,2,{"$f":"SUMIF(SOLICITUDES!$C$2:$C$1048576,BD!C12922,SOLICITUDES!$I$2:$I$1048576)","v":0},0,{"$f":"SUMIF(SOLICITUDES!$C$2:$C$1048576,BD!C12922,SOLICITUDES!$J$2:$J$1048576)","v":0},0,{"$f":"SUMIF(SOLICITUDES!$C$2:$C$1048576,BD!C12922,SOLICITUDES!$K$2:$K$1048576)","v":0},0]
[null,null,"T9966",25,13200,240,-76.323643921398741,2.8005139217659671,12.5,12.5,5,5,{"$f":"SUMIF(SOLICITUDES!$C$2:$C$1048576,BD!C12930,SOLICITUDES!$I$2:$I$1048576)","v":0},0,{"$f":"SUMIF(SOLICITUDES!$C$2:$C$1048576,BD!C12930,SOLICITUDES!$J$2:$J$1048576)","v":0},0,{"$f":"SUMIF(SOLICITUDES!$C$2:$C$1048576,BD!C12930,SOLICITUDES!$K$2:$K$1048576)","v":0},0]
[null,null,"T9956",37.5,13200,240,-76.310227617817404,2.7984705849231348,18.75,18.75,7.5,7.5,{"$f":"SUMIF(SOLICITUDES!$C$2:$C$1048576,BD!C12949,SOLICITUDES!$I$2:$I$1048576)","v":0},0,{"$f":"SUMIF(SOLICITUDES!$C$2:$C$1048576,BD!C12949,SOLICITUDES!$J$2:$J$1048576)","v":0},0,{"$f":"SUMIF(SOLICITUDES!$C$2:$C$1048576,BD!C12949,SOLICITUDES!$K$2:$K$1048576)","v":0},0]
[null,null,"T24807",5,13200,240,-75.98624123811355,2.6755059645698034,2.5,2.5,1,1,{"$f":"SUMIF(SOLICITUDES!$C$2:$C$1048576,BD!C12954,SOLICITUDES!$I$2:$I$1048576)","v":0},0,{"$f":"SUMIF(SOLICITUDES!$C$2:$C$1048576,BD!C12954,SOLICITUDES!$J$2:$J$1048576)","v":0},0,{"$f":"SUMIF(SOLICITUDES!$C$2:$C$1048576,BD!C12954,SOLICITUDES!$K$2:$K$1048576)","v":0},0]
[null,null,"T24798",10,13200,240,-75.976350195524972,2.6779007781770283,5,5,2,2,{"$f":"SUMIF(SOLICITUDES!$C$2:$C$1048576,BD!C12965,SOLICITUDES!$I$2:$I$1048576)","v":0},0,{"$f":"SUMIF(SOLICITUDES!$C$2:$C$1048576,BD!C12965,SOLICITUDES!$J$2:$J$1048576)","v":0},0,{"$f":"SUMIF(SOLICITUDES!$C$2:$C$1048576,BD!C12965,SOLICITUDES!$K$2:$K$1048576)","v":0},0]
[null,null,"T26559",5,13200,240,-75.99960601951669,2.6680866242577013,2.5,2.5,1,1,{"$f":"SUMIF(SOLICITUDES!$C$2:$C$1048576,BD!C12970,SOLICITUDES!$I$2:$I$1048576)","v":0},0,{"$f":"SUMIF(SOLICITUDES!$C$2:$C$1048576,BD!C12970,SOLICITUDES!$J$2:$J$1048576)","v":0},0,{"$f":"SUMIF(SOLICITUDES!$C$2:$C$1048576,BD!C12970,SOLICITUDES!$K$2:$K$1048576)","v":0},0]
[null,null,"T17688",15,13200,240,-76.006906381753652,2.6461549767809376,7.5,7.5,3,3,{"$f":"SUMIF(SOLICITUDES!$C$2:$C$1048576,BD!C12985,SOLICITUDES!$I$2:$I$1048576)","v":0},0,{"$f":"SUMIF(SOLICITUDES!$C$2:$C$1048576,BD!C12985,SOLICITUDES!$J$2:$J$1048576)","v":0},0,{"$f":"SUMIF(SOLICITUDES!$C$2:$C$1048576,BD!C12985,SOLICITUDES!$K$2:$K$1048576)","v":0},0]
[null,null,"T27272",5,13200,240,-76.024660934829626,2.6811717341629699,{"$f":"D12996*0.5","v":2.5},2.5,{"$f":"0.2*D12996","v":1},{"$f":"0.2*D12996","v":1},{"$f":"SUMIF(SOLICITUDES!$C$2:$C$1048576,BD!C12996,SOLICITUDES!$I$2:$I$1048576)","v":0},0,{"$f":"SUMIF(SOLICITUDES!$C$2:$C$1048576,BD!C12996,SOLICITUDES!$J$2:$J$1048576)","v":0},{"$f":"O12996/(2*K12996)","v":0},{"$f":"SUMIF(SOLICITUDES!$C$2:$C$1048576,BD!C12996,SOLICITUDES!$K$2:$K$1048576)","v":0},{"$f":"Q12996/(2*L12996)","v":0}]
[null,null,"T26563",5,13200,240,-76.016259543333817,2.6725957535587952,2.5,2.5,1,1,{"$f":"SUMIF(SOLICITUDES!$C$2:$C$1048576,BD!C13001,SOLICITUDES!$I$2:$I$1048576)","v":0},0,{"$f":"SUMIF(SOLICITUDES!$C$2:$C$1048576,BD!C13001,SOLICITUDES!$J$2:$J$1048576)","v":0},0,{"$f":"SUMIF(SOLICITUDES!$C$2:$C$1048576,BD!C13001,SOLICITUDES!$K$2:$K$1048576)","v":0},0]
[null,null,"T9920",30,13200,208,-76.509308521453534,3.116745123648351,15,15,6,6,{"$f":"SUMIF(SOLICITUDES!$C$2:$C$1048576,BD!C13016,SOLICITUDES!$I$2:$I$1048576)","v":0},0,{"$f":"SUMIF(SOLICITUDES!$C$2:$C$1048576,BD!C13016,SOLICITUDES!$J$2:$J$1048576)","v":0},0,{"$f":"SUMIF(SOLICITUDES!$C$2:$C$1048576,BD!C13016,SOLICITUDES!$K$2:$K$1048576)","v":0},0]
[null,null,"T29911",10,13200,240,-76.902333438419831,2.0389391539850785,5,5,2,2,{"$f":"SUMIF(SOLICITUDES!$C$2:$C$1048576,BD!C13025,SOLICITUDES!$I$2:$I$1048576)","v":0},0,{"$f":"SUMIF(SOLICITUDES!$C$2:$C$1048576,BD!C13025,SOLICITUDES!$J$2:$J$1048576)","v":0},0,{"$f":"SUMIF(SOLICITUDES!$C$2:$C$1048576,BD!C13025,SOLICITUDES!$K$2:$K$1048576)","v":0},0]
[null,null,"T15253",37.5,13200,240,-76.927917181481106,2.0827599618138706,18.75,18.75,7.5,7.5,{"$f":"SUMIF(SOLICITUDES!$C$2:$C$1048576,BD!C13033,SOLICITUDES!$I$2:$I$1048576)","v":0},0,{"$f":"SUMIF(SOLICITUDES!$C$2:$C$1048576,BD!C13033,SOLICITUDES!$J$2:$J$1048576)","v":0},0,{"$f":"SUMIF(SOLICITUDES!$C$2:$C$1048576,BD!C13033,SOLICITUDES!$K$2:$K$1048576)","v":0},0]
[null,null,"T18143",15,13200,240,-76.94391708278593,1.9826764840119486,7.5,7.5,3,3,{"$f":"SUMIF(SOLICITUDES!$C$2:$C$1048576,BD!C13044,SOLICITUDES!$I$2:$I$1048576)","v":0},0,{"$f":"SUMIF(SOLICITUDES!$C$2:$C$1048576,BD!C13044,SOLICITUDES!$J$2:$J$1048576)","v":0},0,{"$f":"SUMIF(SOLICITUDES!$C$2:$C$1048576,BD!C13044,SOLICITUDES!$K$2:$K$1048576)","v":0},0]
[null,null,"T18087",37.5,13200,240,-77.028356609749181,1.9264935953215647,18.75,{"$f":"D13059*0.5-M13059","v":18.75},7.5,7.5,{"$f":"SUMIF(SOLICITUDES!$C$2:$C$1048576,BD!C13059,SOLICITUDES!$I$2:$I$1048576)","v":0},{"$f":"M13059/D13059","v":0},{"$f":"SUMIF(SOLICITUDES!$C$2:$C$1048576,BD!C13059,SOLICITUDES!$J$2:$J$1048576)","v":0},0,{"$f":"SUMIF(SOLICITUDES!$C$2:$C$1048576,BD!C13059,SOLICITUDES!$K$2:$K$1048576)","v":0},0]
[null,null,"T29923",10,13200,240,-76.905678726711898,2.0252905316122076,5,5,2,2,{"$f":"SUMIF(SOLICITUDES!$C$2:$C$1048576,BD!C13064,SOLICITUDES!$I$2:$I$1048576)","v":0},0,{"$f":"SUMIF(SOLICITUDES!$C$2:$C$1048576,BD!C13064,SOLICITUDES!$J$2:$J$1048576)","v":0},0,{"$f":"SUMIF(SOLICITUDES!$C$2:$C$1048576,BD!C13064,SOLICITUDES!$K$2:$K$1048576)","v":0},0]
[null,null,"T7189",112.5,13200,208,-76.484962654979327,3.0082703661421744,56.25,56.25,22.5,22.5,{"$f":"SUMIF(SOLICITUDES!$C$2:$C$1048576,BD!C13075,SOLICITUDES!$I$2:$I$1048576)","v":0},0,{"$f":"SUMIF(SOLICITUDES!$C$2:$C$1048576,BD!C13075,SOLICITUDES!$J$2:$J$1048576)","v":0},0,{"$f":"SUMIF(SOLICITUDES!$C$2:$C$1048576,BD!C13075,SOLICITUDES!$K$2:$K$1048576)","v":0},0]
[null,null,"T7532",75,13200,208,-76.484807116459748,3.0105322174467752,37.5,37.5,15,15,{"$f":"SUMIF(SOLICITUDES!$C$2:$C$1048576,BD!C13090,SOLICITUDES!$I$2:$I$1048576)","v":0},0,{"$f":"SUMIF(SOLICITUDES!$C$2:$C$1048576,BD!C13090,SOLICITUDES!$J$2:$J$1048576)","v":0},0,{"$f":"SUMIF(SOLICITUDES!$C$2:$C$1048576,BD!C13090,SOLICITUDES!$K$2:$K$1048576)","v":0},0]
[null,null,"T7196",112.5,13200,208,-76.484043197401931,3.0120136791023668,56.25,56.25,22.5,22.5,{"$f":"SUMIF(SOLICITUDES!$C$2:$C$1048576,BD!C13091,SOLICITUDES!$I$2:$I$1048576)","v":0},0,{"$f":"SUMIF(SOLICITUDES!$C$2:$C$1048576,BD!C13091,SOLICITUDES!$J$2:$J$1048576)","v":0},0,{"$f":"SUMIF(SOLICITUDES!$C$2:$C$1048576,BD!C13091,SOLICITUDES!$K$2:$K$1048576)","v":0},0]
[null,null,"T1384",15,13200,240,-76.615739498137188,2.4545476572637459,7.5,7.5,3,3,{"$f":"SUMIF(SOLICITUDES!$C$2:$C$1048576,BD!C13106,SOLICITUDES!$I$2:$I$1048576)","v":0},0,{"$f":"SUMIF(SOLICITUDES!$C$2:$C$1048576,BD!C13106,SOLICITUDES!$J$2:$J$1048576)","v":0},0,{"$f":"SUMIF(SOLICITUDES!$C$2:$C$1048576,BD!C13106,SOLICITUDES!$K$2:$K$1048576)","v":0},0]
[null,null,"T1241",75,13200,208,-76.57309500752136,2.4784873918132106,37.5,37.5,15,15,{"$f":"SUMIF(SOLICITUDES!$C$2:$C$1048576,BD!C13116,SOLICITUDES!$I$2:$I$1048576)","v":0},0,{"$f":"SUMIF(SOLICITUDES!$C$2:$C$1048576,BD!C13116,SOLICITUDES!$J$2:$J$1048576)","v":0},0,{"$f":"SUMIF(SOLICITUDES!$C$2:$C$1048576,BD!C13116,SOLICITUDES!$K$2:$K$1048576)","v":0},0]
[null,null,"T30991",25,13200,240,-76.568558515421927,2.4799984413273455,12.5,{"$f":"D13123*0.5-M13123","v":12.5},5,5,{"$f":"SUMIF(SOLICITUDES!$C$2:$C$1048576,BD!C13123,SOLICITUDES!$I$2:$I$1048576)","v":0},{"$f":"M13123/D13123","v":0},{"$f":"SUMIF(SOLICITUDES!$C$2:$C$1048576,BD!C13123,SOLICITUDES!$J$2:$J$1048576)","v":0},0,{"$f":"SUMIF(SOLICITUDES!$C$2:$C$1048576,BD!C13123,SOLICITUDES!$K$2:$K$1048576)","v":0},0]
[null,null,"T1713",75,13200,208,-76.575116223374053,2.4831815670389079,37.5,37.5,15,15,{"$f":"SUMIF(SOLICITUDES!$C$2:$C$1048576,BD!C13138,SOLICITUDES!$I$2:$I$1048576)","v":0},0,{"$f":"SUMIF(SOLICITUDES!$C$2:$C$1048576,BD!C13138,SOLICITUDES!$J$2:$J$1048576)","v":0},0,{"$f":"SUMIF(SOLICITUDES!$C$2:$C$1048576,BD!C13138,SOLICITUDES!$K$2:$K$1048576)","v":0},0]
[null,null,"T15456",37.5,13200,214,-76.385148641288268,3.1570961111748161,18.75,18.75,7.5,7.5,{"$f":"SUMIF(SOLICITUDES!$C$2:$C$1048576,BD!C13143,SOLICITUDES!$I$2:$I$1048576)","v":0},0,{"$f":"SUMIF(SOLICITUDES!$C$2:$C$1048576,BD!C13143,SOLICITUDES!$J$2:$J$1048576)","v":0},0,{"$f":"SUMIF(SOLICITUDES!$C$2:$C$1048576,BD!C13143,SOLICITUDES!$K$2:$K$1048576)","v":0},0]
[null,null,"T3426",75,13200,120,-76.536366693820298,2.6426591775020767,37.5,37.5,15,15,{"$f":"SUMIF(SOLICITUDES!$C$2:$C$1048576,BD!C13154,SOLICITUDES!$I$2:$I$1048576)","v":0},0,{"$f":"SUMIF(SOLICITUDES!$C$2:$C$1048576,BD!C13154,SOLICITUDES!$J$2:$J$1048576)","v":0},0,{"$f":"SUMIF(SOLICITUDES!$C$2:$C$1048576,BD!C13154,SOLICITUDES!$K$2:$K$1048576)","v":0},0]
[null,null,"T51394",30,13200,214,-76.533149406330224,2.6455010334659321,15,15,6,6,{"$f":"SUMIF(SOLICITUDES!$C$2:$C$1048576,BD!C13169,SOLICITUDES!$I$2:$I$1048576)","v":0},0,{"$f":"SUMIF(SOLICITUDES!$C$2:$C$1048576,BD!C13169,SOLICITUDES!$J$2:$J$1048576)","v":0},0,{"$f":"SUMIF(SOLICITUDES!$C$2:$C$1048576,BD!C13169,SOLICITUDES!$K$2:$K$1048576)","v":0},0]
[null,null,"T37211",45,13200,214,-76.537003867801261,2.6499750461635316,22.5,22.5,9,9,{"$f":"SUMIF(SOLICITUDES!$C$2:$C$1048576,BD!C13180,SOLICITUDES!$I$2:$I$1048576)","v":0},0,{"$f":"SUMIF(SOLICITUDES!$C$2:$C$1048576,BD!C13180,SOLICITUDES!$J$2:$J$1048576)","v":0},0,{"$f":"SUMIF(SOLICITUDES!$C$2:$C$1048576,BD!C13180,SOLICITUDES!$K$2:$K$1048576)","v":0},0]
[null,null,"T11859",15,13200,240,-76.331653254663991,3.1008898552455881,7.5,7.5,3,3,{"$f":"SUMIF(SOLICITUDES!$C$2:$C$1048576,BD!C13185,SOLICITUDES!$I$2:$I$1048576)","v":0},0,{"$f":"SUMIF(SOLICITUDES!$C$2:$C$1048576,BD!C13185,SOLICITUDES!$J$2:$J$1048576)","v":0},0,{"$f":"SUMIF(SOLICITUDES!$C$2:$C$1048576,BD!C13185,SOLICITUDES!$K$2:$K$1048576)","v":0},0]
[null,null,"T8826",25,13200,240,-76.408734007129127,3.0176847105127496,12.5,12.5,5,5,{"$f":"SUMIF(SOLICITUDES!$C$2:$C$1048576,BD!C13200,SOLICITUDES!$I$2:$I$1048576)","v":0},0,{"$f":"SUMIF(SOLICITUDES!$C$2:$C$1048576,BD!C13200,SOLICITUDES!$J$2:$J$1048576)","v":0},0,{"$f":"SUMIF(SOLICITUDES!$C$2:$C$1048576,BD!C13200,SOLICITUDES!$K$2:$K$1048576)","v":0},0]
[null,null,"T24928",112.5,13200,208,-76.406807136296209,3.0127917276520852,56.25,56.25,22.5,22.5,{"$f":"SUMIF(SOLICITUDES!$C$2:$C$1048576,BD!C13211,SOLICITUDES!$I$2:$I$1048576)","v":0},0,{"$f":"SUMIF(SOLICITUDES!$C$2:$C$1048576,BD!C13211,SOLICITUDES!$J$2:$J$1048576)","v":0},0,{"$f":"SUMIF(SOLICITUDES!$C$2:$C$1048576,BD!C13211,SOLICITUDES!$K$2:$K$1048576)","v":0},0]
[null,null,"T8839",25,13200,240,-76.408298578628148,3.0090756207678817,12.5,12.5,5,5,{"$f":"SUMIF(SOLICITUDES!$C$2:$C$1048576,BD!C13216,SOLICITUDES!$I$2:$I$1048576)","v":0},0,{"$f":"SUMIF(SOLICITUDES!$C$2:$C$1048576,BD!C13216,SOLICITUDES!$J$2:$J$1048576)","v":0},0,{"$f":"SUMIF(SOLICITUDES!$C$2:$C$1048576,BD!C13216,SOLICITUDES!$K$2:$K$1048576)","v":0},0]
[null,null,"T20610",10,13200,240,-76.380951880598175,2.9932620142381077,5,5,2,2,{"$f":"SUMIF(SOLICITUDES!$C$2:$C$1048576,BD!C13232,SOLICITUDES!$I$2:$I$1048576)","v":0},0,{"$f":"SUMIF(SOLICITUDES!$C$2:$C$1048576,BD!C13232,SOLICITUDES!$J$2:$J$1048576)","v":0},0,{"$f":"SUMIF(SOLICITUDES!$C$2:$C$1048576,BD!C13232,SOLICITUDES!$K$2:$K$1048576)","v":0},0]
[null,null,"T14672",25,13200,240,-76.289546923371077,3.025751425232778,12.5,12.5,5,5,{"$f":"SUMIF(SOLICITUDES!$C$2:$C$1048576,BD!C13233,SOLICITUDES!$I$2:$I$1048576)","v":0},0,{"$f":"SUMIF(SOLICITUDES!$C$2:$C$1048576,BD!C13233,SOLICITUDES!$J$2:$J$1048576)","v":0},0,{"$f":"SUMIF(SOLICITUDES!$C$2:$C$1048576,BD!C13233,SOLICITUDES!$K$2:$K$1048576)","v":0},0]
[null,null,"T31945",25,13200,240,-76.28141518365679,3.0314779614716509,12.5,12.5,5,5,{"$f":"SUMIF(SOLICITUDES!$C$2:$C$1048576,BD!C13248,SOLICITUDES!$I$2:$I$1048576)","v":0},0,{"$f":"SUMIF(SOLICITUDES!$C$2:$C$1048576,BD!C13248,SOLICITUDES!$J$2:$J$1048576)","v":0},0,{"$f":"SUMIF(SOLICITUDES!$C$2:$C$1048576,BD!C13248,SOLICITUDES!$K$2:$K$1048576)","v":0},0]
[null,null,"T21482",37.5,13200,240,-76.290062666274522,3.006127799374438,18.75,18.75,7.5,7.5,{"$f":"SUMIF(SOLICITUDES!$C$2:$C$1048576,BD!C13259,SOLICITUDES!$I$2:$I$1048576)","v":0},0,{"$f":"SUMIF(SOLICITUDES!$C$2:$C$1048576,BD!C13259,SOLICITUDES!$J$2:$J$1048576)","v":0},0,{"$f":"SUMIF(SOLICITUDES!$C$2:$C$1048576,BD!C13259,SOLICITUDES!$K$2:$K$1048576)","v":0},0]
[null,null,"T14673",10,13200,240,-76.280436901300305,3.0357276739725294,5,5,2,2,{"$f":"SUMIF(SOLICITUDES!$C$2:$C$1048576,BD!C13264,SOLICITUDES!$I$2:$I$1048576)","v":0},0,{"$f":"SUMIF(SOLICITUDES!$C$2:$C$1048576,BD!C13264,SOLICITUDES!$J$2:$J$1048576)","v":0},0,{"$f":"SUMIF(SOLICITUDES!$C$2:$C$1048576,BD!C13264,SOLICITUDES!$K$2:$K$1048576)","v":0},0]
[null,null,"T14651",75,13200,240,-76.279366987097603,3.0350667676885394,37.5,37.5,15,15,{"$f":"SUMIF(SOLICITUDES!$C$2:$C$1048576,BD!C13279,SOLICITUDES!$I$2:$I$1048576)","v":0},0,{"$f":"SUMIF(SOLICITUDES!$C$2:$C$1048576,BD!C13279,SOLICITUDES!$J$2:$J$1048576)","v":0},0,{"$f":"SUMIF(SOLICITUDES!$C$2:$C$1048576,BD!C13279,SOLICITUDES!$K$2:$K$1048576)","v":0},0]
[null,null,"T21328",37.5,13200,240,-76.298380490690334,2.9955442662104366,18.75,18.75,7.5,7.5,{"$f":"SUMIF(SOLICITUDES!$C$2:$C$1048576,BD!C13290,SOLICITUDES!$I$2:$I$1048576)","v":0},0,{"$f":"SUMIF(SOLICITUDES!$C$2:$C$1048576,BD!C13290,SOLICITUDES!$J$2:$J$1048576)","v":0},0,{"$f":"SUMIF(SOLICITUDES!$C$2:$C$1048576,BD!C13290,SOLICITUDES!$K$2:$K$1048576)","v":0},0]
[null,null,"T14692",37.5,13200,214,-76.298373429572663,3.0345653497952472,18.75,18.75,7.5,7.5,{"$f":"SUMIF(SOLICITUDES!$C$2:$C$1048576,BD!C13295,SOLICITUDES!$I$2:$I$1048576)","v":0},0,{"$f":"SUMIF(SOLICITUDES!$C$2:$C$1048576,BD!C13295,SOLICITUDES!$J$2:$J$1048576)","v":0},0,{"$f":"SUMIF(SOLICITUDES!$C$2:$C$1048576,BD!C13295,SOLICITUDES!$K$2:$K$1048576)","v":0},0]
[null,null,"T28342",5,13200,240,-76.641006933529226,2.9228520803214488,2.5,2.5,1,1,{"$f":"SUMIF(SOLICITUDES!$C$2:$C$1048576,BD!C13311,SOLICITUDES!$I$2:$I$1048576)","v":0},0,{"$f":"SUMIF(SOLICITUDES!$C$2:$C$1048576,BD!C13311,SOLICITUDES!$J$2:$J$1048576)","v":0},0,{"$f":"SUMIF(SOLICITUDES!$C$2:$C$1048576,BD!C13311,SOLICITUDES!$K$2:$K$1048576)","v":0},0]
[null,null,"T28348",10,13200,240,-76.631137764309557,2.9462979927096908,5,5,2,2,{"$f":"SUMIF(SOLICITUDES!$C$2:$C$1048576,BD!C13322,SOLICITUDES!$I$2:$I$1048576)","v":0},0,{"$f":"SUMIF(SOLICITUDES!$C$2:$C$1048576,BD!C13322,SOLICITUDES!$J$2:$J$1048576)","v":0},0,{"$f":"SUMIF(SOLICITUDES!$C$2:$C$1048576,BD!C13322,SOLICITUDES!$K$2:$K$1048576)","v":0},0]
[null,null,"T1700",15,13200,240,-76.599881482901893,2.498500980236277,7.5,7.5,3,3,{"$f":"SUMIF(SOLICITUDES!$C$2:$C$1048576,BD!C13327,SOLICITUDES!$I$2:$I$1048576)","v":0},0,{"$f":"SUMIF(SOLICITUDES!$C$2:$C$1048576,BD!C13327,SOLICITUDES!$J$2:$J$1048576)","v":0},0,{"$f":"SUMIF(SOLICITUDES!$C$2:$C$1048576,BD!C13327,SOLICITUDES!$K$2:$K$1048576)","v":0},0]
[null,null,"T2068",37.5,13200,240,-76.614286048823885,2.445603392921011,18.75,18.75,7.5,7.5,{"$f":"SUMIF(SOLICITUDES!$C$2:$C$1048576,BD!C13338,SOLICITUDES!$I$2:$I$1048576)","v":0},0,{"$f":"SUMIF(SOLICITUDES!$C$2:$C$1048576,BD!C13338,SOLICITUDES!$J$2:$J$1048576)","v":0},0,{"$f":"SUMIF(SOLICITUDES!$C$2:$C$1048576,BD!C13338,SOLICITUDES!$K$2:$K$1048576)","v":0},0]
[null,null,"T11372",112.5,13200,208,-76.232851427913204,3.2512175237872181,56.25,56.25,22.5,22.5,{"$f":"SUMIF(SOLICITUDES!$C$2:$C$1048576,BD!C13353,SOLICITUDES!$I$2:$I$1048576)","v":0},0,{"$f":"SUMIF(SOLICITUDES!$C$2:$C$1048576,BD!C13353,SOLICITUDES!$J$2:$J$1048576)","v":0},0,{"$f":"SUMIF(SOLICITUDES!$C$2:$C$1048576,BD!C13353,SOLICITUDES!$K$2:$K$1048576)","v":0},0]
[null,null,"T11328",112.5,13200,214,-76.232778957364758,3.2517871717340352,56.25,56.25,22.5,22.5,{"$f":"SUMIF(SOLICITUDES!$C$2:$C$1048576,BD!C13358,SOLICITUDES!$I$2:$I$1048576)","v":0},0,{"$f":"SUMIF(SOLICITUDES!$C$2:$C$1048576,BD!C13358,SOLICITUDES!$J$2:$J$1048576)","v":0},0,{"$f":"SUMIF(SOLICITUDES!$C$2:$C$1048576,BD!C13358,SOLICITUDES!$K$2:$K$1048576)","v":0},0]
[null,null,"T11330",45,13200,208,-76.228676537787123,3.2517746493802302,22.5,22.5,9,9,{"$f":"SUMIF(SOLICITUDES!$C$2:$C$1048576,BD!C13369,SOLICITUDES!$I$2:$I$1048576)","v":0},0,{"$f":"SUMIF(SOLICITUDES!$C$2:$C$1048576,BD!C13369,SOLICITUDES!$J$2:$J$1048576)","v":0},0,{"$f":"SUMIF(SOLICITUDES!$C$2:$C$1048576,BD!C13369,SOLICITUDES!$K$2:$K$1048576)","v":0},0]
[null,null,"T13226",15,13200,240,-76.219998424547512,3.2476348483715798,7.5,7.5,3,3,{"$f":"SUMIF(SOLICITUDES!$C$2:$C$1048576,BD!C13374,SOLICITUDES!$I$2:$I$1048576)","v":0},0,{"$f":"SUMIF(SOLICITUDES!$C$2:$C$1048576,BD!C13374,SOLICITUDES!$J$2:$J$1048576)","v":0},0,{"$f":"SUMIF(SOLICITUDES!$C$2:$C$1048576,BD!C13374,SOLICITUDES!$K$2:$K$1048576)","v":0},0]
[null,null,"T14330",37.5,13200,240,-76.046341276846434,2.5359121246861593,18.75,18.75,7.5,7.5,{"$f":"SUMIF(SOLICITUDES!$C$2:$C$1048576,BD!C13385,SOLICITUDES!$I$2:$I$1048576)","v":0},0,{"$f":"SUMIF(SOLICITUDES!$C$2:$C$1048576,BD!C13385,SOLICITUDES!$J$2:$J$1048576)","v":0},0,{"$f":"SUMIF(SOLICITUDES!$C$2:$C$1048576,BD!C13385,SOLICITUDES!$K$2:$K$1048576)","v":0},0]
[null,null,"T16801",15,13200,240,-76.006399623125802,2.4888161801754456,7.5,7.5,3,3,{"$f":"SUMIF(SOLICITUDES!$C$2:$C$1048576,BD!C13402,SOLICITUDES!$I$2:$I$1048576)","v":0},0,{"$f":"SUMIF(SOLICITUDES!$C$2:$C$1048576,BD!C13402,SOLICITUDES!$J$2:$J$1048576)","v":0},0,{"$f":"SUMIF(SOLICITUDES!$C$2:$C$1048576,BD!C13402,SOLICITUDES!$K$2:$K$1048576)","v":0},0]
[null,null,"T16918",37.5,13200,240,-75.956184470092523,2.5286350942916322,18.75,18.75,7.5,7.5,{"$f":"SUMIF(SOLICITUDES!$C$2:$C$1048576,BD!C13406,SOLICITUDES!$I$2:$I$1048576)","v":0},0,{"$f":"SUMIF(SOLICITUDES!$C$2:$C$1048576,BD!C13406,SOLICITUDES!$J$2:$J$1048576)","v":0},0,{"$f":"SUMIF(SOLICITUDES!$C$2:$C$1048576,BD!C13406,SOLICITUDES!$K$2:$K$1048576)","v":0},0]
[null,null,"T14329",10,13200,240,-76.043880486133233,2.5327273467424689,5,5,2,2,{"$f":"SUMIF(SOLICITUDES!$C$2:$C$1048576,BD!C13417,SOLICITUDES!$I$2:$I$1048576)","v":0},0,{"$f":"SUMIF(SOLICITUDES!$C$2:$C$1048576,BD!C13417,SOLICITUDES!$J$2:$J$1048576)","v":0},0,{"$f":"SUMIF(SOLICITUDES!$C$2:$C$1048576,BD!C13417,SOLICITUDES!$K$2:$K$1048576)","v":0},0]
[null,null,"T12989",10,13200,240,-76.04205433338727,2.6335624404666831,5,5,2,2,{"$f":"SUMIF(SOLICITUDES!$C$2:$C$1048576,BD!C13432,SOLICITUDES!$I$2:$I$1048576)","v":0},0,{"$f":"SUMIF(SOLICITUDES!$C$2:$C$1048576,BD!C13432,SOLICITUDES!$J$2:$J$1048576)","v":0},0,{"$f":"SUMIF(SOLICITUDES!$C$2:$C$1048576,BD!C13432,SOLICITUDES!$K$2:$K$1048576)","v":0},0]
[null,null,"T40293",10,13200,240,-76.798689217070134,2.4862963676597833,5,{"$f":"D13443*0.5-M13443","v":5},2,2,{"$f":"SUMIF(SOLICITUDES!$C$2:$C$1048576,BD!C13443,SOLICITUDES!$I$2:$I$1048576)","v":0},{"$f":"M13443/D13443","v":0},{"$f":"SUMIF(SOLICITUDES!$C$2:$C$1048576,BD!C13443,SOLICITUDES!$J$2:$J$1048576)","v":0},0,{"$f":"SUMIF(SOLICITUDES!$C$2:$C$1048576,BD!C13443,SOLICITUDES!$K$2:$K$1048576)","v":0},0]
[null,null,"T17124",25,13200,240,-76.818893154614898,2.5080408486443457,12.5,12.5,5,5,{"$f":"SUMIF(SOLICITUDES!$C$2:$C$1048576,BD!C13448,SOLICITUDES!$I$2:$I$1048576)","v":0},0,{"$f":"SUMIF(SOLICITUDES!$C$2:$C$1048576,BD!C13448,SOLICITUDES!$J$2:$J$1048576)","v":0},0,{"$f":"SUMIF(SOLICITUDES!$C$2:$C$1048576,BD!C13448,SOLICITUDES!$K$2:$K$1048576)","v":0},0]
[null,null,"T12448",10,13200,240,-76.809479531123259,2.5347996629316545,5,5,2,2,{"$f":"SUMIF(SOLICITUDES!$C$2:$C$1048576,BD!C13463,SOLICITUDES!$I$2:$I$1048576)","v":0},0,{"$f":"SUMIF(SOLICITUDES!$C$2:$C$1048576,BD!C13463,SOLICITUDES!$J$2:$J$1048576)","v":0},0,{"$f":"SUMIF(SOLICITUDES!$C$2:$C$1048576,BD!C13463,SOLICITUDES!$K$2:$K$1048576)","v":0},0]
[null,null,"T17133",10,13200,240,-76.820716787655769,2.5164787311879122,5,5,2,2,{"$f":"SUMIF(SOLICITUDES!$C$2:$C$1048576,BD!C13474,SOLICITUDES!$I$2:$I$1048576)","v":0},0,{"$f":"SUMIF(SOLICITUDES!$C$2:$C$1048576,BD!C13474,SOLICITUDES!$J$2:$J$1048576)","v":0},0,{"$f":"SUMIF(SOLICITUDES!$C$2:$C$1048576,BD!C13474,SOLICITUDES!$K$2:$K$1048576)","v":0},0]
[null,null,"T44872",0.5,13200,240,-76.577716587793702,2.4781545626650767,0.25,0.25,0.1,0.1,{"$f":"SUMIF(SOLICITUDES!$C$2:$C$1048576,BD!C13479,SOLICITUDES!$I$2:$I$1048576)","v":0},0,{"$f":"SUMIF(SOLICITUDES!$C$2:$C$1048576,BD!C13479,SOLICITUDES!$J$2:$J$1048576)","v":0},0,{"$f":"SUMIF(SOLICITUDES!$C$2:$C$1048576,BD!C13479,SOLICITUDES!$K$2:$K$1048576)","v":0},0]
[null,null,"T1810",75,13200,208,-76.583142924184287,2.4871416474353025,37.5,37.5,15,15,{"$f":"SUMIF(SOLICITUDES!$C$2:$C$1048576,BD!C13493,SOLICITUDES!$I$2:$I$1048576)","v":0},0,{"$f":"SUMIF(SOLICITUDES!$C$2:$C$1048576,BD!C13493,SOLICITUDES!$J$2:$J$1048576)","v":0},0,{"$f":"SUMIF(SOLICITUDES!$C$2:$C$1048576,BD!C13493,SOLICITUDES!$K$2:$K$1048576)","v":0},0]
[null,null,"T21109",225,13200,214,-76.580559764057909,2.4839834575142525,112.5,112.5,45,45,{"$f":"SUMIF(SOLICITUDES!$C$2:$C$1048576,BD!C13496,SOLICITUDES!$I$2:$I$1048576)","v":0},0,{"$f":"SUMIF(SOLICITUDES!$C$2:$C$1048576,BD!C13496,SOLICITUDES!$J$2:$J$1048576)","v":0},0,{"$f":"SUMIF(SOLICITUDES!$C$2:$C$1048576,BD!C13496,SOLICITUDES!$K$2:$K$1048576)","v":0},0]
[null,null,"T42777",0.5,13200,240,-76.586227997573701,2.4867940278791179,0.25,0.25,0.1,0.1,{"$f":"SUMIF(SOLICITUDES!$C$2:$C$1048576,BD!C13511,SOLICITUDES!$I$2:$I$1048576)","v":0},0,{"$f":"SUMIF(SOLICITUDES!$C$2:$C$1048576,BD!C13511,SOLICITUDES!$J$2:$J$1048576)","v":0},0,{"$f":"SUMIF(SOLICITUDES!$C$2:$C$1048576,BD!C13511,SOLICITUDES!$K$2:$K$1048576)","v":0},0]
[null,null,"T1229",15,13200,240,-76.586580399579503,2.4821007540929538,7.5,7.5,3,3,{"$f":"SUMIF(SOLICITUDES!$C$2:$C$1048576,BD!C13522,SOLICITUDES!$I$2:$I$1048576)","v":0},0,{"$f":"SUMIF(SOLICITUDES!$C$2:$C$1048576,BD!C13522,SOLICITUDES!$J$2:$J$1048576)","v":0},0,{"$f":"SUMIF(SOLICITUDES!$C$2:$C$1048576,BD!C13522,SOLICITUDES!$K$2:$K$1048576)","v":0},0]
[null,null,"T51175",75,13200,214,-76.588800125227166,2.4890307678756827,37.5,37.5,15,15,{"$f":"SUMIF(SOLICITUDES!$C$2:$C$1048576,BD!C13527,SOLICITUDES!$I$2:$I$1048576)","v":0},0,{"$f":"SUMIF(SOLICITUDES!$C$2:$C$1048576,BD!C13527,SOLICITUDES!$J$2:$J$1048576)","v":0},0,{"$f":"SUMIF(SOLICITUDES!$C$2:$C$1048576,BD!C13527,SOLICITUDES!$K$2:$K$1048576)","v":0},0]
[null,null,"T11320",5,13200,208,-76.872216652545475,2.494718534642379,2.5,2.5,1,1,{"$f":"SUMIF(SOLICITUDES!$C$2:$C$1048576,BD!C13542,SOLICITUDES!$I$2:$I$1048576)","v":0},0,{"$f":"SUMIF(SOLICITUDES!$C$2:$C$1048576,BD!C13542,SOLICITUDES!$J$2:$J$1048576)","v":0},0,{"$f":"SUMIF(SOLICITUDES!$C$2:$C$1048576,BD!C13542,SOLICITUDES!$K$2:$K$1048576)","v":0},0]
[null,null,"T31837",10,13200,240,-76.840760237882151,2.4818217386838608,5,5,2,2,{"$f":"SUMIF(SOLICITUDES!$C$2:$C$1048576,BD!C13553,SOLICITUDES!$I$2:$I$1048576)","v":0},0,{"$f":"SUMIF(SOLICITUDES!$C$2:$C$1048576,BD!C13553,SOLICITUDES!$J$2:$J$1048576)","v":0},0,{"$f":"SUMIF(SOLICITUDES!$C$2:$C$1048576,BD!C13553,SOLICITUDES!$K$2:$K$1048576)","v":0},0]
[null,null,"T31742",10,13200,240,-76.827567793010985,2.4713803020768834,5,5,2,2,{"$f":"SUMIF(SOLICITUDES!$C$2:$C$1048576,BD!C13558,SOLICITUDES!$I$2:$I$1048576)","v":0},0,{"$f":"SUMIF(SOLICITUDES!$C$2:$C$1048576,BD!C13558,SOLICITUDES!$J$2:$J$1048576)","v":0},0,{"$f":"SUMIF(SOLICITUDES!$C$2:$C$1048576,BD!C13558,SOLICITUDES!$K$2:$K$1048576)","v":0},0]
[null,null,"T1271",5,13200,240,-76.840352340842244,2.4917458694443009,2.5,2.5,1,1,{"$f":"SUMIF(SOLICITUDES!$C$2:$C$1048576,BD!C13573,SOLICITUDES!$I$2:$I$1048576)","v":0},0,{"$f":"SUMIF(SOLICITUDES!$C$2:$C$1048576,BD!C13573,SOLICITUDES!$J$2:$J$1048576)","v":0},0,{"$f":"SUMIF(SOLICITUDES!$C$2:$C$1048576,BD!C13573,SOLICITUDES!$K$2:$K$1048576)","v":0},0]
[null,null,"T1254",15,13200,240,-76.835922932241616,2.5022767223185802,7.5,7.5,3,3,{"$f":"SUMIF(SOLICITUDES!$C$2:$C$1048576,BD!C13577,SOLICITUDES!$I$2:$I$1048576)","v":0},0,{"$f":"SUMIF(SOLICITUDES!$C$2:$C$1048576,BD!C13577,SOLICITUDES!$J$2:$J$1048576)","v":0},0,{"$f":"SUMIF(SOLICITUDES!$C$2:$C$1048576,BD!C13577,SOLICITUDES!$K$2:$K$1048576)","v":0},0]
[null,null,"T24284",5,13200,240,-76.42456716308736,2.8517896287366797,2.5,2.5,1,1,{"$f":"SUMIF(SOLICITUDES!$C$2:$C$1048576,BD!C13590,SOLICITUDES!$I$2:$I$1048576)","v":0},0,{"$f":"SUMIF(SOLICITUDES!$C$2:$C$1048576,BD!C13590,SOLICITUDES!$J$2:$J$1048576)","v":0},0,{"$f":"SUMIF(SOLICITUDES!$C$2:$C$1048576,BD!C13590,SOLICITUDES!$K$2:$K$1048576)","v":0},0]
[null,null,"T42462",10,13200,240,-76.429292068912702,2.8755882525687166,5,5,2,2,{"$f":"SUMIF(SOLICITUDES!$C$2:$C$1048576,BD!C13601,SOLICITUDES!$I$2:$I$1048576)","v":0},0,{"$f":"SUMIF(SOLICITUDES!$C$2:$C$1048576,BD!C13601,SOLICITUDES!$J$2:$J$1048576)","v":0},0,{"$f":"SUMIF(SOLICITUDES!$C$2:$C$1048576,BD!C13601,SOLICITUDES!$K$2:$K$1048576)","v":0},0]
[null,null,"T42486",10,13200,240,-76.417886975960158,2.868982113744857,5,5,2,2,{"$f":"SUMIF(SOLICITUDES!$C$2:$C$1048576,BD!C13616,SOLICITUDES!$I$2:$I$1048576)","v":0},0,{"$f":"SUMIF(SOLICITUDES!$C$2:$C$1048576,BD!C13616,SOLICITUDES!$J$2:$J$1048576)","v":0},0,{"$f":"SUMIF(SOLICITUDES!$C$2:$C$1048576,BD!C13616,SOLICITUDES!$K$2:$K$1048576)","v":0},0]
[null,null,"T16002",10,13200,240,-76.410586037100842,2.8687774760711151,5,5,2,2,{"$f":"SUMIF(SOLICITUDES!$C$2:$C$1048576,BD!C13621,SOLICITUDES!$I$2:$I$1048576)","v":0},0,{"$f":"SUMIF(SOLICITUDES!$C$2:$C$1048576,BD!C13621,SOLICITUDES!$J$2:$J$1048576)","v":0},0,{"$f":"SUMIF(SOLICITUDES!$C$2:$C$1048576,BD!C13621,SOLICITUDES!$K$2:$K$1048576)","v":0},0]
[null,null,"T24048",10,13200,240,-76.410167769359504,2.830951190899397,5,5,2,2,{"$f":"SUMIF(SOLICITUDES!$C$2:$C$1048576,BD!C13632,SOLICITUDES!$I$2:$I$1048576)","v":0},0,{"$f":"SUMIF(SOLICITUDES!$C$2:$C$1048576,BD!C13632,SOLICITUDES!$J$2:$J$1048576)","v":0},0,{"$f":"SUMIF(SOLICITUDES!$C$2:$C$1048576,BD!C13632,SOLICITUDES!$K$2:$K$1048576)","v":0},0]
[null,null,"T16540",25,13200,240,-76.419587732083173,2.8548748021902051,12.5,12.5,5,5,{"$f":"SUMIF(SOLICITUDES!$C$2:$C$1048576,BD!C13637,SOLICITUDES!$I$2:$I$1048576)","v":0},0,{"$f":"SUMIF(SOLICITUDES!$C$2:$C$1048576,BD!C13637,SOLICITUDES!$J$2:$J$1048576)","v":0},0,{"$f":"SUMIF(SOLICITUDES!$C$2:$C$1048576,BD!C13637,SOLICITUDES!$K$2:$K$1048576)","v":0},0]
[null,null,"T28002",45,13200,214,-76.493496306911453,3.0055908296276566,22.5,22.5,9,9,{"$f":"SUMIF(SOLICITUDES!$C$2:$C$1048576,BD!C13648,SOLICITUDES!$I$2:$I$1048576)","v":0},0,{"$f":"SUMIF(SOLICITUDES!$C$2:$C$1048576,BD!C13648,SOLICITUDES!$J$2:$J$1048576)","v":0},0,{"$f":"SUMIF(SOLICITUDES!$C$2:$C$1048576,BD!C13648,SOLICITUDES!$K$2:$K$1048576)","v":0},0]
[null,null,"T1815",30,13200,208,-76.577787317211431,2.4813197108255154,15,15,6,6,{"$f":"SUMIF(SOLICITUDES!$C$2:$C$1048576,BD!C13663,SOLICITUDES!$I$2:$I$1048576)","v":0},0,{"$f":"SUMIF(SOLICITUDES!$C$2:$C$1048576,BD!C13663,SOLICITUDES!$J$2:$J$1048576)","v":0},0,{"$f":"SUMIF(SOLICITUDES!$C$2:$C$1048576,BD!C13663,SOLICITUDES!$K$2:$K$1048576)","v":0},0]
[null,null,"T2953",45,13200,208,-76.579172524894304,2.4798190648977645,22.5,22.5,9,9,{"$f":"SUMIF(SOLICITUDES!$C$2:$C$1048576,BD!C13668,SOLICITUDES!$I$2:$I$1048576)","v":0},0,{"$f":"SUMIF(SOLICITUDES!$C$2:$C$1048576,BD!C13668,SOLICITUDES!$J$2:$J$1048576)","v":0},0,{"$f":"SUMIF(SOLICITUDES!$C$2:$C$1048576,BD!C13668,SOLICITUDES!$K$2:$K$1048576)","v":0},0]
[null,null,"T2573",30,13200,208,-76.580812312469561,2.478675981820154,15,15,6,6,{"$f":"SUMIF(SOLICITUDES!$C$2:$C$1048576,BD!C13680,SOLICITUDES!$I$2:$I$1048576)","v":0},0,{"$f":"SUMIF(SOLICITUDES!$C$2:$C$1048576,BD!C13680,SOLICITUDES!$J$2:$J$1048576)","v":0},0,{"$f":"SUMIF(SOLICITUDES!$C$2:$C$1048576,BD!C13680,SOLICITUDES!$K$2:$K$1048576)","v":0},0]
[null,null,"T1782",45,13200,208,-76.578937998844111,2.4818084805429792,22.5,22.5,9,9,{"$f":"SUMIF(SOLICITUDES!$C$2:$C$1048576,BD!C13695,SOLICITUDES!$I$2:$I$1048576)","v":0},0,{"$f":"SUMIF(SOLICITUDES!$C$2:$C$1048576,BD!C13695,SOLICITUDES!$J$2:$J$1048576)","v":0},0,{"$f":"SUMIF(SOLICITUDES!$C$2:$C$1048576,BD!C13695,SOLICITUDES!$K$2:$K$1048576)","v":0},0]
[null,null,"T40251",45,13200,240,-76.608390536024942,2.4812822061958411,{"$f":"D13700*0.5","v":22.5},22.5,{"$f":"0.2*D13700","v":9},{"$f":"0.2*D13700","v":9},{"$f":"SUMIF(SOLICITUDES!$C$2:$C$1048576,BD!C13700,SOLICITUDES!$I$2:$I$1048576)","v":0},0,{"$f":"SUMIF(SOLICITUDES!$C$2:$C$1048576,BD!C13700,SOLICITUDES!$J$2:$J$1048576)","v":0},{"$f":"O13700/(2*K13700)","v":0},{"$f":"SUMIF(SOLICITUDES!$C$2:$C$1048576,BD!C13700,SOLICITUDES!$K$2:$K$1048576)","v":0},{"$f":"Q13700/(2*L13700)","v":0}]
[null,null,"T11133",15,13200,240,-76.036198815569691,2.5708150983734321,7.5,7.5,3,3,{"$f":"SUMIF(SOLICITUDES!$C$2:$C$1048576,BD!C13711,SOLICITUDES!$I$2:$I$1048576)","v":0},0,{"$f":"SUMIF(SOLICITUDES!$C$2:$C$1048576,BD!C13711,SOLICITUDES!$J$2:$J$1048576)","v":0},0,{"$f":"SUMIF(SOLICITUDES!$C$2:$C$1048576,BD!C13711,SOLICITUDES!$K$2:$K$1048576)","v":0},0]
[null,null,"T12539",25,13200,240,-76.015615432301445,2.520922567764023,12.5,12.5,5,5,{"$f":"SUMIF(SOLICITUDES!$C$2:$C$1048576,BD!C13726,SOLICITUDES!$I$2:$I$1048576)","v":0},0,{"$f":"SUMIF(SOLICITUDES!$C$2:$C$1048576,BD!C13726,SOLICITUDES!$J$2:$J$1048576)","v":0},0,{"$f":"SUMIF(SOLICITUDES!$C$2:$C$1048576,BD!C13726,SOLICITUDES!$K$2:$K$1048576)","v":0},0]
[null,null,"T11151",75,13200,208,-76.03942227697803,2.5760440088932222,37.5,37.5,15,15,{"$f":"SUMIF(SOLICITUDES!$C$2:$C$1048576,BD!C13737,SOLICITUDES!$I$2:$I$1048576)","v":0},0,{"$f":"SUMIF(SOLICITUDES!$C$2:$C$1048576,BD!C13737,SOLICITUDES!$J$2:$J$1048576)","v":0},0,{"$f":"SUMIF(SOLICITUDES!$C$2:$C$1048576,BD!C13737,SOLICITUDES!$K$2:$K$1048576)","v":0},0]
[null,null,"T12562",10,13200,240,-75.987737312530953,2.5203296499296228,5,5,2,2,{"$f":"SUMIF(SOLICITUDES!$C$2:$C$1048576,BD!C13742,SOLICITUDES!$I$2:$I$1048576)","v":0},0,{"$f":"SUMIF(SOLICITUDES!$C$2:$C$1048576,BD!C13742,SOLICITUDES!$J$2:$J$1048576)","v":0},0,{"$f":"SUMIF(SOLICITUDES!$C$2:$C$1048576,BD!C13742,SOLICITUDES!$K$2:$K$1048576)","v":0},0]
[null,null,"T26529",5,13200,240,-76.016241590950457,2.5148839738140625,2.5,2.5,1,1,{"$f":"SUMIF(SOLICITUDES!$C$2:$C$1048576,BD!C13757,SOLICITUDES!$I$2:$I$1048576)","v":0},0,{"$f":"SUMIF(SOLICITUDES!$C$2:$C$1048576,BD!C13757,SOLICITUDES!$J$2:$J$1048576)","v":0},0,{"$f":"SUMIF(SOLICITUDES!$C$2:$C$1048576,BD!C13757,SOLICITUDES!$K$2:$K$1048576)","v":0},0]
[null,null,"T26537",5,13200,240,-75.987859893534093,2.5311521191348167,2.5,{"$f":"D13763*0.5-M13763","v":2.5},1,1,{"$f":"SUMIF(SOLICITUDES!$C$2:$C$1048576,BD!C13763,SOLICITUDES!$I$2:$I$1048576)","v":0},{"$f":"M13763/D13763","v":0},{"$f":"SUMIF(SOLICITUDES!$C$2:$C$1048576,BD!C13763,SOLICITUDES!$J$2:$J$1048576)","v":0},0,{"$f":"SUMIF(SOLICITUDES!$C$2:$C$1048576,BD!C13763,SOLICITUDES!$K$2:$K$1048576)","v":0},0]
[null,null,"T9367",25,13200,240,-76.519572287616597,2.8891651300637138,12.5,12.5,5,5,{"$f":"SUMIF(SOLICITUDES!$C$2:$C$1048576,BD!C13774,SOLICITUDES!$I$2:$I$1048576)","v":0},0,{"$f":"SUMIF(SOLICITUDES!$C$2:$C$1048576,BD!C13774,SOLICITUDES!$J$2:$J$1048576)","v":0},0,{"$f":"SUMIF(SOLICITUDES!$C$2:$C$1048576,BD!C13774,SOLICITUDES!$K$2:$K$1048576)","v":0},0]
[null,null,"T20154",25,13200,240,-76.562328703130092,2.850244359900314,12.5,12.5,5,5,{"$f":"SUMIF(SOLICITUDES!$C$2:$C$1048576,BD!C13779,SOLICITUDES!$I$2:$I$1048576)","v":0},0,{"$f":"SUMIF(SOLICITUDES!$C$2:$C$1048576,BD!C13779,SOLICITUDES!$J$2:$J$1048576)","v":0},0,{"$f":"SUMIF(SOLICITUDES!$C$2:$C$1048576,BD!C13779,SOLICITUDES!$K$2:$K$1048576)","v":0},0]
[null,null,"T24261",15,13200,240,-76.565477377101573,2.8507012908285776,7.5,7.5,3,3,{"$f":"SUMIF(SOLICITUDES!$C$2:$C$1048576,BD!C13790,SOLICITUDES!$I$2:$I$1048576)","v":0},0,{"$f":"SUMIF(SOLICITUDES!$C$2:$C$1048576,BD!C13790,SOLICITUDES!$J$2:$J$1048576)","v":0},0,{"$f":"SUMIF(SOLICITUDES!$C$2:$C$1048576,BD!C13790,SOLICITUDES!$K$2:$K$1048576)","v":0},0]
[null,null,"T11970",10,13200,240,-76.492670175276672,2.8816023817865273,5,5,2,2,{"$f":"SUMIF(SOLICITUDES!$C$2:$C$1048576,BD!C13805,SOLICITUDES!$I$2:$I$1048576)","v":0},0,{"$f":"SUMIF(SOLICITUDES!$C$2:$C$1048576,BD!C13805,SOLICITUDES!$J$2:$J$1048576)","v":0},0,{"$f":"SUMIF(SOLICITUDES!$C$2:$C$1048576,BD!C13805,SOLICITUDES!$K$2:$K$1048576)","v":0},0]
[null,null,"T18606",75,13200,208,-76.591051463027341,2.4754647232852078,37.5,37.5,15,15,{"$f":"SUMIF(SOLICITUDES!$C$2:$C$1048576,BD!C13816,SOLICITUDES!$I$2:$I$1048576)","v":0},0,{"$f":"SUMIF(SOLICITUDES!$C$2:$C$1048576,BD!C13816,SOLICITUDES!$J$2:$J$1048576)","v":0},0,{"$f":"SUMIF(SOLICITUDES!$C$2:$C$1048576,BD!C13816,SOLICITUDES!$K$2:$K$1048576)","v":0},0]
[null,null,"T14939",75,13200,214,-76.594139180202575,2.4675536031485947,37.5,37.5,15,15,{"$f":"SUMIF(SOLICITUDES!$C$2:$C$1048576,BD!C13821,SOLICITUDES!$I$2:$I$1048576)","v":0},0,{"$f":"SUMIF(SOLICITUDES!$C$2:$C$1048576,BD!C13821,SOLICITUDES!$J$2:$J$1048576)","v":0},0,{"$f":"SUMIF(SOLICITUDES!$C$2:$C$1048576,BD!C13821,SOLICITUDES!$K$2:$K$1048576)","v":0},0]
[null,null,"T6441",25,13200,220,-76.623510304913339,2.2251592484384908,12.5,12.5,5,5,{"$f":"SUMIF(SOLICITUDES!$C$2:$C$1048576,BD!C13836,SOLICITUDES!$I$2:$I$1048576)","v":0},0,{"$f":"SUMIF(SOLICITUDES!$C$2:$C$1048576,BD!C13836,SOLICITUDES!$J$2:$J$1048576)","v":0},0,{"$f":"SUMIF(SOLICITUDES!$C$2:$C$1048576,BD!C13836,SOLICITUDES!$K$2:$K$1048576)","v":0},0]
[null,null,"T8806",25,13200,240,-76.560467939972838,2.6723320799335046,12.5,12.5,5,5,{"$f":"SUMIF(SOLICITUDES!$C$2:$C$1048576,BD!C13847,SOLICITUDES!$I$2:$I$1048576)","v":0},0,{"$f":"SUMIF(SOLICITUDES!$C$2:$C$1048576,BD!C13847,SOLICITUDES!$J$2:$J$1048576)","v":0},0,{"$f":"SUMIF(SOLICITUDES!$C$2:$C$1048576,BD!C13847,SOLICITUDES!$K$2:$K$1048576)","v":0},0]
[null,null,"T8589",15,13200,240,-76.548777556218013,2.6529461229642926,7.5,7.5,3,3,{"$f":"SUMIF(SOLICITUDES!$C$2:$C$1048576,BD!C13854,SOLICITUDES!$I$2:$I$1048576)","v":0},0,{"$f":"SUMIF(SOLICITUDES!$C$2:$C$1048576,BD!C13854,SOLICITUDES!$J$2:$J$1048576)","v":0},0,{"$f":"SUMIF(SOLICITUDES!$C$2:$C$1048576,BD!C13854,SOLICITUDES!$K$2:$K$1048576)","v":0},0]
[null,null,"T3410",15,13200,240,-76.580313938645958,2.6654123287209956,7.5,7.5,3,3,{"$f":"SUMIF(SOLICITUDES!$C$2:$C$1048576,BD!C13864,SOLICITUDES!$I$2:$I$1048576)","v":0},0,{"$f":"SUMIF(SOLICITUDES!$C$2:$C$1048576,BD!C13864,SOLICITUDES!$J$2:$J$1048576)","v":0},0,{"$f":"SUMIF(SOLICITUDES!$C$2:$C$1048576,BD!C13864,SOLICITUDES!$K$2:$K$1048576)","v":0},0]
[null,null,"T4021",10,13200,240,-76.582450411975472,2.6779637681397195,5,5,2,2,{"$f":"SUMIF(SOLICITUDES!$C$2:$C$1048576,BD!C13879,SOLICITUDES!$I$2:$I$1048576)","v":0},0,{"$f":"SUMIF(SOLICITUDES!$C$2:$C$1048576,BD!C13879,SOLICITUDES!$J$2:$J$1048576)","v":0},0,{"$f":"SUMIF(SOLICITUDES!$C$2:$C$1048576,BD!C13879,SOLICITUDES!$K$2:$K$1048576)","v":0},0]
[null,null,"T2770",30,13200,208,-76.608990211050482,2.4460356044683418,15,15,6,6,{"$f":"SUMIF(SOLICITUDES!$C$2:$C$1048576,BD!C13884,SOLICITUDES!$I$2:$I$1048576)","v":0},0,{"$f":"SUMIF(SOLICITUDES!$C$2:$C$1048576,BD!C13884,SOLICITUDES!$J$2:$J$1048576)","v":0},0,{"$f":"SUMIF(SOLICITUDES!$C$2:$C$1048576,BD!C13884,SOLICITUDES!$K$2:$K$1048576)","v":0},0]
[null,null,"T42063",0.5,13200,240,-76.371513467703693,2.6129393640321168,0.25,0.25,0.1,0.1,{"$f":"SUMIF(SOLICITUDES!$C$2:$C$1048576,BD!C13895,SOLICITUDES!$I$2:$I$1048576)","v":0},0,{"$f":"SUMIF(SOLICITUDES!$C$2:$C$1048576,BD!C13895,SOLICITUDES!$J$2:$J$1048576)","v":0},0,{"$f":"SUMIF(SOLICITUDES!$C$2:$C$1048576,BD!C13895,SOLICITUDES!$K$2:$K$1048576)","v":0},0]
[null,null,"T23137",5,13200,240,-76.399993735115331,2.6841549288271866,2.5,2.5,1,1,{"$f":"SUMIF(SOLICITUDES!$C$2:$C$1048576,BD!C13900,SOLICITUDES!$I$2:$I$1048576)","v":0},0,{"$f":"SUMIF(SOLICITUDES!$C$2:$C$1048576,BD!C13900,SOLICITUDES!$J$2:$J$1048576)","v":0},0,{"$f":"SUMIF(SOLICITUDES!$C$2:$C$1048576,BD!C13900,SOLICITUDES!$K$2:$K$1048576)","v":0},0]
[null,null,"T7404",112.5,13200,220,-76.375130940509024,2.6113708410007299,56.25,56.25,22.5,22.5,{"$f":"SUMIF(SOLICITUDES!$C$2:$C$1048576,BD!C13915,SOLICITUDES!$I$2:$I$1048576)","v":0},0,{"$f":"SUMIF(SOLICITUDES!$C$2:$C$1048576,BD!C13915,SOLICITUDES!$J$2:$J$1048576)","v":0},0,{"$f":"SUMIF(SOLICITUDES!$C$2:$C$1048576,BD!C13915,SOLICITUDES!$K$2:$K$1048576)","v":0},0]
[null,null,"T7396",112.5,13200,208,-76.376848799546522,2.610476574084728,56.25,56.25,22.5,22.5,{"$f":"SUMIF(SOLICITUDES!$C$2:$C$1048576,BD!C13926,SOLICITUDES!$I$2:$I$1048576)","v":0},0,{"$f":"SUMIF(SOLICITUDES!$C$2:$C$1048576,BD!C13926,SOLICITUDES!$J$2:$J$1048576)","v":0},0,{"$f":"SUMIF(SOLICITUDES!$C$2:$C$1048576,BD!C13926,SOLICITUDES!$K$2:$K$1048576)","v":0},0]
[null,null,"T42361",10,13200,240,-76.439510942387685,2.6363551339591194,5,5,2,2,{"$f":"SUMIF(SOLICITUDES!$C$2:$C$1048576,BD!C13931,SOLICITUDES!$I$2:$I$1048576)","v":0},0,{"$f":"SUMIF(SOLICITUDES!$C$2:$C$1048576,BD!C13931,SOLICITUDES!$J$2:$J$1048576)","v":0},0,{"$f":"SUMIF(SOLICITUDES!$C$2:$C$1048576,BD!C13931,SOLICITUDES!$K$2:$K$1048576)","v":0},0]
[null,null,"T23273",5,13200,240,-76.395622618271744,2.7077478065697869,2.5,2.5,1,1,{"$f":"SUMIF(SOLICITUDES!$C$2:$C$1048576,BD!C13949,SOLICITUDES!$I$2:$I$1048576)","v":0},0,{"$f":"SUMIF(SOLICITUDES!$C$2:$C$1048576,BD!C13949,SOLICITUDES!$J$2:$J$1048576)","v":0},0,{"$f":"SUMIF(SOLICITUDES!$C$2:$C$1048576,BD!C13949,SOLICITUDES!$K$2:$K$1048576)","v":0},0]
[null,null,"T1734",112.5,13200,208,-76.595149719584242,2.4554084363550994,56.25,56.25,22.5,22.5,{"$f":"SUMIF(SOLICITUDES!$C$2:$C$1048576,BD!C13958,SOLICITUDES!$I$2:$I$1048576)","v":0},0,{"$f":"SUMIF(SOLICITUDES!$C$2:$C$1048576,BD!C13958,SOLICITUDES!$J$2:$J$1048576)","v":0},0,{"$f":"SUMIF(SOLICITUDES!$C$2:$C$1048576,BD!C13958,SOLICITUDES!$K$2:$K$1048576)","v":0},0]
[null,null,"T1724",112.5,13200,208,-76.594555976240329,2.4563396661766763,56.25,56.25,22.5,22.5,{"$f":"SUMIF(SOLICITUDES!$C$2:$C$1048576,BD!C13963,SOLICITUDES!$I$2:$I$1048576)","v":0},0,{"$f":"SUMIF(SOLICITUDES!$C$2:$C$1048576,BD!C13963,SOLICITUDES!$J$2:$J$1048576)","v":0},0,{"$f":"SUMIF(SOLICITUDES!$C$2:$C$1048576,BD!C13963,SOLICITUDES!$K$2:$K$1048576)","v":0},0]
[null,null,"T10937",10,13200,240,-76.832649875173942,1.91706188168221,5,5,2,2,{"$f":"SUMIF(SOLICITUDES!$C$2:$C$1048576,BD!C13974,SOLICITUDES!$I$2:$I$1048576)","v":0},0,{"$f":"SUMIF(SOLICITUDES!$C$2:$C$1048576,BD!C13974,SOLICITUDES!$J$2:$J$1048576)","v":0},0,{"$f":"SUMIF(SOLICITUDES!$C$2:$C$1048576,BD!C13974,SOLICITUDES!$K$2:$K$1048576)","v":0},0]
[null,null,"T18019",45,13200,208,-76.430371022904438,3.1148452879820279,22.5,22.5,9,9,{"$f":"SUMIF(SOLICITUDES!$C$2:$C$1048576,BD!C13989,SOLICITUDES!$I$2:$I$1048576)","v":0},0,{"$f":"SUMIF(SOLICITUDES!$C$2:$C$1048576,BD!C13989,SOLICITUDES!$J$2:$J$1048576)","v":0},0,{"$f":"SUMIF(SOLICITUDES!$C$2:$C$1048576,BD!C13989,SOLICITUDES!$K$2:$K$1048576)","v":0},0]
[null,null,"T16727",25,13200,240,-76.438741868341168,3.1034420898679116,12.5,12.5,5,5,{"$f":"SUMIF(SOLICITUDES!$C$2:$C$1048576,BD!C14000,SOLICITUDES!$I$2:$I$1048576)","v":0},0,{"$f":"SUMIF(SOLICITUDES!$C$2:$C$1048576,BD!C14000,SOLICITUDES!$J$2:$J$1048576)","v":0},0,{"$f":"SUMIF(SOLICITUDES!$C$2:$C$1048576,BD!C14000,SOLICITUDES!$K$2:$K$1048576)","v":0},0]
[null,null,"T16729",15,13200,240,-76.440039318038956,3.1035476701112596,7.5,7.5,3,3,{"$f":"SUMIF(SOLICITUDES!$C$2:$C$1048576,BD!C14005,SOLICITUDES!$I$2:$I$1048576)","v":0},0,{"$f":"SUMIF(SOLICITUDES!$C$2:$C$1048576,BD!C14005,SOLICITUDES!$J$2:$J$1048576)","v":0},0,{"$f":"SUMIF(SOLICITUDES!$C$2:$C$1048576,BD!C14005,SOLICITUDES!$K$2:$K$1048576)","v":0},0]
[null,null,"T10432",75,13200,208,-76.589494586023889,2.4792894161635108,{"$f":"D14020*0.5","v":37.5},37.5,{"$f":"0.2*D14020","v":15},{"$f":"0.2*D14020","v":15},{"$f":"SUMIF(SOLICITUDES!$C$2:$C$1048576,BD!C14020,SOLICITUDES!$I$2:$I$1048576)","v":0},0,{"$f":"SUMIF(SOLICITUDES!$C$2:$C$1048576,BD!C14020,SOLICITUDES!$J$2:$J$1048576)","v":0},{"$f":"O14020/(2*K14020)","v":0},{"$f":"SUMIF(SOLICITUDES!$C$2:$C$1048576,BD!C14020,SOLICITUDES!$K$2:$K$1048576)","v":0},{"$f":"Q14020/(2*L14020)","v":0}]
[null,null,"T1655",30,13200,208,-76.600226594795686,2.4540937967976055,15,15,6,6,{"$f":"SUMIF(SOLICITUDES!$C$2:$C$1048576,BD!C14021,SOLICITUDES!$I$2:$I$1048576)","v":0},0,{"$f":"SUMIF(SOLICITUDES!$C$2:$C$1048576,BD!C14021,SOLICITUDES!$J$2:$J$1048576)","v":0},0,{"$f":"SUMIF(SOLICITUDES!$C$2:$C$1048576,BD!C14021,SOLICITUDES!$K$2:$K$1048576)","v":0},0]
[null,null,"T16270",15,13200,240,-76.100392950466073,2.5348784450183741,7.5,7.5,3,3,{"$f":"SUMIF(SOLICITUDES!$C$2:$C$1048576,BD!C14040,SOLICITUDES!$I$2:$I$1048576)","v":0},0,{"$f":"SUMIF(SOLICITUDES!$C$2:$C$1048576,BD!C14040,SOLICITUDES!$J$2:$J$1048576)","v":0},0,{"$f":"SUMIF(SOLICITUDES!$C$2:$C$1048576,BD!C14040,SOLICITUDES!$K$2:$K$1048576)","v":0},0]
[null,null,"T15117",25,13200,240,-76.052818100978612,2.461835697003584,12.5,12.5,5,5,{"$f":"SUMIF(SOLICITUDES!$C$2:$C$1048576,BD!C14042,SOLICITUDES!$I$2:$I$1048576)","v":0},0,{"$f":"SUMIF(SOLICITUDES!$C$2:$C$1048576,BD!C14042,SOLICITUDES!$J$2:$J$1048576)","v":0},0,{"$f":"SUMIF(SOLICITUDES!$C$2:$C$1048576,BD!C14042,SOLICITUDES!$K$2:$K$1048576)","v":0},0]
[null,null,"T31213",5,13200,240,-76.047415562755646,2.4711674302207922,2.5,2.5,1,1,{"$f":"SUMIF(SOLICITUDES!$C$2:$C$1048576,BD!C14053,SOLICITUDES!$I$2:$I$1048576)","v":0},0,{"$f":"SUMIF(SOLICITUDES!$C$2:$C$1048576,BD!C14053,SOLICITUDES!$J$2:$J$1048576)","v":0},0,{"$f":"SUMIF(SOLICITUDES!$C$2:$C$1048576,BD!C14053,SOLICITUDES!$K$2:$K$1048576)","v":0},0]
[null,null,"T16278",5,13200,240,-76.101799229681276,2.5178440450059947,2.5,2.5,1,1,{"$f":"SUMIF(SOLICITUDES!$C$2:$C$1048576,BD!C14068,SOLICITUDES!$I$2:$I$1048576)","v":0},0,{"$f":"SUMIF(SOLICITUDES!$C$2:$C$1048576,BD!C14068,SOLICITUDES!$J$2:$J$1048576)","v":0},0,{"$f":"SUMIF(SOLICITUDES!$C$2:$C$1048576,BD!C14068,SOLICITUDES!$K$2:$K$1048576)","v":0},0]
[null,null,"T15426",10,13200,240,-76.049354326251731,2.441841042948282,5,5,2,2,{"$f":"SUMIF(SOLICITUDES!$C$2:$C$1048576,BD!C14079,SOLICITUDES!$I$2:$I$1048576)","v":0},0,{"$f":"SUMIF(SOLICITUDES!$C$2:$C$1048576,BD!C14079,SOLICITUDES!$J$2:$J$1048576)","v":0},0,{"$f":"SUMIF(SOLICITUDES!$C$2:$C$1048576,BD!C14079,SOLICITUDES!$K$2:$K$1048576)","v":0},0]
[null,null,"T17016",10,13200,240,-76.615115264160607,2.4953681304082358,{"$f":"D14084*0.5","v":5},5,{"$f":"0.2*D14084","v":2},{"$f":"0.2*D14084","v":2},{"$f":"SUMIF(SOLICITUDES!$C$2:$C$1048576,BD!C14084,SOLICITUDES!$I$2:$I$1048576)","v":0},0,{"$f":"SUMIF(SOLICITUDES!$C$2:$C$1048576,BD!C14084,SOLICITUDES!$J$2:$J$1048576)","v":0},{"$f":"O14084/(2*K14084)","v":0},{"$f":"SUMIF(SOLICITUDES!$C$2:$C$1048576,BD!C14084,SOLICITUDES!$K$2:$K$1048576)","v":0},{"$f":"Q14084/(2*L14084)","v":0}]
[null,null,"T12949",112.5,13200,208,-76.391785275813803,3.1333130861699159,56.25,56.25,22.5,22.5,{"$f":"SUMIF(SOLICITUDES!$C$2:$C$1048576,BD!C14099,SOLICITUDES!$I$2:$I$1048576)","v":0},0,{"$f":"SUMIF(SOLICITUDES!$C$2:$C$1048576,BD!C14099,SOLICITUDES!$J$2:$J$1048576)","v":0},0,{"$f":"SUMIF(SOLICITUDES!$C$2:$C$1048576,BD!C14099,SOLICITUDES!$K$2:$K$1048576)","v":0},0]
[null,null,"T13622",112.5,13200,208,-76.391171735629186,3.1360345430116787,56.25,56.25,22.5,22.5,{"$f":"SUMIF(SOLICITUDES!$C$2:$C$1048576,BD!C14110,SOLICITUDES!$I$2:$I$1048576)","v":0},0,{"$f":"SUMIF(SOLICITUDES!$C$2:$C$1048576,BD!C14110,SOLICITUDES!$J$2:$J$1048576)","v":0},0,{"$f":"SUMIF(SOLICITUDES!$C$2:$C$1048576,BD!C14110,SOLICITUDES!$K$2:$K$1048576)","v":0},0]
[null,null,"T12683",112.5,13200,208,-76.390972545412794,3.1320050970615827,56.25,56.25,22.5,22.5,{"$f":"SUMIF(SOLICITUDES!$C$2:$C$1048576,BD!C14115,SOLICITUDES!$I$2:$I$1048576)","v":0},0,{"$f":"SUMIF(SOLICITUDES!$C$2:$C$1048576,BD!C14115,SOLICITUDES!$J$2:$J$1048576)","v":0},0,{"$f":"SUMIF(SOLICITUDES!$C$2:$C$1048576,BD!C14115,SOLICITUDES!$K$2:$K$1048576)","v":0},0]
[null,null,"T3378",25,13200,240,-76.601046961088372,2.4676334354414635,12.5,12.5,5,5,{"$f":"SUMIF(SOLICITUDES!$C$2:$C$1048576,BD!C14131,SOLICITUDES!$I$2:$I$1048576)","v":0},0,{"$f":"SUMIF(SOLICITUDES!$C$2:$C$1048576,BD!C14131,SOLICITUDES!$J$2:$J$1048576)","v":0},0,{"$f":"SUMIF(SOLICITUDES!$C$2:$C$1048576,BD!C14131,SOLICITUDES!$K$2:$K$1048576)","v":0},0]
[null,null,"T14104",25,13200,240,-76.302534780877949,3.1500603499530104,12.5,12.5,5,5,{"$f":"SUMIF(SOLICITUDES!$C$2:$C$1048576,BD!C14142,SOLICITUDES!$I$2:$I$1048576)","v":0},0,{"$f":"SUMIF(SOLICITUDES!$C$2:$C$1048576,BD!C14142,SOLICITUDES!$J$2:$J$1048576)","v":0},0,{"$f":"SUMIF(SOLICITUDES!$C$2:$C$1048576,BD!C14142,SOLICITUDES!$K$2:$K$1048576)","v":0},0]
[null,null,"T18492",10,13200,240,-76.87713705947786,2.589867422941301,5,{"$f":"D14147*0.5-M14147","v":5},2,2,{"$f":"SUMIF(SOLICITUDES!$C$2:$C$1048576,BD!C14147,SOLICITUDES!$I$2:$I$1048576)","v":0},{"$f":"M14147/D14147","v":0},{"$f":"SUMIF(SOLICITUDES!$C$2:$C$1048576,BD!C14147,SOLICITUDES!$J$2:$J$1048576)","v":0},0,{"$f":"SUMIF(SOLICITUDES!$C$2:$C$1048576,BD!C14147,SOLICITUDES!$K$2:$K$1048576)","v":0},0]
[null,null,"T31823",10,13200,240,-76.804744572767049,2.5967849128543419,5,5,2,2,{"$f":"SUMIF(SOLICITUDES!$C$2:$C$1048576,BD!C14158,SOLICITUDES!$I$2:$I$1048576)","v":0},0,{"$f":"SUMIF(SOLICITUDES!$C$2:$C$1048576,BD!C14158,SOLICITUDES!$J$2:$J$1048576)","v":0},0,{"$f":"SUMIF(SOLICITUDES!$C$2:$C$1048576,BD!C14158,SOLICITUDES!$K$2:$K$1048576)","v":0},0]
[null,null,"T31875",10,13200,240,-76.914797200641843,2.5638088388838045,5,5,2,2,{"$f":"SUMIF(SOLICITUDES!$C$2:$C$1048576,BD!C14163,SOLICITUDES!$I$2:$I$1048576)","v":0},0,{"$f":"SUMIF(SOLICITUDES!$C$2:$C$1048576,BD!C14163,SOLICITUDES!$J$2:$J$1048576)","v":0},0,{"$f":"SUMIF(SOLICITUDES!$C$2:$C$1048576,BD!C14163,SOLICITUDES!$K$2:$K$1048576)","v":0},0]
[null,null,"T18454",5,13200,240,-76.880979269723056,2.6119854586325726,2.5,2.5,1,1,{"$f":"SUMIF(SOLICITUDES!$C$2:$C$1048576,BD!C14178,SOLICITUDES!$I$2:$I$1048576)","v":0},0,{"$f":"SUMIF(SOLICITUDES!$C$2:$C$1048576,BD!C14178,SOLICITUDES!$J$2:$J$1048576)","v":0},0,{"$f":"SUMIF(SOLICITUDES!$C$2:$C$1048576,BD!C14178,SOLICITUDES!$K$2:$K$1048576)","v":0},0]
[null,null,"T18637",10,13200,240,-76.889782082552927,2.5767383012653613,5,5,2,2,{"$f":"SUMIF(SOLICITUDES!$C$2:$C$1048576,BD!C14189,SOLICITUDES!$I$2:$I$1048576)","v":0},0,{"$f":"SUMIF(SOLICITUDES!$C$2:$C$1048576,BD!C14189,SOLICITUDES!$J$2:$J$1048576)","v":0},0,{"$f":"SUMIF(SOLICITUDES!$C$2:$C$1048576,BD!C14189,SOLICITUDES!$K$2:$K$1048576)","v":0},0]
[null,null,"T18558",5,13200,240,-76.900409982297703,2.5825367239083432,2.5,2.5,1,1,{"$f":"SUMIF(SOLICITUDES!$C$2:$C$1048576,BD!C14194,SOLICITUDES!$I$2:$I$1048576)","v":0},0,{"$f":"SUMIF(SOLICITUDES!$C$2:$C$1048576,BD!C14194,SOLICITUDES!$J$2:$J$1048576)","v":0},0,{"$f":"SUMIF(SOLICITUDES!$C$2:$C$1048576,BD!C14194,SOLICITUDES!$K$2:$K$1048576)","v":0},0]
[null,null,"T18498",10,13200,240,-76.903643274134197,2.607634803606798,5,5,2,2,{"$f":"SUMIF(SOLICITUDES!$C$2:$C$1048576,BD!C14205,SOLICITUDES!$I$2:$I$1048576)","v":0},0,{"$f":"SUMIF(SOLICITUDES!$C$2:$C$1048576,BD!C14205,SOLICITUDES!$J$2:$J$1048576)","v":0},0,{"$f":"SUMIF(SOLICITUDES!$C$2:$C$1048576,BD!C14205,SOLICITUDES!$K$2:$K$1048576)","v":0},0]
[null,null,"T29250",10,13200,240,-76.828286317872113,2.644951350392776,5,5,2,2,{"$f":"SUMIF(SOLICITUDES!$C$2:$C$1048576,BD!C14220,SOLICITUDES!$I$2:$I$1048576)","v":0},0,{"$f":"SUMIF(SOLICITUDES!$C$2:$C$1048576,BD!C14220,SOLICITUDES!$J$2:$J$1048576)","v":0},0,{"$f":"SUMIF(SOLICITUDES!$C$2:$C$1048576,BD!C14220,SOLICITUDES!$K$2:$K$1048576)","v":0},0]
[null,null,"T3372",10,13200,240,-76.604387039743372,2.4706204103576979,5,5,2,2,{"$f":"SUMIF(SOLICITUDES!$C$2:$C$1048576,BD!C14231,SOLICITUDES!$I$2:$I$1048576)","v":0},0,{"$f":"SUMIF(SOLICITUDES!$C$2:$C$1048576,BD!C14231,SOLICITUDES!$J$2:$J$1048576)","v":0},0,{"$f":"SUMIF(SOLICITUDES!$C$2:$C$1048576,BD!C14231,SOLICITUDES!$K$2:$K$1048576)","v":0},0]
[null,null,"T3021",112.5,13200,220,-76.560921469134286,2.4772889432740719,56.25,56.25,22.5,22.5,{"$f":"SUMIF(SOLICITUDES!$C$2:$C$1048576,BD!C14237,SOLICITUDES!$I$2:$I$1048576)","v":0},0,{"$f":"SUMIF(SOLICITUDES!$C$2:$C$1048576,BD!C14237,SOLICITUDES!$J$2:$J$1048576)","v":0},0,{"$f":"SUMIF(SOLICITUDES!$C$2:$C$1048576,BD!C14237,SOLICITUDES!$K$2:$K$1048576)","v":0},0]
[null,null,"T2984",112.5,13200,220,-76.558090347177938,2.4745296607011893,56.25,56.25,22.5,22.5,{"$f":"SUMIF(SOLICITUDES!$C$2:$C$1048576,BD!C14252,SOLICITUDES!$I$2:$I$1048576)","v":0},0,{"$f":"SUMIF(SOLICITUDES!$C$2:$C$1048576,BD!C14252,SOLICITUDES!$J$2:$J$1048576)","v":0},0,{"$f":"SUMIF(SOLICITUDES!$C$2:$C$1048576,BD!C14252,SOLICITUDES!$K$2:$K$1048576)","v":0},0]
[null,null,"T18833",75,13200,214,-76.556615074396504,2.4763738768531041,37.5,37.5,15,15,{"$f":"SUMIF(SOLICITUDES!$C$2:$C$1048576,BD!C14257,SOLICITUDES!$I$2:$I$1048576)","v":0},0,{"$f":"SUMIF(SOLICITUDES!$C$2:$C$1048576,BD!C14257,SOLICITUDES!$J$2:$J$1048576)","v":0},0,{"$f":"SUMIF(SOLICITUDES!$C$2:$C$1048576,BD!C14257,SOLICITUDES!$K$2:$K$1048576)","v":0},0]
[null,null,"T3100",112.5,13200,220,-76.555230355380175,2.4766084435578981,56.25,56.25,22.5,22.5,{"$f":"SUMIF(SOLICITUDES!$C$2:$C$1048576,BD!C14268,SOLICITUDES!$I$2:$I$1048576)","v":0},0,{"$f":"SUMIF(SOLICITUDES!$C$2:$C$1048576,BD!C14268,SOLICITUDES!$J$2:$J$1048576)","v":0},0,{"$f":"SUMIF(SOLICITUDES!$C$2:$C$1048576,BD!C14268,SOLICITUDES!$K$2:$K$1048576)","v":0},0]
[null,null,"T1551",75,13200,208,-76.577275815750198,2.4786789019982738,37.5,37.5,15,15,{"$f":"SUMIF(SOLICITUDES!$C$2:$C$1048576,BD!C14283,SOLICITUDES!$I$2:$I$1048576)","v":0},0,{"$f":"SUMIF(SOLICITUDES!$C$2:$C$1048576,BD!C14283,SOLICITUDES!$J$2:$J$1048576)","v":0},0,{"$f":"SUMIF(SOLICITUDES!$C$2:$C$1048576,BD!C14283,SOLICITUDES!$K$2:$K$1048576)","v":0},0]
[null,null,"T3281",25,13200,240,-76.580136655175622,2.4742940560394935,12.5,12.5,5,5,{"$f":"SUMIF(SOLICITUDES!$C$2:$C$1048576,BD!C14284,SOLICITUDES!$I$2:$I$1048576)","v":0},0,{"$f":"SUMIF(SOLICITUDES!$C$2:$C$1048576,BD!C14284,SOLICITUDES!$J$2:$J$1048576)","v":0},0,{"$f":"SUMIF(SOLICITUDES!$C$2:$C$1048576,BD!C14284,SOLICITUDES!$K$2:$K$1048576)","v":0},0]
[null,null,"T2808",75,13200,208,-76.603634864648839,2.451853618133109,37.5,37.5,15,15,{"$f":"SUMIF(SOLICITUDES!$C$2:$C$1048576,BD!C14299,SOLICITUDES!$I$2:$I$1048576)","v":0},0,{"$f":"SUMIF(SOLICITUDES!$C$2:$C$1048576,BD!C14299,SOLICITUDES!$J$2:$J$1048576)","v":0},0,{"$f":"SUMIF(SOLICITUDES!$C$2:$C$1048576,BD!C14299,SOLICITUDES!$K$2:$K$1048576)","v":0},0]
[null,null,"T12051",45,13200,208,-76.42243074337587,3.2238786822292518,22.5,22.5,9,9,{"$f":"SUMIF(SOLICITUDES!$C$2:$C$1048576,BD!C14304,SOLICITUDES!$I$2:$I$1048576)","v":0},0,{"$f":"SUMIF(SOLICITUDES!$C$2:$C$1048576,BD!C14304,SOLICITUDES!$J$2:$J$1048576)","v":0},0,{"$f":"SUMIF(SOLICITUDES!$C$2:$C$1048576,BD!C14304,SOLICITUDES!$K$2:$K$1048576)","v":0},0]
[null,null,"T12041",45,13200,208,-76.421465588685152,3.2277664553497103,22.5,22.5,9,9,{"$f":"SUMIF(SOLICITUDES!$C$2:$C$1048576,BD!C14315,SOLICITUDES!$I$2:$I$1048576)","v":0},0,{"$f":"SUMIF(SOLICITUDES!$C$2:$C$1048576,BD!C14315,SOLICITUDES!$J$2:$J$1048576)","v":0},0,{"$f":"SUMIF(SOLICITUDES!$C$2:$C$1048576,BD!C14315,SOLICITUDES!$K$2:$K$1048576)","v":0},0]
[null,null,"T12064",75,13200,208,-76.423664491951854,3.2360329488436563,37.5,37.5,15,15,{"$f":"SUMIF(SOLICITUDES!$C$2:$C$1048576,BD!C14331,SOLICITUDES!$I$2:$I$1048576)","v":0},0,{"$f":"SUMIF(SOLICITUDES!$C$2:$C$1048576,BD!C14331,SOLICITUDES!$J$2:$J$1048576)","v":0},0,{"$f":"SUMIF(SOLICITUDES!$C$2:$C$1048576,BD!C14331,SOLICITUDES!$K$2:$K$1048576)","v":0},0]
[null,null,"T14411",112.5,13200,208,-76.587935792932129,2.4640148099996657,56.25,56.25,22.5,22.5,{"$f":"SUMIF(SOLICITUDES!$C$2:$C$1048576,BD!C14336,SOLICITUDES!$I$2:$I$1048576)","v":0},0,{"$f":"SUMIF(SOLICITUDES!$C$2:$C$1048576,BD!C14336,SOLICITUDES!$J$2:$J$1048576)","v":0},0,{"$f":"SUMIF(SOLICITUDES!$C$2:$C$1048576,BD!C14336,SOLICITUDES!$K$2:$K$1048576)","v":0},0]
[null,null,"T2193",15,13200,240,-76.63632258647803,2.5054210136055333,7.5,7.5,3,3,{"$f":"SUMIF(SOLICITUDES!$C$2:$C$1048576,BD!C14347,SOLICITUDES!$I$2:$I$1048576)","v":0},0,{"$f":"SUMIF(SOLICITUDES!$C$2:$C$1048576,BD!C14347,SOLICITUDES!$J$2:$J$1048576)","v":0},0,{"$f":"SUMIF(SOLICITUDES!$C$2:$C$1048576,BD!C14347,SOLICITUDES!$K$2:$K$1048576)","v":0},0]
[null,null,"T18650",150,34500,440,-76.459131984297215,3.1487077000983401,75,75,30,30,{"$f":"SUMIF(SOLICITUDES!$C$2:$C$1048576,BD!C14362,SOLICITUDES!$I$2:$I$1048576)","v":0},0,{"$f":"SUMIF(SOLICITUDES!$C$2:$C$1048576,BD!C14362,SOLICITUDES!$J$2:$J$1048576)","v":0},0,{"$f":"SUMIF(SOLICITUDES!$C$2:$C$1048576,BD!C14362,SOLICITUDES!$K$2:$K$1048576)","v":0},0]
[null,null,"T26833",30,13200,214,-76.586001972412717,2.4654812606040504,15,15,6,6,{"$f":"SUMIF(SOLICITUDES!$C$2:$C$1048576,BD!C14373,SOLICITUDES!$I$2:$I$1048576)","v":0},0,{"$f":"SUMIF(SOLICITUDES!$C$2:$C$1048576,BD!C14373,SOLICITUDES!$J$2:$J$1048576)","v":0},0,{"$f":"SUMIF(SOLICITUDES!$C$2:$C$1048576,BD!C14373,SOLICITUDES!$K$2:$K$1048576)","v":0},0]
[null,null,"T28751",0.5,13200,240,-77.213060930653327,2.1119814875089737,0.25,0.25,0.1,0.1,{"$f":"SUMIF(SOLICITUDES!$C$2:$C$1048576,BD!C14378,SOLICITUDES!$I$2:$I$1048576)","v":0},0,{"$f":"SUMIF(SOLICITUDES!$C$2:$C$1048576,BD!C14378,SOLICITUDES!$J$2:$J$1048576)","v":0},0,{"$f":"SUMIF(SOLICITUDES!$C$2:$C$1048576,BD!C14378,SOLICITUDES!$K$2:$K$1048576)","v":0},0]
[null,null,"T14273",15,13200,240,-77.200692813576666,2.1258010942707668,7.5,7.5,3,3,{"$f":"SUMIF(SOLICITUDES!$C$2:$C$1048576,BD!C14393,SOLICITUDES!$I$2:$I$1048576)","v":0},0,{"$f":"SUMIF(SOLICITUDES!$C$2:$C$1048576,BD!C14393,SOLICITUDES!$J$2:$J$1048576)","v":0},0,{"$f":"SUMIF(SOLICITUDES!$C$2:$C$1048576,BD!C14393,SOLICITUDES!$K$2:$K$1048576)","v":0},0]
[null,null,"T15565",37.5,13200,240,-77.22418901140739,2.106880000715587,{"$f":"D14404*0.5","v":18.75},18.75,{"$f":"0.2*D14404","v":7.5},{"$f":"0.2*D14404","v":7.5},{"$f":"SUMIF(SOLICITUDES!$C$2:$C$1048576,BD!C14404,SOLICITUDES!$I$2:$I$1048576)","v":0},0,{"$f":"SUMIF(SOLICITUDES!$C$2:$C$1048576,BD!C14404,SOLICITUDES!$J$2:$J$1048576)","v":0},{"$f":"O14404/(2*K14404)","v":0},{"$f":"SUMIF(SOLICITUDES!$C$2:$C$1048576,BD!C14404,SOLICITUDES!$K$2:$K$1048576)","v":0},{"$f":"Q14404/(2*L14404)","v":0}]
[null,null,"T14443",10,13200,240,-77.189375100950485,2.1228989001714056,5,5,2,2,{"$f":"SUMIF(SOLICITUDES!$C$2:$C$1048576,BD!C14406,SOLICITUDES!$I$2:$I$1048576)","v":0},0,{"$f":"SUMIF(SOLICITUDES!$C$2:$C$1048576,BD!C14406,SOLICITUDES!$J$2:$J$1048576)","v":0},0,{"$f":"SUMIF(SOLICITUDES!$C$2:$C$1048576,BD!C14406,SOLICITUDES!$K$2:$K$1048576)","v":0},0]
[null,null,"T9899",15,13200,240,-76.450857816218402,3.0788489402768153,7.5,7.5,3,3,{"$f":"SUMIF(SOLICITUDES!$C$2:$C$1048576,BD!C14421,SOLICITUDES!$I$2:$I$1048576)","v":0},0,{"$f":"SUMIF(SOLICITUDES!$C$2:$C$1048576,BD!C14421,SOLICITUDES!$J$2:$J$1048576)","v":0},0,{"$f":"SUMIF(SOLICITUDES!$C$2:$C$1048576,BD!C14421,SOLICITUDES!$K$2:$K$1048576)","v":0},0]
[null,null,"T9909",25,13200,240,-76.458888842187136,3.0821453605358426,12.5,12.5,5,5,{"$f":"SUMIF(SOLICITUDES!$C$2:$C$1048576,BD!C14426,SOLICITUDES!$I$2:$I$1048576)","v":0},0,{"$f":"SUMIF(SOLICITUDES!$C$2:$C$1048576,BD!C14426,SOLICITUDES!$J$2:$J$1048576)","v":0},0,{"$f":"SUMIF(SOLICITUDES!$C$2:$C$1048576,BD!C14426,SOLICITUDES!$K$2:$K$1048576)","v":0},0]
[null,null,"T10630",15,13200,240,-76.453461976261721,3.0865732295795918,7.5,7.5,3,3,{"$f":"SUMIF(SOLICITUDES!$C$2:$C$1048576,BD!C14441,SOLICITUDES!$I$2:$I$1048576)","v":0},0,{"$f":"SUMIF(SOLICITUDES!$C$2:$C$1048576,BD!C14441,SOLICITUDES!$J$2:$J$1048576)","v":0},0,{"$f":"SUMIF(SOLICITUDES!$C$2:$C$1048576,BD!C14441,SOLICITUDES!$K$2:$K$1048576)","v":0},0]
[null,null,"T1255",112.5,13200,208,-76.588959896227735,2.4663212879499787,56.25,56.25,22.5,22.5,{"$f":"SUMIF(SOLICITUDES!$C$2:$C$1048576,BD!C14452,SOLICITUDES!$I$2:$I$1048576)","v":0},0,{"$f":"SUMIF(SOLICITUDES!$C$2:$C$1048576,BD!C14452,SOLICITUDES!$J$2:$J$1048576)","v":0},0,{"$f":"SUMIF(SOLICITUDES!$C$2:$C$1048576,BD!C14452,SOLICITUDES!$K$2:$K$1048576)","v":0},0]
[null,null,"T27641",30,13200,240,-76.588229542828074,2.467802032859379,15,15,6,6,{"$f":"SUMIF(SOLICITUDES!$C$2:$C$1048576,BD!C14457,SOLICITUDES!$I$2:$I$1048576)","v":0},0,{"$f":"SUMIF(SOLICITUDES!$C$2:$C$1048576,BD!C14457,SOLICITUDES!$J$2:$J$1048576)","v":0},0,{"$f":"SUMIF(SOLICITUDES!$C$2:$C$1048576,BD!C14457,SOLICITUDES!$K$2:$K$1048576)","v":0},0]
[null,null,"T11819",10,13200,240,-76.353626894951248,3.1174804313083868,5,5,2,2,{"$f":"SUMIF(SOLICITUDES!$C$2:$C$1048576,BD!C14472,SOLICITUDES!$I$2:$I$1048576)","v":0},0,{"$f":"SUMIF(SOLICITUDES!$C$2:$C$1048576,BD!C14472,SOLICITUDES!$J$2:$J$1048576)","v":0},0,{"$f":"SUMIF(SOLICITUDES!$C$2:$C$1048576,BD!C14472,SOLICITUDES!$K$2:$K$1048576)","v":0},0]
[null,null,"T42002",0.5,13200,240,-76.456394499884453,3.0399858749555806,0.25,0.25,0.1,0.1,{"$f":"SUMIF(SOLICITUDES!$C$2:$C$1048576,BD!C14483,SOLICITUDES!$I$2:$I$1048576)","v":0},0,{"$f":"SUMIF(SOLICITUDES!$C$2:$C$1048576,BD!C14483,SOLICITUDES!$J$2:$J$1048576)","v":0},0,{"$f":"SUMIF(SOLICITUDES!$C$2:$C$1048576,BD!C14483,SOLICITUDES!$K$2:$K$1048576)","v":0},0]
[null,null,"T7470",30,13200,208,-76.477131424984663,3.0185569015340556,15,15,6,6,{"$f":"SUMIF(SOLICITUDES!$C$2:$C$1048576,BD!C14488,SOLICITUDES!$I$2:$I$1048576)","v":0},0,{"$f":"SUMIF(SOLICITUDES!$C$2:$C$1048576,BD!C14488,SOLICITUDES!$J$2:$J$1048576)","v":0},0,{"$f":"SUMIF(SOLICITUDES!$C$2:$C$1048576,BD!C14488,SOLICITUDES!$K$2:$K$1048576)","v":0},0]
[null,null,"T7000",112.5,13200,214,-76.486326434873646,3.0146916502397425,56.25,56.25,22.5,22.5,{"$f":"SUMIF(SOLICITUDES!$C$2:$C$1048576,BD!C14501,SOLICITUDES!$I$2:$I$1048576)","v":0},0,{"$f":"SUMIF(SOLICITUDES!$C$2:$C$1048576,BD!C14501,SOLICITUDES!$J$2:$J$1048576)","v":0},0,{"$f":"SUMIF(SOLICITUDES!$C$2:$C$1048576,BD!C14501,SOLICITUDES!$K$2:$K$1048576)","v":0},0]
[null,null,"T45034",75,13200,208,-76.597685347531282,2.440045272764984,37.5,37.5,15,15,{"$f":"SUMIF(SOLICITUDES!$C$2:$C$1048576,BD!C14515,SOLICITUDES!$I$2:$I$1048576)","v":0},0,{"$f":"SUMIF(SOLICITUDES!$C$2:$C$1048576,BD!C14515,SOLICITUDES!$J$2:$J$1048576)","v":0},0,{"$f":"SUMIF(SOLICITUDES!$C$2:$C$1048576,BD!C14515,SOLICITUDES!$K$2:$K$1048576)","v":0},0]
[null,null,"T3220",15,13200,208,-76.590436154475086,2.4409465199973397,7.5,7.5,3,3,{"$f":"SUMIF(SOLICITUDES!$C$2:$C$1048576,BD!C14520,SOLICITUDES!$I$2:$I$1048576)","v":0},0,{"$f":"SUMIF(SOLICITUDES!$C$2:$C$1048576,BD!C14520,SOLICITUDES!$J$2:$J$1048576)","v":0},0,{"$f":"SUMIF(SOLICITUDES!$C$2:$C$1048576,BD!C14520,SOLICITUDES!$K$2:$K$1048576)","v":0},0]
[null,null,"T15089",15,13200,240,-76.620210138046076,1.7046627377004078,7.5,{"$f":"D14531*0.5-M14531","v":7.5},3,3,{"$f":"SUMIF(SOLICITUDES!$C$2:$C$1048576,BD!C14531,SOLICITUDES!$I$2:$I$1048576)","v":0},{"$f":"M14531/D14531","v":0},{"$f":"SUMIF(SOLICITUDES!$C$2:$C$1048576,BD!C14531,SOLICITUDES!$J$2:$J$1048576)","v":0},0,{"$f":"SUMIF(SOLICITUDES!$C$2:$C$1048576,BD!C14531,SOLICITUDES!$K$2:$K$1048576)","v":0},0]
[null,null,"T14836",15,13200,240,-76.59281254311685,1.7277886440066166,7.5,7.5,3,3,{"$f":"SUMIF(SOLICITUDES!$C$2:$C$1048576,BD!C14546,SOLICITUDES!$I$2:$I$1048576)","v":0},0,{"$f":"SUMIF(SOLICITUDES!$C$2:$C$1048576,BD!C14546,SOLICITUDES!$J$2:$J$1048576)","v":0},0,{"$f":"SUMIF(SOLICITUDES!$C$2:$C$1048576,BD!C14546,SOLICITUDES!$K$2:$K$1048576)","v":0},0]
[null,null,"T14847",25,13200,240,-76.608017877117945,1.7295197320749189,12.5,12.5,5,5,{"$f":"SUMIF(SOLICITUDES!$C$2:$C$1048576,BD!C14547,SOLICITUDES!$I$2:$I$1048576)","v":0},0,{"$f":"SUMIF(SOLICITUDES!$C$2:$C$1048576,BD!C14547,SOLICITUDES!$J$2:$J$1048576)","v":0},0,{"$f":"SUMIF(SOLICITUDES!$C$2:$C$1048576,BD!C14547,SOLICITUDES!$K$2:$K$1048576)","v":0},0]
[null,null,"T15926",15,13200,240,-76.674775885427565,1.9164346986781764,7.5,7.5,3,3,{"$f":"SUMIF(SOLICITUDES!$C$2:$C$1048576,BD!C14562,SOLICITUDES!$I$2:$I$1048576)","v":0},0,{"$f":"SUMIF(SOLICITUDES!$C$2:$C$1048576,BD!C14562,SOLICITUDES!$J$2:$J$1048576)","v":0},0,{"$f":"SUMIF(SOLICITUDES!$C$2:$C$1048576,BD!C14562,SOLICITUDES!$K$2:$K$1048576)","v":0},0]
[null,null,"T14823",37.5,13200,240,-76.572499872783979,1.702724387869841,18.75,18.75,7.5,7.5,{"$f":"SUMIF(SOLICITUDES!$C$2:$C$1048576,BD!C14567,SOLICITUDES!$I$2:$I$1048576)","v":0},0,{"$f":"SUMIF(SOLICITUDES!$C$2:$C$1048576,BD!C14567,SOLICITUDES!$J$2:$J$1048576)","v":0},0,{"$f":"SUMIF(SOLICITUDES!$C$2:$C$1048576,BD!C14567,SOLICITUDES!$K$2:$K$1048576)","v":0},0]
[null,null,"T15098",37.5,13200,240,-76.57171851507421,1.7008342391103142,18.75,18.75,7.5,7.5,{"$f":"SUMIF(SOLICITUDES!$C$2:$C$1048576,BD!C14578,SOLICITUDES!$I$2:$I$1048576)","v":0},0,{"$f":"SUMIF(SOLICITUDES!$C$2:$C$1048576,BD!C14578,SOLICITUDES!$J$2:$J$1048576)","v":0},0,{"$f":"SUMIF(SOLICITUDES!$C$2:$C$1048576,BD!C14578,SOLICITUDES!$K$2:$K$1048576)","v":0},0]
[null,null,"T15962",15,13200,240,-76.654938812936109,1.9554789236437369,7.5,7.5,3,3,{"$f":"SUMIF(SOLICITUDES!$C$2:$C$1048576,BD!C14592,SOLICITUDES!$I$2:$I$1048576)","v":0},0,{"$f":"SUMIF(SOLICITUDES!$C$2:$C$1048576,BD!C14592,SOLICITUDES!$J$2:$J$1048576)","v":0},0,{"$f":"SUMIF(SOLICITUDES!$C$2:$C$1048576,BD!C14592,SOLICITUDES!$K$2:$K$1048576)","v":0},0]
[null,null,"T21169",15,13200,240,-76.859381711427687,1.9134033240391906,7.5,7.5,3,3,{"$f":"SUMIF(SOLICITUDES!$C$2:$C$1048576,BD!C14599,SOLICITUDES!$I$2:$I$1048576)","v":0},0,{"$f":"SUMIF(SOLICITUDES!$C$2:$C$1048576,BD!C14599,SOLICITUDES!$J$2:$J$1048576)","v":0},0,{"$f":"SUMIF(SOLICITUDES!$C$2:$C$1048576,BD!C14599,SOLICITUDES!$K$2:$K$1048576)","v":0},0]
[null,null,"T8855",25,13200,240,-76.947040804216101,2.140965934965311,12.5,12.5,5,5,{"$f":"SUMIF(SOLICITUDES!$C$2:$C$1048576,BD!C14610,SOLICITUDES!$I$2:$I$1048576)","v":0},0,{"$f":"SUMIF(SOLICITUDES!$C$2:$C$1048576,BD!C14610,SOLICITUDES!$J$2:$J$1048576)","v":0},0,{"$f":"SUMIF(SOLICITUDES!$C$2:$C$1048576,BD!C14610,SOLICITUDES!$K$2:$K$1048576)","v":0},0]
[null,null,"T1203",112.5,13200,208,-76.985588774715836,2.1153755197507937,56.25,56.25,22.5,22.5,{"$f":"SUMIF(SOLICITUDES!$C$2:$C$1048576,BD!C14625,SOLICITUDES!$I$2:$I$1048576)","v":0},0,{"$f":"SUMIF(SOLICITUDES!$C$2:$C$1048576,BD!C14625,SOLICITUDES!$J$2:$J$1048576)","v":0},0,{"$f":"SUMIF(SOLICITUDES!$C$2:$C$1048576,BD!C14625,SOLICITUDES!$K$2:$K$1048576)","v":0},0]
[null,null,"T9650",10,13200,240,-76.909014639946164,2.152338844156386,5,5,2,2,{"$f":"SUMIF(SOLICITUDES!$C$2:$C$1048576,BD!C14636,SOLICITUDES!$I$2:$I$1048576)","v":0},0,{"$f":"SUMIF(SOLICITUDES!$C$2:$C$1048576,BD!C14636,SOLICITUDES!$J$2:$J$1048576)","v":0},0,{"$f":"SUMIF(SOLICITUDES!$C$2:$C$1048576,BD!C14636,SOLICITUDES!$K$2:$K$1048576)","v":0},0]
[null,null,"T2251",75,13200,208,-76.644239298541649,2.4603269216653163,37.5,37.5,15,15,{"$f":"SUMIF(SOLICITUDES!$C$2:$C$1048576,BD!C14641,SOLICITUDES!$I$2:$I$1048576)","v":0},0,{"$f":"SUMIF(SOLICITUDES!$C$2:$C$1048576,BD!C14641,SOLICITUDES!$J$2:$J$1048576)","v":0},0,{"$f":"SUMIF(SOLICITUDES!$C$2:$C$1048576,BD!C14641,SOLICITUDES!$K$2:$K$1048576)","v":0},0]
[null,null,"T3838",112.5,13200,208,-76.644552314273867,2.4619061910459901,56.25,56.25,22.5,22.5,{"$f":"SUMIF(SOLICITUDES!$C$2:$C$1048576,BD!C14656,SOLICITUDES!$I$2:$I$1048576)","v":0},0,{"$f":"SUMIF(SOLICITUDES!$C$2:$C$1048576,BD!C14656,SOLICITUDES!$J$2:$J$1048576)","v":0},0,{"$f":"SUMIF(SOLICITUDES!$C$2:$C$1048576,BD!C14656,SOLICITUDES!$K$2:$K$1048576)","v":0},0]
[null,null,"T2086",75,13200,208,-76.642953021325084,2.4619904599275402,37.5,37.5,15,15,{"$f":"SUMIF(SOLICITUDES!$C$2:$C$1048576,BD!C14667,SOLICITUDES!$I$2:$I$1048576)","v":0},0,{"$f":"SUMIF(SOLICITUDES!$C$2:$C$1048576,BD!C14667,SOLICITUDES!$J$2:$J$1048576)","v":0},0,{"$f":"SUMIF(SOLICITUDES!$C$2:$C$1048576,BD!C14667,SOLICITUDES!$K$2:$K$1048576)","v":0},0]
[null,null,"T24771",37.5,13200,240,-76.640291263156399,2.4641263498263211,18.75,18.75,7.5,7.5,{"$f":"SUMIF(SOLICITUDES!$C$2:$C$1048576,BD!C14672,SOLICITUDES!$I$2:$I$1048576)","v":0},0,{"$f":"SUMIF(SOLICITUDES!$C$2:$C$1048576,BD!C14672,SOLICITUDES!$J$2:$J$1048576)","v":0},0,{"$f":"SUMIF(SOLICITUDES!$C$2:$C$1048576,BD!C14672,SOLICITUDES!$K$2:$K$1048576)","v":0},0]
[null,null,"T7171",30,13200,208,-76.485112121471161,3.0146096582723212,15,15,6,6,{"$f":"SUMIF(SOLICITUDES!$C$2:$C$1048576,BD!C14683,SOLICITUDES!$I$2:$I$1048576)","v":0},0,{"$f":"SUMIF(SOLICITUDES!$C$2:$C$1048576,BD!C14683,SOLICITUDES!$J$2:$J$1048576)","v":0},0,{"$f":"SUMIF(SOLICITUDES!$C$2:$C$1048576,BD!C14683,SOLICITUDES!$K$2:$K$1048576)","v":0},0]
[null,null,"T6946",112.5,13200,208,-76.494917002300198,3.0215008904056364,56.25,56.25,22.5,22.5,{"$f":"SUMIF(SOLICITUDES!$C$2:$C$1048576,BD!C14689,SOLICITUDES!$I$2:$I$1048576)","v":0},0,{"$f":"SUMIF(SOLICITUDES!$C$2:$C$1048576,BD!C14689,SOLICITUDES!$J$2:$J$1048576)","v":0},0,{"$f":"SUMIF(SOLICITUDES!$C$2:$C$1048576,BD!C14689,SOLICITUDES!$K$2:$K$1048576)","v":0},0]
[null,null,"T1653",112.5,13200,208,-76.590949075054411,2.4604620329187008,56.25,56.25,22.5,22.5,{"$f":"SUMIF(SOLICITUDES!$C$2:$C$1048576,BD!C14704,SOLICITUDES!$I$2:$I$1048576)","v":0},0,{"$f":"SUMIF(SOLICITUDES!$C$2:$C$1048576,BD!C14704,SOLICITUDES!$J$2:$J$1048576)","v":0},0,{"$f":"SUMIF(SOLICITUDES!$C$2:$C$1048576,BD!C14704,SOLICITUDES!$K$2:$K$1048576)","v":0},0]
[null,null,"T14326",10,13200,240,-76.04166612810323,2.5134659990262538,5,5,2,2,{"$f":"SUMIF(SOLICITUDES!$C$2:$C$1048576,BD!C14715,SOLICITUDES!$I$2:$I$1048576)","v":0},0,{"$f":"SUMIF(SOLICITUDES!$C$2:$C$1048576,BD!C14715,SOLICITUDES!$J$2:$J$1048576)","v":0},0,{"$f":"SUMIF(SOLICITUDES!$C$2:$C$1048576,BD!C14715,SOLICITUDES!$K$2:$K$1048576)","v":0},0]
[null,null,"T16263",25,13200,240,-76.067522933007581,2.5472316174577414,12.5,12.5,5,5,{"$f":"SUMIF(SOLICITUDES!$C$2:$C$1048576,BD!C14720,SOLICITUDES!$I$2:$I$1048576)","v":0},0,{"$f":"SUMIF(SOLICITUDES!$C$2:$C$1048576,BD!C14720,SOLICITUDES!$J$2:$J$1048576)","v":0},0,{"$f":"SUMIF(SOLICITUDES!$C$2:$C$1048576,BD!C14720,SOLICITUDES!$K$2:$K$1048576)","v":0},0]
[null,null,"T16272",25,13200,240,-76.068882681140792,2.5444567549622903,12.5,12.5,5,5,{"$f":"SUMIF(SOLICITUDES!$C$2:$C$1048576,BD!C14735,SOLICITUDES!$I$2:$I$1048576)","v":0},0,{"$f":"SUMIF(SOLICITUDES!$C$2:$C$1048576,BD!C14735,SOLICITUDES!$J$2:$J$1048576)","v":0},0,{"$f":"SUMIF(SOLICITUDES!$C$2:$C$1048576,BD!C14735,SOLICITUDES!$K$2:$K$1048576)","v":0},0]
[null,null,"T14717",25,13200,240,-76.049464665059432,2.4969433271974451,12.5,12.5,5,5,{"$f":"SUMIF(SOLICITUDES!$C$2:$C$1048576,BD!C14746,SOLICITUDES!$I$2:$I$1048576)","v":0},0,{"$f":"SUMIF(SOLICITUDES!$C$2:$C$1048576,BD!C14746,SOLICITUDES!$J$2:$J$1048576)","v":0},0,{"$f":"SUMIF(SOLICITUDES!$C$2:$C$1048576,BD!C14746,SOLICITUDES!$K$2:$K$1048576)","v":0},0]
[null,null,"T26644",5,13200,240,-76.033125275855738,2.4244953589604616,2.5,2.5,1,1,{"$f":"SUMIF(SOLICITUDES!$C$2:$C$1048576,BD!C14751,SOLICITUDES!$I$2:$I$1048576)","v":0},0,{"$f":"SUMIF(SOLICITUDES!$C$2:$C$1048576,BD!C14751,SOLICITUDES!$J$2:$J$1048576)","v":0},0,{"$f":"SUMIF(SOLICITUDES!$C$2:$C$1048576,BD!C14751,SOLICITUDES!$K$2:$K$1048576)","v":0},0]
[null,null,"T12812",5,13200,240,-76.048216119836724,2.6533446470058766,2.5,2.5,1,1,{"$f":"SUMIF(SOLICITUDES!$C$2:$C$1048576,BD!C14762,SOLICITUDES!$I$2:$I$1048576)","v":0},0,{"$f":"SUMIF(SOLICITUDES!$C$2:$C$1048576,BD!C14762,SOLICITUDES!$J$2:$J$1048576)","v":0},0,{"$f":"SUMIF(SOLICITUDES!$C$2:$C$1048576,BD!C14762,SOLICITUDES!$K$2:$K$1048576)","v":0},0]
[null,null,"T40153 ",75,13200,214,-76.591299142926118,2.4680346900065331,37.5,37.5,15,15,{"$f":"SUMIF(SOLICITUDES!$C$2:$C$1048576,BD!C14778,SOLICITUDES!$I$2:$I$1048576)","v":0},0,{"$f":"SUMIF(SOLICITUDES!$C$2:$C$1048576,BD!C14778,SOLICITUDES!$J$2:$J$1048576)","v":0},0,{"$f":"SUMIF(SOLICITUDES!$C$2:$C$1048576,BD!C14778,SOLICITUDES!$K$2:$K$1048576)","v":0},0]
[null,null,"T1748",75,13200,208,-76.593170596096883,2.4584462167337375,37.5,37.5,15,15,{"$f":"SUMIF(SOLICITUDES!$C$2:$C$1048576,BD!C14783,SOLICITUDES!$I$2:$I$1048576)","v":0},0,{"$f":"SUMIF(SOLICITUDES!$C$2:$C$1048576,BD!C14783,SOLICITUDES!$J$2:$J$1048576)","v":0},0,{"$f":"SUMIF(SOLICITUDES!$C$2:$C$1048576,BD!C14783,SOLICITUDES!$K$2:$K$1048576)","v":0},0]
[null,null,"T21530",10,13200,240,-76.77727302163909,2.8231841900663297,5,5,2,2,{"$f":"SUMIF(SOLICITUDES!$C$2:$C$1048576,BD!C14794,SOLICITUDES!$I$2:$I$1048576)","v":0},0,{"$f":"SUMIF(SOLICITUDES!$C$2:$C$1048576,BD!C14794,SOLICITUDES!$J$2:$J$1048576)","v":0},0,{"$f":"SUMIF(SOLICITUDES!$C$2:$C$1048576,BD!C14794,SOLICITUDES!$K$2:$K$1048576)","v":0},0]
[null,null,"T21524",10,13200,240,-76.770205287113001,2.8137528783569974,5,5,2,2,{"$f":"SUMIF(SOLICITUDES!$C$2:$C$1048576,BD!C14809,SOLICITUDES!$I$2:$I$1048576)","v":0},0,{"$f":"SUMIF(SOLICITUDES!$C$2:$C$1048576,BD!C14809,SOLICITUDES!$J$2:$J$1048576)","v":0},0,{"$f":"SUMIF(SOLICITUDES!$C$2:$C$1048576,BD!C14809,SOLICITUDES!$K$2:$K$1048576)","v":0},0]
[null,null,"T31583",10,13200,240,-76.750572488718191,2.8972059981476419,5,5,2,2,{"$f":"SUMIF(SOLICITUDES!$C$2:$C$1048576,BD!C14814,SOLICITUDES!$I$2:$I$1048576)","v":0},0,{"$f":"SUMIF(SOLICITUDES!$C$2:$C$1048576,BD!C14814,SOLICITUDES!$J$2:$J$1048576)","v":0},0,{"$f":"SUMIF(SOLICITUDES!$C$2:$C$1048576,BD!C14814,SOLICITUDES!$K$2:$K$1048576)","v":0},0]
[null,null,"T21525",25,13200,240,-76.776901068143317,2.8098719554422296,12.5,12.5,5,5,{"$f":"SUMIF(SOLICITUDES!$C$2:$C$1048576,BD!C14825,SOLICITUDES!$I$2:$I$1048576)","v":0},0,{"$f":"SUMIF(SOLICITUDES!$C$2:$C$1048576,BD!C14825,SOLICITUDES!$J$2:$J$1048576)","v":0},0,{"$f":"SUMIF(SOLICITUDES!$C$2:$C$1048576,BD!C14825,SOLICITUDES!$K$2:$K$1048576)","v":0},0]
[null,null,"T18649",10,13200,240,-76.822775458418491,2.8626964083135333,5,5,2,2,{"$f":"SUMIF(SOLICITUDES!$C$2:$C$1048576,BD!C14830,SOLICITUDES!$I$2:$I$1048576)","v":0},0,{"$f":"SUMIF(SOLICITUDES!$C$2:$C$1048576,BD!C14830,SOLICITUDES!$J$2:$J$1048576)","v":0},0,{"$f":"SUMIF(SOLICITUDES!$C$2:$C$1048576,BD!C14830,SOLICITUDES!$K$2:$K$1048576)","v":0},0]
[null,null,"T18706",10,13200,208,-76.793421760222984,2.7446015592065098,5,5,2,2,{"$f":"SUMIF(SOLICITUDES!$C$2:$C$1048576,BD!C14841,SOLICITUDES!$I$2:$I$1048576)","v":0},0,{"$f":"SUMIF(SOLICITUDES!$C$2:$C$1048576,BD!C14841,SOLICITUDES!$J$2:$J$1048576)","v":0},0,{"$f":"SUMIF(SOLICITUDES!$C$2:$C$1048576,BD!C14841,SOLICITUDES!$K$2:$K$1048576)","v":0},0]
[null,null,"T22767",5,13200,240,-76.787888299994037,2.8153444081146497,2.5,2.5,1,1,{"$f":"SUMIF(SOLICITUDES!$C$2:$C$1048576,BD!C14856,SOLICITUDES!$I$2:$I$1048576)","v":0},0,{"$f":"SUMIF(SOLICITUDES!$C$2:$C$1048576,BD!C14856,SOLICITUDES!$J$2:$J$1048576)","v":0},0,{"$f":"SUMIF(SOLICITUDES!$C$2:$C$1048576,BD!C14856,SOLICITUDES!$K$2:$K$1048576)","v":0},0]
[null,null,"T24778",37.5,13200,240,-76.641786906717357,2.4654634476471822,18.75,18.75,7.5,7.5,{"$f":"SUMIF(SOLICITUDES!$C$2:$C$1048576,BD!C14869,SOLICITUDES!$I$2:$I$1048576)","v":0},0,{"$f":"SUMIF(SOLICITUDES!$C$2:$C$1048576,BD!C14869,SOLICITUDES!$J$2:$J$1048576)","v":0},0,{"$f":"SUMIF(SOLICITUDES!$C$2:$C$1048576,BD!C14869,SOLICITUDES!$K$2:$K$1048576)","v":0},0]
[null,null,"T30724",30,13200,226,-76.500754619112385,3.0274256354978859,15,15,6,6,{"$f":"SUMIF(SOLICITUDES!$C$2:$C$1048576,BD!C14873,SOLICITUDES!$I$2:$I$1048576)","v":0},0,{"$f":"SUMIF(SOLICITUDES!$C$2:$C$1048576,BD!C14873,SOLICITUDES!$J$2:$J$1048576)","v":0},0,{"$f":"SUMIF(SOLICITUDES!$C$2:$C$1048576,BD!C14873,SOLICITUDES!$K$2:$K$1048576)","v":0},0]
[null,null,"T45048",37.5,13200,240,-76.640681366899599,2.4429651338792784,18.75,18.75,7.5,7.5,{"$f":"SUMIF(SOLICITUDES!$C$2:$C$1048576,BD!C14888,SOLICITUDES!$I$2:$I$1048576)","v":0},0,{"$f":"SUMIF(SOLICITUDES!$C$2:$C$1048576,BD!C14888,SOLICITUDES!$J$2:$J$1048576)","v":0},0,{"$f":"SUMIF(SOLICITUDES!$C$2:$C$1048576,BD!C14888,SOLICITUDES!$K$2:$K$1048576)","v":0},0]
[null,null,"T1895",37.5,13200,240,-76.644752064038386,2.4385011308021447,18.75,18.75,7.5,7.5,{"$f":"SUMIF(SOLICITUDES!$C$2:$C$1048576,BD!C14899,SOLICITUDES!$I$2:$I$1048576)","v":0},0,{"$f":"SUMIF(SOLICITUDES!$C$2:$C$1048576,BD!C14899,SOLICITUDES!$J$2:$J$1048576)","v":0},0,{"$f":"SUMIF(SOLICITUDES!$C$2:$C$1048576,BD!C14899,SOLICITUDES!$K$2:$K$1048576)","v":0},0]
[null,null,"T29535",30,13200,208,-76.639718280599141,2.4557043245689658,15,15,6,6,{"$f":"SUMIF(SOLICITUDES!$C$2:$C$1048576,BD!C14904,SOLICITUDES!$I$2:$I$1048576)","v":0},0,{"$f":"SUMIF(SOLICITUDES!$C$2:$C$1048576,BD!C14904,SOLICITUDES!$J$2:$J$1048576)","v":0},0,{"$f":"SUMIF(SOLICITUDES!$C$2:$C$1048576,BD!C14904,SOLICITUDES!$K$2:$K$1048576)","v":0},0]
[null,null,"T1297",45,13200,208,-76.64114995856032,2.4558298799517817,22.5,22.5,9,9,{"$f":"SUMIF(SOLICITUDES!$C$2:$C$1048576,BD!C14919,SOLICITUDES!$I$2:$I$1048576)","v":0},0,{"$f":"SUMIF(SOLICITUDES!$C$2:$C$1048576,BD!C14919,SOLICITUDES!$J$2:$J$1048576)","v":0},0,{"$f":"SUMIF(SOLICITUDES!$C$2:$C$1048576,BD!C14919,SOLICITUDES!$K$2:$K$1048576)","v":0},0]
[null,null,"T30942",75,13200,208,-76.640176015727988,2.4560206053722227,37.5,37.5,15,15,{"$f":"SUMIF(SOLICITUDES!$C$2:$C$1048576,BD!C14930,SOLICITUDES!$I$2:$I$1048576)","v":0},0,{"$f":"SUMIF(SOLICITUDES!$C$2:$C$1048576,BD!C14930,SOLICITUDES!$J$2:$J$1048576)","v":0},0,{"$f":"SUMIF(SOLICITUDES!$C$2:$C$1048576,BD!C14930,SOLICITUDES!$K$2:$K$1048576)","v":0},0]
[null,null,"T6912",75,13200,208,-76.64416937724323,2.4543854242257672,37.5,37.5,15,15,{"$f":"SUMIF(SOLICITUDES!$C$2:$C$1048576,BD!C14935,SOLICITUDES!$I$2:$I$1048576)","v":0},0,{"$f":"SUMIF(SOLICITUDES!$C$2:$C$1048576,BD!C14935,SOLICITUDES!$J$2:$J$1048576)","v":0},0,{"$f":"SUMIF(SOLICITUDES!$C$2:$C$1048576,BD!C14935,SOLICITUDES!$K$2:$K$1048576)","v":0},0]
[null,null,"T30896",75,13200,208,-76.642725336781297,2.4544340808286611,37.5,37.5,15,15,{"$f":"SUMIF(SOLICITUDES!$C$2:$C$1048576,BD!C14950,SOLICITUDES!$I$2:$I$1048576)","v":0},0,{"$f":"SUMIF(SOLICITUDES!$C$2:$C$1048576,BD!C14950,SOLICITUDES!$J$2:$J$1048576)","v":0},0,{"$f":"SUMIF(SOLICITUDES!$C$2:$C$1048576,BD!C14950,SOLICITUDES!$K$2:$K$1048576)","v":0},0]
[null,null,"T27861",45,13200,214,-76.454323542383591,3.176944346213082,22.5,22.5,9,9,{"$f":"SUMIF(SOLICITUDES!$C$2:$C$1048576,BD!C14953,SOLICITUDES!$I$2:$I$1048576)","v":0},0,{"$f":"SUMIF(SOLICITUDES!$C$2:$C$1048576,BD!C14953,SOLICITUDES!$J$2:$J$1048576)","v":0},0,{"$f":"SUMIF(SOLICITUDES!$C$2:$C$1048576,BD!C14953,SOLICITUDES!$K$2:$K$1048576)","v":0},0]
[null,null,"T4713",100,13200,220,-76.597689041211794,2.4482550128103107,50,50,20,20,{"$f":"SUMIF(SOLICITUDES!$C$2:$C$1048576,BD!C14967,SOLICITUDES!$I$2:$I$1048576)","v":0},0,{"$f":"SUMIF(SOLICITUDES!$C$2:$C$1048576,BD!C14967,SOLICITUDES!$J$2:$J$1048576)","v":0},0,{"$f":"SUMIF(SOLICITUDES!$C$2:$C$1048576,BD!C14967,SOLICITUDES!$K$2:$K$1048576)","v":0},0]
[null,null,"T10531",30,13200,208,-76.60232558877027,2.4525465145120906,15,15,6,6,{"$f":"SUMIF(SOLICITUDES!$C$2:$C$1048576,BD!C14978,SOLICITUDES!$I$2:$I$1048576)","v":0},0,{"$f":"SUMIF(SOLICITUDES!$C$2:$C$1048576,BD!C14978,SOLICITUDES!$J$2:$J$1048576)","v":0},0,{"$f":"SUMIF(SOLICITUDES!$C$2:$C$1048576,BD!C14978,SOLICITUDES!$K$2:$K$1048576)","v":0},0]
[null,null,"T14570",25,13200,240,-76.986244307554443,2.5313960356297005,12.5,12.5,5,5,{"$f":"SUMIF(SOLICITUDES!$C$2:$C$1048576,BD!C14983,SOLICITUDES!$I$2:$I$1048576)","v":0},0,{"$f":"SUMIF(SOLICITUDES!$C$2:$C$1048576,BD!C14983,SOLICITUDES!$J$2:$J$1048576)","v":0},0,{"$f":"SUMIF(SOLICITUDES!$C$2:$C$1048576,BD!C14983,SOLICITUDES!$K$2:$K$1048576)","v":0},0]
[null,null,"T30023",800,34500,440,-76.444637937963989,3.1617424316809877,400,400,160,160,{"$f":"SUMIF(SOLICITUDES!$C$2:$C$1048576,BD!C14998,SOLICITUDES!$I$2:$I$1048576)","v":0},0,{"$f":"SUMIF(SOLICITUDES!$C$2:$C$1048576,BD!C14998,SOLICITUDES!$J$2:$J$1048576)","v":0},0,{"$f":"SUMIF(SOLICITUDES!$C$2:$C$1048576,BD!C14998,SOLICITUDES!$K$2:$K$1048576)","v":0},0]
[null,null,"T11716",75,13200,208,-76.458686013690738,3.1733695998333746,37.5,37.5,15,15,{"$f":"SUMIF(SOLICITUDES!$C$2:$C$1048576,BD!C15009,SOLICITUDES!$I$2:$I$1048576)","v":0},0,{"$f":"SUMIF(SOLICITUDES!$C$2:$C$1048576,BD!C15009,SOLICITUDES!$J$2:$J$1048576)","v":0},0,{"$f":"SUMIF(SOLICITUDES!$C$2:$C$1048576,BD!C15009,SOLICITUDES!$K$2:$K$1048576)","v":0},0]
[null,null,"T40320",10,13200,240,-76.437569408693918,3.1853296608472861,5,5,2,2,{"$f":"SUMIF(SOLICITUDES!$C$2:$C$1048576,BD!C15014,SOLICITUDES!$I$2:$I$1048576)","v":0},0,{"$f":"SUMIF(SOLICITUDES!$C$2:$C$1048576,BD!C15014,SOLICITUDES!$J$2:$J$1048576)","v":0},0,{"$f":"SUMIF(SOLICITUDES!$C$2:$C$1048576,BD!C15014,SOLICITUDES!$K$2:$K$1048576)","v":0},0]
[null,null,"T18878",5,13200,240,-77.022004935870612,2.5299783495750123,2.5,2.5,1,1,{"$f":"SUMIF(SOLICITUDES!$C$2:$C$1048576,BD!C15029,SOLICITUDES!$I$2:$I$1048576)","v":0},0,{"$f":"SUMIF(SOLICITUDES!$C$2:$C$1048576,BD!C15029,SOLICITUDES!$J$2:$J$1048576)","v":0},0,{"$f":"SUMIF(SOLICITUDES!$C$2:$C$1048576,BD!C15029,SOLICITUDES!$K$2:$K$1048576)","v":0},0]
[null,null,"T18880",5,13200,240,-77.026921863357089,2.533942673287346,2.5,2.5,1,1,{"$f":"SUMIF(SOLICITUDES!$C$2:$C$1048576,BD!C15040,SOLICITUDES!$I$2:$I$1048576)","v":0},0,{"$f":"SUMIF(SOLICITUDES!$C$2:$C$1048576,BD!C15040,SOLICITUDES!$J$2:$J$1048576)","v":0},0,{"$f":"SUMIF(SOLICITUDES!$C$2:$C$1048576,BD!C15040,SOLICITUDES!$K$2:$K$1048576)","v":0},0]
[null,null,"T18887",5,13200,240,-77.045848025799827,2.5315763925306114,{"$f":"D15044*0.5","v":2.5},2.5,{"$f":"0.2*D15044","v":1},{"$f":"0.2*D15044","v":1},{"$f":"SUMIF(SOLICITUDES!$C$2:$C$1048576,BD!C15044,SOLICITUDES!$I$2:$I$1048576)","v":0},0,{"$f":"SUMIF(SOLICITUDES!$C$2:$C$1048576,BD!C15044,SOLICITUDES!$J$2:$J$1048576)","v":0},{"$f":"O15044/(2*K15044)","v":0},{"$f":"SUMIF(SOLICITUDES!$C$2:$C$1048576,BD!C15044,SOLICITUDES!$K$2:$K$1048576)","v":0},{"$f":"Q15044/(2*L15044)","v":0}]
[null,null,"T15194",25,13200,240,-77.064396405672483,2.5079412430495585,12.5,12.5,5,5,{"$f":"SUMIF(SOLICITUDES!$C$2:$C$1048576,BD!C15057,SOLICITUDES!$I$2:$I$1048576)","v":0},0,{"$f":"SUMIF(SOLICITUDES!$C$2:$C$1048576,BD!C15057,SOLICITUDES!$J$2:$J$1048576)","v":0},0,{"$f":"SUMIF(SOLICITUDES!$C$2:$C$1048576,BD!C15057,SOLICITUDES!$K$2:$K$1048576)","v":0},0]
[null,null,"T7474",30,13200,208,-76.476016019469,3.0185111232228437,15,15,6,6,{"$f":"SUMIF(SOLICITUDES!$C$2:$C$1048576,BD!C15072,SOLICITUDES!$I$2:$I$1048576)","v":0},0,{"$f":"SUMIF(SOLICITUDES!$C$2:$C$1048576,BD!C15072,SOLICITUDES!$J$2:$J$1048576)","v":0},0,{"$f":"SUMIF(SOLICITUDES!$C$2:$C$1048576,BD!C15072,SOLICITUDES!$K$2:$K$1048576)","v":0},0]
[null,null,"T7541",75,13200,208,-76.478380236077953,3.0221889130495341,37.5,37.5,15,15,{"$f":"SUMIF(SOLICITUDES!$C$2:$C$1048576,BD!C15077,SOLICITUDES!$I$2:$I$1048576)","v":0},0,{"$f":"SUMIF(SOLICITUDES!$C$2:$C$1048576,BD!C15077,SOLICITUDES!$J$2:$J$1048576)","v":0},0,{"$f":"SUMIF(SOLICITUDES!$C$2:$C$1048576,BD!C15077,SOLICITUDES!$K$2:$K$1048576)","v":0},0]
[null,null,"T7200",112.5,13200,208,-76.480974456598602,3.0145440549664526,56.25,56.25,22.5,22.5,{"$f":"SUMIF(SOLICITUDES!$C$2:$C$1048576,BD!C15088,SOLICITUDES!$I$2:$I$1048576)","v":0},0,{"$f":"SUMIF(SOLICITUDES!$C$2:$C$1048576,BD!C15088,SOLICITUDES!$J$2:$J$1048576)","v":0},0,{"$f":"SUMIF(SOLICITUDES!$C$2:$C$1048576,BD!C15088,SOLICITUDES!$K$2:$K$1048576)","v":0},0]
[null,null,"T7199",75,13200,208,-76.476934614104408,3.0165764321636384,37.5,37.5,15,15,{"$f":"SUMIF(SOLICITUDES!$C$2:$C$1048576,BD!C15093,SOLICITUDES!$I$2:$I$1048576)","v":0},0,{"$f":"SUMIF(SOLICITUDES!$C$2:$C$1048576,BD!C15093,SOLICITUDES!$J$2:$J$1048576)","v":0},0,{"$f":"SUMIF(SOLICITUDES!$C$2:$C$1048576,BD!C15093,SOLICITUDES!$K$2:$K$1048576)","v":0},0]
[null,null,"T7458",15,13200,240,-76.469117832791028,3.0167618886774479,7.5,7.5,3,3,{"$f":"SUMIF(SOLICITUDES!$C$2:$C$1048576,BD!C15104,SOLICITUDES!$I$2:$I$1048576)","v":0},0,{"$f":"SUMIF(SOLICITUDES!$C$2:$C$1048576,BD!C15104,SOLICITUDES!$J$2:$J$1048576)","v":0},0,{"$f":"SUMIF(SOLICITUDES!$C$2:$C$1048576,BD!C15104,SOLICITUDES!$K$2:$K$1048576)","v":0},0]
[null,null,"T1695",75,13200,208,-76.599922335521995,2.4599408108710783,37.5,37.5,15,15,{"$f":"SUMIF(SOLICITUDES!$C$2:$C$1048576,BD!C15119,SOLICITUDES!$I$2:$I$1048576)","v":0},0,{"$f":"SUMIF(SOLICITUDES!$C$2:$C$1048576,BD!C15119,SOLICITUDES!$J$2:$J$1048576)","v":0},0,{"$f":"SUMIF(SOLICITUDES!$C$2:$C$1048576,BD!C15119,SOLICITUDES!$K$2:$K$1048576)","v":0},0]
[null,null,"T30320",112.5,13200,214,-76.599844285310908,2.4552554471617998,56.25,56.25,22.5,22.5,{"$f":"SUMIF(SOLICITUDES!$C$2:$C$1048576,BD!C15124,SOLICITUDES!$I$2:$I$1048576)","v":0},0,{"$f":"SUMIF(SOLICITUDES!$C$2:$C$1048576,BD!C15124,SOLICITUDES!$J$2:$J$1048576)","v":0},0,{"$f":"SUMIF(SOLICITUDES!$C$2:$C$1048576,BD!C15124,SOLICITUDES!$K$2:$K$1048576)","v":0},0]
[null,null,"T12826",45,13200,214,-76.601937455262259,2.4585832774915706,22.5,22.5,9,9,{"$f":"SUMIF(SOLICITUDES!$C$2:$C$1048576,BD!C15139,SOLICITUDES!$I$2:$I$1048576)","v":0},0,{"$f":"SUMIF(SOLICITUDES!$C$2:$C$1048576,BD!C15139,SOLICITUDES!$J$2:$J$1048576)","v":0},0,{"$f":"SUMIF(SOLICITUDES!$C$2:$C$1048576,BD!C15139,SOLICITUDES!$K$2:$K$1048576)","v":0},0]
[null,null,"T1689",45,13200,208,-76.59681955938612,2.4623361344316481,22.5,22.5,9,9,{"$f":"SUMIF(SOLICITUDES!$C$2:$C$1048576,BD!C15151,SOLICITUDES!$I$2:$I$1048576)","v":0},0,{"$f":"SUMIF(SOLICITUDES!$C$2:$C$1048576,BD!C15151,SOLICITUDES!$J$2:$J$1048576)","v":0},0,{"$f":"SUMIF(SOLICITUDES!$C$2:$C$1048576,BD!C15151,SOLICITUDES!$K$2:$K$1048576)","v":0},0]
[null,null,"T1432",25,13200,240,-76.434411337042377,3.207293867161118,12.5,12.5,5,5,{"$f":"SUMIF(SOLICITUDES!$C$2:$C$1048576,BD!C15156,SOLICITUDES!$I$2:$I$1048576)","v":0},0,{"$f":"SUMIF(SOLICITUDES!$C$2:$C$1048576,BD!C15156,SOLICITUDES!$J$2:$J$1048576)","v":0},0,{"$f":"SUMIF(SOLICITUDES!$C$2:$C$1048576,BD!C15156,SOLICITUDES!$K$2:$K$1048576)","v":0},0]
[null,null,"T11245",25,13200,240,-76.853888925886054,1.9153827493378119,12.5,12.5,5,5,{"$f":"SUMIF(SOLICITUDES!$C$2:$C$1048576,BD!C15167,SOLICITUDES!$I$2:$I$1048576)","v":0},0,{"$f":"SUMIF(SOLICITUDES!$C$2:$C$1048576,BD!C15167,SOLICITUDES!$J$2:$J$1048576)","v":0},0,{"$f":"SUMIF(SOLICITUDES!$C$2:$C$1048576,BD!C15167,SOLICITUDES!$K$2:$K$1048576)","v":0},0]
[null,null,"T17816",5,13200,240,-77.024758319819227,1.7344980707670574,2.5,2.5,1,1,{"$f":"SUMIF(SOLICITUDES!$C$2:$C$1048576,BD!C15182,SOLICITUDES!$I$2:$I$1048576)","v":0},0,{"$f":"SUMIF(SOLICITUDES!$C$2:$C$1048576,BD!C15182,SOLICITUDES!$J$2:$J$1048576)","v":0},0,{"$f":"SUMIF(SOLICITUDES!$C$2:$C$1048576,BD!C15182,SOLICITUDES!$K$2:$K$1048576)","v":0},0]
[null,null,"T17828",10,13200,240,-77.051386961789859,1.7688462938033092,5,5,2,2,{"$f":"SUMIF(SOLICITUDES!$C$2:$C$1048576,BD!C15193,SOLICITUDES!$I$2:$I$1048576)","v":0},0,{"$f":"SUMIF(SOLICITUDES!$C$2:$C$1048576,BD!C15193,SOLICITUDES!$J$2:$J$1048576)","v":0},0,{"$f":"SUMIF(SOLICITUDES!$C$2:$C$1048576,BD!C15193,SOLICITUDES!$K$2:$K$1048576)","v":0},0]
[null,null,"T1381",15,13200,240,-76.433051549760023,3.2165969877625811,7.5,7.5,3,3,{"$f":"SUMIF(SOLICITUDES!$C$2:$C$1048576,BD!C15198,SOLICITUDES!$I$2:$I$1048576)","v":0},0,{"$f":"SUMIF(SOLICITUDES!$C$2:$C$1048576,BD!C15198,SOLICITUDES!$J$2:$J$1048576)","v":0},0,{"$f":"SUMIF(SOLICITUDES!$C$2:$C$1048576,BD!C15198,SOLICITUDES!$K$2:$K$1048576)","v":0},0]
[null,null,"T10660",25,13200,240,-76.427843670982227,3.1920527754474817,12.5,12.5,5,5,{"$f":"SUMIF(SOLICITUDES!$C$2:$C$1048576,BD!C15213,SOLICITUDES!$I$2:$I$1048576)","v":0},0,{"$f":"SUMIF(SOLICITUDES!$C$2:$C$1048576,BD!C15213,SOLICITUDES!$J$2:$J$1048576)","v":0},0,{"$f":"SUMIF(SOLICITUDES!$C$2:$C$1048576,BD!C15213,SOLICITUDES!$K$2:$K$1048576)","v":0},0]
[null,null,"T11802",30,13200,208,-76.458546669422688,3.1741655787917384,15,15,6,6,{"$f":"SUMIF(SOLICITUDES!$C$2:$C$1048576,BD!C15214,SOLICITUDES!$I$2:$I$1048576)","v":0},0,{"$f":"SUMIF(SOLICITUDES!$C$2:$C$1048576,BD!C15214,SOLICITUDES!$J$2:$J$1048576)","v":0},0,{"$f":"SUMIF(SOLICITUDES!$C$2:$C$1048576,BD!C15214,SOLICITUDES!$K$2:$K$1048576)","v":0},0]
[null,null,"T2153",75,13200,208,-76.567876061362639,2.4890387316933991,37.5,37.5,15,15,{"$f":"SUMIF(SOLICITUDES!$C$2:$C$1048576,BD!C15229,SOLICITUDES!$I$2:$I$1048576)","v":0},0,{"$f":"SUMIF(SOLICITUDES!$C$2:$C$1048576,BD!C15229,SOLICITUDES!$J$2:$J$1048576)","v":0},0,{"$f":"SUMIF(SOLICITUDES!$C$2:$C$1048576,BD!C15229,SOLICITUDES!$K$2:$K$1048576)","v":0},0]
[null,null,"T2158",30,13200,208,-76.568398513720041,2.4865520633535914,15,{"$f":"D15235*0.5-M15235","v":15},6,6,{"$f":"SUMIF(SOLICITUDES!$C$2:$C$1048576,BD!C15235,SOLICITUDES!$I$2:$I$1048576)","v":0},{"$f":"M15235/D15235","v":0},{"$f":"SUMIF(SOLICITUDES!$C$2:$C$1048576,BD!C15235,SOLICITUDES!$J$2:$J$1048576)","v":0},0,{"$f":"SUMIF(SOLICITUDES!$C$2:$C$1048576,BD!C15235,SOLICITUDES!$K$2:$K$1048576)","v":0},0]
[null,null,"T7659",15,13200,240,-76.742815957085782,2.4707103736807281,7.5,7.5,3,3,{"$f":"SUMIF(SOLICITUDES!$C$2:$C$1048576,BD!C15246,SOLICITUDES!$I$2:$I$1048576)","v":0},0,{"$f":"SUMIF(SOLICITUDES!$C$2:$C$1048576,BD!C15246,SOLICITUDES!$J$2:$J$1048576)","v":0},0,{"$f":"SUMIF(SOLICITUDES!$C$2:$C$1048576,BD!C15246,SOLICITUDES!$K$2:$K$1048576)","v":0},0]
[null,null,"T7648",5,13200,240,-76.750880779214654,2.4709384059292505,2.5,2.5,1,1,{"$f":"SUMIF(SOLICITUDES!$C$2:$C$1048576,BD!C15261,SOLICITUDES!$I$2:$I$1048576)","v":0},0,{"$f":"SUMIF(SOLICITUDES!$C$2:$C$1048576,BD!C15261,SOLICITUDES!$J$2:$J$1048576)","v":0},0,{"$f":"SUMIF(SOLICITUDES!$C$2:$C$1048576,BD!C15261,SOLICITUDES!$K$2:$K$1048576)","v":0},0]
[null,null,"T31865",10,13200,240,-76.757393707568966,2.4761831436340409,5,5,2,2,{"$f":"SUMIF(SOLICITUDES!$C$2:$C$1048576,BD!C15272,SOLICITUDES!$I$2:$I$1048576)","v":0},0,{"$f":"SUMIF(SOLICITUDES!$C$2:$C$1048576,BD!C15272,SOLICITUDES!$J$2:$J$1048576)","v":0},0,{"$f":"SUMIF(SOLICITUDES!$C$2:$C$1048576,BD!C15272,SOLICITUDES!$K$2:$K$1048576)","v":0},0]
[null,null,"T7618",15,13200,240,-76.762727164888531,2.466947205025606,7.5,7.5,3,3,{"$f":"SUMIF(SOLICITUDES!$C$2:$C$1048576,BD!C15277,SOLICITUDES!$I$2:$I$1048576)","v":0},0,{"$f":"SUMIF(SOLICITUDES!$C$2:$C$1048576,BD!C15277,SOLICITUDES!$J$2:$J$1048576)","v":0},0,{"$f":"SUMIF(SOLICITUDES!$C$2:$C$1048576,BD!C15277,SOLICITUDES!$K$2:$K$1048576)","v":0},0]
[null,null,"T17949",10,13200,240,-76.841292876153119,2.5483788983888132,5,5,2,2,{"$f":"SUMIF(SOLICITUDES!$C$2:$C$1048576,BD!C15292,SOLICITUDES!$I$2:$I$1048576)","v":0},0,{"$f":"SUMIF(SOLICITUDES!$C$2:$C$1048576,BD!C15292,SOLICITUDES!$J$2:$J$1048576)","v":0},0,{"$f":"SUMIF(SOLICITUDES!$C$2:$C$1048576,BD!C15292,SOLICITUDES!$K$2:$K$1048576)","v":0},0]
[null,null,"T18963",37.5,13200,240,-76.424003319314565,3.1743187572944342,18.75,18.75,7.5,7.5,{"$f":"SUMIF(SOLICITUDES!$C$2:$C$1048576,BD!C15303,SOLICITUDES!$I$2:$I$1048576)","v":0},0,{"$f":"SUMIF(SOLICITUDES!$C$2:$C$1048576,BD!C15303,SOLICITUDES!$J$2:$J$1048576)","v":0},0,{"$f":"SUMIF(SOLICITUDES!$C$2:$C$1048576,BD!C15303,SOLICITUDES!$K$2:$K$1048576)","v":0},0]
[null,null,"T11798",45,13200,208,-76.457505196690391,3.1706924892485842,22.5,22.5,9,9,{"$f":"SUMIF(SOLICITUDES!$C$2:$C$1048576,BD!C15308,SOLICITUDES!$I$2:$I$1048576)","v":0},0,{"$f":"SUMIF(SOLICITUDES!$C$2:$C$1048576,BD!C15308,SOLICITUDES!$J$2:$J$1048576)","v":0},0,{"$f":"SUMIF(SOLICITUDES!$C$2:$C$1048576,BD!C15308,SOLICITUDES!$K$2:$K$1048576)","v":0},0]
[null,null,"T30131",75,13200,208,-76.568003272670666,2.497070545906281,37.5,37.5,15,15,{"$f":"SUMIF(SOLICITUDES!$C$2:$C$1048576,BD!C15319,SOLICITUDES!$I$2:$I$1048576)","v":0},0,{"$f":"SUMIF(SOLICITUDES!$C$2:$C$1048576,BD!C15319,SOLICITUDES!$J$2:$J$1048576)","v":0},0,{"$f":"SUMIF(SOLICITUDES!$C$2:$C$1048576,BD!C15319,SOLICITUDES!$K$2:$K$1048576)","v":0},0]
[null,null,"T15316",300,13200,208,-76.56020613716025,2.4901208782391633,150,150,60,60,{"$f":"SUMIF(SOLICITUDES!$C$2:$C$1048576,BD!C15330,SOLICITUDES!$I$2:$I$1048576)","v":0},0,{"$f":"SUMIF(SOLICITUDES!$C$2:$C$1048576,BD!C15330,SOLICITUDES!$J$2:$J$1048576)","v":0},0,{"$f":"SUMIF(SOLICITUDES!$C$2:$C$1048576,BD!C15330,SOLICITUDES!$K$2:$K$1048576)","v":0},0]
[null,null,"T30803",30,13200,208,-76.574030604407653,2.5015476655592792,15,15,6,6,{"$f":"SUMIF(SOLICITUDES!$C$2:$C$1048576,BD!C15340,SOLICITUDES!$I$2:$I$1048576)","v":0},0,{"$f":"SUMIF(SOLICITUDES!$C$2:$C$1048576,BD!C15340,SOLICITUDES!$J$2:$J$1048576)","v":0},0,{"$f":"SUMIF(SOLICITUDES!$C$2:$C$1048576,BD!C15340,SOLICITUDES!$K$2:$K$1048576)","v":0},0]
[null,null,"T6114",10,13200,240,-76.709804460574489,2.7192483147701365,5,5,2,2,{"$f":"SUMIF(SOLICITUDES!$C$2:$C$1048576,BD!C15351,SOLICITUDES!$I$2:$I$1048576)","v":0},0,{"$f":"SUMIF(SOLICITUDES!$C$2:$C$1048576,BD!C15351,SOLICITUDES!$J$2:$J$1048576)","v":0},0,{"$f":"SUMIF(SOLICITUDES!$C$2:$C$1048576,BD!C15351,SOLICITUDES!$K$2:$K$1048576)","v":0},0]
[null,null,"T31633",10,13200,240,-76.73024509634115,2.7328338170501478,5,5,2,2,{"$f":"SUMIF(SOLICITUDES!$C$2:$C$1048576,BD!C15356,SOLICITUDES!$I$2:$I$1048576)","v":0},0,{"$f":"SUMIF(SOLICITUDES!$C$2:$C$1048576,BD!C15356,SOLICITUDES!$J$2:$J$1048576)","v":0},0,{"$f":"SUMIF(SOLICITUDES!$C$2:$C$1048576,BD!C15356,SOLICITUDES!$K$2:$K$1048576)","v":0},0]
[null,null,"T8597",15,13200,240,-76.753596226355114,2.8207591765214688,7.5,7.5,3,3,{"$f":"SUMIF(SOLICITUDES!$C$2:$C$1048576,BD!C15371,SOLICITUDES!$I$2:$I$1048576)","v":0},0,{"$f":"SUMIF(SOLICITUDES!$C$2:$C$1048576,BD!C15371,SOLICITUDES!$J$2:$J$1048576)","v":0},0,{"$f":"SUMIF(SOLICITUDES!$C$2:$C$1048576,BD!C15371,SOLICITUDES!$K$2:$K$1048576)","v":0},0]
[null,null,"T18608",25,13200,240,-76.753349396626433,2.7786732897634585,12.5,12.5,5,5,{"$f":"SUMIF(SOLICITUDES!$C$2:$C$1048576,BD!C15382,SOLICITUDES!$I$2:$I$1048576)","v":0},0,{"$f":"SUMIF(SOLICITUDES!$C$2:$C$1048576,BD!C15382,SOLICITUDES!$J$2:$J$1048576)","v":0},0,{"$f":"SUMIF(SOLICITUDES!$C$2:$C$1048576,BD!C15382,SOLICITUDES!$K$2:$K$1048576)","v":0},0]
[null,null,"T40202",10,13200,240,-76.705903910028297,2.8453643072760473,5,5,2,2,{"$f":"SUMIF(SOLICITUDES!$C$2:$C$1048576,BD!C15387,SOLICITUDES!$I$2:$I$1048576)","v":0},0,{"$f":"SUMIF(SOLICITUDES!$C$2:$C$1048576,BD!C15387,SOLICITUDES!$J$2:$J$1048576)","v":0},0,{"$f":"SUMIF(SOLICITUDES!$C$2:$C$1048576,BD!C15387,SOLICITUDES!$K$2:$K$1048576)","v":0},0]
[null,null,"T18968",10,13200,240,-76.757392381236727,2.8335053553146898,5,5,2,2,{"$f":"SUMIF(SOLICITUDES!$C$2:$C$1048576,BD!C15398,SOLICITUDES!$I$2:$I$1048576)","v":0},0,{"$f":"SUMIF(SOLICITUDES!$C$2:$C$1048576,BD!C15398,SOLICITUDES!$J$2:$J$1048576)","v":0},0,{"$f":"SUMIF(SOLICITUDES!$C$2:$C$1048576,BD!C15398,SOLICITUDES!$K$2:$K$1048576)","v":0},0]
[null,null,"T18973",5,13200,214,-76.748163358814324,2.8490163621752806,2.5,2.5,1,1,{"$f":"SUMIF(SOLICITUDES!$C$2:$C$1048576,BD!C15413,SOLICITUDES!$I$2:$I$1048576)","v":0},0,{"$f":"SUMIF(SOLICITUDES!$C$2:$C$1048576,BD!C15413,SOLICITUDES!$J$2:$J$1048576)","v":0},0,{"$f":"SUMIF(SOLICITUDES!$C$2:$C$1048576,BD!C15413,SOLICITUDES!$K$2:$K$1048576)","v":0},0]
[null,null,"T31596",10,13200,240,-76.765100705995224,2.8287557931856058,5,5,2,2,{"$f":"SUMIF(SOLICITUDES!$C$2:$C$1048576,BD!C15421,SOLICITUDES!$I$2:$I$1048576)","v":0},0,{"$f":"SUMIF(SOLICITUDES!$C$2:$C$1048576,BD!C15421,SOLICITUDES!$J$2:$J$1048576)","v":0},0,{"$f":"SUMIF(SOLICITUDES!$C$2:$C$1048576,BD!C15421,SOLICITUDES!$K$2:$K$1048576)","v":0},0]
[null,null,"T31593",10,13200,240,-76.743980351588618,2.8349166731130944,5,5,2,2,{"$f":"SUMIF(SOLICITUDES!$C$2:$C$1048576,BD!C15430,SOLICITUDES!$I$2:$I$1048576)","v":0},0,{"$f":"SUMIF(SOLICITUDES!$C$2:$C$1048576,BD!C15430,SOLICITUDES!$J$2:$J$1048576)","v":0},0,{"$f":"SUMIF(SOLICITUDES!$C$2:$C$1048576,BD!C15430,SOLICITUDES!$K$2:$K$1048576)","v":0},0]
[null,null,"T11784",75,13200,208,-76.463961076515744,3.176565244774284,37.5,37.5,15,15,{"$f":"SUMIF(SOLICITUDES!$C$2:$C$1048576,BD!C15445,SOLICITUDES!$I$2:$I$1048576)","v":0},0,{"$f":"SUMIF(SOLICITUDES!$C$2:$C$1048576,BD!C15445,SOLICITUDES!$J$2:$J$1048576)","v":0},0,{"$f":"SUMIF(SOLICITUDES!$C$2:$C$1048576,BD!C15445,SOLICITUDES!$K$2:$K$1048576)","v":0},0]
[null,null,"T3070",15,13200,240,-76.572911860020923,2.5105453377264708,7.5,7.5,3,3,{"$f":"SUMIF(SOLICITUDES!$C$2:$C$1048576,BD!C15456,SOLICITUDES!$I$2:$I$1048576)","v":0},0,{"$f":"SUMIF(SOLICITUDES!$C$2:$C$1048576,BD!C15456,SOLICITUDES!$J$2:$J$1048576)","v":0},0,{"$f":"SUMIF(SOLICITUDES!$C$2:$C$1048576,BD!C15456,SOLICITUDES!$K$2:$K$1048576)","v":0},0]
[null,null,"T3557",75,13200,220,-76.58108568997919,2.5087850818483437,37.5,37.5,15,15,{"$f":"SUMIF(SOLICITUDES!$C$2:$C$1048576,BD!C15461,SOLICITUDES!$I$2:$I$1048576)","v":0},0,{"$f":"SUMIF(SOLICITUDES!$C$2:$C$1048576,BD!C15461,SOLICITUDES!$J$2:$J$1048576)","v":0},0,{"$f":"SUMIF(SOLICITUDES!$C$2:$C$1048576,BD!C15461,SOLICITUDES!$K$2:$K$1048576)","v":0},0]
[null,null,"T31131",25,13200,240,-76.557431859836456,2.502716867346825,12.5,12.5,5,5,{"$f":"SUMIF(SOLICITUDES!$C$2:$C$1048576,BD!C15476,SOLICITUDES!$I$2:$I$1048576)","v":0},0,{"$f":"SUMIF(SOLICITUDES!$C$2:$C$1048576,BD!C15476,SOLICITUDES!$J$2:$J$1048576)","v":0},0,{"$f":"SUMIF(SOLICITUDES!$C$2:$C$1048576,BD!C15476,SOLICITUDES!$K$2:$K$1048576)","v":0},0]
[null,null,"T3497",75,13200,220,-76.581813260150625,2.5106934725280237,37.5,37.5,15,15,{"$f":"SUMIF(SOLICITUDES!$C$2:$C$1048576,BD!C15477,SOLICITUDES!$I$2:$I$1048576)","v":0},0,{"$f":"SUMIF(SOLICITUDES!$C$2:$C$1048576,BD!C15477,SOLICITUDES!$J$2:$J$1048576)","v":0},0,{"$f":"SUMIF(SOLICITUDES!$C$2:$C$1048576,BD!C15477,SOLICITUDES!$K$2:$K$1048576)","v":0},0]
[null,null,"T13231",10,13200,240,-76.21602633707144,3.2636273877273863,{"$f":"D15492*0.5","v":5},5,{"$f":"0.2*D15492","v":2},{"$f":"0.2*D15492","v":2},{"$f":"SUMIF(SOLICITUDES!$C$2:$C$1048576,BD!C15492,SOLICITUDES!$I$2:$I$1048576)","v":0},0,{"$f":"SUMIF(SOLICITUDES!$C$2:$C$1048576,BD!C15492,SOLICITUDES!$J$2:$J$1048576)","v":0},{"$f":"O15492/(2*K15492)","v":0},{"$f":"SUMIF(SOLICITUDES!$C$2:$C$1048576,BD!C15492,SOLICITUDES!$K$2:$K$1048576)","v":0},{"$f":"Q15492/(2*L15492)","v":0}]
[null,null,"T13932",37.5,13200,240,-76.251327509709427,3.2766061358166207,18.75,18.75,7.5,7.5,{"$f":"SUMIF(SOLICITUDES!$C$2:$C$1048576,BD!C15497,SOLICITUDES!$I$2:$I$1048576)","v":0},0,{"$f":"SUMIF(SOLICITUDES!$C$2:$C$1048576,BD!C15497,SOLICITUDES!$J$2:$J$1048576)","v":0},0,{"$f":"SUMIF(SOLICITUDES!$C$2:$C$1048576,BD!C15497,SOLICITUDES!$K$2:$K$1048576)","v":0},0]
[null,null,"T42010",0.5,13200,240,-76.441529588965082,3.1969612327793318,0.25,0.25,0.1,0.1,{"$f":"SUMIF(SOLICITUDES!$C$2:$C$1048576,BD!C15516,SOLICITUDES!$I$2:$I$1048576)","v":0},0,{"$f":"SUMIF(SOLICITUDES!$C$2:$C$1048576,BD!C15516,SOLICITUDES!$J$2:$J$1048576)","v":0},0,{"$f":"SUMIF(SOLICITUDES!$C$2:$C$1048576,BD!C15516,SOLICITUDES!$K$2:$K$1048576)","v":0},0]
[null,null,"T1409",10,13200,240,-76.442228449829443,3.230474470759189,5,5,2,2,{"$f":"SUMIF(SOLICITUDES!$C$2:$C$1048576,BD!C15524,SOLICITUDES!$I$2:$I$1048576)","v":0},0,{"$f":"SUMIF(SOLICITUDES!$C$2:$C$1048576,BD!C15524,SOLICITUDES!$J$2:$J$1048576)","v":0},0,{"$f":"SUMIF(SOLICITUDES!$C$2:$C$1048576,BD!C15524,SOLICITUDES!$K$2:$K$1048576)","v":0},0]
[null,null,"T24629",5,13200,240,-76.637896105614132,2.5632737425456034,2.5,2.5,1,1,{"$f":"SUMIF(SOLICITUDES!$C$2:$C$1048576,BD!C15535,SOLICITUDES!$I$2:$I$1048576)","v":0},0,{"$f":"SUMIF(SOLICITUDES!$C$2:$C$1048576,BD!C15535,SOLICITUDES!$J$2:$J$1048576)","v":0},0,{"$f":"SUMIF(SOLICITUDES!$C$2:$C$1048576,BD!C15535,SOLICITUDES!$K$2:$K$1048576)","v":0},0]
[null,null,"T3621",10,13200,240,-76.618163842041625,2.5572764032809401,5,5,2,2,{"$f":"SUMIF(SOLICITUDES!$C$2:$C$1048576,BD!C15540,SOLICITUDES!$I$2:$I$1048576)","v":0},0,{"$f":"SUMIF(SOLICITUDES!$C$2:$C$1048576,BD!C15540,SOLICITUDES!$J$2:$J$1048576)","v":0},0,{"$f":"SUMIF(SOLICITUDES!$C$2:$C$1048576,BD!C15540,SOLICITUDES!$K$2:$K$1048576)","v":0},0]
[null,null,"T18382",15,13200,214,-77.106445296416481,1.8789701758513813,7.5,{"$f":"D15555*0.5-M15555","v":7.5},3,3,{"$f":"SUMIF(SOLICITUDES!$C$2:$C$1048576,BD!C15555,SOLICITUDES!$I$2:$I$1048576)","v":0},{"$f":"M15555/D15555","v":0},{"$f":"SUMIF(SOLICITUDES!$C$2:$C$1048576,BD!C15555,SOLICITUDES!$J$2:$J$1048576)","v":0},0,{"$f":"SUMIF(SOLICITUDES!$C$2:$C$1048576,BD!C15555,SOLICITUDES!$K$2:$K$1048576)","v":0},0]
[null,null,"T27963",5,13200,240,-77.128118516651412,1.8719821478912948,2.5,2.5,1,1,{"$f":"SUMIF(SOLICITUDES!$C$2:$C$1048576,BD!C15566,SOLICITUDES!$I$2:$I$1048576)","v":0},0,{"$f":"SUMIF(SOLICITUDES!$C$2:$C$1048576,BD!C15566,SOLICITUDES!$J$2:$J$1048576)","v":0},0,{"$f":"SUMIF(SOLICITUDES!$C$2:$C$1048576,BD!C15566,SOLICITUDES!$K$2:$K$1048576)","v":0},0]
[null,null,"T27968",15,13200,240,-77.135166150293003,1.8875192096848026,7.5,7.5,3,3,{"$f":"SUMIF(SOLICITUDES!$C$2:$C$1048576,BD!C15571,SOLICITUDES!$I$2:$I$1048576)","v":0},0,{"$f":"SUMIF(SOLICITUDES!$C$2:$C$1048576,BD!C15571,SOLICITUDES!$J$2:$J$1048576)","v":0},0,{"$f":"SUMIF(SOLICITUDES!$C$2:$C$1048576,BD!C15571,SOLICITUDES!$K$2:$K$1048576)","v":0},0]
[null,null,"T29547",10,13200,240,-77.119539126071132,1.9209796264830961,5,5,2,2,{"$f":"SUMIF(SOLICITUDES!$C$2:$C$1048576,BD!C15586,SOLICITUDES!$I$2:$I$1048576)","v":0},0,{"$f":"SUMIF(SOLICITUDES!$C$2:$C$1048576,BD!C15586,SOLICITUDES!$J$2:$J$1048576)","v":0},0,{"$f":"SUMIF(SOLICITUDES!$C$2:$C$1048576,BD!C15586,SOLICITUDES!$K$2:$K$1048576)","v":0},0]
[null,null,"T27951",5,13200,240,-77.081065763189159,1.8484165630552238,2.5,2.5,1,1,{"$f":"SUMIF(SOLICITUDES!$C$2:$C$1048576,BD!C15597,SOLICITUDES!$I$2:$I$1048576)","v":0},0,{"$f":"SUMIF(SOLICITUDES!$C$2:$C$1048576,BD!C15597,SOLICITUDES!$J$2:$J$1048576)","v":0},0,{"$f":"SUMIF(SOLICITUDES!$C$2:$C$1048576,BD!C15597,SOLICITUDES!$K$2:$K$1048576)","v":0},0]
[null,null,"T10663",25,13200,240,-76.424243967765548,3.2022765283445258,12.5,12.5,5,5,{"$f":"SUMIF(SOLICITUDES!$C$2:$C$1048576,BD!C15607,SOLICITUDES!$I$2:$I$1048576)","v":0},0,{"$f":"SUMIF(SOLICITUDES!$C$2:$C$1048576,BD!C15607,SOLICITUDES!$J$2:$J$1048576)","v":0},0,{"$f":"SUMIF(SOLICITUDES!$C$2:$C$1048576,BD!C15607,SOLICITUDES!$K$2:$K$1048576)","v":0},0]
[null,null,"T11739",75,13200,208,-76.461372252653703,3.1730098960587743,37.5,37.5,15,15,{"$f":"SUMIF(SOLICITUDES!$C$2:$C$1048576,BD!C15614,SOLICITUDES!$I$2:$I$1048576)","v":0},0,{"$f":"SUMIF(SOLICITUDES!$C$2:$C$1048576,BD!C15614,SOLICITUDES!$J$2:$J$1048576)","v":0},0,{"$f":"SUMIF(SOLICITUDES!$C$2:$C$1048576,BD!C15614,SOLICITUDES!$K$2:$K$1048576)","v":0},0]
[null,null,"T24619",5,13200,240,-76.643963046322526,2.5688693952896444,2.5,{"$f":"D15619*0.5-M15619","v":2.5},1,1,{"$f":"SUMIF(SOLICITUDES!$C$2:$C$1048576,BD!C15619,SOLICITUDES!$I$2:$I$1048576)","v":0},{"$f":"M15619/D15619","v":0},{"$f":"SUMIF(SOLICITUDES!$C$2:$C$1048576,BD!C15619,SOLICITUDES!$J$2:$J$1048576)","v":0},0,{"$f":"SUMIF(SOLICITUDES!$C$2:$C$1048576,BD!C15619,SOLICITUDES!$K$2:$K$1048576)","v":0},0]
[null,null,"T7787",10,13200,240,-76.662066603028649,2.5795682316520607,5,5,2,2,{"$f":"SUMIF(SOLICITUDES!$C$2:$C$1048576,BD!C15634,SOLICITUDES!$I$2:$I$1048576)","v":0},0,{"$f":"SUMIF(SOLICITUDES!$C$2:$C$1048576,BD!C15634,SOLICITUDES!$J$2:$J$1048576)","v":0},0,{"$f":"SUMIF(SOLICITUDES!$C$2:$C$1048576,BD!C15634,SOLICITUDES!$K$2:$K$1048576)","v":0},0]
[null,null,"T5979",10,13200,240,-76.632091571573284,2.5933940741124846,5,5,2,2,{"$f":"SUMIF(SOLICITUDES!$C$2:$C$1048576,BD!C15645,SOLICITUDES!$I$2:$I$1048576)","v":0},0,{"$f":"SUMIF(SOLICITUDES!$C$2:$C$1048576,BD!C15645,SOLICITUDES!$J$2:$J$1048576)","v":0},0,{"$f":"SUMIF(SOLICITUDES!$C$2:$C$1048576,BD!C15645,SOLICITUDES!$K$2:$K$1048576)","v":0},0]
[null,null,"T6647",10,13200,220,-76.670752720745625,2.5712483489424547,5,5,2,2,{"$f":"SUMIF(SOLICITUDES!$C$2:$C$1048576,BD!C15650,SOLICITUDES!$I$2:$I$1048576)","v":0},0,{"$f":"SUMIF(SOLICITUDES!$C$2:$C$1048576,BD!C15650,SOLICITUDES!$J$2:$J$1048576)","v":0},0,{"$f":"SUMIF(SOLICITUDES!$C$2:$C$1048576,BD!C15650,SOLICITUDES!$K$2:$K$1048576)","v":0},0]
[null,null,"T3441",15,13200,208,-76.661953960752129,2.5433242153032385,7.5,7.5,3,3,{"$f":"SUMIF(SOLICITUDES!$C$2:$C$1048576,BD!C15661,SOLICITUDES!$I$2:$I$1048576)","v":0},0,{"$f":"SUMIF(SOLICITUDES!$C$2:$C$1048576,BD!C15661,SOLICITUDES!$J$2:$J$1048576)","v":0},0,{"$f":"SUMIF(SOLICITUDES!$C$2:$C$1048576,BD!C15661,SOLICITUDES!$K$2:$K$1048576)","v":0},0]
[null,null,"T1431",25,13200,240,-76.4411662546229,3.2335252061505022,12.5,12.5,5,5,{"$f":"SUMIF(SOLICITUDES!$C$2:$C$1048576,BD!C15676,SOLICITUDES!$I$2:$I$1048576)","v":0},0,{"$f":"SUMIF(SOLICITUDES!$C$2:$C$1048576,BD!C15676,SOLICITUDES!$J$2:$J$1048576)","v":0},0,{"$f":"SUMIF(SOLICITUDES!$C$2:$C$1048576,BD!C15676,SOLICITUDES!$K$2:$K$1048576)","v":0},0]
[null,null,"T3182",37.5,13200,214,-76.607530461933052,2.4295221720825539,18.75,18.75,7.5,7.5,{"$f":"SUMIF(SOLICITUDES!$C$2:$C$1048576,BD!C15681,SOLICITUDES!$I$2:$I$1048576)","v":0},0,{"$f":"SUMIF(SOLICITUDES!$C$2:$C$1048576,BD!C15681,SOLICITUDES!$J$2:$J$1048576)","v":0},0,{"$f":"SUMIF(SOLICITUDES!$C$2:$C$1048576,BD!C15681,SOLICITUDES!$K$2:$K$1048576)","v":0},0]
[null,null,"T4508",10,13200,220,-76.602950149463666,2.4152502876381976,5,5,2,2,{"$f":"SUMIF(SOLICITUDES!$C$2:$C$1048576,BD!C15691,SOLICITUDES!$I$2:$I$1048576)","v":0},0,{"$f":"SUMIF(SOLICITUDES!$C$2:$C$1048576,BD!C15691,SOLICITUDES!$J$2:$J$1048576)","v":0},0,{"$f":"SUMIF(SOLICITUDES!$C$2:$C$1048576,BD!C15691,SOLICITUDES!$K$2:$K$1048576)","v":0},0]
[null,null,"T30132",5,13200,208,-76.570331473245218,2.4098858527196758,2.5,2.5,1,1,{"$f":"SUMIF(SOLICITUDES!$C$2:$C$1048576,BD!C15708,SOLICITUDES!$I$2:$I$1048576)","v":0},0,{"$f":"SUMIF(SOLICITUDES!$C$2:$C$1048576,BD!C15708,SOLICITUDES!$J$2:$J$1048576)","v":0},0,{"$f":"SUMIF(SOLICITUDES!$C$2:$C$1048576,BD!C15708,SOLICITUDES!$K$2:$K$1048576)","v":0},0]
[null,null,"T3175",45,13200,240,-76.614869081779986,2.4234929101175289,22.5,22.5,9,9,{"$f":"SUMIF(SOLICITUDES!$C$2:$C$1048576,BD!C15713,SOLICITUDES!$I$2:$I$1048576)","v":0},0,{"$f":"SUMIF(SOLICITUDES!$C$2:$C$1048576,BD!C15713,SOLICITUDES!$J$2:$J$1048576)","v":0},0,{"$f":"SUMIF(SOLICITUDES!$C$2:$C$1048576,BD!C15713,SOLICITUDES!$K$2:$K$1048576)","v":0},0]
[null,null,"T22183",25,13200,240,-76.564750501095304,2.4206570097448372,12.5,12.5,5,5,{"$f":"SUMIF(SOLICITUDES!$C$2:$C$1048576,BD!C15724,SOLICITUDES!$I$2:$I$1048576)","v":0},0,{"$f":"SUMIF(SOLICITUDES!$C$2:$C$1048576,BD!C15724,SOLICITUDES!$J$2:$J$1048576)","v":0},0,{"$f":"SUMIF(SOLICITUDES!$C$2:$C$1048576,BD!C15724,SOLICITUDES!$K$2:$K$1048576)","v":0},0]
[null,null,"T42343",15,13200,240,-76.570213830446193,2.4248714731657688,7.5,7.5,3,3,{"$f":"SUMIF(SOLICITUDES!$C$2:$C$1048576,BD!C15739,SOLICITUDES!$I$2:$I$1048576)","v":0},0,{"$f":"SUMIF(SOLICITUDES!$C$2:$C$1048576,BD!C15739,SOLICITUDES!$J$2:$J$1048576)","v":0},0,{"$f":"SUMIF(SOLICITUDES!$C$2:$C$1048576,BD!C15739,SOLICITUDES!$K$2:$K$1048576)","v":0},0]
[null,null,"T40270",10,13200,120,-76.615146502863738,2.4124919535211649,5,5,2,2,{"$f":"SUMIF(SOLICITUDES!$C$2:$C$1048576,BD!C15740,SOLICITUDES!$I$2:$I$1048576)","v":0},0,{"$f":"SUMIF(SOLICITUDES!$C$2:$C$1048576,BD!C15740,SOLICITUDES!$J$2:$J$1048576)","v":0},0,{"$f":"SUMIF(SOLICITUDES!$C$2:$C$1048576,BD!C15740,SOLICITUDES!$K$2:$K$1048576)","v":0},0]
[null,null,"T11805",112.5,13200,208,-76.462340405782726,3.1788430426668799,56.25,56.25,22.5,22.5,{"$f":"SUMIF(SOLICITUDES!$C$2:$C$1048576,BD!C15755,SOLICITUDES!$I$2:$I$1048576)","v":0},0,{"$f":"SUMIF(SOLICITUDES!$C$2:$C$1048576,BD!C15755,SOLICITUDES!$J$2:$J$1048576)","v":0},0,{"$f":"SUMIF(SOLICITUDES!$C$2:$C$1048576,BD!C15755,SOLICITUDES!$K$2:$K$1048576)","v":0},0]
[null,null,"T11260",10,13200,240,-77.229710020858249,1.8209947148714996,5,5,2,2,{"$f":"SUMIF(SOLICITUDES!$C$2:$C$1048576,BD!C15760,SOLICITUDES!$I$2:$I$1048576)","v":0},0,{"$f":"SUMIF(SOLICITUDES!$C$2:$C$1048576,BD!C15760,SOLICITUDES!$J$2:$J$1048576)","v":0},0,{"$f":"SUMIF(SOLICITUDES!$C$2:$C$1048576,BD!C15760,SOLICITUDES!$K$2:$K$1048576)","v":0},0]
[null,null,"T11261",25,13200,240,-77.276013614304347,1.8153199770261712,12.5,12.5,5,5,{"$f":"SUMIF(SOLICITUDES!$C$2:$C$1048576,BD!C15771,SOLICITUDES!$I$2:$I$1048576)","v":0},0,{"$f":"SUMIF(SOLICITUDES!$C$2:$C$1048576,BD!C15771,SOLICITUDES!$J$2:$J$1048576)","v":0},0,{"$f":"SUMIF(SOLICITUDES!$C$2:$C$1048576,BD!C15771,SOLICITUDES!$K$2:$K$1048576)","v":0},0]
[null,null,"T51232",25,13200,240,-76.446022296814064,3.2349078282653903,12.5,12.5,5,5,{"$f":"SUMIF(SOLICITUDES!$C$2:$C$1048576,BD!C15782,SOLICITUDES!$I$2:$I$1048576)","v":0},0,{"$f":"SUMIF(SOLICITUDES!$C$2:$C$1048576,BD!C15782,SOLICITUDES!$J$2:$J$1048576)","v":0},0,{"$f":"SUMIF(SOLICITUDES!$C$2:$C$1048576,BD!C15782,SOLICITUDES!$K$2:$K$1048576)","v":0},0]
[null,null,"T7945",25,13200,240,-76.615408400333251,2.9025203072150609,12.5,12.5,5,5,{"$f":"SUMIF(SOLICITUDES!$C$2:$C$1048576,BD!C15798,SOLICITUDES!$I$2:$I$1048576)","v":0},0,{"$f":"SUMIF(SOLICITUDES!$C$2:$C$1048576,BD!C15798,SOLICITUDES!$J$2:$J$1048576)","v":0},0,{"$f":"SUMIF(SOLICITUDES!$C$2:$C$1048576,BD!C15798,SOLICITUDES!$K$2:$K$1048576)","v":0},0]
[null,null,"T7985",10,13200,240,-76.623858750211838,2.8908490287236961,5,5,2,2,{"$f":"SUMIF(SOLICITUDES!$C$2:$C$1048576,BD!C15803,SOLICITUDES!$I$2:$I$1048576)","v":0},0,{"$f":"SUMIF(SOLICITUDES!$C$2:$C$1048576,BD!C15803,SOLICITUDES!$J$2:$J$1048576)","v":0},0,{"$f":"SUMIF(SOLICITUDES!$C$2:$C$1048576,BD!C15803,SOLICITUDES!$K$2:$K$1048576)","v":0},0]
[null,null,"T7926",10,13200,240,-76.632451042173784,2.9065966201858191,5,5,2,2,{"$f":"SUMIF(SOLICITUDES!$C$2:$C$1048576,BD!C15818,SOLICITUDES!$I$2:$I$1048576)","v":0},0,{"$f":"SUMIF(SOLICITUDES!$C$2:$C$1048576,BD!C15818,SOLICITUDES!$J$2:$J$1048576)","v":0},0,{"$f":"SUMIF(SOLICITUDES!$C$2:$C$1048576,BD!C15818,SOLICITUDES!$K$2:$K$1048576)","v":0},0]
[null,null,"T9380",25,13200,240,-76.517218201814373,2.8476655224172989,12.5,12.5,5,5,{"$f":"SUMIF(SOLICITUDES!$C$2:$C$1048576,BD!C15829,SOLICITUDES!$I$2:$I$1048576)","v":0},0,{"$f":"SUMIF(SOLICITUDES!$C$2:$C$1048576,BD!C15829,SOLICITUDES!$J$2:$J$1048576)","v":0},0,{"$f":"SUMIF(SOLICITUDES!$C$2:$C$1048576,BD!C15829,SOLICITUDES!$K$2:$K$1048576)","v":0},0]
[null,null,"T29483",30,13200,214,-76.451316559906871,3.1845066566279567,15,15,6,6,{"$f":"SUMIF(SOLICITUDES!$C$2:$C$1048576,BD!C15834,SOLICITUDES!$I$2:$I$1048576)","v":0},0,{"$f":"SUMIF(SOLICITUDES!$C$2:$C$1048576,BD!C15834,SOLICITUDES!$J$2:$J$1048576)","v":0},0,{"$f":"SUMIF(SOLICITUDES!$C$2:$C$1048576,BD!C15834,SOLICITUDES!$K$2:$K$1048576)","v":0},0]
[null,null,"T11765",25,13200,240,-76.4382000713439,3.1838469779219714,12.5,12.5,5,5,{"$f":"SUMIF(SOLICITUDES!$C$2:$C$1048576,BD!C15849,SOLICITUDES!$I$2:$I$1048576)","v":0},0,{"$f":"SUMIF(SOLICITUDES!$C$2:$C$1048576,BD!C15849,SOLICITUDES!$J$2:$J$1048576)","v":0},0,{"$f":"SUMIF(SOLICITUDES!$C$2:$C$1048576,BD!C15849,SOLICITUDES!$K$2:$K$1048576)","v":0},0]
[null,null,"T44773",0.5,13200,240,-76.456783063185057,3.1755485694353154,0.25,0.25,0.1,0.1,{"$f":"SUMIF(SOLICITUDES!$C$2:$C$1048576,BD!C15860,SOLICITUDES!$I$2:$I$1048576)","v":0},0,{"$f":"SUMIF(SOLICITUDES!$C$2:$C$1048576,BD!C15860,SOLICITUDES!$J$2:$J$1048576)","v":0},0,{"$f":"SUMIF(SOLICITUDES!$C$2:$C$1048576,BD!C15860,SOLICITUDES!$K$2:$K$1048576)","v":0},0]
[null,null,"T30716",45,13200,240,-76.449912548871978,3.187504737751965,22.5,22.5,9,9,{"$f":"SUMIF(SOLICITUDES!$C$2:$C$1048576,BD!C15865,SOLICITUDES!$I$2:$I$1048576)","v":0},0,{"$f":"SUMIF(SOLICITUDES!$C$2:$C$1048576,BD!C15865,SOLICITUDES!$J$2:$J$1048576)","v":0},0,{"$f":"SUMIF(SOLICITUDES!$C$2:$C$1048576,BD!C15865,SOLICITUDES!$K$2:$K$1048576)","v":0},0]
[null,null,"T2481",112.5,13200,208,-76.624571421170032,2.4397398489348805,56.25,56.25,22.5,22.5,{"$f":"SUMIF(SOLICITUDES!$C$2:$C$1048576,BD!C15877,SOLICITUDES!$I$2:$I$1048576)","v":0},0,{"$f":"SUMIF(SOLICITUDES!$C$2:$C$1048576,BD!C15877,SOLICITUDES!$J$2:$J$1048576)","v":0},0,{"$f":"SUMIF(SOLICITUDES!$C$2:$C$1048576,BD!C15877,SOLICITUDES!$K$2:$K$1048576)","v":0},0]
[null,null,"T2734",112.5,13200,214,-76.621903464894373,2.4395832419910013,56.25,56.25,22.5,22.5,{"$f":"SUMIF(SOLICITUDES!$C$2:$C$1048576,BD!C15882,SOLICITUDES!$I$2:$I$1048576)","v":0},0,{"$f":"SUMIF(SOLICITUDES!$C$2:$C$1048576,BD!C15882,SOLICITUDES!$J$2:$J$1048576)","v":0},0,{"$f":"SUMIF(SOLICITUDES!$C$2:$C$1048576,BD!C15882,SOLICITUDES!$K$2:$K$1048576)","v":0},0]
[null,null,"T2933",75,13200,208,-76.628763093271616,2.4410144140509744,37.5,37.5,15,15,{"$f":"SUMIF(SOLICITUDES!$C$2:$C$1048576,BD!C15897,SOLICITUDES!$I$2:$I$1048576)","v":0},0,{"$f":"SUMIF(SOLICITUDES!$C$2:$C$1048576,BD!C15897,SOLICITUDES!$J$2:$J$1048576)","v":0},0,{"$f":"SUMIF(SOLICITUDES!$C$2:$C$1048576,BD!C15897,SOLICITUDES!$K$2:$K$1048576)","v":0},0]
[null,null,"T2739",45,13200,220,-76.621708424475329,2.4382449207344323,22.5,22.5,9,9,{"$f":"SUMIF(SOLICITUDES!$C$2:$C$1048576,BD!C15908,SOLICITUDES!$I$2:$I$1048576)","v":0},0,{"$f":"SUMIF(SOLICITUDES!$C$2:$C$1048576,BD!C15908,SOLICITUDES!$J$2:$J$1048576)","v":0},0,{"$f":"SUMIF(SOLICITUDES!$C$2:$C$1048576,BD!C15908,SOLICITUDES!$K$2:$K$1048576)","v":0},0]
[null,null,"T1920",75,13200,208,-76.619220632638459,2.43892919914849,37.5,37.5,15,15,{"$f":"SUMIF(SOLICITUDES!$C$2:$C$1048576,BD!C15913,SOLICITUDES!$I$2:$I$1048576)","v":0},0,{"$f":"SUMIF(SOLICITUDES!$C$2:$C$1048576,BD!C15913,SOLICITUDES!$J$2:$J$1048576)","v":0},0,{"$f":"SUMIF(SOLICITUDES!$C$2:$C$1048576,BD!C15913,SOLICITUDES!$K$2:$K$1048576)","v":0},0]
[null,null,"T29767",10,13200,240,-77.184726019711832,2.603885046188446,5,5,2,2,{"$f":"SUMIF(SOLICITUDES!$C$2:$C$1048576,BD!C15928,SOLICITUDES!$I$2:$I$1048576)","v":0},0,{"$f":"SUMIF(SOLICITUDES!$C$2:$C$1048576,BD!C15928,SOLICITUDES!$J$2:$J$1048576)","v":0},0,{"$f":"SUMIF(SOLICITUDES!$C$2:$C$1048576,BD!C15928,SOLICITUDES!$K$2:$K$1048576)","v":0},0]
[null,null,"T29747",10,13200,240,-77.174157436117724,2.600395671185308,5,{"$f":"D15939*0.5-M15939","v":5},2,2,{"$f":"SUMIF(SOLICITUDES!$C$2:$C$1048576,BD!C15939,SOLICITUDES!$I$2:$I$1048576)","v":0},{"$f":"M15939/D15939","v":0},{"$f":"SUMIF(SOLICITUDES!$C$2:$C$1048576,BD!C15939,SOLICITUDES!$J$2:$J$1048576)","v":0},0,{"$f":"SUMIF(SOLICITUDES!$C$2:$C$1048576,BD!C15939,SOLICITUDES!$K$2:$K$1048576)","v":0},0]
[null,null,"T29743",10,13200,240,-77.2123799032573,2.6130696725754539,5,5,2,2,{"$f":"SUMIF(SOLICITUDES!$C$2:$C$1048576,BD!C15944,SOLICITUDES!$I$2:$I$1048576)","v":0},0,{"$f":"SUMIF(SOLICITUDES!$C$2:$C$1048576,BD!C15944,SOLICITUDES!$J$2:$J$1048576)","v":0},0,{"$f":"SUMIF(SOLICITUDES!$C$2:$C$1048576,BD!C15944,SOLICITUDES!$K$2:$K$1048576)","v":0},0]
[null,null,"62TR1",15,13200,240,-77.245023720192137,2.4691976078298614,7.5,7.5,3,3,{"$f":"SUMIF(SOLICITUDES!$C$2:$C$1048576,BD!C15955,SOLICITUDES!$I$2:$I$1048576)","v":0},0,{"$f":"SUMIF(SOLICITUDES!$C$2:$C$1048576,BD!C15955,SOLICITUDES!$J$2:$J$1048576)","v":0},0,{"$f":"SUMIF(SOLICITUDES!$C$2:$C$1048576,BD!C15955,SOLICITUDES!$K$2:$K$1048576)","v":0},0]
[null,null,"T9385",15,13200,240,-76.478469235162521,2.8341215373773676,7.5,7.5,3,3,{"$f":"SUMIF(SOLICITUDES!$C$2:$C$1048576,BD!C15968,SOLICITUDES!$I$2:$I$1048576)","v":0},0,{"$f":"SUMIF(SOLICITUDES!$C$2:$C$1048576,BD!C15968,SOLICITUDES!$J$2:$J$1048576)","v":0},0,{"$f":"SUMIF(SOLICITUDES!$C$2:$C$1048576,BD!C15968,SOLICITUDES!$K$2:$K$1048576)","v":0},0]
[null,null,"T8204",5,13200,240,-76.669815150670999,2.1951220409293559,2.5,2.5,1,1,{"$f":"SUMIF(SOLICITUDES!$C$2:$C$1048576,BD!C15976,SOLICITUDES!$I$2:$I$1048576)","v":0},0,{"$f":"SUMIF(SOLICITUDES!$C$2:$C$1048576,BD!C15976,SOLICITUDES!$J$2:$J$1048576)","v":0},0,{"$f":"SUMIF(SOLICITUDES!$C$2:$C$1048576,BD!C15976,SOLICITUDES!$K$2:$K$1048576)","v":0},0]
[null,null,"T17507",15,13200,240,-76.276661786058469,1.6214013300384549,7.5,7.5,3,3,{"$f":"SUMIF(SOLICITUDES!$C$2:$C$1048576,BD!C15987,SOLICITUDES!$I$2:$I$1048576)","v":0},0,{"$f":"SUMIF(SOLICITUDES!$C$2:$C$1048576,BD!C15987,SOLICITUDES!$J$2:$J$1048576)","v":0},0,{"$f":"SUMIF(SOLICITUDES!$C$2:$C$1048576,BD!C15987,SOLICITUDES!$K$2:$K$1048576)","v":0},0]
[null,null,"T13636",10,13200,240,-76.422353955092319,1.4678043802186445,5,5,2,2,{"$f":"SUMIF(SOLICITUDES!$C$2:$C$1048576,BD!C16002,SOLICITUDES!$I$2:$I$1048576)","v":0},0,{"$f":"SUMIF(SOLICITUDES!$C$2:$C$1048576,BD!C16002,SOLICITUDES!$J$2:$J$1048576)","v":0},0,{"$f":"SUMIF(SOLICITUDES!$C$2:$C$1048576,BD!C16002,SOLICITUDES!$K$2:$K$1048576)","v":0},0]
[null,null,"T13635",10,13200,240,-76.43267397146198,1.4513852192034384,5,{"$f":"D16003*0.5-M16003","v":5},2,2,{"$f":"SUMIF(SOLICITUDES!$C$2:$C$1048576,BD!C16003,SOLICITUDES!$I$2:$I$1048576)","v":0},{"$f":"M16003/D16003","v":0},{"$f":"SUMIF(SOLICITUDES!$C$2:$C$1048576,BD!C16003,SOLICITUDES!$J$2:$J$1048576)","v":0},0,{"$f":"SUMIF(SOLICITUDES!$C$2:$C$1048576,BD!C16003,SOLICITUDES!$K$2:$K$1048576)","v":0},0]
[null,null,"T6073",10,13200,240,-76.55399012243393,2.6083030292308602,5,5,2,2,{"$f":"SUMIF(SOLICITUDES!$C$2:$C$1048576,BD!C16018,SOLICITUDES!$I$2:$I$1048576)","v":0},0,{"$f":"SUMIF(SOLICITUDES!$C$2:$C$1048576,BD!C16018,SOLICITUDES!$J$2:$J$1048576)","v":0},0,{"$f":"SUMIF(SOLICITUDES!$C$2:$C$1048576,BD!C16018,SOLICITUDES!$K$2:$K$1048576)","v":0},0]
[null,null,"T7384",15,13200,240,-76.572159630347571,2.61679300216842,7.5,7.5,3,3,{"$f":"SUMIF(SOLICITUDES!$C$2:$C$1048576,BD!C16023,SOLICITUDES!$I$2:$I$1048576)","v":0},0,{"$f":"SUMIF(SOLICITUDES!$C$2:$C$1048576,BD!C16023,SOLICITUDES!$J$2:$J$1048576)","v":0},0,{"$f":"SUMIF(SOLICITUDES!$C$2:$C$1048576,BD!C16023,SOLICITUDES!$K$2:$K$1048576)","v":0},0]
[null,null,"T17516",25,13200,240,-76.549191133093984,1.3224503338257958,12.5,12.5,5,5,{"$f":"SUMIF(SOLICITUDES!$C$2:$C$1048576,BD!C16034,SOLICITUDES!$I$2:$I$1048576)","v":0},0,{"$f":"SUMIF(SOLICITUDES!$C$2:$C$1048576,BD!C16034,SOLICITUDES!$J$2:$J$1048576)","v":0},0,{"$f":"SUMIF(SOLICITUDES!$C$2:$C$1048576,BD!C16034,SOLICITUDES!$K$2:$K$1048576)","v":0},0]
[null,null,"T20708",10,13200,240,-76.567641277840323,1.3531898927914807,5,5,2,2,{"$f":"SUMIF(SOLICITUDES!$C$2:$C$1048576,BD!C16049,SOLICITUDES!$I$2:$I$1048576)","v":0},0,{"$f":"SUMIF(SOLICITUDES!$C$2:$C$1048576,BD!C16049,SOLICITUDES!$J$2:$J$1048576)","v":0},0,{"$f":"SUMIF(SOLICITUDES!$C$2:$C$1048576,BD!C16049,SOLICITUDES!$K$2:$K$1048576)","v":0},0]
[null,null,"T20729",10,13200,240,-76.490675739124953,1.320234849748998,5,5,2,2,{"$f":"SUMIF(SOLICITUDES!$C$2:$C$1048576,BD!C16059,SOLICITUDES!$I$2:$I$1048576)","v":0},0,{"$f":"SUMIF(SOLICITUDES!$C$2:$C$1048576,BD!C16059,SOLICITUDES!$J$2:$J$1048576)","v":0},0,{"$f":"SUMIF(SOLICITUDES!$C$2:$C$1048576,BD!C16059,SOLICITUDES!$K$2:$K$1048576)","v":0},0]
[null,null,"T20726",10,13200,240,-76.500383066653526,1.3034596144382127,5,5,2,2,{"$f":"SUMIF(SOLICITUDES!$C$2:$C$1048576,BD!C16066,SOLICITUDES!$I$2:$I$1048576)","v":0},0,{"$f":"SUMIF(SOLICITUDES!$C$2:$C$1048576,BD!C16066,SOLICITUDES!$J$2:$J$1048576)","v":0},0,{"$f":"SUMIF(SOLICITUDES!$C$2:$C$1048576,BD!C16066,SOLICITUDES!$K$2:$K$1048576)","v":0},0]
[null,null,"T30816",225,13200,453,-76.447364375861284,3.1421414969752828,112.5,112.5,45,45,{"$f":"SUMIF(SOLICITUDES!$C$2:$C$1048576,BD!C16081,SOLICITUDES!$I$2:$I$1048576)","v":0},0,{"$f":"SUMIF(SOLICITUDES!$C$2:$C$1048576,BD!C16081,SOLICITUDES!$J$2:$J$1048576)","v":0},0,{"$f":"SUMIF(SOLICITUDES!$C$2:$C$1048576,BD!C16081,SOLICITUDES!$K$2:$K$1048576)","v":0},0]
[null,null,"T30859",0.5,13200,240,-76.450220782392861,3.1417532942384456,0.25,0.25,0.1,0.1,{"$f":"SUMIF(SOLICITUDES!$C$2:$C$1048576,BD!C16092,SOLICITUDES!$I$2:$I$1048576)","v":0},0,{"$f":"SUMIF(SOLICITUDES!$C$2:$C$1048576,BD!C16092,SOLICITUDES!$J$2:$J$1048576)","v":0},0,{"$f":"SUMIF(SOLICITUDES!$C$2:$C$1048576,BD!C16092,SOLICITUDES!$K$2:$K$1048576)","v":0},0]
[null,null,"T12780",25,13200,240,-76.524222512202442,2.979480177715438,12.5,12.5,5,5,{"$f":"SUMIF(SOLICITUDES!$C$2:$C$1048576,BD!C16097,SOLICITUDES!$I$2:$I$1048576)","v":0},0,{"$f":"SUMIF(SOLICITUDES!$C$2:$C$1048576,BD!C16097,SOLICITUDES!$J$2:$J$1048576)","v":0},0,{"$f":"SUMIF(SOLICITUDES!$C$2:$C$1048576,BD!C16097,SOLICITUDES!$K$2:$K$1048576)","v":0},0]
[null,null,"T8244",37.5,13200,240,-76.459225660586526,2.9646691463550052,18.75,18.75,7.5,7.5,{"$f":"SUMIF(SOLICITUDES!$C$2:$C$1048576,BD!C16112,SOLICITUDES!$I$2:$I$1048576)","v":0},0,{"$f":"SUMIF(SOLICITUDES!$C$2:$C$1048576,BD!C16112,SOLICITUDES!$J$2:$J$1048576)","v":0},0,{"$f":"SUMIF(SOLICITUDES!$C$2:$C$1048576,BD!C16112,SOLICITUDES!$K$2:$K$1048576)","v":0},0]
[null,null,"T9594",25,13200,240,-76.449183899336248,3.0027792502217259,12.5,12.5,5,5,{"$f":"SUMIF(SOLICITUDES!$C$2:$C$1048576,BD!C16123,SOLICITUDES!$I$2:$I$1048576)","v":0},0,{"$f":"SUMIF(SOLICITUDES!$C$2:$C$1048576,BD!C16123,SOLICITUDES!$J$2:$J$1048576)","v":0},0,{"$f":"SUMIF(SOLICITUDES!$C$2:$C$1048576,BD!C16123,SOLICITUDES!$K$2:$K$1048576)","v":0},0]
[null,null,"T8298",25,13200,240,-76.46086807132086,2.9387439659544352,12.5,12.5,5,5,{"$f":"SUMIF(SOLICITUDES!$C$2:$C$1048576,BD!C16128,SOLICITUDES!$I$2:$I$1048576)","v":0},0,{"$f":"SUMIF(SOLICITUDES!$C$2:$C$1048576,BD!C16128,SOLICITUDES!$J$2:$J$1048576)","v":0},0,{"$f":"SUMIF(SOLICITUDES!$C$2:$C$1048576,BD!C16128,SOLICITUDES!$K$2:$K$1048576)","v":0},0]
[null,null,"T9545",10,13200,240,-76.439962138552971,3.0063638674954172,5,5,2,2,{"$f":"SUMIF(SOLICITUDES!$C$2:$C$1048576,BD!C16143,SOLICITUDES!$I$2:$I$1048576)","v":0},0,{"$f":"SUMIF(SOLICITUDES!$C$2:$C$1048576,BD!C16143,SOLICITUDES!$J$2:$J$1048576)","v":0},0,{"$f":"SUMIF(SOLICITUDES!$C$2:$C$1048576,BD!C16143,SOLICITUDES!$K$2:$K$1048576)","v":0},0]
[null,null,"T9214",15,13200,240,-76.581353744387215,3.0082377116004366,7.5,7.5,3,3,{"$f":"SUMIF(SOLICITUDES!$C$2:$C$1048576,BD!C16154,SOLICITUDES!$I$2:$I$1048576)","v":0},0,{"$f":"SUMIF(SOLICITUDES!$C$2:$C$1048576,BD!C16154,SOLICITUDES!$J$2:$J$1048576)","v":0},0,{"$f":"SUMIF(SOLICITUDES!$C$2:$C$1048576,BD!C16154,SOLICITUDES!$K$2:$K$1048576)","v":0},0]
[null,null,"T4936",5,13200,220,-76.627477903486749,2.2731078869549677,2.5,2.5,1,1,{"$f":"SUMIF(SOLICITUDES!$C$2:$C$1048576,BD!C16160,SOLICITUDES!$I$2:$I$1048576)","v":0},0,{"$f":"SUMIF(SOLICITUDES!$C$2:$C$1048576,BD!C16160,SOLICITUDES!$J$2:$J$1048576)","v":0},0,{"$f":"SUMIF(SOLICITUDES!$C$2:$C$1048576,BD!C16160,SOLICITUDES!$K$2:$K$1048576)","v":0},0]
[null,null,"T5402",75,13200,208,-76.612929510762669,2.253461223072128,37.5,37.5,15,15,{"$f":"SUMIF(SOLICITUDES!$C$2:$C$1048576,BD!C16171,SOLICITUDES!$I$2:$I$1048576)","v":0},0,{"$f":"SUMIF(SOLICITUDES!$C$2:$C$1048576,BD!C16171,SOLICITUDES!$J$2:$J$1048576)","v":0},0,{"$f":"SUMIF(SOLICITUDES!$C$2:$C$1048576,BD!C16171,SOLICITUDES!$K$2:$K$1048576)","v":0},0]
[null,null,"T4938",10,13200,220,-76.602042068915154,2.2836259210085981,5,5,2,2,{"$f":"SUMIF(SOLICITUDES!$C$2:$C$1048576,BD!C16176,SOLICITUDES!$I$2:$I$1048576)","v":0},0,{"$f":"SUMIF(SOLICITUDES!$C$2:$C$1048576,BD!C16176,SOLICITUDES!$J$2:$J$1048576)","v":0},0,{"$f":"SUMIF(SOLICITUDES!$C$2:$C$1048576,BD!C16176,SOLICITUDES!$K$2:$K$1048576)","v":0},0]
[null,null,"T16924",25,13200,240,-77.238018352328481,2.2328549605414341,12.5,12.5,5,5,{"$f":"SUMIF(SOLICITUDES!$C$2:$C$1048576,BD!C16191,SOLICITUDES!$I$2:$I$1048576)","v":0},0,{"$f":"SUMIF(SOLICITUDES!$C$2:$C$1048576,BD!C16191,SOLICITUDES!$J$2:$J$1048576)","v":0},0,{"$f":"SUMIF(SOLICITUDES!$C$2:$C$1048576,BD!C16191,SOLICITUDES!$K$2:$K$1048576)","v":0},0]
[null,null,"T12385",10,13200,240,-76.487850723280033,2.9226440874439126,5,5,2,2,{"$f":"SUMIF(SOLICITUDES!$C$2:$C$1048576,BD!C16202,SOLICITUDES!$I$2:$I$1048576)","v":0},0,{"$f":"SUMIF(SOLICITUDES!$C$2:$C$1048576,BD!C16202,SOLICITUDES!$J$2:$J$1048576)","v":0},0,{"$f":"SUMIF(SOLICITUDES!$C$2:$C$1048576,BD!C16202,SOLICITUDES!$K$2:$K$1048576)","v":0},0]
[null,null,"T12381",15,13200,240,-76.487659943495359,2.9262702712692139,7.5,7.5,3,3,{"$f":"SUMIF(SOLICITUDES!$C$2:$C$1048576,BD!C16207,SOLICITUDES!$I$2:$I$1048576)","v":0},0,{"$f":"SUMIF(SOLICITUDES!$C$2:$C$1048576,BD!C16207,SOLICITUDES!$J$2:$J$1048576)","v":0},0,{"$f":"SUMIF(SOLICITUDES!$C$2:$C$1048576,BD!C16207,SOLICITUDES!$K$2:$K$1048576)","v":0},0]
[null,null,"T13441",25,13200,240,-76.469804560158749,2.8779850528277895,12.5,12.5,5,5,{"$f":"SUMIF(SOLICITUDES!$C$2:$C$1048576,BD!C16218,SOLICITUDES!$I$2:$I$1048576)","v":0},0,{"$f":"SUMIF(SOLICITUDES!$C$2:$C$1048576,BD!C16218,SOLICITUDES!$J$2:$J$1048576)","v":0},0,{"$f":"SUMIF(SOLICITUDES!$C$2:$C$1048576,BD!C16218,SOLICITUDES!$K$2:$K$1048576)","v":0},0]
[null,null,"T15627",15,13200,240,-76.470436678164276,2.8744178012301247,7.5,7.5,3,3,{"$f":"SUMIF(SOLICITUDES!$C$2:$C$1048576,BD!C16233,SOLICITUDES!$I$2:$I$1048576)","v":0},0,{"$f":"SUMIF(SOLICITUDES!$C$2:$C$1048576,BD!C16233,SOLICITUDES!$J$2:$J$1048576)","v":0},0,{"$f":"SUMIF(SOLICITUDES!$C$2:$C$1048576,BD!C16233,SOLICITUDES!$K$2:$K$1048576)","v":0},0]
[null,null,"T28334",15,13200,240,-76.466572370532234,2.9113564976683284,7.5,7.5,3,3,{"$f":"SUMIF(SOLICITUDES!$C$2:$C$1048576,BD!C16238,SOLICITUDES!$I$2:$I$1048576)","v":0},0,{"$f":"SUMIF(SOLICITUDES!$C$2:$C$1048576,BD!C16238,SOLICITUDES!$J$2:$J$1048576)","v":0},0,{"$f":"SUMIF(SOLICITUDES!$C$2:$C$1048576,BD!C16238,SOLICITUDES!$K$2:$K$1048576)","v":0},0]
[null,null,"T23959",10,13200,240,-76.4690631717896,2.8661485430441713,5,5,2,2,{"$f":"SUMIF(SOLICITUDES!$C$2:$C$1048576,BD!C16254,SOLICITUDES!$I$2:$I$1048576)","v":0},0,{"$f":"SUMIF(SOLICITUDES!$C$2:$C$1048576,BD!C16254,SOLICITUDES!$J$2:$J$1048576)","v":0},0,{"$f":"SUMIF(SOLICITUDES!$C$2:$C$1048576,BD!C16254,SOLICITUDES!$K$2:$K$1048576)","v":0},0]
[null,null,"T17103",15,13200,240,-76.371341343314143,3.2201185780715242,7.5,7.5,3,3,{"$f":"SUMIF(SOLICITUDES!$C$2:$C$1048576,BD!C16265,SOLICITUDES!$I$2:$I$1048576)","v":0},0,{"$f":"SUMIF(SOLICITUDES!$C$2:$C$1048576,BD!C16265,SOLICITUDES!$J$2:$J$1048576)","v":0},0,{"$f":"SUMIF(SOLICITUDES!$C$2:$C$1048576,BD!C16265,SOLICITUDES!$K$2:$K$1048576)","v":0},0]
[null,null,"T17106",25,13200,240,-76.360443251596166,3.2247316778690069,12.5,12.5,5,5,{"$f":"SUMIF(SOLICITUDES!$C$2:$C$1048576,BD!C16270,SOLICITUDES!$I$2:$I$1048576)","v":0},0,{"$f":"SUMIF(SOLICITUDES!$C$2:$C$1048576,BD!C16270,SOLICITUDES!$J$2:$J$1048576)","v":0},0,{"$f":"SUMIF(SOLICITUDES!$C$2:$C$1048576,BD!C16270,SOLICITUDES!$K$2:$K$1048576)","v":0},0]
[null,null,"T17107",37.5,13200,240,-76.357142722593451,3.2230021946610248,18.75,18.75,7.5,7.5,{"$f":"SUMIF(SOLICITUDES!$C$2:$C$1048576,BD!C16281,SOLICITUDES!$I$2:$I$1048576)","v":0},0,{"$f":"SUMIF(SOLICITUDES!$C$2:$C$1048576,BD!C16281,SOLICITUDES!$J$2:$J$1048576)","v":0},0,{"$f":"SUMIF(SOLICITUDES!$C$2:$C$1048576,BD!C16281,SOLICITUDES!$K$2:$K$1048576)","v":0},0]
[null,null,"T17255",25,13200,240,-76.358036180100726,3.2570847199613224,12.5,12.5,5,5,{"$f":"SUMIF(SOLICITUDES!$C$2:$C$1048576,BD!C16286,SOLICITUDES!$I$2:$I$1048576)","v":0},0,{"$f":"SUMIF(SOLICITUDES!$C$2:$C$1048576,BD!C16286,SOLICITUDES!$J$2:$J$1048576)","v":0},0,{"$f":"SUMIF(SOLICITUDES!$C$2:$C$1048576,BD!C16286,SOLICITUDES!$K$2:$K$1048576)","v":0},0]
[null,null,"T17254",30,13200,226,-76.344150428334203,3.2798725884538316,15,15,6,6,{"$f":"SUMIF(SOLICITUDES!$C$2:$C$1048576,BD!C16297,SOLICITUDES!$I$2:$I$1048576)","v":0},0,{"$f":"SUMIF(SOLICITUDES!$C$2:$C$1048576,BD!C16297,SOLICITUDES!$J$2:$J$1048576)","v":0},0,{"$f":"SUMIF(SOLICITUDES!$C$2:$C$1048576,BD!C16297,SOLICITUDES!$K$2:$K$1048576)","v":0},0]
[null,null,"T30718",150,13200,460,-76.298003759655813,3.1572056942800288,75,75,30,30,{"$f":"SUMIF(SOLICITUDES!$C$2:$C$1048576,BD!C16312,SOLICITUDES!$I$2:$I$1048576)","v":0},0,{"$f":"SUMIF(SOLICITUDES!$C$2:$C$1048576,BD!C16312,SOLICITUDES!$J$2:$J$1048576)","v":0},0,{"$f":"SUMIF(SOLICITUDES!$C$2:$C$1048576,BD!C16312,SOLICITUDES!$K$2:$K$1048576)","v":0},0]
[null,null,"51T02",15,13200,240,-76.381476532835279,1.4960241338144937,7.5,7.5,3,3,{"$f":"SUMIF(SOLICITUDES!$C$2:$C$1048576,BD!C16317,SOLICITUDES!$I$2:$I$1048576)","v":0},0,{"$f":"SUMIF(SOLICITUDES!$C$2:$C$1048576,BD!C16317,SOLICITUDES!$J$2:$J$1048576)","v":0},0,{"$f":"SUMIF(SOLICITUDES!$C$2:$C$1048576,BD!C16317,SOLICITUDES!$K$2:$K$1048576)","v":0},0]
[null,null,"T17370",10,13200,240,-76.358779977556622,1.5019397070856304,5,5,2,2,{"$f":"SUMIF(SOLICITUDES!$C$2:$C$1048576,BD!C16328,SOLICITUDES!$I$2:$I$1048576)","v":0},0,{"$f":"SUMIF(SOLICITUDES!$C$2:$C$1048576,BD!C16328,SOLICITUDES!$J$2:$J$1048576)","v":0},0,{"$f":"SUMIF(SOLICITUDES!$C$2:$C$1048576,BD!C16328,SOLICITUDES!$K$2:$K$1048576)","v":0},0]
[null,null,"T13431",10,13200,220,-76.681361918593822,2.9592105691512285,5,5,2,2,{"$f":"SUMIF(SOLICITUDES!$C$2:$C$1048576,BD!C16345,SOLICITUDES!$I$2:$I$1048576)","v":0},0,{"$f":"SUMIF(SOLICITUDES!$C$2:$C$1048576,BD!C16345,SOLICITUDES!$J$2:$J$1048576)","v":0},0,{"$f":"SUMIF(SOLICITUDES!$C$2:$C$1048576,BD!C16345,SOLICITUDES!$K$2:$K$1048576)","v":0},0]
[null,null,"T15714",5,13200,240,-76.668899373976629,2.9474498293940119,2.5,2.5,1,1,{"$f":"SUMIF(SOLICITUDES!$C$2:$C$1048576,BD!C16355,SOLICITUDES!$I$2:$I$1048576)","v":0},0,{"$f":"SUMIF(SOLICITUDES!$C$2:$C$1048576,BD!C16355,SOLICITUDES!$J$2:$J$1048576)","v":0},0,{"$f":"SUMIF(SOLICITUDES!$C$2:$C$1048576,BD!C16355,SOLICITUDES!$K$2:$K$1048576)","v":0},0]
[null,null,"T16203",15,13200,240,-77.168635528138978,1.9312309665585958,7.5,7.5,3,3,{"$f":"SUMIF(SOLICITUDES!$C$2:$C$1048576,BD!C16360,SOLICITUDES!$I$2:$I$1048576)","v":0},0,{"$f":"SUMIF(SOLICITUDES!$C$2:$C$1048576,BD!C16360,SOLICITUDES!$J$2:$J$1048576)","v":0},0,{"$f":"SUMIF(SOLICITUDES!$C$2:$C$1048576,BD!C16360,SOLICITUDES!$K$2:$K$1048576)","v":0},0]
[null,null,"T19004",37.5,13200,240,-77.197556791754337,1.8903522976682159,18.75,18.75,7.5,7.5,{"$f":"SUMIF(SOLICITUDES!$C$2:$C$1048576,BD!C16375,SOLICITUDES!$I$2:$I$1048576)","v":0},0,{"$f":"SUMIF(SOLICITUDES!$C$2:$C$1048576,BD!C16375,SOLICITUDES!$J$2:$J$1048576)","v":0},0,{"$f":"SUMIF(SOLICITUDES!$C$2:$C$1048576,BD!C16375,SOLICITUDES!$K$2:$K$1048576)","v":0},0]
[null,null,"T4979",10,13200,240,-76.547638289440741,2.7206880070953638,5,5,2,2,{"$f":"SUMIF(SOLICITUDES!$C$2:$C$1048576,BD!C16386,SOLICITUDES!$I$2:$I$1048576)","v":0},0,{"$f":"SUMIF(SOLICITUDES!$C$2:$C$1048576,BD!C16386,SOLICITUDES!$J$2:$J$1048576)","v":0},0,{"$f":"SUMIF(SOLICITUDES!$C$2:$C$1048576,BD!C16386,SOLICITUDES!$K$2:$K$1048576)","v":0},0]
[null,null,"T6195",15,13200,240,-76.565175968682695,2.7672553748826174,7.5,7.5,3,3,{"$f":"SUMIF(SOLICITUDES!$C$2:$C$1048576,BD!C16391,SOLICITUDES!$I$2:$I$1048576)","v":0},0,{"$f":"SUMIF(SOLICITUDES!$C$2:$C$1048576,BD!C16391,SOLICITUDES!$J$2:$J$1048576)","v":0},0,{"$f":"SUMIF(SOLICITUDES!$C$2:$C$1048576,BD!C16391,SOLICITUDES!$K$2:$K$1048576)","v":0},0]
[null,null,"T6174",15,13200,240,-76.56848808474895,2.7736898051171508,7.5,7.5,3,3,{"$f":"SUMIF(SOLICITUDES!$C$2:$C$1048576,BD!C16406,SOLICITUDES!$I$2:$I$1048576)","v":0},0,{"$f":"SUMIF(SOLICITUDES!$C$2:$C$1048576,BD!C16406,SOLICITUDES!$J$2:$J$1048576)","v":0},0,{"$f":"SUMIF(SOLICITUDES!$C$2:$C$1048576,BD!C16406,SOLICITUDES!$K$2:$K$1048576)","v":0},0]
[null,null,"T5230",10,13200,240,-76.537610939127617,2.7214069497613917,5,5,2,2,{"$f":"SUMIF(SOLICITUDES!$C$2:$C$1048576,BD!C16407,SOLICITUDES!$I$2:$I$1048576)","v":0},0,{"$f":"SUMIF(SOLICITUDES!$C$2:$C$1048576,BD!C16407,SOLICITUDES!$J$2:$J$1048576)","v":0},0,{"$f":"SUMIF(SOLICITUDES!$C$2:$C$1048576,BD!C16407,SOLICITUDES!$K$2:$K$1048576)","v":0},0]
[null,null,"T6197",15,13200,240,-76.557405678326901,2.7307705392559343,7.5,7.5,3,3,{"$f":"SUMIF(SOLICITUDES!$C$2:$C$1048576,BD!C16422,SOLICITUDES!$I$2:$I$1048576)","v":0},0,{"$f":"SUMIF(SOLICITUDES!$C$2:$C$1048576,BD!C16422,SOLICITUDES!$J$2:$J$1048576)","v":0},0,{"$f":"SUMIF(SOLICITUDES!$C$2:$C$1048576,BD!C16422,SOLICITUDES!$K$2:$K$1048576)","v":0},0]
[null,null,"T6189",15,13200,240,-76.566863144558027,2.7860728901789478,7.5,7.5,3,3,{"$f":"SUMIF(SOLICITUDES!$C$2:$C$1048576,BD!C16429,SOLICITUDES!$I$2:$I$1048576)","v":0},0,{"$f":"SUMIF(SOLICITUDES!$C$2:$C$1048576,BD!C16429,SOLICITUDES!$J$2:$J$1048576)","v":0},0,{"$f":"SUMIF(SOLICITUDES!$C$2:$C$1048576,BD!C16429,SOLICITUDES!$K$2:$K$1048576)","v":0},0]
[null,null,"T3978",50,13200,240,-76.53812477775034,2.7044995498649453,25,25,10,10,{"$f":"SUMIF(SOLICITUDES!$C$2:$C$1048576,BD!C16439,SOLICITUDES!$I$2:$I$1048576)","v":0},0,{"$f":"SUMIF(SOLICITUDES!$C$2:$C$1048576,BD!C16439,SOLICITUDES!$J$2:$J$1048576)","v":0},0,{"$f":"SUMIF(SOLICITUDES!$C$2:$C$1048576,BD!C16439,SOLICITUDES!$K$2:$K$1048576)","v":0},0]
[null,null,"T30018",45,13200,208,-76.568711352507435,2.4933524656337798,22.5,22.5,9,9,{"$f":"SUMIF(SOLICITUDES!$C$2:$C$1048576,BD!C16454,SOLICITUDES!$I$2:$I$1048576)","v":0},0,{"$f":"SUMIF(SOLICITUDES!$C$2:$C$1048576,BD!C16454,SOLICITUDES!$J$2:$J$1048576)","v":0},0,{"$f":"SUMIF(SOLICITUDES!$C$2:$C$1048576,BD!C16454,SOLICITUDES!$K$2:$K$1048576)","v":0},0]
[null,null,"T3093",45,13200,208,-76.567663160641345,2.4815689961395311,22.5,22.5,9,9,{"$f":"SUMIF(SOLICITUDES!$C$2:$C$1048576,BD!C16465,SOLICITUDES!$I$2:$I$1048576)","v":0},0,{"$f":"SUMIF(SOLICITUDES!$C$2:$C$1048576,BD!C16465,SOLICITUDES!$J$2:$J$1048576)","v":0},0,{"$f":"SUMIF(SOLICITUDES!$C$2:$C$1048576,BD!C16465,SOLICITUDES!$K$2:$K$1048576)","v":0},0]
[null,null,"T3025",75,13200,214,-76.564741575083033,2.4801752140025788,37.5,37.5,15,15,{"$f":"SUMIF(SOLICITUDES!$C$2:$C$1048576,BD!C16470,SOLICITUDES!$I$2:$I$1048576)","v":0},0,{"$f":"SUMIF(SOLICITUDES!$C$2:$C$1048576,BD!C16470,SOLICITUDES!$J$2:$J$1048576)","v":0},0,{"$f":"SUMIF(SOLICITUDES!$C$2:$C$1048576,BD!C16470,SOLICITUDES!$K$2:$K$1048576)","v":0},0]
[null,null,"T2111",112.5,13200,208,-76.562383234707497,2.4869928218868229,56.25,56.25,22.5,22.5,{"$f":"SUMIF(SOLICITUDES!$C$2:$C$1048576,BD!C16485,SOLICITUDES!$I$2:$I$1048576)","v":0},0,{"$f":"SUMIF(SOLICITUDES!$C$2:$C$1048576,BD!C16485,SOLICITUDES!$J$2:$J$1048576)","v":0},0,{"$f":"SUMIF(SOLICITUDES!$C$2:$C$1048576,BD!C16485,SOLICITUDES!$K$2:$K$1048576)","v":0},0]
[null,null,"T11957",10,13200,240,-76.901940486938031,2.2969708924920451,5,5,2,2,{"$f":"SUMIF(SOLICITUDES!$C$2:$C$1048576,BD!C16496,SOLICITUDES!$I$2:$I$1048576)","v":0},0,{"$f":"SUMIF(SOLICITUDES!$C$2:$C$1048576,BD!C16496,SOLICITUDES!$J$2:$J$1048576)","v":0},0,{"$f":"SUMIF(SOLICITUDES!$C$2:$C$1048576,BD!C16496,SOLICITUDES!$K$2:$K$1048576)","v":0},0]
[null,null,"T20065",5,13200,240,-77.026130177034148,2.3471909455152353,2.5,2.5,1,1,{"$f":"SUMIF(SOLICITUDES!$C$2:$C$1048576,BD!C16501,SOLICITUDES!$I$2:$I$1048576)","v":0},0,{"$f":"SUMIF(SOLICITUDES!$C$2:$C$1048576,BD!C16501,SOLICITUDES!$J$2:$J$1048576)","v":0},0,{"$f":"SUMIF(SOLICITUDES!$C$2:$C$1048576,BD!C16501,SOLICITUDES!$K$2:$K$1048576)","v":0},0]
[null,null,"T28814",10,13200,240,-77.054153713378057,2.3651996647360813,5,5,2,2,{"$f":"SUMIF(SOLICITUDES!$C$2:$C$1048576,BD!C16512,SOLICITUDES!$I$2:$I$1048576)","v":0},0,{"$f":"SUMIF(SOLICITUDES!$C$2:$C$1048576,BD!C16512,SOLICITUDES!$J$2:$J$1048576)","v":0},0,{"$f":"SUMIF(SOLICITUDES!$C$2:$C$1048576,BD!C16512,SOLICITUDES!$K$2:$K$1048576)","v":0},0]
[null,null,"T21711",5,13200,240,-76.86905560148773,2.3036562886974346,2.5,2.5,1,1,{"$f":"SUMIF(SOLICITUDES!$C$2:$C$1048576,BD!C16520,SOLICITUDES!$I$2:$I$1048576)","v":0},0,{"$f":"SUMIF(SOLICITUDES!$C$2:$C$1048576,BD!C16520,SOLICITUDES!$J$2:$J$1048576)","v":0},0,{"$f":"SUMIF(SOLICITUDES!$C$2:$C$1048576,BD!C16520,SOLICITUDES!$K$2:$K$1048576)","v":0},0]
[null,null,"T29093",5,13200,208,-77.037366044746719,2.3624652334197633,2.5,2.5,1,1,{"$f":"SUMIF(SOLICITUDES!$C$2:$C$1048576,BD!C16533,SOLICITUDES!$I$2:$I$1048576)","v":0},0,{"$f":"SUMIF(SOLICITUDES!$C$2:$C$1048576,BD!C16533,SOLICITUDES!$J$2:$J$1048576)","v":0},0,{"$f":"SUMIF(SOLICITUDES!$C$2:$C$1048576,BD!C16533,SOLICITUDES!$K$2:$K$1048576)","v":0},0]
[null,null,"T29100",5,13200,240,-77.033169824950576,2.3638706524163364,2.5,2.5,1,1,{"$f":"SUMIF(SOLICITUDES!$C$2:$C$1048576,BD!C16544,SOLICITUDES!$I$2:$I$1048576)","v":0},0,{"$f":"SUMIF(SOLICITUDES!$C$2:$C$1048576,BD!C16544,SOLICITUDES!$J$2:$J$1048576)","v":0},0,{"$f":"SUMIF(SOLICITUDES!$C$2:$C$1048576,BD!C16544,SOLICITUDES!$K$2:$K$1048576)","v":0},0]
[null,null,"T28813",5,13200,240,-77.046917038673826,2.3596363179304651,2.5,2.5,1,1,{"$f":"SUMIF(SOLICITUDES!$C$2:$C$1048576,BD!C16549,SOLICITUDES!$I$2:$I$1048576)","v":0},0,{"$f":"SUMIF(SOLICITUDES!$C$2:$C$1048576,BD!C16549,SOLICITUDES!$J$2:$J$1048576)","v":0},0,{"$f":"SUMIF(SOLICITUDES!$C$2:$C$1048576,BD!C16549,SOLICITUDES!$K$2:$K$1048576)","v":0},0]
[null,null,"T14548",75,13200,208,-76.241213127577367,3.0209765466518355,37.5,37.5,15,15,{"$f":"SUMIF(SOLICITUDES!$C$2:$C$1048576,BD!C16560,SOLICITUDES!$I$2:$I$1048576)","v":0},0,{"$f":"SUMIF(SOLICITUDES!$C$2:$C$1048576,BD!C16560,SOLICITUDES!$J$2:$J$1048576)","v":0},0,{"$f":"SUMIF(SOLICITUDES!$C$2:$C$1048576,BD!C16560,SOLICITUDES!$K$2:$K$1048576)","v":0},0]
[null,null,"T22560",15,13200,240,-76.253545223930729,3.0209803824263859,7.5,7.5,3,3,{"$f":"SUMIF(SOLICITUDES!$C$2:$C$1048576,BD!C16575,SOLICITUDES!$I$2:$I$1048576)","v":0},0,{"$f":"SUMIF(SOLICITUDES!$C$2:$C$1048576,BD!C16575,SOLICITUDES!$J$2:$J$1048576)","v":0},0,{"$f":"SUMIF(SOLICITUDES!$C$2:$C$1048576,BD!C16575,SOLICITUDES!$K$2:$K$1048576)","v":0},0]
[null,null,"T20982",15,13200,240,-76.238008083980048,3.0315185242351781,{"$f":"D16580*0.5","v":7.5},7.5,{"$f":"0.2*D16580","v":3},{"$f":"0.2*D16580","v":3},{"$f":"SUMIF(SOLICITUDES!$C$2:$C$1048576,BD!C16580,SOLICITUDES!$I$2:$I$1048576)","v":0},0,{"$f":"SUMIF(SOLICITUDES!$C$2:$C$1048576,BD!C16580,SOLICITUDES!$J$2:$J$1048576)","v":0},{"$f":"O16580/(2*K16580)","v":0},{"$f":"SUMIF(SOLICITUDES!$C$2:$C$1048576,BD!C16580,SOLICITUDES!$K$2:$K$1048576)","v":0},{"$f":"Q16580/(2*L16580)","v":0}]
[null,null,"T22562",10,13200,240,-76.259943871761479,3.0152606743602162,5,5,2,2,{"$f":"SUMIF(SOLICITUDES!$C$2:$C$1048576,BD!C16591,SOLICITUDES!$I$2:$I$1048576)","v":0},0,{"$f":"SUMIF(SOLICITUDES!$C$2:$C$1048576,BD!C16591,SOLICITUDES!$J$2:$J$1048576)","v":0},0,{"$f":"SUMIF(SOLICITUDES!$C$2:$C$1048576,BD!C16591,SOLICITUDES!$K$2:$K$1048576)","v":0},0]
[null,null,"T22563",15,13200,240,-76.261196152503004,3.0161555183363062,7.5,7.5,3,3,{"$f":"SUMIF(SOLICITUDES!$C$2:$C$1048576,BD!C16606,SOLICITUDES!$I$2:$I$1048576)","v":0},0,{"$f":"SUMIF(SOLICITUDES!$C$2:$C$1048576,BD!C16606,SOLICITUDES!$J$2:$J$1048576)","v":0},0,{"$f":"SUMIF(SOLICITUDES!$C$2:$C$1048576,BD!C16606,SOLICITUDES!$K$2:$K$1048576)","v":0},0]
[null,null,"T21457",75,13200,208,-76.232981005802174,3.0399585797418913,37.5,37.5,15,15,{"$f":"SUMIF(SOLICITUDES!$C$2:$C$1048576,BD!C16611,SOLICITUDES!$I$2:$I$1048576)","v":0},0,{"$f":"SUMIF(SOLICITUDES!$C$2:$C$1048576,BD!C16611,SOLICITUDES!$J$2:$J$1048576)","v":0},0,{"$f":"SUMIF(SOLICITUDES!$C$2:$C$1048576,BD!C16611,SOLICITUDES!$K$2:$K$1048576)","v":0},0]
[null,null,"T22565",15,13200,240,-76.242487084556316,3.0331391587253607,7.5,7.5,3,3,{"$f":"SUMIF(SOLICITUDES!$C$2:$C$1048576,BD!C16623,SOLICITUDES!$I$2:$I$1048576)","v":0},0,{"$f":"SUMIF(SOLICITUDES!$C$2:$C$1048576,BD!C16623,SOLICITUDES!$J$2:$J$1048576)","v":0},0,{"$f":"SUMIF(SOLICITUDES!$C$2:$C$1048576,BD!C16623,SOLICITUDES!$K$2:$K$1048576)","v":0},0]
[null,null,"T21490",50,13200,240,-76.255765395871393,3.0382942198156031,25,25,10,10,{"$f":"SUMIF(SOLICITUDES!$C$2:$C$1048576,BD!C16638,SOLICITUDES!$I$2:$I$1048576)","v":0},0,{"$f":"SUMIF(SOLICITUDES!$C$2:$C$1048576,BD!C16638,SOLICITUDES!$J$2:$J$1048576)","v":0},0,{"$f":"SUMIF(SOLICITUDES!$C$2:$C$1048576,BD!C16638,SOLICITUDES!$K$2:$K$1048576)","v":0},0]
[null,null,"T18661",225,34500,208,-76.454368364219775,3.165905166156961,112.5,112.5,45,45,{"$f":"SUMIF(SOLICITUDES!$C$2:$C$1048576,BD!C16649,SOLICITUDES!$I$2:$I$1048576)","v":0},0,{"$f":"SUMIF(SOLICITUDES!$C$2:$C$1048576,BD!C16649,SOLICITUDES!$J$2:$J$1048576)","v":0},0,{"$f":"SUMIF(SOLICITUDES!$C$2:$C$1048576,BD!C16649,SOLICITUDES!$K$2:$K$1048576)","v":0},0]
[null,null,"T7589",2000,34500,208,-76.450752927543775,3.1641142712043671,1000,1000,400,400,{"$f":"SUMIF(SOLICITUDES!$C$2:$C$1048576,BD!C16654,SOLICITUDES!$I$2:$I$1048576)","v":0},0,{"$f":"SUMIF(SOLICITUDES!$C$2:$C$1048576,BD!C16654,SOLICITUDES!$J$2:$J$1048576)","v":0},0,{"$f":"SUMIF(SOLICITUDES!$C$2:$C$1048576,BD!C16654,SOLICITUDES!$K$2:$K$1048576)","v":0},0]
[null,null,"T21822",10,13200,240,-76.757192074733979,2.5701656197930514,5,5,2,2,{"$f":"SUMIF(SOLICITUDES!$C$2:$C$1048576,BD!C16669,SOLICITUDES!$I$2:$I$1048576)","v":0},0,{"$f":"SUMIF(SOLICITUDES!$C$2:$C$1048576,BD!C16669,SOLICITUDES!$J$2:$J$1048576)","v":0},0,{"$f":"SUMIF(SOLICITUDES!$C$2:$C$1048576,BD!C16669,SOLICITUDES!$K$2:$K$1048576)","v":0},0]
[null,null,"T10642",10,13200,214,-76.770074328412832,2.5783708842706234,5,5,2,2,{"$f":"SUMIF(SOLICITUDES!$C$2:$C$1048576,BD!C16670,SOLICITUDES!$I$2:$I$1048576)","v":0},0,{"$f":"SUMIF(SOLICITUDES!$C$2:$C$1048576,BD!C16670,SOLICITUDES!$J$2:$J$1048576)","v":0},0,{"$f":"SUMIF(SOLICITUDES!$C$2:$C$1048576,BD!C16670,SOLICITUDES!$K$2:$K$1048576)","v":0},0]
[null,null,"T11497",50,13200,240,-76.42501136904886,3.2297961945388853,25,25,10,10,{"$f":"SUMIF(SOLICITUDES!$C$2:$C$1048576,BD!C16685,SOLICITUDES!$I$2:$I$1048576)","v":0},0,{"$f":"SUMIF(SOLICITUDES!$C$2:$C$1048576,BD!C16685,SOLICITUDES!$J$2:$J$1048576)","v":0},0,{"$f":"SUMIF(SOLICITUDES!$C$2:$C$1048576,BD!C16685,SOLICITUDES!$K$2:$K$1048576)","v":0},0]
[null,null,"T19359",10,13200,240,-76.174455428672943,3.1848892198501031,5,5,2,2,{"$f":"SUMIF(SOLICITUDES!$C$2:$C$1048576,BD!C16690,SOLICITUDES!$I$2:$I$1048576)","v":0},0,{"$f":"SUMIF(SOLICITUDES!$C$2:$C$1048576,BD!C16690,SOLICITUDES!$J$2:$J$1048576)","v":0},0,{"$f":"SUMIF(SOLICITUDES!$C$2:$C$1048576,BD!C16690,SOLICITUDES!$K$2:$K$1048576)","v":0},0]
[null,null,"T21415",10,13200,240,-76.173560082046947,3.1714401186046794,5,5,2,2,{"$f":"SUMIF(SOLICITUDES!$C$2:$C$1048576,BD!C16706,SOLICITUDES!$I$2:$I$1048576)","v":0},0,{"$f":"SUMIF(SOLICITUDES!$C$2:$C$1048576,BD!C16706,SOLICITUDES!$J$2:$J$1048576)","v":0},0,{"$f":"SUMIF(SOLICITUDES!$C$2:$C$1048576,BD!C16706,SOLICITUDES!$K$2:$K$1048576)","v":0},0]
[null,null,"T22659",15,13200,240,-76.164766312883842,3.1796215005635338,7.5,7.5,3,3,{"$f":"SUMIF(SOLICITUDES!$C$2:$C$1048576,BD!C16717,SOLICITUDES!$I$2:$I$1048576)","v":0},0,{"$f":"SUMIF(SOLICITUDES!$C$2:$C$1048576,BD!C16717,SOLICITUDES!$J$2:$J$1048576)","v":0},0,{"$f":"SUMIF(SOLICITUDES!$C$2:$C$1048576,BD!C16717,SOLICITUDES!$K$2:$K$1048576)","v":0},0]
[null,null,"T7696",15,13200,208,-76.422831030269563,3.0736143017997475,7.5,7.5,3,3,{"$f":"SUMIF(SOLICITUDES!$C$2:$C$1048576,BD!C16728,SOLICITUDES!$I$2:$I$1048576)","v":0},0,{"$f":"SUMIF(SOLICITUDES!$C$2:$C$1048576,BD!C16728,SOLICITUDES!$J$2:$J$1048576)","v":0},0,{"$f":"SUMIF(SOLICITUDES!$C$2:$C$1048576,BD!C16728,SOLICITUDES!$K$2:$K$1048576)","v":0},0]
[null,null,"T8719",37.5,13200,240,-76.418176351949569,3.0802487764078603,18.75,18.75,7.5,7.5,{"$f":"SUMIF(SOLICITUDES!$C$2:$C$1048576,BD!C16733,SOLICITUDES!$I$2:$I$1048576)","v":0},0,{"$f":"SUMIF(SOLICITUDES!$C$2:$C$1048576,BD!C16733,SOLICITUDES!$J$2:$J$1048576)","v":0},0,{"$f":"SUMIF(SOLICITUDES!$C$2:$C$1048576,BD!C16733,SOLICITUDES!$K$2:$K$1048576)","v":0},0]
[null,null,"T18624",75,34500,208,-76.415804559268921,3.2032296113765373,37.5,37.5,15,15,{"$f":"SUMIF(SOLICITUDES!$C$2:$C$1048576,BD!C16748,SOLICITUDES!$I$2:$I$1048576)","v":0},0,{"$f":"SUMIF(SOLICITUDES!$C$2:$C$1048576,BD!C16748,SOLICITUDES!$J$2:$J$1048576)","v":0},0,{"$f":"SUMIF(SOLICITUDES!$C$2:$C$1048576,BD!C16748,SOLICITUDES!$K$2:$K$1048576)","v":0},0]
[null,null,"T8775",1000,34500,208,-76.418754137732535,3.2052300090066326,500,500,200,200,{"$f":"SUMIF(SOLICITUDES!$C$2:$C$1048576,BD!C16759,SOLICITUDES!$I$2:$I$1048576)","v":0},0,{"$f":"SUMIF(SOLICITUDES!$C$2:$C$1048576,BD!C16759,SOLICITUDES!$J$2:$J$1048576)","v":0},0,{"$f":"SUMIF(SOLICITUDES!$C$2:$C$1048576,BD!C16759,SOLICITUDES!$K$2:$K$1048576)","v":0},0]
[null,null,"T8763",400,34500,208,-76.421065343600475,3.2066422048216139,200,200,80,80,{"$f":"SUMIF(SOLICITUDES!$C$2:$C$1048576,BD!C16764,SOLICITUDES!$I$2:$I$1048576)","v":0},0,{"$f":"SUMIF(SOLICITUDES!$C$2:$C$1048576,BD!C16764,SOLICITUDES!$J$2:$J$1048576)","v":0},0,{"$f":"SUMIF(SOLICITUDES!$C$2:$C$1048576,BD!C16764,SOLICITUDES!$K$2:$K$1048576)","v":0},0]
[null,null,"T8786",15,34500,240,-76.453402212591357,3.1717661700546569,7.5,7.5,3,3,{"$f":"SUMIF(SOLICITUDES!$C$2:$C$1048576,BD!C16775,SOLICITUDES!$I$2:$I$1048576)","v":0},0,{"$f":"SUMIF(SOLICITUDES!$C$2:$C$1048576,BD!C16775,SOLICITUDES!$J$2:$J$1048576)","v":0},0,{"$f":"SUMIF(SOLICITUDES!$C$2:$C$1048576,BD!C16775,SOLICITUDES!$K$2:$K$1048576)","v":0},0]
[null,null,"T52211",15,13200,240,-76.467680260604183,3.0073159374109117,7.5,7.5,3,3,{"$f":"SUMIF(SOLICITUDES!$C$2:$C$1048576,BD!C16790,SOLICITUDES!$I$2:$I$1048576)","v":0},0,{"$f":"SUMIF(SOLICITUDES!$C$2:$C$1048576,BD!C16790,SOLICITUDES!$J$2:$J$1048576)","v":0},0,{"$f":"SUMIF(SOLICITUDES!$C$2:$C$1048576,BD!C16790,SOLICITUDES!$K$2:$K$1048576)","v":0},0]
[null,null,"T9531",5,13200,240,-76.470432875037574,2.9973384822363349,2.5,2.5,1,1,{"$f":"SUMIF(SOLICITUDES!$C$2:$C$1048576,BD!C16797,SOLICITUDES!$I$2:$I$1048576)","v":0},0,{"$f":"SUMIF(SOLICITUDES!$C$2:$C$1048576,BD!C16797,SOLICITUDES!$J$2:$J$1048576)","v":0},0,{"$f":"SUMIF(SOLICITUDES!$C$2:$C$1048576,BD!C16797,SOLICITUDES!$K$2:$K$1048576)","v":0},0]
[null,null,"T8536",37.5,13200,240,-76.525656454055337,3.0075957083599572,18.75,18.75,7.5,7.5,{"$f":"SUMIF(SOLICITUDES!$C$2:$C$1048576,BD!C16807,SOLICITUDES!$I$2:$I$1048576)","v":0},0,{"$f":"SUMIF(SOLICITUDES!$C$2:$C$1048576,BD!C16807,SOLICITUDES!$J$2:$J$1048576)","v":0},0,{"$f":"SUMIF(SOLICITUDES!$C$2:$C$1048576,BD!C16807,SOLICITUDES!$K$2:$K$1048576)","v":0},0]
[null,null,"T9538",37.5,13200,240,-76.469368361180798,2.986721526257984,18.75,18.75,7.5,7.5,{"$f":"SUMIF(SOLICITUDES!$C$2:$C$1048576,BD!C16812,SOLICITUDES!$I$2:$I$1048576)","v":0},0,{"$f":"SUMIF(SOLICITUDES!$C$2:$C$1048576,BD!C16812,SOLICITUDES!$J$2:$J$1048576)","v":0},0,{"$f":"SUMIF(SOLICITUDES!$C$2:$C$1048576,BD!C16812,SOLICITUDES!$K$2:$K$1048576)","v":0},0]
[null,null,"T10849",25,13200,240,-76.867909439287644,1.9221129572412523,12.5,12.5,5,5,{"$f":"SUMIF(SOLICITUDES!$C$2:$C$1048576,BD!C16827,SOLICITUDES!$I$2:$I$1048576)","v":0},0,{"$f":"SUMIF(SOLICITUDES!$C$2:$C$1048576,BD!C16827,SOLICITUDES!$J$2:$J$1048576)","v":0},0,{"$f":"SUMIF(SOLICITUDES!$C$2:$C$1048576,BD!C16827,SOLICITUDES!$K$2:$K$1048576)","v":0},0]
[null,null,"T15816",10,13200,240,-76.882173513175758,1.9222594171751619,5,5,2,2,{"$f":"SUMIF(SOLICITUDES!$C$2:$C$1048576,BD!C16838,SOLICITUDES!$I$2:$I$1048576)","v":0},0,{"$f":"SUMIF(SOLICITUDES!$C$2:$C$1048576,BD!C16838,SOLICITUDES!$J$2:$J$1048576)","v":0},0,{"$f":"SUMIF(SOLICITUDES!$C$2:$C$1048576,BD!C16838,SOLICITUDES!$K$2:$K$1048576)","v":0},0]
[null,null,"T15795",15,13200,240,-76.881669545801216,1.9276673864975051,7.5,7.5,3,3,{"$f":"SUMIF(SOLICITUDES!$C$2:$C$1048576,BD!C16843,SOLICITUDES!$I$2:$I$1048576)","v":0},0,{"$f":"SUMIF(SOLICITUDES!$C$2:$C$1048576,BD!C16843,SOLICITUDES!$J$2:$J$1048576)","v":0},0,{"$f":"SUMIF(SOLICITUDES!$C$2:$C$1048576,BD!C16843,SOLICITUDES!$K$2:$K$1048576)","v":0},0]
[null,null,"T11301",15,13200,240,-76.437685791875381,2.9765752388170181,7.5,7.5,3,3,{"$f":"SUMIF(SOLICITUDES!$C$2:$C$1048576,BD!C16854,SOLICITUDES!$I$2:$I$1048576)","v":0},0,{"$f":"SUMIF(SOLICITUDES!$C$2:$C$1048576,BD!C16854,SOLICITUDES!$J$2:$J$1048576)","v":0},0,{"$f":"SUMIF(SOLICITUDES!$C$2:$C$1048576,BD!C16854,SOLICITUDES!$K$2:$K$1048576)","v":0},0]
[null,null,"T11000",25,13200,240,-76.439181506223278,2.9564376047239675,12.5,12.5,5,5,{"$f":"SUMIF(SOLICITUDES!$C$2:$C$1048576,BD!C16869,SOLICITUDES!$I$2:$I$1048576)","v":0},0,{"$f":"SUMIF(SOLICITUDES!$C$2:$C$1048576,BD!C16869,SOLICITUDES!$J$2:$J$1048576)","v":0},0,{"$f":"SUMIF(SOLICITUDES!$C$2:$C$1048576,BD!C16869,SOLICITUDES!$K$2:$K$1048576)","v":0},0]
[null,null,"T13477",37.5,13200,240,-76.533457691433483,2.9661283245160011,18.75,18.75,7.5,7.5,{"$f":"SUMIF(SOLICITUDES!$C$2:$C$1048576,BD!C16874,SOLICITUDES!$I$2:$I$1048576)","v":0},0,{"$f":"SUMIF(SOLICITUDES!$C$2:$C$1048576,BD!C16874,SOLICITUDES!$J$2:$J$1048576)","v":0},0,{"$f":"SUMIF(SOLICITUDES!$C$2:$C$1048576,BD!C16874,SOLICITUDES!$K$2:$K$1048576)","v":0},0]
[null,null,"T12502",50,13200,240,-76.421311000384549,2.9539583687106923,25,25,10,10,{"$f":"SUMIF(SOLICITUDES!$C$2:$C$1048576,BD!C16892,SOLICITUDES!$I$2:$I$1048576)","v":0},0,{"$f":"SUMIF(SOLICITUDES!$C$2:$C$1048576,BD!C16892,SOLICITUDES!$J$2:$J$1048576)","v":0},0,{"$f":"SUMIF(SOLICITUDES!$C$2:$C$1048576,BD!C16892,SOLICITUDES!$K$2:$K$1048576)","v":0},0]
[null,null,"T24996",5,13200,240,-76.440103005723515,2.9412390531309893,2.5,2.5,1,1,{"$f":"SUMIF(SOLICITUDES!$C$2:$C$1048576,BD!C16901,SOLICITUDES!$I$2:$I$1048576)","v":0},0,{"$f":"SUMIF(SOLICITUDES!$C$2:$C$1048576,BD!C16901,SOLICITUDES!$J$2:$J$1048576)","v":0},0,{"$f":"SUMIF(SOLICITUDES!$C$2:$C$1048576,BD!C16901,SOLICITUDES!$K$2:$K$1048576)","v":0},0]
[null,null,"T1823",45,13200,208,-76.580877788286216,2.464343081969234,22.5,22.5,9,9,{"$f":"SUMIF(SOLICITUDES!$C$2:$C$1048576,BD!C16912,SOLICITUDES!$I$2:$I$1048576)","v":0},0,{"$f":"SUMIF(SOLICITUDES!$C$2:$C$1048576,BD!C16912,SOLICITUDES!$J$2:$J$1048576)","v":0},0,{"$f":"SUMIF(SOLICITUDES!$C$2:$C$1048576,BD!C16912,SOLICITUDES!$K$2:$K$1048576)","v":0},0]
[null,null,"T30196",0.5,13200,240,-76.582179075006806,2.462704666180298,0.25,0.25,0.1,0.1,{"$f":"SUMIF(SOLICITUDES!$C$2:$C$1048576,BD!C16917,SOLICITUDES!$I$2:$I$1048576)","v":0},0,{"$f":"SUMIF(SOLICITUDES!$C$2:$C$1048576,BD!C16917,SOLICITUDES!$J$2:$J$1048576)","v":0},0,{"$f":"SUMIF(SOLICITUDES!$C$2:$C$1048576,BD!C16917,SOLICITUDES!$K$2:$K$1048576)","v":0},0]
[null,null,"T17353",45,13200,214,-76.583746605675799,2.462572402253087,22.5,22.5,9,9,{"$f":"SUMIF(SOLICITUDES!$C$2:$C$1048576,BD!C16932,SOLICITUDES!$I$2:$I$1048576)","v":0},0,{"$f":"SUMIF(SOLICITUDES!$C$2:$C$1048576,BD!C16932,SOLICITUDES!$J$2:$J$1048576)","v":0},0,{"$f":"SUMIF(SOLICITUDES!$C$2:$C$1048576,BD!C16932,SOLICITUDES!$K$2:$K$1048576)","v":0},0]
[null,null,"T14940",30,13200,214,-76.584054718715421,2.4627242301244721,15,15,6,6,{"$f":"SUMIF(SOLICITUDES!$C$2:$C$1048576,BD!C16933,SOLICITUDES!$I$2:$I$1048576)","v":0},0,{"$f":"SUMIF(SOLICITUDES!$C$2:$C$1048576,BD!C16933,SOLICITUDES!$J$2:$J$1048576)","v":0},0,{"$f":"SUMIF(SOLICITUDES!$C$2:$C$1048576,BD!C16933,SOLICITUDES!$K$2:$K$1048576)","v":0},0]
[null,null,"T17356",15,13200,240,-76.978666751373922,2.0730765978099583,7.5,7.5,3,3,{"$f":"SUMIF(SOLICITUDES!$C$2:$C$1048576,BD!C16948,SOLICITUDES!$I$2:$I$1048576)","v":0},0,{"$f":"SUMIF(SOLICITUDES!$C$2:$C$1048576,BD!C16948,SOLICITUDES!$J$2:$J$1048576)","v":0},0,{"$f":"SUMIF(SOLICITUDES!$C$2:$C$1048576,BD!C16948,SOLICITUDES!$K$2:$K$1048576)","v":0},0]
[null,null,"T9396",15,13200,240,-77.00196993110157,2.0600388935324552,7.5,7.5,3,3,{"$f":"SUMIF(SOLICITUDES!$C$2:$C$1048576,BD!C16953,SOLICITUDES!$I$2:$I$1048576)","v":0},0,{"$f":"SUMIF(SOLICITUDES!$C$2:$C$1048576,BD!C16953,SOLICITUDES!$J$2:$J$1048576)","v":0},0,{"$f":"SUMIF(SOLICITUDES!$C$2:$C$1048576,BD!C16953,SOLICITUDES!$K$2:$K$1048576)","v":0},0]
[null,null,"T9664",15,13200,240,-76.983867287029696,2.0434791922037618,{"$f":"D16964*0.5","v":7.5},7.5,{"$f":"0.2*D16964","v":3},{"$f":"0.2*D16964","v":3},{"$f":"SUMIF(SOLICITUDES!$C$2:$C$1048576,BD!C16964,SOLICITUDES!$I$2:$I$1048576)","v":0},0,{"$f":"SUMIF(SOLICITUDES!$C$2:$C$1048576,BD!C16964,SOLICITUDES!$J$2:$J$1048576)","v":0},{"$f":"O16964/(2*K16964)","v":0},{"$f":"SUMIF(SOLICITUDES!$C$2:$C$1048576,BD!C16964,SOLICITUDES!$K$2:$K$1048576)","v":0},{"$f":"Q16964/(2*L16964)","v":0}]
[null,null,"T14067",15,13200,240,-76.44472283829829,2.7402441829760145,7.5,7.5,3,3,{"$f":"SUMIF(SOLICITUDES!$C$2:$C$1048576,BD!C16983,SOLICITUDES!$I$2:$I$1048576)","v":0},0,{"$f":"SUMIF(SOLICITUDES!$C$2:$C$1048576,BD!C16983,SOLICITUDES!$J$2:$J$1048576)","v":0},0,{"$f":"SUMIF(SOLICITUDES!$C$2:$C$1048576,BD!C16983,SOLICITUDES!$K$2:$K$1048576)","v":0},0]
[null,null,"T24318",5,13200,240,-76.438718441761765,2.8147071259173049,2.5,2.5,1,1,{"$f":"SUMIF(SOLICITUDES!$C$2:$C$1048576,BD!C16991,SOLICITUDES!$I$2:$I$1048576)","v":0},0,{"$f":"SUMIF(SOLICITUDES!$C$2:$C$1048576,BD!C16991,SOLICITUDES!$J$2:$J$1048576)","v":0},0,{"$f":"SUMIF(SOLICITUDES!$C$2:$C$1048576,BD!C16991,SOLICITUDES!$K$2:$K$1048576)","v":0},0]
[null,null,"T14041",15,13200,240,-76.421624602959213,2.75086481101116,7.5,7.5,3,3,{"$f":"SUMIF(SOLICITUDES!$C$2:$C$1048576,BD!C16996,SOLICITUDES!$I$2:$I$1048576)","v":0},0,{"$f":"SUMIF(SOLICITUDES!$C$2:$C$1048576,BD!C16996,SOLICITUDES!$J$2:$J$1048576)","v":0},0,{"$f":"SUMIF(SOLICITUDES!$C$2:$C$1048576,BD!C16996,SOLICITUDES!$K$2:$K$1048576)","v":0},0]
[null,null,"T14059",25,13200,208,-76.448500922568769,2.7401906941518006,12.5,12.5,5,5,{"$f":"SUMIF(SOLICITUDES!$C$2:$C$1048576,BD!C17011,SOLICITUDES!$I$2:$I$1048576)","v":0},0,{"$f":"SUMIF(SOLICITUDES!$C$2:$C$1048576,BD!C17011,SOLICITUDES!$J$2:$J$1048576)","v":0},0,{"$f":"SUMIF(SOLICITUDES!$C$2:$C$1048576,BD!C17011,SOLICITUDES!$K$2:$K$1048576)","v":0},0]
[null,null,"T14900",10,13200,240,-76.388169633765727,2.8111976978129878,5,5,2,2,{"$f":"SUMIF(SOLICITUDES!$C$2:$C$1048576,BD!C17022,SOLICITUDES!$I$2:$I$1048576)","v":0},0,{"$f":"SUMIF(SOLICITUDES!$C$2:$C$1048576,BD!C17022,SOLICITUDES!$J$2:$J$1048576)","v":0},0,{"$f":"SUMIF(SOLICITUDES!$C$2:$C$1048576,BD!C17022,SOLICITUDES!$K$2:$K$1048576)","v":0},0]
[null,null,"T23062",5,13200,240,-76.445238044043464,2.7277132758417633,2.5,{"$f":"D17027*0.5-M17027","v":2.5},1,1,{"$f":"SUMIF(SOLICITUDES!$C$2:$C$1048576,BD!C17027,SOLICITUDES!$I$2:$I$1048576)","v":0},{"$f":"M17027/D17027","v":0},{"$f":"SUMIF(SOLICITUDES!$C$2:$C$1048576,BD!C17027,SOLICITUDES!$J$2:$J$1048576)","v":0},0,{"$f":"SUMIF(SOLICITUDES!$C$2:$C$1048576,BD!C17027,SOLICITUDES!$K$2:$K$1048576)","v":0},0]
[null,null,"T14127",15,13200,240,-76.747088135220679,1.9865007168811597,7.5,7.5,3,3,{"$f":"SUMIF(SOLICITUDES!$C$2:$C$1048576,BD!C17042,SOLICITUDES!$I$2:$I$1048576)","v":0},0,{"$f":"SUMIF(SOLICITUDES!$C$2:$C$1048576,BD!C17042,SOLICITUDES!$J$2:$J$1048576)","v":0},0,{"$f":"SUMIF(SOLICITUDES!$C$2:$C$1048576,BD!C17042,SOLICITUDES!$K$2:$K$1048576)","v":0},0]
[null,null,"T15031",10,13200,240,-76.754452743178561,1.9703506649683926,5,5,2,2,{"$f":"SUMIF(SOLICITUDES!$C$2:$C$1048576,BD!C17053,SOLICITUDES!$I$2:$I$1048576)","v":0},0,{"$f":"SUMIF(SOLICITUDES!$C$2:$C$1048576,BD!C17053,SOLICITUDES!$J$2:$J$1048576)","v":0},0,{"$f":"SUMIF(SOLICITUDES!$C$2:$C$1048576,BD!C17053,SOLICITUDES!$K$2:$K$1048576)","v":0},0]
[null,null,"T15010",10,13200,240,-76.753042397576877,1.9661542388198363,5,5,2,2,{"$f":"SUMIF(SOLICITUDES!$C$2:$C$1048576,BD!C17058,SOLICITUDES!$I$2:$I$1048576)","v":0},0,{"$f":"SUMIF(SOLICITUDES!$C$2:$C$1048576,BD!C17058,SOLICITUDES!$J$2:$J$1048576)","v":0},0,{"$f":"SUMIF(SOLICITUDES!$C$2:$C$1048576,BD!C17058,SOLICITUDES!$K$2:$K$1048576)","v":0},0]
[null,null,"T7221",15,13200,240,-76.800463499603381,2.450873571394014,7.5,7.5,3,3,{"$f":"SUMIF(SOLICITUDES!$C$2:$C$1048576,BD!C17067,SOLICITUDES!$I$2:$I$1048576)","v":0},0,{"$f":"SUMIF(SOLICITUDES!$C$2:$C$1048576,BD!C17067,SOLICITUDES!$J$2:$J$1048576)","v":0},0,{"$f":"SUMIF(SOLICITUDES!$C$2:$C$1048576,BD!C17067,SOLICITUDES!$K$2:$K$1048576)","v":0},0]
[null,null,"T7225",25,13200,240,-76.789613543807206,2.4395760227874455,12.5,12.5,5,5,{"$f":"SUMIF(SOLICITUDES!$C$2:$C$1048576,BD!C17075,SOLICITUDES!$I$2:$I$1048576)","v":0},0,{"$f":"SUMIF(SOLICITUDES!$C$2:$C$1048576,BD!C17075,SOLICITUDES!$J$2:$J$1048576)","v":0},0,{"$f":"SUMIF(SOLICITUDES!$C$2:$C$1048576,BD!C17075,SOLICITUDES!$K$2:$K$1048576)","v":0},0]
[null,null,"T17814",5,13200,240,-77.047244238027645,1.7423484269471987,2.5,2.5,1,1,{"$f":"SUMIF(SOLICITUDES!$C$2:$C$1048576,BD!C17090,SOLICITUDES!$I$2:$I$1048576)","v":0},0,{"$f":"SUMIF(SOLICITUDES!$C$2:$C$1048576,BD!C17090,SOLICITUDES!$J$2:$J$1048576)","v":0},0,{"$f":"SUMIF(SOLICITUDES!$C$2:$C$1048576,BD!C17090,SOLICITUDES!$K$2:$K$1048576)","v":0},0]
[null,null,"T41914",10,13200,240,-77.074464693738179,1.8198003008445147,5,5,2,2,{"$f":"SUMIF(SOLICITUDES!$C$2:$C$1048576,BD!C17101,SOLICITUDES!$I$2:$I$1048576)","v":0},0,{"$f":"SUMIF(SOLICITUDES!$C$2:$C$1048576,BD!C17101,SOLICITUDES!$J$2:$J$1048576)","v":0},0,{"$f":"SUMIF(SOLICITUDES!$C$2:$C$1048576,BD!C17101,SOLICITUDES!$K$2:$K$1048576)","v":0},0]
[null,null,"T17798",10,13200,240,-77.027581594344369,1.7438067458208844,5,5,2,2,{"$f":"SUMIF(SOLICITUDES!$C$2:$C$1048576,BD!C17106,SOLICITUDES!$I$2:$I$1048576)","v":0},0,{"$f":"SUMIF(SOLICITUDES!$C$2:$C$1048576,BD!C17106,SOLICITUDES!$J$2:$J$1048576)","v":0},0,{"$f":"SUMIF(SOLICITUDES!$C$2:$C$1048576,BD!C17106,SOLICITUDES!$K$2:$K$1048576)","v":0},0]
[null,null,"T17835",10,13200,240,-77.023688561705356,1.7436230061861482,5,5,2,2,{"$f":"SUMIF(SOLICITUDES!$C$2:$C$1048576,BD!C17117,SOLICITUDES!$I$2:$I$1048576)","v":0},0,{"$f":"SUMIF(SOLICITUDES!$C$2:$C$1048576,BD!C17117,SOLICITUDES!$J$2:$J$1048576)","v":0},0,{"$f":"SUMIF(SOLICITUDES!$C$2:$C$1048576,BD!C17117,SOLICITUDES!$K$2:$K$1048576)","v":0},0]
[null,null,"T7185",225,13200,208,-76.483563283863035,3.0178099286863471,112.5,112.5,45,45,{"$f":"SUMIF(SOLICITUDES!$C$2:$C$1048576,BD!C17132,SOLICITUDES!$I$2:$I$1048576)","v":0},0,{"$f":"SUMIF(SOLICITUDES!$C$2:$C$1048576,BD!C17132,SOLICITUDES!$J$2:$J$1048576)","v":0},0,{"$f":"SUMIF(SOLICITUDES!$C$2:$C$1048576,BD!C17132,SOLICITUDES!$K$2:$K$1048576)","v":0},0]
[null,null,"T41948",25,13200,240,-76.483346292189907,3.0202597102396171,12.5,12.5,5,5,{"$f":"SUMIF(SOLICITUDES!$C$2:$C$1048576,BD!C17137,SOLICITUDES!$I$2:$I$1048576)","v":0},0,{"$f":"SUMIF(SOLICITUDES!$C$2:$C$1048576,BD!C17137,SOLICITUDES!$J$2:$J$1048576)","v":0},0,{"$f":"SUMIF(SOLICITUDES!$C$2:$C$1048576,BD!C17137,SOLICITUDES!$K$2:$K$1048576)","v":0},0]
[null,null,"T9073",75,34500,208,-76.481958061887951,3.0235629745047286,37.5,37.5,15,15,{"$f":"SUMIF(SOLICITUDES!$C$2:$C$1048576,BD!C17148,SOLICITUDES!$I$2:$I$1048576)","v":0},0,{"$f":"SUMIF(SOLICITUDES!$C$2:$C$1048576,BD!C17148,SOLICITUDES!$J$2:$J$1048576)","v":0},0,{"$f":"SUMIF(SOLICITUDES!$C$2:$C$1048576,BD!C17148,SOLICITUDES!$K$2:$K$1048576)","v":0},0]
[null,null,"T16602",25,13200,240,-77.085251346695244,1.704193781951246,12.5,12.5,5,5,{"$f":"SUMIF(SOLICITUDES!$C$2:$C$1048576,BD!C17158,SOLICITUDES!$I$2:$I$1048576)","v":0},0,{"$f":"SUMIF(SOLICITUDES!$C$2:$C$1048576,BD!C17158,SOLICITUDES!$J$2:$J$1048576)","v":0},0,{"$f":"SUMIF(SOLICITUDES!$C$2:$C$1048576,BD!C17158,SOLICITUDES!$K$2:$K$1048576)","v":0},0]
[null,null,"T4623",25,13200,240,-76.645847546976256,2.6505793512775475,12.5,12.5,5,5,{"$f":"SUMIF(SOLICITUDES!$C$2:$C$1048576,BD!C17169,SOLICITUDES!$I$2:$I$1048576)","v":0},0,{"$f":"SUMIF(SOLICITUDES!$C$2:$C$1048576,BD!C17169,SOLICITUDES!$J$2:$J$1048576)","v":0},0,{"$f":"SUMIF(SOLICITUDES!$C$2:$C$1048576,BD!C17169,SOLICITUDES!$K$2:$K$1048576)","v":0},0]
[null,null,"T4605",15,13200,240,-76.618560404531138,2.6373753733241503,7.5,7.5,3,3,{"$f":"SUMIF(SOLICITUDES!$C$2:$C$1048576,BD!C17180,SOLICITUDES!$I$2:$I$1048576)","v":0},0,{"$f":"SUMIF(SOLICITUDES!$C$2:$C$1048576,BD!C17180,SOLICITUDES!$J$2:$J$1048576)","v":0},0,{"$f":"SUMIF(SOLICITUDES!$C$2:$C$1048576,BD!C17180,SOLICITUDES!$K$2:$K$1048576)","v":0},0]
[null,null,"T5528",15,13200,240,-76.634197991029069,2.6686049979207618,7.5,7.5,3,3,{"$f":"SUMIF(SOLICITUDES!$C$2:$C$1048576,BD!C17195,SOLICITUDES!$I$2:$I$1048576)","v":0},0,{"$f":"SUMIF(SOLICITUDES!$C$2:$C$1048576,BD!C17195,SOLICITUDES!$J$2:$J$1048576)","v":0},0,{"$f":"SUMIF(SOLICITUDES!$C$2:$C$1048576,BD!C17195,SOLICITUDES!$K$2:$K$1048576)","v":0},0]
[null,null,"T5519",15,13200,214,-76.631790694539916,2.6742495988198618,7.5,7.5,3,3,{"$f":"SUMIF(SOLICITUDES!$C$2:$C$1048576,BD!C17196,SOLICITUDES!$I$2:$I$1048576)","v":0},0,{"$f":"SUMIF(SOLICITUDES!$C$2:$C$1048576,BD!C17196,SOLICITUDES!$J$2:$J$1048576)","v":0},0,{"$f":"SUMIF(SOLICITUDES!$C$2:$C$1048576,BD!C17196,SOLICITUDES!$K$2:$K$1048576)","v":0},0]
[null,null,"T5531",15,13200,240,-76.652577144204926,2.6672122406226859,7.5,7.5,3,3,{"$f":"SUMIF(SOLICITUDES!$C$2:$C$1048576,BD!C17211,SOLICITUDES!$I$2:$I$1048576)","v":0},0,{"$f":"SUMIF(SOLICITUDES!$C$2:$C$1048576,BD!C17211,SOLICITUDES!$J$2:$J$1048576)","v":0},0,{"$f":"SUMIF(SOLICITUDES!$C$2:$C$1048576,BD!C17211,SOLICITUDES!$K$2:$K$1048576)","v":0},0]
[null,null,"T16309",10,13200,240,-77.193334091304365,2.1583110694982057,5,5,2,2,{"$f":"SUMIF(SOLICITUDES!$C$2:$C$1048576,BD!C17216,SOLICITUDES!$I$2:$I$1048576)","v":0},0,{"$f":"SUMIF(SOLICITUDES!$C$2:$C$1048576,BD!C17216,SOLICITUDES!$J$2:$J$1048576)","v":0},0,{"$f":"SUMIF(SOLICITUDES!$C$2:$C$1048576,BD!C17216,SOLICITUDES!$K$2:$K$1048576)","v":0},0]
[null,null,"T15790",10,13200,240,-77.169672203316551,2.1506368062966197,5,5,2,2,{"$f":"SUMIF(SOLICITUDES!$C$2:$C$1048576,BD!C17227,SOLICITUDES!$I$2:$I$1048576)","v":0},0,{"$f":"SUMIF(SOLICITUDES!$C$2:$C$1048576,BD!C17227,SOLICITUDES!$J$2:$J$1048576)","v":0},0,{"$f":"SUMIF(SOLICITUDES!$C$2:$C$1048576,BD!C17227,SOLICITUDES!$K$2:$K$1048576)","v":0},0]
[null,null,"T21549",25,13200,240,-77.161891212747861,2.1462317040223811,12.5,12.5,5,5,{"$f":"SUMIF(SOLICITUDES!$C$2:$C$1048576,BD!C17242,SOLICITUDES!$I$2:$I$1048576)","v":0},0,{"$f":"SUMIF(SOLICITUDES!$C$2:$C$1048576,BD!C17242,SOLICITUDES!$J$2:$J$1048576)","v":0},0,{"$f":"SUMIF(SOLICITUDES!$C$2:$C$1048576,BD!C17242,SOLICITUDES!$K$2:$K$1048576)","v":0},0]
[null,null,"T14963",15,13200,240,-76.66031439129614,2.9582622354535753,7.5,7.5,3,3,{"$f":"SUMIF(SOLICITUDES!$C$2:$C$1048576,BD!C17253,SOLICITUDES!$I$2:$I$1048576)","v":0},0,{"$f":"SUMIF(SOLICITUDES!$C$2:$C$1048576,BD!C17253,SOLICITUDES!$J$2:$J$1048576)","v":0},0,{"$f":"SUMIF(SOLICITUDES!$C$2:$C$1048576,BD!C17253,SOLICITUDES!$K$2:$K$1048576)","v":0},0]
[null,null,"T15522",50,13200,208,-77.024179082445841,2.1269894326568717,25,25,10,10,{"$f":"SUMIF(SOLICITUDES!$C$2:$C$1048576,BD!C17258,SOLICITUDES!$I$2:$I$1048576)","v":0},0,{"$f":"SUMIF(SOLICITUDES!$C$2:$C$1048576,BD!C17258,SOLICITUDES!$J$2:$J$1048576)","v":0},0,{"$f":"SUMIF(SOLICITUDES!$C$2:$C$1048576,BD!C17258,SOLICITUDES!$K$2:$K$1048576)","v":0},0]
[null,null,"T13416",25,13200,240,-77.112812543893995,2.0738682402662731,12.5,12.5,5,5,{"$f":"SUMIF(SOLICITUDES!$C$2:$C$1048576,BD!C17274,SOLICITUDES!$I$2:$I$1048576)","v":0},0,{"$f":"SUMIF(SOLICITUDES!$C$2:$C$1048576,BD!C17274,SOLICITUDES!$J$2:$J$1048576)","v":0},0,{"$f":"SUMIF(SOLICITUDES!$C$2:$C$1048576,BD!C17274,SOLICITUDES!$K$2:$K$1048576)","v":0},0]
[null,null,"T5005",15,13200,240,-76.562576455587489,2.5666991129484229,7.5,7.5,3,3,{"$f":"SUMIF(SOLICITUDES!$C$2:$C$1048576,BD!C17285,SOLICITUDES!$I$2:$I$1048576)","v":0},0,{"$f":"SUMIF(SOLICITUDES!$C$2:$C$1048576,BD!C17285,SOLICITUDES!$J$2:$J$1048576)","v":0},0,{"$f":"SUMIF(SOLICITUDES!$C$2:$C$1048576,BD!C17285,SOLICITUDES!$K$2:$K$1048576)","v":0},0]
[null,null,"T6271",15,13200,240,-76.488064876515239,2.5611322221501793,7.5,7.5,3,3,{"$f":"SUMIF(SOLICITUDES!$C$2:$C$1048576,BD!C17290,SOLICITUDES!$I$2:$I$1048576)","v":0},0,{"$f":"SUMIF(SOLICITUDES!$C$2:$C$1048576,BD!C17290,SOLICITUDES!$J$2:$J$1048576)","v":0},0,{"$f":"SUMIF(SOLICITUDES!$C$2:$C$1048576,BD!C17290,SOLICITUDES!$K$2:$K$1048576)","v":0},0]
[null,null,"T5582",30,13200,208,-76.560583652390932,2.5608688273253097,15,15,6,6,{"$f":"SUMIF(SOLICITUDES!$C$2:$C$1048576,BD!C17305,SOLICITUDES!$I$2:$I$1048576)","v":0},0,{"$f":"SUMIF(SOLICITUDES!$C$2:$C$1048576,BD!C17305,SOLICITUDES!$J$2:$J$1048576)","v":0},0,{"$f":"SUMIF(SOLICITUDES!$C$2:$C$1048576,BD!C17305,SOLICITUDES!$K$2:$K$1048576)","v":0},0]
[null,null,"T15781",25,13200,240,-77.218591566450172,1.688498230904647,12.5,12.5,5,5,{"$f":"SUMIF(SOLICITUDES!$C$2:$C$1048576,BD!C17316,SOLICITUDES!$I$2:$I$1048576)","v":0},0,{"$f":"SUMIF(SOLICITUDES!$C$2:$C$1048576,BD!C17316,SOLICITUDES!$J$2:$J$1048576)","v":0},0,{"$f":"SUMIF(SOLICITUDES!$C$2:$C$1048576,BD!C17316,SOLICITUDES!$K$2:$K$1048576)","v":0},0]
[null,null,"T15787",25,13200,240,-77.271755365700457,1.7345814896349612,12.5,12.5,5,5,{"$f":"SUMIF(SOLICITUDES!$C$2:$C$1048576,BD!C17321,SOLICITUDES!$I$2:$I$1048576)","v":0},0,{"$f":"SUMIF(SOLICITUDES!$C$2:$C$1048576,BD!C17321,SOLICITUDES!$J$2:$J$1048576)","v":0},0,{"$f":"SUMIF(SOLICITUDES!$C$2:$C$1048576,BD!C17321,SOLICITUDES!$K$2:$K$1048576)","v":0},0]
[null,null,"T2453",45,13200,208,-77.163250122797933,1.7964739139161354,22.5,22.5,9,9,{"$f":"SUMIF(SOLICITUDES!$C$2:$C$1048576,BD!C17332,SOLICITUDES!$I$2:$I$1048576)","v":0},0,{"$f":"SUMIF(SOLICITUDES!$C$2:$C$1048576,BD!C17332,SOLICITUDES!$J$2:$J$1048576)","v":0},0,{"$f":"SUMIF(SOLICITUDES!$C$2:$C$1048576,BD!C17332,SOLICITUDES!$K$2:$K$1048576)","v":0},0]
[null,null,"T10518",75,13200,208,-77.164899127121984,1.7992549580565051,37.5,37.5,15,15,{"$f":"SUMIF(SOLICITUDES!$C$2:$C$1048576,BD!C17337,SOLICITUDES!$I$2:$I$1048576)","v":0},0,{"$f":"SUMIF(SOLICITUDES!$C$2:$C$1048576,BD!C17337,SOLICITUDES!$J$2:$J$1048576)","v":0},0,{"$f":"SUMIF(SOLICITUDES!$C$2:$C$1048576,BD!C17337,SOLICITUDES!$K$2:$K$1048576)","v":0},0]
[null,null,"T2460",37.5,13200,240,-77.170391719430043,1.8227169673820964,18.75,18.75,7.5,7.5,{"$f":"SUMIF(SOLICITUDES!$C$2:$C$1048576,BD!C17349,SOLICITUDES!$I$2:$I$1048576)","v":0},0,{"$f":"SUMIF(SOLICITUDES!$C$2:$C$1048576,BD!C17349,SOLICITUDES!$J$2:$J$1048576)","v":0},0,{"$f":"SUMIF(SOLICITUDES!$C$2:$C$1048576,BD!C17349,SOLICITUDES!$K$2:$K$1048576)","v":0},0]
[null,null,"T5993",10,13200,240,-76.506439801434738,2.2711292998567711,5,5,2,2,{"$f":"SUMIF(SOLICITUDES!$C$2:$C$1048576,BD!C17364,SOLICITUDES!$I$2:$I$1048576)","v":0},0,{"$f":"SUMIF(SOLICITUDES!$C$2:$C$1048576,BD!C17364,SOLICITUDES!$J$2:$J$1048576)","v":0},0,{"$f":"SUMIF(SOLICITUDES!$C$2:$C$1048576,BD!C17364,SOLICITUDES!$K$2:$K$1048576)","v":0},0]
[null,null,"T5987",5,13200,240,-76.499048863779322,2.2747163981580059,2.5,2.5,1,1,{"$f":"SUMIF(SOLICITUDES!$C$2:$C$1048576,BD!C17369,SOLICITUDES!$I$2:$I$1048576)","v":0},0,{"$f":"SUMIF(SOLICITUDES!$C$2:$C$1048576,BD!C17369,SOLICITUDES!$J$2:$J$1048576)","v":0},0,{"$f":"SUMIF(SOLICITUDES!$C$2:$C$1048576,BD!C17369,SOLICITUDES!$K$2:$K$1048576)","v":0},0]
[null,null,"T9759",30,13200,208,-76.495674337392373,2.2381448581639938,15,15,6,6,{"$f":"SUMIF(SOLICITUDES!$C$2:$C$1048576,BD!C17384,SOLICITUDES!$I$2:$I$1048576)","v":0},0,{"$f":"SUMIF(SOLICITUDES!$C$2:$C$1048576,BD!C17384,SOLICITUDES!$J$2:$J$1048576)","v":0},0,{"$f":"SUMIF(SOLICITUDES!$C$2:$C$1048576,BD!C17384,SOLICITUDES!$K$2:$K$1048576)","v":0},0]
[null,null,"T6899",45,13200,208,-76.740053116832627,2.2601075457426054,22.5,22.5,9,9,{"$f":"SUMIF(SOLICITUDES!$C$2:$C$1048576,BD!C17395,SOLICITUDES!$I$2:$I$1048576)","v":0},0,{"$f":"SUMIF(SOLICITUDES!$C$2:$C$1048576,BD!C17395,SOLICITUDES!$J$2:$J$1048576)","v":0},0,{"$f":"SUMIF(SOLICITUDES!$C$2:$C$1048576,BD!C17395,SOLICITUDES!$K$2:$K$1048576)","v":0},0]
[null,null,"T7026",75,13200,208,-76.740457242872949,2.2619343381550054,37.5,37.5,15,15,{"$f":"SUMIF(SOLICITUDES!$C$2:$C$1048576,BD!C17400,SOLICITUDES!$I$2:$I$1048576)","v":0},0,{"$f":"SUMIF(SOLICITUDES!$C$2:$C$1048576,BD!C17400,SOLICITUDES!$J$2:$J$1048576)","v":0},0,{"$f":"SUMIF(SOLICITUDES!$C$2:$C$1048576,BD!C17400,SOLICITUDES!$K$2:$K$1048576)","v":0},0]
[null,null,"T8508",37.5,13200,240,-76.741613304461197,2.23899153797423,18.75,{"$f":"D17411*0.5-M17411","v":18.75},7.5,7.5,{"$f":"SUMIF(SOLICITUDES!$C$2:$C$1048576,BD!C17411,SOLICITUDES!$I$2:$I$1048576)","v":0},{"$f":"M17411/D17411","v":0},{"$f":"SUMIF(SOLICITUDES!$C$2:$C$1048576,BD!C17411,SOLICITUDES!$J$2:$J$1048576)","v":0},0,{"$f":"SUMIF(SOLICITUDES!$C$2:$C$1048576,BD!C17411,SOLICITUDES!$K$2:$K$1048576)","v":0},0]
[null,null,"T8506",15,13200,240,-76.750686129957714,2.2294528483722713,7.5,7.5,3,3,{"$f":"SUMIF(SOLICITUDES!$C$2:$C$1048576,BD!C17426,SOLICITUDES!$I$2:$I$1048576)","v":0},0,{"$f":"SUMIF(SOLICITUDES!$C$2:$C$1048576,BD!C17426,SOLICITUDES!$J$2:$J$1048576)","v":0},0,{"$f":"SUMIF(SOLICITUDES!$C$2:$C$1048576,BD!C17426,SOLICITUDES!$K$2:$K$1048576)","v":0},0]
[null,null,"T30704",45,13200,208,-77.078607093240521,1.7783463484638984,22.5,22.5,9,9,{"$f":"SUMIF(SOLICITUDES!$C$2:$C$1048576,BD!C17431,SOLICITUDES!$I$2:$I$1048576)","v":0},0,{"$f":"SUMIF(SOLICITUDES!$C$2:$C$1048576,BD!C17431,SOLICITUDES!$J$2:$J$1048576)","v":0},0,{"$f":"SUMIF(SOLICITUDES!$C$2:$C$1048576,BD!C17431,SOLICITUDES!$K$2:$K$1048576)","v":0},0]
[null,null,"T6929",112.5,13200,208,-76.48609984430388,3.0085495093457237,56.25,56.25,22.5,22.5,{"$f":"SUMIF(SOLICITUDES!$C$2:$C$1048576,BD!C17444,SOLICITUDES!$I$2:$I$1048576)","v":0},0,{"$f":"SUMIF(SOLICITUDES!$C$2:$C$1048576,BD!C17444,SOLICITUDES!$J$2:$J$1048576)","v":0},0,{"$f":"SUMIF(SOLICITUDES!$C$2:$C$1048576,BD!C17444,SOLICITUDES!$K$2:$K$1048576)","v":0},0]
[null,null,"T5266",75,13200,208,-76.606489333361154,2.449968514851681,37.5,37.5,15,15,{"$f":"SUMIF(SOLICITUDES!$C$2:$C$1048576,BD!C17458,SOLICITUDES!$I$2:$I$1048576)","v":0},0,{"$f":"SUMIF(SOLICITUDES!$C$2:$C$1048576,BD!C17458,SOLICITUDES!$J$2:$J$1048576)","v":0},0,{"$f":"SUMIF(SOLICITUDES!$C$2:$C$1048576,BD!C17458,SOLICITUDES!$K$2:$K$1048576)","v":0},0]
[null,null,"T5248",45,13200,208,-76.606463241977607,2.4501357802123032,22.5,22.5,9,9,{"$f":"SUMIF(SOLICITUDES!$C$2:$C$1048576,BD!C17459,SOLICITUDES!$I$2:$I$1048576)","v":0},0,{"$f":"SUMIF(SOLICITUDES!$C$2:$C$1048576,BD!C17459,SOLICITUDES!$J$2:$J$1048576)","v":0},0,{"$f":"SUMIF(SOLICITUDES!$C$2:$C$1048576,BD!C17459,SOLICITUDES!$K$2:$K$1048576)","v":0},0]
[null,null,"T9646",15,13200,240,-76.87481555319836,2.1103907736035405,7.5,7.5,3,3,{"$f":"SUMIF(SOLICITUDES!$C$2:$C$1048576,BD!C17474,SOLICITUDES!$I$2:$I$1048576)","v":0},0,{"$f":"SUMIF(SOLICITUDES!$C$2:$C$1048576,BD!C17474,SOLICITUDES!$J$2:$J$1048576)","v":0},0,{"$f":"SUMIF(SOLICITUDES!$C$2:$C$1048576,BD!C17474,SOLICITUDES!$K$2:$K$1048576)","v":0},0]
[null,null,"T10339",25,13200,240,-76.882553909886241,2.1014809551004121,12.5,12.5,5,5,{"$f":"SUMIF(SOLICITUDES!$C$2:$C$1048576,BD!C17479,SOLICITUDES!$I$2:$I$1048576)","v":0},0,{"$f":"SUMIF(SOLICITUDES!$C$2:$C$1048576,BD!C17479,SOLICITUDES!$J$2:$J$1048576)","v":0},0,{"$f":"SUMIF(SOLICITUDES!$C$2:$C$1048576,BD!C17479,SOLICITUDES!$K$2:$K$1048576)","v":0},0]
[null,null,"T10336",15,13200,240,-76.882956295255099,2.0997533903456587,7.5,7.5,3,3,{"$f":"SUMIF(SOLICITUDES!$C$2:$C$1048576,BD!C17490,SOLICITUDES!$I$2:$I$1048576)","v":0},0,{"$f":"SUMIF(SOLICITUDES!$C$2:$C$1048576,BD!C17490,SOLICITUDES!$J$2:$J$1048576)","v":0},0,{"$f":"SUMIF(SOLICITUDES!$C$2:$C$1048576,BD!C17490,SOLICITUDES!$K$2:$K$1048576)","v":0},0]
[null,null,"T7789",5,13200,240,-76.735012606520002,2.6019454476481836,2.5,2.5,1,1,{"$f":"SUMIF(SOLICITUDES!$C$2:$C$1048576,BD!C17505,SOLICITUDES!$I$2:$I$1048576)","v":0},0,{"$f":"SUMIF(SOLICITUDES!$C$2:$C$1048576,BD!C17505,SOLICITUDES!$J$2:$J$1048576)","v":0},0,{"$f":"SUMIF(SOLICITUDES!$C$2:$C$1048576,BD!C17505,SOLICITUDES!$K$2:$K$1048576)","v":0},0]
[null,null,"T11653",15,13200,240,-76.675045743110246,2.6240743867659528,7.5,7.5,3,3,{"$f":"SUMIF(SOLICITUDES!$C$2:$C$1048576,BD!C17510,SOLICITUDES!$I$2:$I$1048576)","v":0},0,{"$f":"SUMIF(SOLICITUDES!$C$2:$C$1048576,BD!C17510,SOLICITUDES!$J$2:$J$1048576)","v":0},0,{"$f":"SUMIF(SOLICITUDES!$C$2:$C$1048576,BD!C17510,SOLICITUDES!$K$2:$K$1048576)","v":0},0]
[null,null,"T24502",5,13200,240,-76.702859952685813,2.6332645843974811,2.5,2.5,1,1,{"$f":"SUMIF(SOLICITUDES!$C$2:$C$1048576,BD!C17521,SOLICITUDES!$I$2:$I$1048576)","v":0},0,{"$f":"SUMIF(SOLICITUDES!$C$2:$C$1048576,BD!C17521,SOLICITUDES!$J$2:$J$1048576)","v":0},0,{"$f":"SUMIF(SOLICITUDES!$C$2:$C$1048576,BD!C17521,SOLICITUDES!$K$2:$K$1048576)","v":0},0]
[null,null,"T24559",5,13200,240,-76.700371618982857,2.6137773335417349,2.5,2.5,1,1,{"$f":"SUMIF(SOLICITUDES!$C$2:$C$1048576,BD!C17535,SOLICITUDES!$I$2:$I$1048576)","v":0},0,{"$f":"SUMIF(SOLICITUDES!$C$2:$C$1048576,BD!C17535,SOLICITUDES!$J$2:$J$1048576)","v":0},0,{"$f":"SUMIF(SOLICITUDES!$C$2:$C$1048576,BD!C17535,SOLICITUDES!$K$2:$K$1048576)","v":0},0]
[null,null,"T12044",112.5,13200,208,-76.42506699703803,3.2375440780893432,56.25,56.25,22.5,22.5,{"$f":"SUMIF(SOLICITUDES!$C$2:$C$1048576,BD!C17548,SOLICITUDES!$I$2:$I$1048576)","v":0},0,{"$f":"SUMIF(SOLICITUDES!$C$2:$C$1048576,BD!C17548,SOLICITUDES!$J$2:$J$1048576)","v":0},0,{"$f":"SUMIF(SOLICITUDES!$C$2:$C$1048576,BD!C17548,SOLICITUDES!$K$2:$K$1048576)","v":0},0]
[null,null,"T12052",45,13200,208,-76.426405769521153,3.2402939446793861,22.5,22.5,9,9,{"$f":"SUMIF(SOLICITUDES!$C$2:$C$1048576,BD!C17553,SOLICITUDES!$I$2:$I$1048576)","v":0},0,{"$f":"SUMIF(SOLICITUDES!$C$2:$C$1048576,BD!C17553,SOLICITUDES!$J$2:$J$1048576)","v":0},0,{"$f":"SUMIF(SOLICITUDES!$C$2:$C$1048576,BD!C17553,SOLICITUDES!$K$2:$K$1048576)","v":0},0]
[null,null,"T12162",25,13200,240,-76.409823557137557,3.1868310902881891,12.5,12.5,5,5,{"$f":"SUMIF(SOLICITUDES!$C$2:$C$1048576,BD!C17568,SOLICITUDES!$I$2:$I$1048576)","v":0},0,{"$f":"SUMIF(SOLICITUDES!$C$2:$C$1048576,BD!C17568,SOLICITUDES!$J$2:$J$1048576)","v":0},0,{"$f":"SUMIF(SOLICITUDES!$C$2:$C$1048576,BD!C17568,SOLICITUDES!$K$2:$K$1048576)","v":0},0]
[null,null,"T7363",25,13200,240,-76.4949884667937,2.9923810463514888,12.5,12.5,5,5,{"$f":"SUMIF(SOLICITUDES!$C$2:$C$1048576,BD!C17579,SOLICITUDES!$I$2:$I$1048576)","v":0},0,{"$f":"SUMIF(SOLICITUDES!$C$2:$C$1048576,BD!C17579,SOLICITUDES!$J$2:$J$1048576)","v":0},0,{"$f":"SUMIF(SOLICITUDES!$C$2:$C$1048576,BD!C17579,SOLICITUDES!$K$2:$K$1048576)","v":0},0]
[null,null,"T7355",30,13200,214,-76.494678693384571,2.9887066555796933,15,15,6,6,{"$f":"SUMIF(SOLICITUDES!$C$2:$C$1048576,BD!C17584,SOLICITUDES!$I$2:$I$1048576)","v":0},0,{"$f":"SUMIF(SOLICITUDES!$C$2:$C$1048576,BD!C17584,SOLICITUDES!$J$2:$J$1048576)","v":0},0,{"$f":"SUMIF(SOLICITUDES!$C$2:$C$1048576,BD!C17584,SOLICITUDES!$K$2:$K$1048576)","v":0},0]
[null,null,"T12224",25,13200,240,-76.573689889068703,2.4908865987941424,12.5,12.5,5,5,{"$f":"SUMIF(SOLICITUDES!$C$2:$C$1048576,BD!C17599,SOLICITUDES!$I$2:$I$1048576)","v":0},0,{"$f":"SUMIF(SOLICITUDES!$C$2:$C$1048576,BD!C17599,SOLICITUDES!$J$2:$J$1048576)","v":0},0,{"$f":"SUMIF(SOLICITUDES!$C$2:$C$1048576,BD!C17599,SOLICITUDES!$K$2:$K$1048576)","v":0},0]
[null,null,"T1998",75,13200,208,-76.578799623283913,2.4910867212708525,37.5,37.5,15,15,{"$f":"SUMIF(SOLICITUDES!$C$2:$C$1048576,BD!C17600,SOLICITUDES!$I$2:$I$1048576)","v":0},0,{"$f":"SUMIF(SOLICITUDES!$C$2:$C$1048576,BD!C17600,SOLICITUDES!$J$2:$J$1048576)","v":0},0,{"$f":"SUMIF(SOLICITUDES!$C$2:$C$1048576,BD!C17600,SOLICITUDES!$K$2:$K$1048576)","v":0},0]
[null,null,"T2132",45,13200,208,-76.567445439951484,2.4865607351537675,22.5,22.5,9,9,{"$f":"SUMIF(SOLICITUDES!$C$2:$C$1048576,BD!C17615,SOLICITUDES!$I$2:$I$1048576)","v":0},0,{"$f":"SUMIF(SOLICITUDES!$C$2:$C$1048576,BD!C17615,SOLICITUDES!$J$2:$J$1048576)","v":0},0,{"$f":"SUMIF(SOLICITUDES!$C$2:$C$1048576,BD!C17615,SOLICITUDES!$K$2:$K$1048576)","v":0},0]
[null,null,"T2990",112.5,13200,220,-76.567895998226334,2.4839836158525013,56.25,56.25,22.5,22.5,{"$f":"SUMIF(SOLICITUDES!$C$2:$C$1048576,BD!C17630,SOLICITUDES!$I$2:$I$1048576)","v":0},0,{"$f":"SUMIF(SOLICITUDES!$C$2:$C$1048576,BD!C17630,SOLICITUDES!$J$2:$J$1048576)","v":0},0,{"$f":"SUMIF(SOLICITUDES!$C$2:$C$1048576,BD!C17630,SOLICITUDES!$K$2:$K$1048576)","v":0},0]
[null,null,"T8318",15,13200,240,-76.546333580997512,2.900102199222435,7.5,7.5,3,3,{"$f":"SUMIF(SOLICITUDES!$C$2:$C$1048576,BD!C17632,SOLICITUDES!$I$2:$I$1048576)","v":0},0,{"$f":"SUMIF(SOLICITUDES!$C$2:$C$1048576,BD!C17632,SOLICITUDES!$J$2:$J$1048576)","v":0},0,{"$f":"SUMIF(SOLICITUDES!$C$2:$C$1048576,BD!C17632,SOLICITUDES!$K$2:$K$1048576)","v":0},0]
[null,null,"T15292",37.5,13200,240,-76.5624727674913,2.911965165886782,18.75,18.75,7.5,7.5,{"$f":"SUMIF(SOLICITUDES!$C$2:$C$1048576,BD!C17647,SOLICITUDES!$I$2:$I$1048576)","v":0},0,{"$f":"SUMIF(SOLICITUDES!$C$2:$C$1048576,BD!C17647,SOLICITUDES!$J$2:$J$1048576)","v":0},0,{"$f":"SUMIF(SOLICITUDES!$C$2:$C$1048576,BD!C17647,SOLICITUDES!$K$2:$K$1048576)","v":0},0]
[null,null,"T15288",15,13200,240,-76.580726963875108,2.9013297769472763,7.5,7.5,3,3,{"$f":"SUMIF(SOLICITUDES!$C$2:$C$1048576,BD!C17658,SOLICITUDES!$I$2:$I$1048576)","v":0},0,{"$f":"SUMIF(SOLICITUDES!$C$2:$C$1048576,BD!C17658,SOLICITUDES!$J$2:$J$1048576)","v":0},0,{"$f":"SUMIF(SOLICITUDES!$C$2:$C$1048576,BD!C17658,SOLICITUDES!$K$2:$K$1048576)","v":0},0]
[null,null,"T14855",30,13200,208,-76.546622295584356,2.9172479933320585,15,15,6,6,{"$f":"SUMIF(SOLICITUDES!$C$2:$C$1048576,BD!C17663,SOLICITUDES!$I$2:$I$1048576)","v":0},0,{"$f":"SUMIF(SOLICITUDES!$C$2:$C$1048576,BD!C17663,SOLICITUDES!$J$2:$J$1048576)","v":0},0,{"$f":"SUMIF(SOLICITUDES!$C$2:$C$1048576,BD!C17663,SOLICITUDES!$K$2:$K$1048576)","v":0},0]
[null,null,"T42782",0.5,13200,240,-76.612256071258088,2.4363538635785518,0.25,0.25,0.1,0.1,{"$f":"SUMIF(SOLICITUDES!$C$2:$C$1048576,BD!C17674,SOLICITUDES!$I$2:$I$1048576)","v":0},0,{"$f":"SUMIF(SOLICITUDES!$C$2:$C$1048576,BD!C17674,SOLICITUDES!$J$2:$J$1048576)","v":0},0,{"$f":"SUMIF(SOLICITUDES!$C$2:$C$1048576,BD!C17674,SOLICITUDES!$K$2:$K$1048576)","v":0},0]
[null,null,"T12618",25,13200,240,-76.732328747314128,2.9818722683468044,12.5,12.5,5,5,{"$f":"SUMIF(SOLICITUDES!$C$2:$C$1048576,BD!C17689,SOLICITUDES!$I$2:$I$1048576)","v":0},0,{"$f":"SUMIF(SOLICITUDES!$C$2:$C$1048576,BD!C17689,SOLICITUDES!$J$2:$J$1048576)","v":0},0,{"$f":"SUMIF(SOLICITUDES!$C$2:$C$1048576,BD!C17689,SOLICITUDES!$K$2:$K$1048576)","v":0},0]
[null,null,"T16339",15,13200,240,-76.689810174939709,2.9080081643554934,7.5,7.5,3,3,{"$f":"SUMIF(SOLICITUDES!$C$2:$C$1048576,BD!C17694,SOLICITUDES!$I$2:$I$1048576)","v":0},0,{"$f":"SUMIF(SOLICITUDES!$C$2:$C$1048576,BD!C17694,SOLICITUDES!$J$2:$J$1048576)","v":0},0,{"$f":"SUMIF(SOLICITUDES!$C$2:$C$1048576,BD!C17694,SOLICITUDES!$K$2:$K$1048576)","v":0},0]
[null,null,"T30062",75,13200,214,-76.71839158175915,2.9139999298695458,37.5,37.5,15,15,{"$f":"SUMIF(SOLICITUDES!$C$2:$C$1048576,BD!C17705,SOLICITUDES!$I$2:$I$1048576)","v":0},0,{"$f":"SUMIF(SOLICITUDES!$C$2:$C$1048576,BD!C17705,SOLICITUDES!$J$2:$J$1048576)","v":0},0,{"$f":"SUMIF(SOLICITUDES!$C$2:$C$1048576,BD!C17705,SOLICITUDES!$K$2:$K$1048576)","v":0},0]
[null,null,"T13766",25,13200,240,-76.698790532795698,2.9543261111369121,12.5,12.5,5,5,{"$f":"SUMIF(SOLICITUDES!$C$2:$C$1048576,BD!C17721,SOLICITUDES!$I$2:$I$1048576)","v":0},0,{"$f":"SUMIF(SOLICITUDES!$C$2:$C$1048576,BD!C17721,SOLICITUDES!$J$2:$J$1048576)","v":0},0,{"$f":"SUMIF(SOLICITUDES!$C$2:$C$1048576,BD!C17721,SOLICITUDES!$K$2:$K$1048576)","v":0},0]
[null,null,"T12615",45,13200,208,-76.716781308026015,2.9109860289391958,22.5,22.5,9,9,{"$f":"SUMIF(SOLICITUDES!$C$2:$C$1048576,BD!C17726,SOLICITUDES!$I$2:$I$1048576)","v":0},0,{"$f":"SUMIF(SOLICITUDES!$C$2:$C$1048576,BD!C17726,SOLICITUDES!$J$2:$J$1048576)","v":0},0,{"$f":"SUMIF(SOLICITUDES!$C$2:$C$1048576,BD!C17726,SOLICITUDES!$K$2:$K$1048576)","v":0},0]
[null,null,"T27155",45,13200,208,-76.725335828033892,2.9153898534170946,22.5,22.5,9,9,{"$f":"SUMIF(SOLICITUDES!$C$2:$C$1048576,BD!C17737,SOLICITUDES!$I$2:$I$1048576)","v":0},0,{"$f":"SUMIF(SOLICITUDES!$C$2:$C$1048576,BD!C17737,SOLICITUDES!$J$2:$J$1048576)","v":0},0,{"$f":"SUMIF(SOLICITUDES!$C$2:$C$1048576,BD!C17737,SOLICITUDES!$K$2:$K$1048576)","v":0},0]
[null,null,"T16895",10,13200,240,-76.733415362057826,2.9005282131600731,5,5,2,2,{"$f":"SUMIF(SOLICITUDES!$C$2:$C$1048576,BD!C17742,SOLICITUDES!$I$2:$I$1048576)","v":0},0,{"$f":"SUMIF(SOLICITUDES!$C$2:$C$1048576,BD!C17742,SOLICITUDES!$J$2:$J$1048576)","v":0},0,{"$f":"SUMIF(SOLICITUDES!$C$2:$C$1048576,BD!C17742,SOLICITUDES!$K$2:$K$1048576)","v":0},0]
[null,null,"T12603",10,13200,240,-76.735180185022529,2.9819996905456727,5,5,2,2,{"$f":"SUMIF(SOLICITUDES!$C$2:$C$1048576,BD!C17753,SOLICITUDES!$I$2:$I$1048576)","v":0},0,{"$f":"SUMIF(SOLICITUDES!$C$2:$C$1048576,BD!C17753,SOLICITUDES!$J$2:$J$1048576)","v":0},0,{"$f":"SUMIF(SOLICITUDES!$C$2:$C$1048576,BD!C17753,SOLICITUDES!$K$2:$K$1048576)","v":0},0]
[null,null,"T40350",25,13200,240,-76.635609143278458,2.4427256695493123,12.5,12.5,5,5,{"$f":"SUMIF(SOLICITUDES!$C$2:$C$1048576,BD!C17768,SOLICITUDES!$I$2:$I$1048576)","v":0},0,{"$f":"SUMIF(SOLICITUDES!$C$2:$C$1048576,BD!C17768,SOLICITUDES!$J$2:$J$1048576)","v":0},0,{"$f":"SUMIF(SOLICITUDES!$C$2:$C$1048576,BD!C17768,SOLICITUDES!$K$2:$K$1048576)","v":0},0]
[null,null,"T14805",15,13200,240,-76.631423112664777,2.4421686811413506,7.5,7.5,3,3,{"$f":"SUMIF(SOLICITUDES!$C$2:$C$1048576,BD!C17773,SOLICITUDES!$I$2:$I$1048576)","v":0},0,{"$f":"SUMIF(SOLICITUDES!$C$2:$C$1048576,BD!C17773,SOLICITUDES!$J$2:$J$1048576)","v":0},0,{"$f":"SUMIF(SOLICITUDES!$C$2:$C$1048576,BD!C17773,SOLICITUDES!$K$2:$K$1048576)","v":0},0]
[null,null,"T1058",45,13200,208,-76.63559385437064,2.4586913029741044,22.5,22.5,9,9,{"$f":"SUMIF(SOLICITUDES!$C$2:$C$1048576,BD!C17784,SOLICITUDES!$I$2:$I$1048576)","v":0},0,{"$f":"SUMIF(SOLICITUDES!$C$2:$C$1048576,BD!C17784,SOLICITUDES!$J$2:$J$1048576)","v":0},0,{"$f":"SUMIF(SOLICITUDES!$C$2:$C$1048576,BD!C17784,SOLICITUDES!$K$2:$K$1048576)","v":0},0]
[null,null,"T10062",45,13200,208,-76.628111984475311,2.45220068615822,22.5,22.5,9,9,{"$f":"SUMIF(SOLICITUDES!$C$2:$C$1048576,BD!C17799,SOLICITUDES!$I$2:$I$1048576)","v":0},0,{"$f":"SUMIF(SOLICITUDES!$C$2:$C$1048576,BD!C17799,SOLICITUDES!$J$2:$J$1048576)","v":0},0,{"$f":"SUMIF(SOLICITUDES!$C$2:$C$1048576,BD!C17799,SOLICITUDES!$K$2:$K$1048576)","v":0},0]
[null,null,"T1020",112.5,13200,208,-76.631204167798572,2.4543901948882252,56.25,56.25,22.5,22.5,{"$f":"SUMIF(SOLICITUDES!$C$2:$C$1048576,BD!C17805,SOLICITUDES!$I$2:$I$1048576)","v":0},0,{"$f":"SUMIF(SOLICITUDES!$C$2:$C$1048576,BD!C17805,SOLICITUDES!$J$2:$J$1048576)","v":0},0,{"$f":"SUMIF(SOLICITUDES!$C$2:$C$1048576,BD!C17805,SOLICITUDES!$K$2:$K$1048576)","v":0},0]
[null,null,"T1036",75,13200,208,-76.634393994777724,2.4604140757175861,37.5,37.5,15,15,{"$f":"SUMIF(SOLICITUDES!$C$2:$C$1048576,BD!C17816,SOLICITUDES!$I$2:$I$1048576)","v":0},0,{"$f":"SUMIF(SOLICITUDES!$C$2:$C$1048576,BD!C17816,SOLICITUDES!$J$2:$J$1048576)","v":0},0,{"$f":"SUMIF(SOLICITUDES!$C$2:$C$1048576,BD!C17816,SOLICITUDES!$K$2:$K$1048576)","v":0},0]
[null,null,"T5066",15,13200,240,-76.607876182104562,2.4465163924198361,7.5,7.5,3,3,{"$f":"SUMIF(SOLICITUDES!$C$2:$C$1048576,BD!C17831,SOLICITUDES!$I$2:$I$1048576)","v":0},0,{"$f":"SUMIF(SOLICITUDES!$C$2:$C$1048576,BD!C17831,SOLICITUDES!$J$2:$J$1048576)","v":0},0,{"$f":"SUMIF(SOLICITUDES!$C$2:$C$1048576,BD!C17831,SOLICITUDES!$K$2:$K$1048576)","v":0},0]
[null,null,"T7014",25,13200,240,-76.520796755769837,3.0473010444131385,12.5,12.5,5,5,{"$f":"SUMIF(SOLICITUDES!$C$2:$C$1048576,BD!C17842,SOLICITUDES!$I$2:$I$1048576)","v":0},0,{"$f":"SUMIF(SOLICITUDES!$C$2:$C$1048576,BD!C17842,SOLICITUDES!$J$2:$J$1048576)","v":0},0,{"$f":"SUMIF(SOLICITUDES!$C$2:$C$1048576,BD!C17842,SOLICITUDES!$K$2:$K$1048576)","v":0},0]
[null,null,"T31346",15,13200,240,-76.522193744649854,3.0470792232225352,7.5,7.5,3,3,{"$f":"SUMIF(SOLICITUDES!$C$2:$C$1048576,BD!C17847,SOLICITUDES!$I$2:$I$1048576)","v":0},0,{"$f":"SUMIF(SOLICITUDES!$C$2:$C$1048576,BD!C17847,SOLICITUDES!$J$2:$J$1048576)","v":0},0,{"$f":"SUMIF(SOLICITUDES!$C$2:$C$1048576,BD!C17847,SOLICITUDES!$K$2:$K$1048576)","v":0},0]
[null,null,"T7018",37.5,13200,208,-76.529330754139195,3.0346000711473375,18.75,18.75,7.5,7.5,{"$f":"SUMIF(SOLICITUDES!$C$2:$C$1048576,BD!C17862,SOLICITUDES!$I$2:$I$1048576)","v":0},0,{"$f":"SUMIF(SOLICITUDES!$C$2:$C$1048576,BD!C17862,SOLICITUDES!$J$2:$J$1048576)","v":0},0,{"$f":"SUMIF(SOLICITUDES!$C$2:$C$1048576,BD!C17862,SOLICITUDES!$K$2:$K$1048576)","v":0},0]
[null,null,"T21724",45,13200,228,-76.529177756191018,3.0385319051447293,22.5,22.5,9,9,{"$f":"SUMIF(SOLICITUDES!$C$2:$C$1048576,BD!C17863,SOLICITUDES!$I$2:$I$1048576)","v":0},0,{"$f":"SUMIF(SOLICITUDES!$C$2:$C$1048576,BD!C17863,SOLICITUDES!$J$2:$J$1048576)","v":0},0,{"$f":"SUMIF(SOLICITUDES!$C$2:$C$1048576,BD!C17863,SOLICITUDES!$K$2:$K$1048576)","v":0},0]
[null,null,"T4462",15,13200,220,-76.61636574289534,2.614730297354523,7.5,7.5,3,3,{"$f":"SUMIF(SOLICITUDES!$C$2:$C$1048576,BD!C17878,SOLICITUDES!$I$2:$I$1048576)","v":0},0,{"$f":"SUMIF(SOLICITUDES!$C$2:$C$1048576,BD!C17878,SOLICITUDES!$J$2:$J$1048576)","v":0},0,{"$f":"SUMIF(SOLICITUDES!$C$2:$C$1048576,BD!C17878,SOLICITUDES!$K$2:$K$1048576)","v":0},0]
[null,null,"T5983",5,13200,208,-76.619278401007335,2.625752903251243,2.5,2.5,1,1,{"$f":"SUMIF(SOLICITUDES!$C$2:$C$1048576,BD!C17889,SOLICITUDES!$I$2:$I$1048576)","v":0},0,{"$f":"SUMIF(SOLICITUDES!$C$2:$C$1048576,BD!C17889,SOLICITUDES!$J$2:$J$1048576)","v":0},0,{"$f":"SUMIF(SOLICITUDES!$C$2:$C$1048576,BD!C17889,SOLICITUDES!$K$2:$K$1048576)","v":0},0]
[null,null,"T8095",37.5,13200,240,-76.577200606133005,2.6257387143466113,18.75,18.75,7.5,7.5,{"$f":"SUMIF(SOLICITUDES!$C$2:$C$1048576,BD!C17896,SOLICITUDES!$I$2:$I$1048576)","v":0},0,{"$f":"SUMIF(SOLICITUDES!$C$2:$C$1048576,BD!C17896,SOLICITUDES!$J$2:$J$1048576)","v":0},0,{"$f":"SUMIF(SOLICITUDES!$C$2:$C$1048576,BD!C17896,SOLICITUDES!$K$2:$K$1048576)","v":0},0]
[null,null,"T9817",37.5,13200,240,-76.814399029138244,2.1658270170076968,18.75,18.75,7.5,7.5,{"$f":"SUMIF(SOLICITUDES!$C$2:$C$1048576,BD!C17910,SOLICITUDES!$I$2:$I$1048576)","v":0},0,{"$f":"SUMIF(SOLICITUDES!$C$2:$C$1048576,BD!C17910,SOLICITUDES!$J$2:$J$1048576)","v":0},0,{"$f":"SUMIF(SOLICITUDES!$C$2:$C$1048576,BD!C17910,SOLICITUDES!$K$2:$K$1048576)","v":0},0]
[null,null,"T9828",15,13200,208,-76.754798635356096,2.1373956265345981,7.5,7.5,3,3,{"$f":"SUMIF(SOLICITUDES!$C$2:$C$1048576,BD!C17921,SOLICITUDES!$I$2:$I$1048576)","v":0},0,{"$f":"SUMIF(SOLICITUDES!$C$2:$C$1048576,BD!C17921,SOLICITUDES!$J$2:$J$1048576)","v":0},0,{"$f":"SUMIF(SOLICITUDES!$C$2:$C$1048576,BD!C17921,SOLICITUDES!$K$2:$K$1048576)","v":0},0]
[null,null,"T1560",10,13200,240,-76.781962432744152,2.1341870189309988,5,5,2,2,{"$f":"SUMIF(SOLICITUDES!$C$2:$C$1048576,BD!C17926,SOLICITUDES!$I$2:$I$1048576)","v":0},0,{"$f":"SUMIF(SOLICITUDES!$C$2:$C$1048576,BD!C17926,SOLICITUDES!$J$2:$J$1048576)","v":0},0,{"$f":"SUMIF(SOLICITUDES!$C$2:$C$1048576,BD!C17926,SOLICITUDES!$K$2:$K$1048576)","v":0},0]
[null,null,"T11201",25,13200,240,-76.769848288310286,2.1177617218464992,12.5,12.5,5,5,{"$f":"SUMIF(SOLICITUDES!$C$2:$C$1048576,BD!C17941,SOLICITUDES!$I$2:$I$1048576)","v":0},0,{"$f":"SUMIF(SOLICITUDES!$C$2:$C$1048576,BD!C17941,SOLICITUDES!$J$2:$J$1048576)","v":0},0,{"$f":"SUMIF(SOLICITUDES!$C$2:$C$1048576,BD!C17941,SOLICITUDES!$K$2:$K$1048576)","v":0},0]
[null,null,"T11213",5,13200,240,-76.761044663121211,2.1172903839668766,2.5,2.5,1,1,{"$f":"SUMIF(SOLICITUDES!$C$2:$C$1048576,BD!C17952,SOLICITUDES!$I$2:$I$1048576)","v":0},0,{"$f":"SUMIF(SOLICITUDES!$C$2:$C$1048576,BD!C17952,SOLICITUDES!$J$2:$J$1048576)","v":0},0,{"$f":"SUMIF(SOLICITUDES!$C$2:$C$1048576,BD!C17952,SOLICITUDES!$K$2:$K$1048576)","v":0},0]
[null,null,"T11195",10,13200,240,-76.762901191669755,2.1104170025303537,5,5,2,2,{"$f":"SUMIF(SOLICITUDES!$C$2:$C$1048576,BD!C17957,SOLICITUDES!$I$2:$I$1048576)","v":0},0,{"$f":"SUMIF(SOLICITUDES!$C$2:$C$1048576,BD!C17957,SOLICITUDES!$J$2:$J$1048576)","v":0},0,{"$f":"SUMIF(SOLICITUDES!$C$2:$C$1048576,BD!C17957,SOLICITUDES!$K$2:$K$1048576)","v":0},0]
[null,null,"T7342",25,13200,240,-76.569871914013206,3.0550664393638924,12.5,12.5,5,5,{"$f":"SUMIF(SOLICITUDES!$C$2:$C$1048576,BD!C17968,SOLICITUDES!$I$2:$I$1048576)","v":0},0,{"$f":"SUMIF(SOLICITUDES!$C$2:$C$1048576,BD!C17968,SOLICITUDES!$J$2:$J$1048576)","v":0},0,{"$f":"SUMIF(SOLICITUDES!$C$2:$C$1048576,BD!C17968,SOLICITUDES!$K$2:$K$1048576)","v":0},0]
[null,null,"T2688",75,13200,208,-76.619106455373469,2.4419968198424025,37.5,37.5,15,15,{"$f":"SUMIF(SOLICITUDES!$C$2:$C$1048576,BD!C17983,SOLICITUDES!$I$2:$I$1048576)","v":0},0,{"$f":"SUMIF(SOLICITUDES!$C$2:$C$1048576,BD!C17983,SOLICITUDES!$J$2:$J$1048576)","v":0},0,{"$f":"SUMIF(SOLICITUDES!$C$2:$C$1048576,BD!C17983,SOLICITUDES!$K$2:$K$1048576)","v":0},0]
[null,null,"T23888",45,13200,214,-76.618999326802665,2.4470623188182552,22.5,{"$f":"D17987*0.5-M17987","v":22.5},9,9,{"$f":"SUMIF(SOLICITUDES!$C$2:$C$1048576,BD!C17987,SOLICITUDES!$I$2:$I$1048576)","v":0},{"$f":"M17987/D17987","v":0},{"$f":"SUMIF(SOLICITUDES!$C$2:$C$1048576,BD!C17987,SOLICITUDES!$J$2:$J$1048576)","v":0},0,{"$f":"SUMIF(SOLICITUDES!$C$2:$C$1048576,BD!C17987,SOLICITUDES!$K$2:$K$1048576)","v":0},0]
[null,null,"T9510",10,13200,240,-76.618361739273595,3.0458916414497876,5,5,2,2,{"$f":"SUMIF(SOLICITUDES!$C$2:$C$1048576,BD!C18000,SOLICITUDES!$I$2:$I$1048576)","v":0},0,{"$f":"SUMIF(SOLICITUDES!$C$2:$C$1048576,BD!C18000,SOLICITUDES!$J$2:$J$1048576)","v":0},0,{"$f":"SUMIF(SOLICITUDES!$C$2:$C$1048576,BD!C18000,SOLICITUDES!$K$2:$K$1048576)","v":0},0]
[null,null,"T9742",15,13200,240,-76.612540134706606,3.1111081392830986,7.5,7.5,3,3,{"$f":"SUMIF(SOLICITUDES!$C$2:$C$1048576,BD!C18005,SOLICITUDES!$I$2:$I$1048576)","v":0},0,{"$f":"SUMIF(SOLICITUDES!$C$2:$C$1048576,BD!C18005,SOLICITUDES!$J$2:$J$1048576)","v":0},0,{"$f":"SUMIF(SOLICITUDES!$C$2:$C$1048576,BD!C18005,SOLICITUDES!$K$2:$K$1048576)","v":0},0]
[null,null,"T9741",37.5,13200,240,-76.622152939513327,3.1203002532127337,18.75,18.75,7.5,7.5,{"$f":"SUMIF(SOLICITUDES!$C$2:$C$1048576,BD!C18016,SOLICITUDES!$I$2:$I$1048576)","v":0},0,{"$f":"SUMIF(SOLICITUDES!$C$2:$C$1048576,BD!C18016,SOLICITUDES!$J$2:$J$1048576)","v":0},0,{"$f":"SUMIF(SOLICITUDES!$C$2:$C$1048576,BD!C18016,SOLICITUDES!$K$2:$K$1048576)","v":0},0]
[null,null,"T25818",10,13200,240,-76.784383174011339,2.0993994946530985,5,5,2,2,{"$f":"SUMIF(SOLICITUDES!$C$2:$C$1048576,BD!C18031,SOLICITUDES!$I$2:$I$1048576)","v":0},0,{"$f":"SUMIF(SOLICITUDES!$C$2:$C$1048576,BD!C18031,SOLICITUDES!$J$2:$J$1048576)","v":0},0,{"$f":"SUMIF(SOLICITUDES!$C$2:$C$1048576,BD!C18031,SOLICITUDES!$K$2:$K$1048576)","v":0},0]
[null,null,"T12254",37.5,13200,240,-76.778669315262277,2.1036557154804179,18.75,18.75,7.5,7.5,{"$f":"SUMIF(SOLICITUDES!$C$2:$C$1048576,BD!C18036,SOLICITUDES!$I$2:$I$1048576)","v":0},0,{"$f":"SUMIF(SOLICITUDES!$C$2:$C$1048576,BD!C18036,SOLICITUDES!$J$2:$J$1048576)","v":0},0,{"$f":"SUMIF(SOLICITUDES!$C$2:$C$1048576,BD!C18036,SOLICITUDES!$K$2:$K$1048576)","v":0},0]
[null,null,"T12253",15,13200,240,-76.794708303256584,2.1161665448797708,7.5,7.5,3,3,{"$f":"SUMIF(SOLICITUDES!$C$2:$C$1048576,BD!C18047,SOLICITUDES!$I$2:$I$1048576)","v":0},0,{"$f":"SUMIF(SOLICITUDES!$C$2:$C$1048576,BD!C18047,SOLICITUDES!$J$2:$J$1048576)","v":0},0,{"$f":"SUMIF(SOLICITUDES!$C$2:$C$1048576,BD!C18047,SOLICITUDES!$K$2:$K$1048576)","v":0},0]
[null,null,"T12273",10,13200,240,-76.797440268311064,2.1276479784211682,5,5,2,2,{"$f":"SUMIF(SOLICITUDES!$C$2:$C$1048576,BD!C18062,SOLICITUDES!$I$2:$I$1048576)","v":0},0,{"$f":"SUMIF(SOLICITUDES!$C$2:$C$1048576,BD!C18062,SOLICITUDES!$J$2:$J$1048576)","v":0},0,{"$f":"SUMIF(SOLICITUDES!$C$2:$C$1048576,BD!C18062,SOLICITUDES!$K$2:$K$1048576)","v":0},0]
[null,null,"T5475",75,13200,208,-76.455275770937817,2.3817038108012003,37.5,37.5,15,15,{"$f":"SUMIF(SOLICITUDES!$C$2:$C$1048576,BD!C18067,SOLICITUDES!$I$2:$I$1048576)","v":0},0,{"$f":"SUMIF(SOLICITUDES!$C$2:$C$1048576,BD!C18067,SOLICITUDES!$J$2:$J$1048576)","v":0},0,{"$f":"SUMIF(SOLICITUDES!$C$2:$C$1048576,BD!C18067,SOLICITUDES!$K$2:$K$1048576)","v":0},0]
[null,null,"T2705",75,13200,214,-76.612712147867711,2.444421738682613,37.5,37.5,15,15,{"$f":"SUMIF(SOLICITUDES!$C$2:$C$1048576,BD!C18082,SOLICITUDES!$I$2:$I$1048576)","v":0},0,{"$f":"SUMIF(SOLICITUDES!$C$2:$C$1048576,BD!C18082,SOLICITUDES!$J$2:$J$1048576)","v":0},0,{"$f":"SUMIF(SOLICITUDES!$C$2:$C$1048576,BD!C18082,SOLICITUDES!$K$2:$K$1048576)","v":0},0]
[null,null,"T13056",37.5,13200,240,-75.969869926525817,2.6387802043239232,18.75,18.75,7.5,7.5,{"$f":"SUMIF(SOLICITUDES!$C$2:$C$1048576,BD!C18094,SOLICITUDES!$I$2:$I$1048576)","v":0},0,{"$f":"SUMIF(SOLICITUDES!$C$2:$C$1048576,BD!C18094,SOLICITUDES!$J$2:$J$1048576)","v":0},0,{"$f":"SUMIF(SOLICITUDES!$C$2:$C$1048576,BD!C18094,SOLICITUDES!$K$2:$K$1048576)","v":0},0]
[null,null,"T10494",15,13200,240,-75.945925880936059,2.5597789043899355,7.5,7.5,3,3,{"$f":"SUMIF(SOLICITUDES!$C$2:$C$1048576,BD!C18105,SOLICITUDES!$I$2:$I$1048576)","v":0},0,{"$f":"SUMIF(SOLICITUDES!$C$2:$C$1048576,BD!C18105,SOLICITUDES!$J$2:$J$1048576)","v":0},0,{"$f":"SUMIF(SOLICITUDES!$C$2:$C$1048576,BD!C18105,SOLICITUDES!$K$2:$K$1048576)","v":0},0]
[null,null,"T12940",25,13200,240,-75.982036412231309,2.5851187447847397,12.5,12.5,5,5,{"$f":"SUMIF(SOLICITUDES!$C$2:$C$1048576,BD!C18110,SOLICITUDES!$I$2:$I$1048576)","v":0},0,{"$f":"SUMIF(SOLICITUDES!$C$2:$C$1048576,BD!C18110,SOLICITUDES!$J$2:$J$1048576)","v":0},0,{"$f":"SUMIF(SOLICITUDES!$C$2:$C$1048576,BD!C18110,SOLICITUDES!$K$2:$K$1048576)","v":0},0]
[null,null,"T7500",25,13200,240,-76.710013458894338,2.3462833054529528,12.5,12.5,5,5,{"$f":"SUMIF(SOLICITUDES!$C$2:$C$1048576,BD!C18125,SOLICITUDES!$I$2:$I$1048576)","v":0},0,{"$f":"SUMIF(SOLICITUDES!$C$2:$C$1048576,BD!C18125,SOLICITUDES!$J$2:$J$1048576)","v":0},0,{"$f":"SUMIF(SOLICITUDES!$C$2:$C$1048576,BD!C18125,SOLICITUDES!$K$2:$K$1048576)","v":0},0]
[null,null,"T7504",15,13200,240,-76.709756810766166,2.3307919679456348,7.5,7.5,3,3,{"$f":"SUMIF(SOLICITUDES!$C$2:$C$1048576,BD!C18126,SOLICITUDES!$I$2:$I$1048576)","v":0},0,{"$f":"SUMIF(SOLICITUDES!$C$2:$C$1048576,BD!C18126,SOLICITUDES!$J$2:$J$1048576)","v":0},0,{"$f":"SUMIF(SOLICITUDES!$C$2:$C$1048576,BD!C18126,SOLICITUDES!$K$2:$K$1048576)","v":0},0]
[null,null,"T6675",5,13200,240,-76.721692862625375,2.3880814616488282,2.5,2.5,1,1,{"$f":"SUMIF(SOLICITUDES!$C$2:$C$1048576,BD!C18141,SOLICITUDES!$I$2:$I$1048576)","v":0},0,{"$f":"SUMIF(SOLICITUDES!$C$2:$C$1048576,BD!C18141,SOLICITUDES!$J$2:$J$1048576)","v":0},0,{"$f":"SUMIF(SOLICITUDES!$C$2:$C$1048576,BD!C18141,SOLICITUDES!$K$2:$K$1048576)","v":0},0]
[null,null,"T7207",37.5,13200,240,-76.730033778132068,2.3876618945201535,18.75,18.75,7.5,7.5,{"$f":"SUMIF(SOLICITUDES!$C$2:$C$1048576,BD!C18146,SOLICITUDES!$I$2:$I$1048576)","v":0},0,{"$f":"SUMIF(SOLICITUDES!$C$2:$C$1048576,BD!C18146,SOLICITUDES!$J$2:$J$1048576)","v":0},0,{"$f":"SUMIF(SOLICITUDES!$C$2:$C$1048576,BD!C18146,SOLICITUDES!$K$2:$K$1048576)","v":0},0]
[null,null,"T8388",15,13200,240,-76.684543450323602,2.3082832265172111,7.5,7.5,3,3,{"$f":"SUMIF(SOLICITUDES!$C$2:$C$1048576,BD!C18157,SOLICITUDES!$I$2:$I$1048576)","v":0},0,{"$f":"SUMIF(SOLICITUDES!$C$2:$C$1048576,BD!C18157,SOLICITUDES!$J$2:$J$1048576)","v":0},0,{"$f":"SUMIF(SOLICITUDES!$C$2:$C$1048576,BD!C18157,SOLICITUDES!$K$2:$K$1048576)","v":0},0]
[null,null,"T4484",15,13200,240,-76.569999645905398,2.6868493583452517,7.5,7.5,3,3,{"$f":"SUMIF(SOLICITUDES!$C$2:$C$1048576,BD!C18173,SOLICITUDES!$I$2:$I$1048576)","v":0},0,{"$f":"SUMIF(SOLICITUDES!$C$2:$C$1048576,BD!C18173,SOLICITUDES!$J$2:$J$1048576)","v":0},0,{"$f":"SUMIF(SOLICITUDES!$C$2:$C$1048576,BD!C18173,SOLICITUDES!$K$2:$K$1048576)","v":0},0]
[null,null,"T7426",30,13200,208,-76.563981303914176,2.6924444930758296,15,15,6,6,{"$f":"SUMIF(SOLICITUDES!$C$2:$C$1048576,BD!C18184,SOLICITUDES!$I$2:$I$1048576)","v":0},0,{"$f":"SUMIF(SOLICITUDES!$C$2:$C$1048576,BD!C18184,SOLICITUDES!$J$2:$J$1048576)","v":0},0,{"$f":"SUMIF(SOLICITUDES!$C$2:$C$1048576,BD!C18184,SOLICITUDES!$K$2:$K$1048576)","v":0},0]
[null,null,"T12177",25,13200,240,-76.62307989752469,2.7198238995281434,12.5,12.5,5,5,{"$f":"SUMIF(SOLICITUDES!$C$2:$C$1048576,BD!C18189,SOLICITUDES!$I$2:$I$1048576)","v":0},0,{"$f":"SUMIF(SOLICITUDES!$C$2:$C$1048576,BD!C18189,SOLICITUDES!$J$2:$J$1048576)","v":0},0,{"$f":"SUMIF(SOLICITUDES!$C$2:$C$1048576,BD!C18189,SOLICITUDES!$K$2:$K$1048576)","v":0},0]
[null,null,"T21893",5,13200,240,-76.673120117595644,2.7180495057295544,2.5,2.5,1,1,{"$f":"SUMIF(SOLICITUDES!$C$2:$C$1048576,BD!C18204,SOLICITUDES!$I$2:$I$1048576)","v":0},0,{"$f":"SUMIF(SOLICITUDES!$C$2:$C$1048576,BD!C18204,SOLICITUDES!$J$2:$J$1048576)","v":0},0,{"$f":"SUMIF(SOLICITUDES!$C$2:$C$1048576,BD!C18204,SOLICITUDES!$K$2:$K$1048576)","v":0},0]
[null,null,"T14307",15,13200,240,-76.64243484181624,2.7250731400120878,7.5,7.5,3,3,{"$f":"SUMIF(SOLICITUDES!$C$2:$C$1048576,BD!C18215,SOLICITUDES!$I$2:$I$1048576)","v":0},0,{"$f":"SUMIF(SOLICITUDES!$C$2:$C$1048576,BD!C18215,SOLICITUDES!$J$2:$J$1048576)","v":0},0,{"$f":"SUMIF(SOLICITUDES!$C$2:$C$1048576,BD!C18215,SOLICITUDES!$K$2:$K$1048576)","v":0},0]
[null,null,"T21891",5,13200,240,-76.672507843671568,2.7058371451843835,2.5,2.5,1,1,{"$f":"SUMIF(SOLICITUDES!$C$2:$C$1048576,BD!C18220,SOLICITUDES!$I$2:$I$1048576)","v":0},0,{"$f":"SUMIF(SOLICITUDES!$C$2:$C$1048576,BD!C18220,SOLICITUDES!$J$2:$J$1048576)","v":0},0,{"$f":"SUMIF(SOLICITUDES!$C$2:$C$1048576,BD!C18220,SOLICITUDES!$K$2:$K$1048576)","v":0},0]
[null,null,"T15313",10,13200,240,-76.646825051218656,2.7093425837126661,5,5,2,2,{"$f":"SUMIF(SOLICITUDES!$C$2:$C$1048576,BD!C18231,SOLICITUDES!$I$2:$I$1048576)","v":0},0,{"$f":"SUMIF(SOLICITUDES!$C$2:$C$1048576,BD!C18231,SOLICITUDES!$J$2:$J$1048576)","v":0},0,{"$f":"SUMIF(SOLICITUDES!$C$2:$C$1048576,BD!C18231,SOLICITUDES!$K$2:$K$1048576)","v":0},0]
[null,null,"T15301",10,13200,240,-76.658308763597304,2.7103542458604495,5,5,2,2,{"$f":"SUMIF(SOLICITUDES!$C$2:$C$1048576,BD!C18246,SOLICITUDES!$I$2:$I$1048576)","v":0},0,{"$f":"SUMIF(SOLICITUDES!$C$2:$C$1048576,BD!C18246,SOLICITUDES!$J$2:$J$1048576)","v":0},0,{"$f":"SUMIF(SOLICITUDES!$C$2:$C$1048576,BD!C18246,SOLICITUDES!$K$2:$K$1048576)","v":0},0]
[null,null,"T3264",45,13200,208,-76.63264013368061,2.766065432146406,22.5,22.5,9,9,{"$f":"SUMIF(SOLICITUDES!$C$2:$C$1048576,BD!C18251,SOLICITUDES!$I$2:$I$1048576)","v":0},0,{"$f":"SUMIF(SOLICITUDES!$C$2:$C$1048576,BD!C18251,SOLICITUDES!$J$2:$J$1048576)","v":0},0,{"$f":"SUMIF(SOLICITUDES!$C$2:$C$1048576,BD!C18251,SOLICITUDES!$K$2:$K$1048576)","v":0},0]
[null,null,"T5365",75,13200,208,-76.632230396811323,2.7793950002507004,37.5,37.5,15,15,{"$f":"SUMIF(SOLICITUDES!$C$2:$C$1048576,BD!C18262,SOLICITUDES!$I$2:$I$1048576)","v":0},0,{"$f":"SUMIF(SOLICITUDES!$C$2:$C$1048576,BD!C18262,SOLICITUDES!$J$2:$J$1048576)","v":0},0,{"$f":"SUMIF(SOLICITUDES!$C$2:$C$1048576,BD!C18262,SOLICITUDES!$K$2:$K$1048576)","v":0},0]
[null,null,"T14564",15,13200,240,-76.947295336107658,2.4942509266333777,7.5,7.5,3,3,{"$f":"SUMIF(SOLICITUDES!$C$2:$C$1048576,BD!C18273,SOLICITUDES!$I$2:$I$1048576)","v":0},0,{"$f":"SUMIF(SOLICITUDES!$C$2:$C$1048576,BD!C18273,SOLICITUDES!$J$2:$J$1048576)","v":0},0,{"$f":"SUMIF(SOLICITUDES!$C$2:$C$1048576,BD!C18273,SOLICITUDES!$K$2:$K$1048576)","v":0},0]
[null,null,"T14566",5,13200,240,-76.961432327169732,2.4699885835323787,2.5,2.5,1,1,{"$f":"SUMIF(SOLICITUDES!$C$2:$C$1048576,BD!C18283,SOLICITUDES!$I$2:$I$1048576)","v":0},0,{"$f":"SUMIF(SOLICITUDES!$C$2:$C$1048576,BD!C18283,SOLICITUDES!$J$2:$J$1048576)","v":0},0,{"$f":"SUMIF(SOLICITUDES!$C$2:$C$1048576,BD!C18283,SOLICITUDES!$K$2:$K$1048576)","v":0},0]
[null,null,"T13761",25,13200,240,-76.912353676275032,2.4976472188310757,12.5,12.5,5,5,{"$f":"SUMIF(SOLICITUDES!$C$2:$C$1048576,BD!C18294,SOLICITUDES!$I$2:$I$1048576)","v":0},0,{"$f":"SUMIF(SOLICITUDES!$C$2:$C$1048576,BD!C18294,SOLICITUDES!$J$2:$J$1048576)","v":0},0,{"$f":"SUMIF(SOLICITUDES!$C$2:$C$1048576,BD!C18294,SOLICITUDES!$K$2:$K$1048576)","v":0},0]
[null,null,"T14393",75,13200,208,-76.912927851556361,2.5074233126290868,37.5,37.5,15,15,{"$f":"SUMIF(SOLICITUDES!$C$2:$C$1048576,BD!C18299,SOLICITUDES!$I$2:$I$1048576)","v":0},0,{"$f":"SUMIF(SOLICITUDES!$C$2:$C$1048576,BD!C18299,SOLICITUDES!$J$2:$J$1048576)","v":0},0,{"$f":"SUMIF(SOLICITUDES!$C$2:$C$1048576,BD!C18299,SOLICITUDES!$K$2:$K$1048576)","v":0},0]
[null,null,"T14386",50,13200,240,-76.907739509429817,2.5089419542349023,25,25,10,10,{"$f":"SUMIF(SOLICITUDES!$C$2:$C$1048576,BD!C18310,SOLICITUDES!$I$2:$I$1048576)","v":0},0,{"$f":"SUMIF(SOLICITUDES!$C$2:$C$1048576,BD!C18310,SOLICITUDES!$J$2:$J$1048576)","v":0},0,{"$f":"SUMIF(SOLICITUDES!$C$2:$C$1048576,BD!C18310,SOLICITUDES!$K$2:$K$1048576)","v":0},0]
[null,null,"T25796",10,13200,240,-76.809917670408097,2.1025821731237322,5,5,2,2,{"$f":"SUMIF(SOLICITUDES!$C$2:$C$1048576,BD!C18325,SOLICITUDES!$I$2:$I$1048576)","v":0},0,{"$f":"SUMIF(SOLICITUDES!$C$2:$C$1048576,BD!C18325,SOLICITUDES!$J$2:$J$1048576)","v":0},0,{"$f":"SUMIF(SOLICITUDES!$C$2:$C$1048576,BD!C18325,SOLICITUDES!$K$2:$K$1048576)","v":0},0]
[null,null,"T11183",15,13200,240,-76.765669747941629,2.065652581479434,7.5,7.5,3,3,{"$f":"SUMIF(SOLICITUDES!$C$2:$C$1048576,BD!C18330,SOLICITUDES!$I$2:$I$1048576)","v":0},0,{"$f":"SUMIF(SOLICITUDES!$C$2:$C$1048576,BD!C18330,SOLICITUDES!$J$2:$J$1048576)","v":0},0,{"$f":"SUMIF(SOLICITUDES!$C$2:$C$1048576,BD!C18330,SOLICITUDES!$K$2:$K$1048576)","v":0},0]
[null,null,"T12260",15,13200,240,-76.818965835133568,2.1209698390009799,7.5,7.5,3,3,{"$f":"SUMIF(SOLICITUDES!$C$2:$C$1048576,BD!C18341,SOLICITUDES!$I$2:$I$1048576)","v":0},0,{"$f":"SUMIF(SOLICITUDES!$C$2:$C$1048576,BD!C18341,SOLICITUDES!$J$2:$J$1048576)","v":0},0,{"$f":"SUMIF(SOLICITUDES!$C$2:$C$1048576,BD!C18341,SOLICITUDES!$K$2:$K$1048576)","v":0},0]
[null,null,"T11218",10,13200,240,-76.788877619172382,2.0725119925002953,5,5,2,2,{"$f":"SUMIF(SOLICITUDES!$C$2:$C$1048576,BD!C18356,SOLICITUDES!$I$2:$I$1048576)","v":0},0,{"$f":"SUMIF(SOLICITUDES!$C$2:$C$1048576,BD!C18356,SOLICITUDES!$J$2:$J$1048576)","v":0},0,{"$f":"SUMIF(SOLICITUDES!$C$2:$C$1048576,BD!C18356,SOLICITUDES!$K$2:$K$1048576)","v":0},0]
[null,null,"T14249",10,13200,240,-76.813050153232169,2.063915977986158,5,5,2,2,{"$f":"SUMIF(SOLICITUDES!$C$2:$C$1048576,BD!C18368,SOLICITUDES!$I$2:$I$1048576)","v":0},0,{"$f":"SUMIF(SOLICITUDES!$C$2:$C$1048576,BD!C18368,SOLICITUDES!$J$2:$J$1048576)","v":0},0,{"$f":"SUMIF(SOLICITUDES!$C$2:$C$1048576,BD!C18368,SOLICITUDES!$K$2:$K$1048576)","v":0},0]
[null,null,"T25809",10,13200,240,-76.81671408971367,2.0680835884986744,5,5,2,2,{"$f":"SUMIF(SOLICITUDES!$C$2:$C$1048576,BD!C18373,SOLICITUDES!$I$2:$I$1048576)","v":0},0,{"$f":"SUMIF(SOLICITUDES!$C$2:$C$1048576,BD!C18373,SOLICITUDES!$J$2:$J$1048576)","v":0},0,{"$f":"SUMIF(SOLICITUDES!$C$2:$C$1048576,BD!C18373,SOLICITUDES!$K$2:$K$1048576)","v":0},0]
[null,null,"T4815",10,13200,240,-76.64992619811494,2.7882277895780874,5,5,2,2,{"$f":"SUMIF(SOLICITUDES!$C$2:$C$1048576,BD!C18388,SOLICITUDES!$I$2:$I$1048576)","v":0},0,{"$f":"SUMIF(SOLICITUDES!$C$2:$C$1048576,BD!C18388,SOLICITUDES!$J$2:$J$1048576)","v":0},0,{"$f":"SUMIF(SOLICITUDES!$C$2:$C$1048576,BD!C18388,SOLICITUDES!$K$2:$K$1048576)","v":0},0]
[null,null,"T5360",25,13200,240,-76.636886083985971,2.7872552948859504,12.5,12.5,5,5,{"$f":"SUMIF(SOLICITUDES!$C$2:$C$1048576,BD!C18389,SOLICITUDES!$I$2:$I$1048576)","v":0},0,{"$f":"SUMIF(SOLICITUDES!$C$2:$C$1048576,BD!C18389,SOLICITUDES!$J$2:$J$1048576)","v":0},0,{"$f":"SUMIF(SOLICITUDES!$C$2:$C$1048576,BD!C18389,SOLICITUDES!$K$2:$K$1048576)","v":0},0]
[null,null,"T4859",25,13200,240,-76.659527604286765,2.7985767542942472,12.5,12.5,5,5,{"$f":"SUMIF(SOLICITUDES!$C$2:$C$1048576,BD!C18404,SOLICITUDES!$I$2:$I$1048576)","v":0},0,{"$f":"SUMIF(SOLICITUDES!$C$2:$C$1048576,BD!C18404,SOLICITUDES!$J$2:$J$1048576)","v":0},0,{"$f":"SUMIF(SOLICITUDES!$C$2:$C$1048576,BD!C18404,SOLICITUDES!$K$2:$K$1048576)","v":0},0]
[null,null,"T5372",15,13200,240,-76.635748837836545,2.797980099915494,7.5,7.5,3,3,{"$f":"SUMIF(SOLICITUDES!$C$2:$C$1048576,BD!C18409,SOLICITUDES!$I$2:$I$1048576)","v":0},0,{"$f":"SUMIF(SOLICITUDES!$C$2:$C$1048576,BD!C18409,SOLICITUDES!$J$2:$J$1048576)","v":0},0,{"$f":"SUMIF(SOLICITUDES!$C$2:$C$1048576,BD!C18409,SOLICITUDES!$K$2:$K$1048576)","v":0},0]
[null,null,"T4837",15,13200,240,-76.62032032082584,2.7635919244735869,7.5,7.5,3,3,{"$f":"SUMIF(SOLICITUDES!$C$2:$C$1048576,BD!C18420,SOLICITUDES!$I$2:$I$1048576)","v":0},0,{"$f":"SUMIF(SOLICITUDES!$C$2:$C$1048576,BD!C18420,SOLICITUDES!$J$2:$J$1048576)","v":0},0,{"$f":"SUMIF(SOLICITUDES!$C$2:$C$1048576,BD!C18420,SOLICITUDES!$K$2:$K$1048576)","v":0},0]
[null,null,"T31671",10,13200,240,-76.620893762174518,2.7922861682300812,5,{"$f":"D18435*0.5-M18435","v":5},2,2,{"$f":"SUMIF(SOLICITUDES!$C$2:$C$1048576,BD!C18435,SOLICITUDES!$I$2:$I$1048576)","v":0},{"$f":"M18435/D18435","v":0},{"$f":"SUMIF(SOLICITUDES!$C$2:$C$1048576,BD!C18435,SOLICITUDES!$J$2:$J$1048576)","v":0},0,{"$f":"SUMIF(SOLICITUDES!$C$2:$C$1048576,BD!C18435,SOLICITUDES!$K$2:$K$1048576)","v":0},0]
[null,null,"T5364",15,13200,240,-76.661241504918962,2.8092755074644167,7.5,7.5,3,3,{"$f":"SUMIF(SOLICITUDES!$C$2:$C$1048576,BD!C18446,SOLICITUDES!$I$2:$I$1048576)","v":0},0,{"$f":"SUMIF(SOLICITUDES!$C$2:$C$1048576,BD!C18446,SOLICITUDES!$J$2:$J$1048576)","v":0},0,{"$f":"SUMIF(SOLICITUDES!$C$2:$C$1048576,BD!C18446,SOLICITUDES!$K$2:$K$1048576)","v":0},0]
[null,null,"T5363",15,13200,240,-76.643530564101283,2.8160061616241663,7.5,7.5,3,3,{"$f":"SUMIF(SOLICITUDES!$C$2:$C$1048576,BD!C18459,SOLICITUDES!$I$2:$I$1048576)","v":0},0,{"$f":"SUMIF(SOLICITUDES!$C$2:$C$1048576,BD!C18459,SOLICITUDES!$J$2:$J$1048576)","v":0},0,{"$f":"SUMIF(SOLICITUDES!$C$2:$C$1048576,BD!C18459,SOLICITUDES!$K$2:$K$1048576)","v":0},0]
[null,null,"T4836",25,13200,240,-76.644843619992017,2.7671552173320357,12.5,12.5,5,5,{"$f":"SUMIF(SOLICITUDES!$C$2:$C$1048576,BD!C18467,SOLICITUDES!$I$2:$I$1048576)","v":0},0,{"$f":"SUMIF(SOLICITUDES!$C$2:$C$1048576,BD!C18467,SOLICITUDES!$J$2:$J$1048576)","v":0},0,{"$f":"SUMIF(SOLICITUDES!$C$2:$C$1048576,BD!C18467,SOLICITUDES!$K$2:$K$1048576)","v":0},0]
[null,null,"T10447",25,13200,240,-76.625654482661488,3.1144802764538788,12.5,12.5,5,5,{"$f":"SUMIF(SOLICITUDES!$C$2:$C$1048576,BD!C18478,SOLICITUDES!$I$2:$I$1048576)","v":0},0,{"$f":"SUMIF(SOLICITUDES!$C$2:$C$1048576,BD!C18478,SOLICITUDES!$J$2:$J$1048576)","v":0},0,{"$f":"SUMIF(SOLICITUDES!$C$2:$C$1048576,BD!C18478,SOLICITUDES!$K$2:$K$1048576)","v":0},0]
[null,null,"T9734",25,13200,240,-76.62219624097969,3.1240712904268548,12.5,12.5,5,5,{"$f":"SUMIF(SOLICITUDES!$C$2:$C$1048576,BD!C18483,SOLICITUDES!$I$2:$I$1048576)","v":0},0,{"$f":"SUMIF(SOLICITUDES!$C$2:$C$1048576,BD!C18483,SOLICITUDES!$J$2:$J$1048576)","v":0},0,{"$f":"SUMIF(SOLICITUDES!$C$2:$C$1048576,BD!C18483,SOLICITUDES!$K$2:$K$1048576)","v":0},0]
[null,null,"T14437",15,13200,240,-76.641456488521328,2.0572307103937413,7.5,7.5,3,3,{"$f":"SUMIF(SOLICITUDES!$C$2:$C$1048576,BD!C18498,SOLICITUDES!$I$2:$I$1048576)","v":0},0,{"$f":"SUMIF(SOLICITUDES!$C$2:$C$1048576,BD!C18498,SOLICITUDES!$J$2:$J$1048576)","v":0},0,{"$f":"SUMIF(SOLICITUDES!$C$2:$C$1048576,BD!C18498,SOLICITUDES!$K$2:$K$1048576)","v":0},0]
[null,null,"T15204",15,13200,240,-76.637515523822771,2.0388174504553187,7.5,7.5,3,3,{"$f":"SUMIF(SOLICITUDES!$C$2:$C$1048576,BD!C18509,SOLICITUDES!$I$2:$I$1048576)","v":0},0,{"$f":"SUMIF(SOLICITUDES!$C$2:$C$1048576,BD!C18509,SOLICITUDES!$J$2:$J$1048576)","v":0},0,{"$f":"SUMIF(SOLICITUDES!$C$2:$C$1048576,BD!C18509,SOLICITUDES!$K$2:$K$1048576)","v":0},0]
[null,null,"T18590",15,13200,240,-76.682355341472544,2.0552882045197909,7.5,7.5,3,3,{"$f":"SUMIF(SOLICITUDES!$C$2:$C$1048576,BD!C18514,SOLICITUDES!$I$2:$I$1048576)","v":0},0,{"$f":"SUMIF(SOLICITUDES!$C$2:$C$1048576,BD!C18514,SOLICITUDES!$J$2:$J$1048576)","v":0},0,{"$f":"SUMIF(SOLICITUDES!$C$2:$C$1048576,BD!C18514,SOLICITUDES!$K$2:$K$1048576)","v":0},0]
[null,null,"T18588",10,13200,240,-76.690678330545566,2.0574335529105889,5,5,2,2,{"$f":"SUMIF(SOLICITUDES!$C$2:$C$1048576,BD!C18525,SOLICITUDES!$I$2:$I$1048576)","v":0},0,{"$f":"SUMIF(SOLICITUDES!$C$2:$C$1048576,BD!C18525,SOLICITUDES!$J$2:$J$1048576)","v":0},0,{"$f":"SUMIF(SOLICITUDES!$C$2:$C$1048576,BD!C18525,SOLICITUDES!$K$2:$K$1048576)","v":0},0]
[null,null,"T14905",15,13200,240,-76.643194685453565,2.044932334973081,7.5,7.5,3,3,{"$f":"SUMIF(SOLICITUDES!$C$2:$C$1048576,BD!C18530,SOLICITUDES!$I$2:$I$1048576)","v":0},0,{"$f":"SUMIF(SOLICITUDES!$C$2:$C$1048576,BD!C18530,SOLICITUDES!$J$2:$J$1048576)","v":0},0,{"$f":"SUMIF(SOLICITUDES!$C$2:$C$1048576,BD!C18530,SOLICITUDES!$K$2:$K$1048576)","v":0},0]
[null,null,"T8574",15,13200,240,-76.584380176658868,3.0777353455469232,7.5,7.5,3,3,{"$f":"SUMIF(SOLICITUDES!$C$2:$C$1048576,BD!C18550,SOLICITUDES!$I$2:$I$1048576)","v":0},0,{"$f":"SUMIF(SOLICITUDES!$C$2:$C$1048576,BD!C18550,SOLICITUDES!$J$2:$J$1048576)","v":0},0,{"$f":"SUMIF(SOLICITUDES!$C$2:$C$1048576,BD!C18550,SOLICITUDES!$K$2:$K$1048576)","v":0},0]
[null,null,"T9498",50,13200,240,-76.598721611365136,3.0906937126149927,25,25,10,10,{"$f":"SUMIF(SOLICITUDES!$C$2:$C$1048576,BD!C18557,SOLICITUDES!$I$2:$I$1048576)","v":0},0,{"$f":"SUMIF(SOLICITUDES!$C$2:$C$1048576,BD!C18557,SOLICITUDES!$J$2:$J$1048576)","v":0},0,{"$f":"SUMIF(SOLICITUDES!$C$2:$C$1048576,BD!C18557,SOLICITUDES!$K$2:$K$1048576)","v":0},0]
[null,null,"T9486",25,13200,240,-76.600152591662791,3.0913795778368378,12.5,12.5,5,5,{"$f":"SUMIF(SOLICITUDES!$C$2:$C$1048576,BD!C18562,SOLICITUDES!$I$2:$I$1048576)","v":0},0,{"$f":"SUMIF(SOLICITUDES!$C$2:$C$1048576,BD!C18562,SOLICITUDES!$J$2:$J$1048576)","v":0},0,{"$f":"SUMIF(SOLICITUDES!$C$2:$C$1048576,BD!C18562,SOLICITUDES!$K$2:$K$1048576)","v":0},0]
[null,null,"T9500",10,13200,240,-76.603254767662804,3.0741990867869817,5,5,2,2,{"$f":"SUMIF(SOLICITUDES!$C$2:$C$1048576,BD!C18573,SOLICITUDES!$I$2:$I$1048576)","v":0},0,{"$f":"SUMIF(SOLICITUDES!$C$2:$C$1048576,BD!C18573,SOLICITUDES!$J$2:$J$1048576)","v":0},0,{"$f":"SUMIF(SOLICITUDES!$C$2:$C$1048576,BD!C18573,SOLICITUDES!$K$2:$K$1048576)","v":0},0]
[null,null,"T10410",75,13200,208,-76.644855923779005,3.1280418958793939,37.5,37.5,15,15,{"$f":"SUMIF(SOLICITUDES!$C$2:$C$1048576,BD!C18588,SOLICITUDES!$I$2:$I$1048576)","v":0},0,{"$f":"SUMIF(SOLICITUDES!$C$2:$C$1048576,BD!C18588,SOLICITUDES!$J$2:$J$1048576)","v":0},0,{"$f":"SUMIF(SOLICITUDES!$C$2:$C$1048576,BD!C18588,SOLICITUDES!$K$2:$K$1048576)","v":0},0]
[null,null,"T2662",45,13200,208,-76.615340286414337,2.438956994762564,22.5,22.5,9,9,{"$f":"SUMIF(SOLICITUDES!$C$2:$C$1048576,BD!C18593,SOLICITUDES!$I$2:$I$1048576)","v":0},0,{"$f":"SUMIF(SOLICITUDES!$C$2:$C$1048576,BD!C18593,SOLICITUDES!$J$2:$J$1048576)","v":0},0,{"$f":"SUMIF(SOLICITUDES!$C$2:$C$1048576,BD!C18593,SOLICITUDES!$K$2:$K$1048576)","v":0},0]
[null,null,"T7278",15,13200,240,-76.729606908819306,2.2223488295510703,7.5,7.5,3,3,{"$f":"SUMIF(SOLICITUDES!$C$2:$C$1048576,BD!C18604,SOLICITUDES!$I$2:$I$1048576)","v":0},0,{"$f":"SUMIF(SOLICITUDES!$C$2:$C$1048576,BD!C18604,SOLICITUDES!$J$2:$J$1048576)","v":0},0,{"$f":"SUMIF(SOLICITUDES!$C$2:$C$1048576,BD!C18604,SOLICITUDES!$K$2:$K$1048576)","v":0},0]
[null,null,"T2678",75,13200,208,-76.617308687782383,2.4407482304714572,37.5,37.5,15,15,{"$f":"SUMIF(SOLICITUDES!$C$2:$C$1048576,BD!C18619,SOLICITUDES!$I$2:$I$1048576)","v":0},0,{"$f":"SUMIF(SOLICITUDES!$C$2:$C$1048576,BD!C18619,SOLICITUDES!$J$2:$J$1048576)","v":0},0,{"$f":"SUMIF(SOLICITUDES!$C$2:$C$1048576,BD!C18619,SOLICITUDES!$K$2:$K$1048576)","v":0},0]
[null,null,"T7109",75,13200,208,-76.490247129238327,3.0001978668734095,37.5,37.5,15,15,{"$f":"SUMIF(SOLICITUDES!$C$2:$C$1048576,BD!C18624,SOLICITUDES!$I$2:$I$1048576)","v":0},0,{"$f":"SUMIF(SOLICITUDES!$C$2:$C$1048576,BD!C18624,SOLICITUDES!$J$2:$J$1048576)","v":0},0,{"$f":"SUMIF(SOLICITUDES!$C$2:$C$1048576,BD!C18624,SOLICITUDES!$K$2:$K$1048576)","v":0},0]
[null,null,"T7052",112.5,13200,208,-76.486207902355261,3.0011000126513001,56.25,56.25,22.5,22.5,{"$f":"SUMIF(SOLICITUDES!$C$2:$C$1048576,BD!C18634,SOLICITUDES!$I$2:$I$1048576)","v":0},0,{"$f":"SUMIF(SOLICITUDES!$C$2:$C$1048576,BD!C18634,SOLICITUDES!$J$2:$J$1048576)","v":0},0,{"$f":"SUMIF(SOLICITUDES!$C$2:$C$1048576,BD!C18634,SOLICITUDES!$K$2:$K$1048576)","v":0},0]
[null,null,"T15687",37.5,13200,240,-76.664982004599423,2.0134040692348107,18.75,18.75,7.5,7.5,{"$f":"SUMIF(SOLICITUDES!$C$2:$C$1048576,BD!C18651,SOLICITUDES!$I$2:$I$1048576)","v":0},0,{"$f":"SUMIF(SOLICITUDES!$C$2:$C$1048576,BD!C18651,SOLICITUDES!$J$2:$J$1048576)","v":0},0,{"$f":"SUMIF(SOLICITUDES!$C$2:$C$1048576,BD!C18651,SOLICITUDES!$K$2:$K$1048576)","v":0},0]
[null,null,"T16942",15,13200,240,-76.682118781045958,2.0304279720603668,7.5,7.5,3,3,{"$f":"SUMIF(SOLICITUDES!$C$2:$C$1048576,BD!C18652,SOLICITUDES!$I$2:$I$1048576)","v":0},0,{"$f":"SUMIF(SOLICITUDES!$C$2:$C$1048576,BD!C18652,SOLICITUDES!$J$2:$J$1048576)","v":0},0,{"$f":"SUMIF(SOLICITUDES!$C$2:$C$1048576,BD!C18652,SOLICITUDES!$K$2:$K$1048576)","v":0},0]
[null,null,"T15686",10,13200,240,-76.661126906041673,2.0097767002326581,5,5,2,2,{"$f":"SUMIF(SOLICITUDES!$C$2:$C$1048576,BD!C18667,SOLICITUDES!$I$2:$I$1048576)","v":0},0,{"$f":"SUMIF(SOLICITUDES!$C$2:$C$1048576,BD!C18667,SOLICITUDES!$J$2:$J$1048576)","v":0},0,{"$f":"SUMIF(SOLICITUDES!$C$2:$C$1048576,BD!C18667,SOLICITUDES!$K$2:$K$1048576)","v":0},0]
[null,null,"T15681",15,13200,240,-76.660018456953352,2.0209720566457579,7.5,7.5,3,3,{"$f":"SUMIF(SOLICITUDES!$C$2:$C$1048576,BD!C18672,SOLICITUDES!$I$2:$I$1048576)","v":0},0,{"$f":"SUMIF(SOLICITUDES!$C$2:$C$1048576,BD!C18672,SOLICITUDES!$J$2:$J$1048576)","v":0},0,{"$f":"SUMIF(SOLICITUDES!$C$2:$C$1048576,BD!C18672,SOLICITUDES!$K$2:$K$1048576)","v":0},0]
[null,null,"T16943",10,13200,240,-76.680049210060673,2.0027728725182747,5,5,2,2,{"$f":"SUMIF(SOLICITUDES!$C$2:$C$1048576,BD!C18683,SOLICITUDES!$I$2:$I$1048576)","v":0},0,{"$f":"SUMIF(SOLICITUDES!$C$2:$C$1048576,BD!C18683,SOLICITUDES!$J$2:$J$1048576)","v":0},0,{"$f":"SUMIF(SOLICITUDES!$C$2:$C$1048576,BD!C18683,SOLICITUDES!$K$2:$K$1048576)","v":0},0]
[null,null,"T6623",5,13200,240,-76.753076109359398,2.1943740704658281,2.5,2.5,1,1,{"$f":"SUMIF(SOLICITUDES!$C$2:$C$1048576,BD!C18698,SOLICITUDES!$I$2:$I$1048576)","v":0},0,{"$f":"SUMIF(SOLICITUDES!$C$2:$C$1048576,BD!C18698,SOLICITUDES!$J$2:$J$1048576)","v":0},0,{"$f":"SUMIF(SOLICITUDES!$C$2:$C$1048576,BD!C18698,SOLICITUDES!$K$2:$K$1048576)","v":0},0]
[null,null,"T2664",112.5,13200,208,-76.614917121974386,2.4406750554640015,56.25,56.25,22.5,22.5,{"$f":"SUMIF(SOLICITUDES!$C$2:$C$1048576,BD!C18709,SOLICITUDES!$I$2:$I$1048576)","v":0},0,{"$f":"SUMIF(SOLICITUDES!$C$2:$C$1048576,BD!C18709,SOLICITUDES!$J$2:$J$1048576)","v":0},0,{"$f":"SUMIF(SOLICITUDES!$C$2:$C$1048576,BD!C18709,SOLICITUDES!$K$2:$K$1048576)","v":0},0]
[null,null,"T7275",10,13200,240,-76.691318806977705,2.1918993229380765,5,5,2,2,{"$f":"SUMIF(SOLICITUDES!$C$2:$C$1048576,BD!C18714,SOLICITUDES!$I$2:$I$1048576)","v":0},0,{"$f":"SUMIF(SOLICITUDES!$C$2:$C$1048576,BD!C18714,SOLICITUDES!$J$2:$J$1048576)","v":0},0,{"$f":"SUMIF(SOLICITUDES!$C$2:$C$1048576,BD!C18714,SOLICITUDES!$K$2:$K$1048576)","v":0},0]
[null,null,"T3321",112.5,13200,208,-76.616058764256536,2.4412723043904916,56.25,56.25,22.5,22.5,{"$f":"SUMIF(SOLICITUDES!$C$2:$C$1048576,BD!C18725,SOLICITUDES!$I$2:$I$1048576)","v":0},0,{"$f":"SUMIF(SOLICITUDES!$C$2:$C$1048576,BD!C18725,SOLICITUDES!$J$2:$J$1048576)","v":0},0,{"$f":"SUMIF(SOLICITUDES!$C$2:$C$1048576,BD!C18725,SOLICITUDES!$K$2:$K$1048576)","v":0},0]
[null,null,"T17424",5,13200,240,-76.859495756554566,2.0623858246824334,2.5,2.5,1,1,{"$f":"SUMIF(SOLICITUDES!$C$2:$C$1048576,BD!C18741,SOLICITUDES!$I$2:$I$1048576)","v":0},0,{"$f":"SUMIF(SOLICITUDES!$C$2:$C$1048576,BD!C18741,SOLICITUDES!$J$2:$J$1048576)","v":0},0,{"$f":"SUMIF(SOLICITUDES!$C$2:$C$1048576,BD!C18741,SOLICITUDES!$K$2:$K$1048576)","v":0},0]
[null,null,"T15277",10,13200,240,-76.814940631714975,2.046914550803844,5,5,2,2,{"$f":"SUMIF(SOLICITUDES!$C$2:$C$1048576,BD!C18746,SOLICITUDES!$I$2:$I$1048576)","v":0},0,{"$f":"SUMIF(SOLICITUDES!$C$2:$C$1048576,BD!C18746,SOLICITUDES!$J$2:$J$1048576)","v":0},0,{"$f":"SUMIF(SOLICITUDES!$C$2:$C$1048576,BD!C18746,SOLICITUDES!$K$2:$K$1048576)","v":0},0]
[null,null,"T16387",15,13200,240,-76.839992366699974,2.0427542489006894,7.5,7.5,3,3,{"$f":"SUMIF(SOLICITUDES!$C$2:$C$1048576,BD!C18761,SOLICITUDES!$I$2:$I$1048576)","v":0},0,{"$f":"SUMIF(SOLICITUDES!$C$2:$C$1048576,BD!C18761,SOLICITUDES!$J$2:$J$1048576)","v":0},0,{"$f":"SUMIF(SOLICITUDES!$C$2:$C$1048576,BD!C18761,SOLICITUDES!$K$2:$K$1048576)","v":0},0]
[null,null,"T25830",5,13200,240,-76.815243143099877,2.0160841018795366,2.5,2.5,1,1,{"$f":"SUMIF(SOLICITUDES!$C$2:$C$1048576,BD!C18772,SOLICITUDES!$I$2:$I$1048576)","v":0},0,{"$f":"SUMIF(SOLICITUDES!$C$2:$C$1048576,BD!C18772,SOLICITUDES!$J$2:$J$1048576)","v":0},0,{"$f":"SUMIF(SOLICITUDES!$C$2:$C$1048576,BD!C18772,SOLICITUDES!$K$2:$K$1048576)","v":0},0]
[null,null,"T16408",15,13200,240,-76.843058856383109,2.0372605871816583,7.5,7.5,3,3,{"$f":"SUMIF(SOLICITUDES!$C$2:$C$1048576,BD!C18777,SOLICITUDES!$I$2:$I$1048576)","v":0},0,{"$f":"SUMIF(SOLICITUDES!$C$2:$C$1048576,BD!C18777,SOLICITUDES!$J$2:$J$1048576)","v":0},0,{"$f":"SUMIF(SOLICITUDES!$C$2:$C$1048576,BD!C18777,SOLICITUDES!$K$2:$K$1048576)","v":0},0]
[null,null,"T30025",15,13200,208,-77.150229560059003,1.7962608120818213,7.5,7.5,3,3,{"$f":"SUMIF(SOLICITUDES!$C$2:$C$1048576,BD!C18788,SOLICITUDES!$I$2:$I$1048576)","v":0},0,{"$f":"SUMIF(SOLICITUDES!$C$2:$C$1048576,BD!C18788,SOLICITUDES!$J$2:$J$1048576)","v":0},0,{"$f":"SUMIF(SOLICITUDES!$C$2:$C$1048576,BD!C18788,SOLICITUDES!$K$2:$K$1048576)","v":0},0]
[null,null,"T27639",45,13200,214,-76.262565611629242,3.1741188532873608,22.5,22.5,9,9,{"$f":"SUMIF(SOLICITUDES!$C$2:$C$1048576,BD!C18793,SOLICITUDES!$I$2:$I$1048576)","v":0},0,{"$f":"SUMIF(SOLICITUDES!$C$2:$C$1048576,BD!C18793,SOLICITUDES!$J$2:$J$1048576)","v":0},0,{"$f":"SUMIF(SOLICITUDES!$C$2:$C$1048576,BD!C18793,SOLICITUDES!$K$2:$K$1048576)","v":0},0]
[null,null,"T11442",75,13200,208,-76.267261173441625,3.1744841917581237,37.5,37.5,15,15,{"$f":"SUMIF(SOLICITUDES!$C$2:$C$1048576,BD!C18808,SOLICITUDES!$I$2:$I$1048576)","v":0},0,{"$f":"SUMIF(SOLICITUDES!$C$2:$C$1048576,BD!C18808,SOLICITUDES!$J$2:$J$1048576)","v":0},0,{"$f":"SUMIF(SOLICITUDES!$C$2:$C$1048576,BD!C18808,SOLICITUDES!$K$2:$K$1048576)","v":0},0]
[null,null,"T21189",45,13200,220,-76.578629493145414,2.4892237615893782,{"$f":"D18820*0.5","v":22.5},22.5,{"$f":"0.2*D18820","v":9},{"$f":"0.2*D18820","v":9},{"$f":"SUMIF(SOLICITUDES!$C$2:$C$1048576,BD!C18820,SOLICITUDES!$I$2:$I$1048576)","v":0},0,{"$f":"SUMIF(SOLICITUDES!$C$2:$C$1048576,BD!C18820,SOLICITUDES!$J$2:$J$1048576)","v":0},{"$f":"O18820/(2*K18820)","v":0},{"$f":"SUMIF(SOLICITUDES!$C$2:$C$1048576,BD!C18820,SOLICITUDES!$K$2:$K$1048576)","v":0},{"$f":"Q18820/(2*L18820)","v":0}]
[null,null,"T42187",37.5,13200,240,-76.575291911538812,2.4940334414889747,18.75,18.75,7.5,7.5,{"$f":"SUMIF(SOLICITUDES!$C$2:$C$1048576,BD!C18825,SOLICITUDES!$I$2:$I$1048576)","v":0},0,{"$f":"SUMIF(SOLICITUDES!$C$2:$C$1048576,BD!C18825,SOLICITUDES!$J$2:$J$1048576)","v":0},0,{"$f":"SUMIF(SOLICITUDES!$C$2:$C$1048576,BD!C18825,SOLICITUDES!$K$2:$K$1048576)","v":0},0]
[null,null,"T1990",75,13200,208,-76.581965195446315,2.4893425910418654,37.5,37.5,15,15,{"$f":"SUMIF(SOLICITUDES!$C$2:$C$1048576,BD!C18840,SOLICITUDES!$I$2:$I$1048576)","v":0},0,{"$f":"SUMIF(SOLICITUDES!$C$2:$C$1048576,BD!C18840,SOLICITUDES!$J$2:$J$1048576)","v":0},0,{"$f":"SUMIF(SOLICITUDES!$C$2:$C$1048576,BD!C18840,SOLICITUDES!$K$2:$K$1048576)","v":0},0]
[null,null,"T2985",75,13200,220,-76.584560155869099,2.4987032757377743,37.5,37.5,15,15,{"$f":"SUMIF(SOLICITUDES!$C$2:$C$1048576,BD!C18851,SOLICITUDES!$I$2:$I$1048576)","v":0},0,{"$f":"SUMIF(SOLICITUDES!$C$2:$C$1048576,BD!C18851,SOLICITUDES!$J$2:$J$1048576)","v":0},0,{"$f":"SUMIF(SOLICITUDES!$C$2:$C$1048576,BD!C18851,SOLICITUDES!$K$2:$K$1048576)","v":0},0]
[null,null,"T14492",75,13200,208,-76.529689941026106,2.6979274979402676,37.5,37.5,15,15,{"$f":"SUMIF(SOLICITUDES!$C$2:$C$1048576,BD!C18856,SOLICITUDES!$I$2:$I$1048576)","v":0},0,{"$f":"SUMIF(SOLICITUDES!$C$2:$C$1048576,BD!C18856,SOLICITUDES!$J$2:$J$1048576)","v":0},0,{"$f":"SUMIF(SOLICITUDES!$C$2:$C$1048576,BD!C18856,SOLICITUDES!$K$2:$K$1048576)","v":0},0]
[null,null,"T42826",30,13200,214,-76.851209528969363,2.4964196002789332,15,15,6,6,{"$f":"SUMIF(SOLICITUDES!$C$2:$C$1048576,BD!C18867,SOLICITUDES!$I$2:$I$1048576)","v":0},0,{"$f":"SUMIF(SOLICITUDES!$C$2:$C$1048576,BD!C18867,SOLICITUDES!$J$2:$J$1048576)","v":0},0,{"$f":"SUMIF(SOLICITUDES!$C$2:$C$1048576,BD!C18867,SOLICITUDES!$K$2:$K$1048576)","v":0},0]
[null,null,"T14748",5,13200,240,-76.779917072578115,2.574890110779533,2.5,2.5,1,1,{"$f":"SUMIF(SOLICITUDES!$C$2:$C$1048576,BD!C18882,SOLICITUDES!$I$2:$I$1048576)","v":0},0,{"$f":"SUMIF(SOLICITUDES!$C$2:$C$1048576,BD!C18882,SOLICITUDES!$J$2:$J$1048576)","v":0},0,{"$f":"SUMIF(SOLICITUDES!$C$2:$C$1048576,BD!C18882,SOLICITUDES!$K$2:$K$1048576)","v":0},0]
[null,null,"T15049",37.5,13200,240,-76.786793611715481,2.5854544501931551,18.75,18.75,7.5,7.5,{"$f":"SUMIF(SOLICITUDES!$C$2:$C$1048576,BD!C18887,SOLICITUDES!$I$2:$I$1048576)","v":0},0,{"$f":"SUMIF(SOLICITUDES!$C$2:$C$1048576,BD!C18887,SOLICITUDES!$J$2:$J$1048576)","v":0},0,{"$f":"SUMIF(SOLICITUDES!$C$2:$C$1048576,BD!C18887,SOLICITUDES!$K$2:$K$1048576)","v":0},0]
[null,null,"T14749",15,13200,240,-76.791963230364715,2.5652795102859471,7.5,7.5,3,3,{"$f":"SUMIF(SOLICITUDES!$C$2:$C$1048576,BD!C18898,SOLICITUDES!$I$2:$I$1048576)","v":0},0,{"$f":"SUMIF(SOLICITUDES!$C$2:$C$1048576,BD!C18898,SOLICITUDES!$J$2:$J$1048576)","v":0},0,{"$f":"SUMIF(SOLICITUDES!$C$2:$C$1048576,BD!C18898,SOLICITUDES!$K$2:$K$1048576)","v":0},0]
[null,null,"T17947",10,13200,240,-76.838439361408362,2.5647560139494252,5,5,2,2,{"$f":"SUMIF(SOLICITUDES!$C$2:$C$1048576,BD!C18911,SOLICITUDES!$I$2:$I$1048576)","v":0},0,{"$f":"SUMIF(SOLICITUDES!$C$2:$C$1048576,BD!C18911,SOLICITUDES!$J$2:$J$1048576)","v":0},0,{"$f":"SUMIF(SOLICITUDES!$C$2:$C$1048576,BD!C18911,SOLICITUDES!$K$2:$K$1048576)","v":0},0]
[null,null,"T18500",10,13200,240,-76.873809709952312,2.5353529525046268,5,5,2,2,{"$f":"SUMIF(SOLICITUDES!$C$2:$C$1048576,BD!C18915,SOLICITUDES!$I$2:$I$1048576)","v":0},0,{"$f":"SUMIF(SOLICITUDES!$C$2:$C$1048576,BD!C18915,SOLICITUDES!$J$2:$J$1048576)","v":0},0,{"$f":"SUMIF(SOLICITUDES!$C$2:$C$1048576,BD!C18915,SOLICITUDES!$K$2:$K$1048576)","v":0},0]
[null,null,"T18564",10,13200,240,-76.881146165405497,2.541123838317688,5,5,2,2,{"$f":"SUMIF(SOLICITUDES!$C$2:$C$1048576,BD!C18930,SOLICITUDES!$I$2:$I$1048576)","v":0},0,{"$f":"SUMIF(SOLICITUDES!$C$2:$C$1048576,BD!C18930,SOLICITUDES!$J$2:$J$1048576)","v":0},0,{"$f":"SUMIF(SOLICITUDES!$C$2:$C$1048576,BD!C18930,SOLICITUDES!$K$2:$K$1048576)","v":0},0]
[null,null,"T15553",10,13200,214,-77.237588106431303,2.0691942877684486,5,5,2,2,{"$f":"SUMIF(SOLICITUDES!$C$2:$C$1048576,BD!C18935,SOLICITUDES!$I$2:$I$1048576)","v":0},0,{"$f":"SUMIF(SOLICITUDES!$C$2:$C$1048576,BD!C18935,SOLICITUDES!$J$2:$J$1048576)","v":0},0,{"$f":"SUMIF(SOLICITUDES!$C$2:$C$1048576,BD!C18935,SOLICITUDES!$K$2:$K$1048576)","v":0},0]
[null,null,"T17537",10,13200,240,-77.264546740248122,2.076480462166383,5,5,2,2,{"$f":"SUMIF(SOLICITUDES!$C$2:$C$1048576,BD!C18946,SOLICITUDES!$I$2:$I$1048576)","v":0},0,{"$f":"SUMIF(SOLICITUDES!$C$2:$C$1048576,BD!C18946,SOLICITUDES!$J$2:$J$1048576)","v":0},0,{"$f":"SUMIF(SOLICITUDES!$C$2:$C$1048576,BD!C18946,SOLICITUDES!$K$2:$K$1048576)","v":0},0]
[null,null,"T18039",5,13200,240,-77.25637462746792,2.0660632583251082,2.5,2.5,1,1,{"$f":"SUMIF(SOLICITUDES!$C$2:$C$1048576,BD!C18961,SOLICITUDES!$I$2:$I$1048576)","v":0},0,{"$f":"SUMIF(SOLICITUDES!$C$2:$C$1048576,BD!C18961,SOLICITUDES!$J$2:$J$1048576)","v":0},0,{"$f":"SUMIF(SOLICITUDES!$C$2:$C$1048576,BD!C18961,SOLICITUDES!$K$2:$K$1048576)","v":0},0]
[null,null,"T18048",5,13200,240,-77.264584684397008,2.0515665852856189,2.5,2.5,1,1,{"$f":"SUMIF(SOLICITUDES!$C$2:$C$1048576,BD!C18966,SOLICITUDES!$I$2:$I$1048576)","v":0},0,{"$f":"SUMIF(SOLICITUDES!$C$2:$C$1048576,BD!C18966,SOLICITUDES!$J$2:$J$1048576)","v":0},0,{"$f":"SUMIF(SOLICITUDES!$C$2:$C$1048576,BD!C18966,SOLICITUDES!$K$2:$K$1048576)","v":0},0]
[null,null,"T18041",10,13200,240,-77.276292945087931,2.0390384657633978,5,5,2,2,{"$f":"SUMIF(SOLICITUDES!$C$2:$C$1048576,BD!C18977,SOLICITUDES!$I$2:$I$1048576)","v":0},0,{"$f":"SUMIF(SOLICITUDES!$C$2:$C$1048576,BD!C18977,SOLICITUDES!$J$2:$J$1048576)","v":0},0,{"$f":"SUMIF(SOLICITUDES!$C$2:$C$1048576,BD!C18977,SOLICITUDES!$K$2:$K$1048576)","v":0},0]
[null,null,"T21269",5,13200,240,-77.277392949524952,2.0257259175297571,2.5,2.5,1,1,{"$f":"SUMIF(SOLICITUDES!$C$2:$C$1048576,BD!C18992,SOLICITUDES!$I$2:$I$1048576)","v":0},0,{"$f":"SUMIF(SOLICITUDES!$C$2:$C$1048576,BD!C18992,SOLICITUDES!$J$2:$J$1048576)","v":0},0,{"$f":"SUMIF(SOLICITUDES!$C$2:$C$1048576,BD!C18992,SOLICITUDES!$K$2:$K$1048576)","v":0},0]
[null,null,"T21236",5,13200,240,-77.268641115638374,2.0320741919728076,2.5,2.5,1,1,{"$f":"SUMIF(SOLICITUDES!$C$2:$C$1048576,BD!C18995,SOLICITUDES!$I$2:$I$1048576)","v":0},0,{"$f":"SUMIF(SOLICITUDES!$C$2:$C$1048576,BD!C18995,SOLICITUDES!$J$2:$J$1048576)","v":0},0,{"$f":"SUMIF(SOLICITUDES!$C$2:$C$1048576,BD!C18995,SOLICITUDES!$K$2:$K$1048576)","v":0},0]
[null,null,"T25804",5,13200,240,-76.784477074607977,2.0305023690894517,2.5,2.5,1,1,{"$f":"SUMIF(SOLICITUDES!$C$2:$C$1048576,BD!C19009,SOLICITUDES!$I$2:$I$1048576)","v":0},0,{"$f":"SUMIF(SOLICITUDES!$C$2:$C$1048576,BD!C19009,SOLICITUDES!$J$2:$J$1048576)","v":0},0,{"$f":"SUMIF(SOLICITUDES!$C$2:$C$1048576,BD!C19009,SOLICITUDES!$K$2:$K$1048576)","v":0},0]
[null,null,"T16393",15,13200,240,-76.863024483466006,2.0247110423642174,7.5,7.5,3,3,{"$f":"SUMIF(SOLICITUDES!$C$2:$C$1048576,BD!C19024,SOLICITUDES!$I$2:$I$1048576)","v":0},0,{"$f":"SUMIF(SOLICITUDES!$C$2:$C$1048576,BD!C19024,SOLICITUDES!$J$2:$J$1048576)","v":0},0,{"$f":"SUMIF(SOLICITUDES!$C$2:$C$1048576,BD!C19024,SOLICITUDES!$K$2:$K$1048576)","v":0},0]
[null,null,"T17422",25,13200,240,-76.884148483427225,2.0193238330315895,12.5,12.5,5,5,{"$f":"SUMIF(SOLICITUDES!$C$2:$C$1048576,BD!C19035,SOLICITUDES!$I$2:$I$1048576)","v":0},0,{"$f":"SUMIF(SOLICITUDES!$C$2:$C$1048576,BD!C19035,SOLICITUDES!$J$2:$J$1048576)","v":0},0,{"$f":"SUMIF(SOLICITUDES!$C$2:$C$1048576,BD!C19035,SOLICITUDES!$K$2:$K$1048576)","v":0},0]
[null,null,"T17414",10,13200,240,-76.887285672649881,2.0179224710361767,5,5,2,2,{"$f":"SUMIF(SOLICITUDES!$C$2:$C$1048576,BD!C19040,SOLICITUDES!$I$2:$I$1048576)","v":0},0,{"$f":"SUMIF(SOLICITUDES!$C$2:$C$1048576,BD!C19040,SOLICITUDES!$J$2:$J$1048576)","v":0},0,{"$f":"SUMIF(SOLICITUDES!$C$2:$C$1048576,BD!C19040,SOLICITUDES!$K$2:$K$1048576)","v":0},0]
[null,null,"T29921",10,13200,240,-76.897156294953291,2.007686344940423,5,5,2,2,{"$f":"SUMIF(SOLICITUDES!$C$2:$C$1048576,BD!C19055,SOLICITUDES!$I$2:$I$1048576)","v":0},0,{"$f":"SUMIF(SOLICITUDES!$C$2:$C$1048576,BD!C19055,SOLICITUDES!$J$2:$J$1048576)","v":0},0,{"$f":"SUMIF(SOLICITUDES!$C$2:$C$1048576,BD!C19055,SOLICITUDES!$K$2:$K$1048576)","v":0},0]
[null,null,"T29933",10,13200,220,-76.871431898134958,2.0053922901304704,5,5,2,2,{"$f":"SUMIF(SOLICITUDES!$C$2:$C$1048576,BD!C19056,SOLICITUDES!$I$2:$I$1048576)","v":0},0,{"$f":"SUMIF(SOLICITUDES!$C$2:$C$1048576,BD!C19056,SOLICITUDES!$J$2:$J$1048576)","v":0},0,{"$f":"SUMIF(SOLICITUDES!$C$2:$C$1048576,BD!C19056,SOLICITUDES!$K$2:$K$1048576)","v":0},0]
[null,null,"T17140",25,13200,240,-77.238607883946997,2.3014216818649906,12.5,12.5,5,5,{"$f":"SUMIF(SOLICITUDES!$C$2:$C$1048576,BD!C19071,SOLICITUDES!$I$2:$I$1048576)","v":0},0,{"$f":"SUMIF(SOLICITUDES!$C$2:$C$1048576,BD!C19071,SOLICITUDES!$J$2:$J$1048576)","v":0},0,{"$f":"SUMIF(SOLICITUDES!$C$2:$C$1048576,BD!C19071,SOLICITUDES!$K$2:$K$1048576)","v":0},0]
[null,null,"T25108",10,13200,240,-77.254237680385231,2.3137005470690224,5,5,2,2,{"$f":"SUMIF(SOLICITUDES!$C$2:$C$1048576,BD!C19082,SOLICITUDES!$I$2:$I$1048576)","v":0},0,{"$f":"SUMIF(SOLICITUDES!$C$2:$C$1048576,BD!C19082,SOLICITUDES!$J$2:$J$1048576)","v":0},0,{"$f":"SUMIF(SOLICITUDES!$C$2:$C$1048576,BD!C19082,SOLICITUDES!$K$2:$K$1048576)","v":0},0]
[null,null,"T17881",10,13200,240,-77.258615274684416,2.315347449150444,5,5,2,2,{"$f":"SUMIF(SOLICITUDES!$C$2:$C$1048576,BD!C19086,SOLICITUDES!$I$2:$I$1048576)","v":0},0,{"$f":"SUMIF(SOLICITUDES!$C$2:$C$1048576,BD!C19086,SOLICITUDES!$J$2:$J$1048576)","v":0},0,{"$f":"SUMIF(SOLICITUDES!$C$2:$C$1048576,BD!C19086,SOLICITUDES!$K$2:$K$1048576)","v":0},0]
[null,null,"T25421",10,13200,240,-77.241970980185627,2.3141269125005417,5,5,2,2,{"$f":"SUMIF(SOLICITUDES!$C$2:$C$1048576,BD!C19103,SOLICITUDES!$I$2:$I$1048576)","v":0},0,{"$f":"SUMIF(SOLICITUDES!$C$2:$C$1048576,BD!C19103,SOLICITUDES!$J$2:$J$1048576)","v":0},0,{"$f":"SUMIF(SOLICITUDES!$C$2:$C$1048576,BD!C19103,SOLICITUDES!$K$2:$K$1048576)","v":0},0]
[null,null,"T17877",15,13200,240,-77.268856885289182,2.3271388360714966,7.5,7.5,3,3,{"$f":"SUMIF(SOLICITUDES!$C$2:$C$1048576,BD!C19114,SOLICITUDES!$I$2:$I$1048576)","v":0},0,{"$f":"SUMIF(SOLICITUDES!$C$2:$C$1048576,BD!C19114,SOLICITUDES!$J$2:$J$1048576)","v":0},0,{"$f":"SUMIF(SOLICITUDES!$C$2:$C$1048576,BD!C19114,SOLICITUDES!$K$2:$K$1048576)","v":0},0]
[null,null,"T10766",15,13200,240,-76.331908864819681,2.8559962033875372,7.5,7.5,3,3,{"$f":"SUMIF(SOLICITUDES!$C$2:$C$1048576,BD!C19119,SOLICITUDES!$I$2:$I$1048576)","v":0},0,{"$f":"SUMIF(SOLICITUDES!$C$2:$C$1048576,BD!C19119,SOLICITUDES!$J$2:$J$1048576)","v":0},0,{"$f":"SUMIF(SOLICITUDES!$C$2:$C$1048576,BD!C19119,SOLICITUDES!$K$2:$K$1048576)","v":0},0]
[null,null,"T10763",10,13200,240,-76.342394772345543,2.8708873613772519,5,5,2,2,{"$f":"SUMIF(SOLICITUDES!$C$2:$C$1048576,BD!C19130,SOLICITUDES!$I$2:$I$1048576)","v":0},0,{"$f":"SUMIF(SOLICITUDES!$C$2:$C$1048576,BD!C19130,SOLICITUDES!$J$2:$J$1048576)","v":0},0,{"$f":"SUMIF(SOLICITUDES!$C$2:$C$1048576,BD!C19130,SOLICITUDES!$K$2:$K$1048576)","v":0},0]
[null,null,"T11532",25,13200,240,-76.34100627675717,2.9039103862803231,12.5,12.5,5,5,{"$f":"SUMIF(SOLICITUDES!$C$2:$C$1048576,BD!C19145,SOLICITUDES!$I$2:$I$1048576)","v":0},0,{"$f":"SUMIF(SOLICITUDES!$C$2:$C$1048576,BD!C19145,SOLICITUDES!$J$2:$J$1048576)","v":0},0,{"$f":"SUMIF(SOLICITUDES!$C$2:$C$1048576,BD!C19145,SOLICITUDES!$K$2:$K$1048576)","v":0},0]
[null,null,"T11516",25,13200,214,-76.336011927369753,2.9082023934356545,12.5,12.5,5,5,{"$f":"SUMIF(SOLICITUDES!$C$2:$C$1048576,BD!C19150,SOLICITUDES!$I$2:$I$1048576)","v":0},0,{"$f":"SUMIF(SOLICITUDES!$C$2:$C$1048576,BD!C19150,SOLICITUDES!$J$2:$J$1048576)","v":0},0,{"$f":"SUMIF(SOLICITUDES!$C$2:$C$1048576,BD!C19150,SOLICITUDES!$K$2:$K$1048576)","v":0},0]
[null,null,"T11517",15,13200,240,-76.330224285522505,2.9150257549856882,7.5,7.5,3,3,{"$f":"SUMIF(SOLICITUDES!$C$2:$C$1048576,BD!C19161,SOLICITUDES!$I$2:$I$1048576)","v":0},0,{"$f":"SUMIF(SOLICITUDES!$C$2:$C$1048576,BD!C19161,SOLICITUDES!$J$2:$J$1048576)","v":0},0,{"$f":"SUMIF(SOLICITUDES!$C$2:$C$1048576,BD!C19161,SOLICITUDES!$K$2:$K$1048576)","v":0},0]
[null,null,"T12091",10,13200,240,-76.330496114728675,2.9255516689686658,5,5,2,2,{"$f":"SUMIF(SOLICITUDES!$C$2:$C$1048576,BD!C19176,SOLICITUDES!$I$2:$I$1048576)","v":0},0,{"$f":"SUMIF(SOLICITUDES!$C$2:$C$1048576,BD!C19176,SOLICITUDES!$J$2:$J$1048576)","v":0},0,{"$f":"SUMIF(SOLICITUDES!$C$2:$C$1048576,BD!C19176,SOLICITUDES!$K$2:$K$1048576)","v":0},0]
[null,null,"T11512",15,13200,240,-76.35020023770565,2.9004620895529341,7.5,7.5,3,3,{"$f":"SUMIF(SOLICITUDES!$C$2:$C$1048576,BD!C19177,SOLICITUDES!$I$2:$I$1048576)","v":0},0,{"$f":"SUMIF(SOLICITUDES!$C$2:$C$1048576,BD!C19177,SOLICITUDES!$J$2:$J$1048576)","v":0},0,{"$f":"SUMIF(SOLICITUDES!$C$2:$C$1048576,BD!C19177,SOLICITUDES!$K$2:$K$1048576)","v":0},0]
[null,null,"T40011",15,13200,240,-76.503878176156036,3.0271081847707189,7.5,7.5,3,3,{"$f":"SUMIF(SOLICITUDES!$C$2:$C$1048576,BD!C19193,SOLICITUDES!$I$2:$I$1048576)","v":0},0,{"$f":"SUMIF(SOLICITUDES!$C$2:$C$1048576,BD!C19193,SOLICITUDES!$J$2:$J$1048576)","v":0},0,{"$f":"SUMIF(SOLICITUDES!$C$2:$C$1048576,BD!C19193,SOLICITUDES!$K$2:$K$1048576)","v":0},0]
[null,null,"T45158",37.5,13200,240,-76.51503944434215,3.0304690270107248,18.75,18.75,7.5,7.5,{"$f":"SUMIF(SOLICITUDES!$C$2:$C$1048576,BD!C19198,SOLICITUDES!$I$2:$I$1048576)","v":0},0,{"$f":"SUMIF(SOLICITUDES!$C$2:$C$1048576,BD!C19198,SOLICITUDES!$J$2:$J$1048576)","v":0},0,{"$f":"SUMIF(SOLICITUDES!$C$2:$C$1048576,BD!C19198,SOLICITUDES!$K$2:$K$1048576)","v":0},0]
[null,null,"T42786",0.5,13200,240,-76.675739058667745,2.5359117113183398,0.25,0.25,0.1,0.1,{"$f":"SUMIF(SOLICITUDES!$C$2:$C$1048576,BD!C19209,SOLICITUDES!$I$2:$I$1048576)","v":0},0,{"$f":"SUMIF(SOLICITUDES!$C$2:$C$1048576,BD!C19209,SOLICITUDES!$J$2:$J$1048576)","v":0},0,{"$f":"SUMIF(SOLICITUDES!$C$2:$C$1048576,BD!C19209,SOLICITUDES!$K$2:$K$1048576)","v":0},0]
[null,null,"T13810",15,13200,240,-76.470923510054249,3.0688230925659687,7.5,7.5,3,3,{"$f":"SUMIF(SOLICITUDES!$C$2:$C$1048576,BD!C19224,SOLICITUDES!$I$2:$I$1048576)","v":0},0,{"$f":"SUMIF(SOLICITUDES!$C$2:$C$1048576,BD!C19224,SOLICITUDES!$J$2:$J$1048576)","v":0},0,{"$f":"SUMIF(SOLICITUDES!$C$2:$C$1048576,BD!C19224,SOLICITUDES!$K$2:$K$1048576)","v":0},0]
[null,null,"T13724",5,13200,240,-76.677613186433788,2.5355426749448449,2.5,2.5,1,1,{"$f":"SUMIF(SOLICITUDES!$C$2:$C$1048576,BD!C19229,SOLICITUDES!$I$2:$I$1048576)","v":0},0,{"$f":"SUMIF(SOLICITUDES!$C$2:$C$1048576,BD!C19229,SOLICITUDES!$J$2:$J$1048576)","v":0},0,{"$f":"SUMIF(SOLICITUDES!$C$2:$C$1048576,BD!C19229,SOLICITUDES!$K$2:$K$1048576)","v":0},0]
[null,null,"T41746",25,13200,240,-76.638848864073509,2.5088431452843323,12.5,12.5,5,5,{"$f":"SUMIF(SOLICITUDES!$C$2:$C$1048576,BD!C19240,SOLICITUDES!$I$2:$I$1048576)","v":0},0,{"$f":"SUMIF(SOLICITUDES!$C$2:$C$1048576,BD!C19240,SOLICITUDES!$J$2:$J$1048576)","v":0},0,{"$f":"SUMIF(SOLICITUDES!$C$2:$C$1048576,BD!C19240,SOLICITUDES!$K$2:$K$1048576)","v":0},0]
[null,null,"T42055",0.5,13200,240,-76.406884731700828,2.5114102029529568,0.25,0.25,0.1,0.1,{"$f":"SUMIF(SOLICITUDES!$C$2:$C$1048576,BD!C19255,SOLICITUDES!$I$2:$I$1048576)","v":0},0,{"$f":"SUMIF(SOLICITUDES!$C$2:$C$1048576,BD!C19255,SOLICITUDES!$J$2:$J$1048576)","v":0},0,{"$f":"SUMIF(SOLICITUDES!$C$2:$C$1048576,BD!C19255,SOLICITUDES!$K$2:$K$1048576)","v":0},0]
[null,null,"T13719",15,13200,240,-76.686545864401765,2.5399754496405076,7.5,7.5,3,3,{"$f":"SUMIF(SOLICITUDES!$C$2:$C$1048576,BD!C19266,SOLICITUDES!$I$2:$I$1048576)","v":0},0,{"$f":"SUMIF(SOLICITUDES!$C$2:$C$1048576,BD!C19266,SOLICITUDES!$J$2:$J$1048576)","v":0},0,{"$f":"SUMIF(SOLICITUDES!$C$2:$C$1048576,BD!C19266,SOLICITUDES!$K$2:$K$1048576)","v":0},0]
[null,null,"T4040",10,13200,208,-76.726169804357994,2.5493650148394496,5,5,2,2,{"$f":"SUMIF(SOLICITUDES!$C$2:$C$1048576,BD!C19271,SOLICITUDES!$I$2:$I$1048576)","v":0},0,{"$f":"SUMIF(SOLICITUDES!$C$2:$C$1048576,BD!C19271,SOLICITUDES!$J$2:$J$1048576)","v":0},0,{"$f":"SUMIF(SOLICITUDES!$C$2:$C$1048576,BD!C19271,SOLICITUDES!$K$2:$K$1048576)","v":0},0]
[null,null,"T9763",15,13200,240,-76.571098176531379,2.7265400882908182,7.5,7.5,3,3,{"$f":"SUMIF(SOLICITUDES!$C$2:$C$1048576,BD!C19288,SOLICITUDES!$I$2:$I$1048576)","v":0},0,{"$f":"SUMIF(SOLICITUDES!$C$2:$C$1048576,BD!C19288,SOLICITUDES!$J$2:$J$1048576)","v":0},0,{"$f":"SUMIF(SOLICITUDES!$C$2:$C$1048576,BD!C19288,SOLICITUDES!$K$2:$K$1048576)","v":0},0]
[null,null,"T4009",15,13200,220,-76.620488816317888,2.6945215233491728,7.5,7.5,3,3,{"$f":"SUMIF(SOLICITUDES!$C$2:$C$1048576,BD!C19298,SOLICITUDES!$I$2:$I$1048576)","v":0},0,{"$f":"SUMIF(SOLICITUDES!$C$2:$C$1048576,BD!C19298,SOLICITUDES!$J$2:$J$1048576)","v":0},0,{"$f":"SUMIF(SOLICITUDES!$C$2:$C$1048576,BD!C19298,SOLICITUDES!$K$2:$K$1048576)","v":0},0]
[null,null,"T2471",15,13200,240,-76.574597743218035,2.7446911379870977,7.5,7.5,3,3,{"$f":"SUMIF(SOLICITUDES!$C$2:$C$1048576,BD!C19303,SOLICITUDES!$I$2:$I$1048576)","v":0},0,{"$f":"SUMIF(SOLICITUDES!$C$2:$C$1048576,BD!C19303,SOLICITUDES!$J$2:$J$1048576)","v":0},0,{"$f":"SUMIF(SOLICITUDES!$C$2:$C$1048576,BD!C19303,SOLICITUDES!$K$2:$K$1048576)","v":0},0]
[null,null,"T42780",0.5,13200,240,-76.629945051978837,2.449091104404491,0.25,0.25,0.1,0.1,{"$f":"SUMIF(SOLICITUDES!$C$2:$C$1048576,BD!C19318,SOLICITUDES!$I$2:$I$1048576)","v":0},0,{"$f":"SUMIF(SOLICITUDES!$C$2:$C$1048576,BD!C19318,SOLICITUDES!$J$2:$J$1048576)","v":0},0,{"$f":"SUMIF(SOLICITUDES!$C$2:$C$1048576,BD!C19318,SOLICITUDES!$K$2:$K$1048576)","v":0},0]
[null,null,"T1074",30,13200,208,-76.630999262999012,2.4503206853584625,15,15,6,6,{"$f":"SUMIF(SOLICITUDES!$C$2:$C$1048576,BD!C19319,SOLICITUDES!$I$2:$I$1048576)","v":0},0,{"$f":"SUMIF(SOLICITUDES!$C$2:$C$1048576,BD!C19319,SOLICITUDES!$J$2:$J$1048576)","v":0},0,{"$f":"SUMIF(SOLICITUDES!$C$2:$C$1048576,BD!C19319,SOLICITUDES!$K$2:$K$1048576)","v":0},0]
[null,null,"T8738",75,34500,208,-76.419192549559924,3.209082494651835,37.5,37.5,15,15,{"$f":"SUMIF(SOLICITUDES!$C$2:$C$1048576,BD!C19334,SOLICITUDES!$I$2:$I$1048576)","v":0},0,{"$f":"SUMIF(SOLICITUDES!$C$2:$C$1048576,BD!C19334,SOLICITUDES!$J$2:$J$1048576)","v":0},0,{"$f":"SUMIF(SOLICITUDES!$C$2:$C$1048576,BD!C19334,SOLICITUDES!$K$2:$K$1048576)","v":0},0]
[null,null,"T8735",225,34500,440,-76.419509254104725,3.207603444602777,112.5,112.5,45,45,{"$f":"SUMIF(SOLICITUDES!$C$2:$C$1048576,BD!C19345,SOLICITUDES!$I$2:$I$1048576)","v":0},0,{"$f":"SUMIF(SOLICITUDES!$C$2:$C$1048576,BD!C19345,SOLICITUDES!$J$2:$J$1048576)","v":0},0,{"$f":"SUMIF(SOLICITUDES!$C$2:$C$1048576,BD!C19345,SOLICITUDES!$K$2:$K$1048576)","v":0},0]
[null,null,"T18415",800,34500,208,-76.423654532486651,3.2094742835259629,400,400,160,160,{"$f":"SUMIF(SOLICITUDES!$C$2:$C$1048576,BD!C19350,SOLICITUDES!$I$2:$I$1048576)","v":0},0,{"$f":"SUMIF(SOLICITUDES!$C$2:$C$1048576,BD!C19350,SOLICITUDES!$J$2:$J$1048576)","v":0},0,{"$f":"SUMIF(SOLICITUDES!$C$2:$C$1048576,BD!C19350,SOLICITUDES!$K$2:$K$1048576)","v":0},0]
[null,null,"T3433",37.5,13200,208,-76.688376754231626,2.5214372934100067,18.75,18.75,7.5,7.5,{"$f":"SUMIF(SOLICITUDES!$C$2:$C$1048576,BD!C19365,SOLICITUDES!$I$2:$I$1048576)","v":0},0,{"$f":"SUMIF(SOLICITUDES!$C$2:$C$1048576,BD!C19365,SOLICITUDES!$J$2:$J$1048576)","v":0},0,{"$f":"SUMIF(SOLICITUDES!$C$2:$C$1048576,BD!C19365,SOLICITUDES!$K$2:$K$1048576)","v":0},0]
[null,null,"T3599",5,13200,208,-76.695004848278742,2.5169447578315927,2.5,2.5,1,1,{"$f":"SUMIF(SOLICITUDES!$C$2:$C$1048576,BD!C19372,SOLICITUDES!$I$2:$I$1048576)","v":0},0,{"$f":"SUMIF(SOLICITUDES!$C$2:$C$1048576,BD!C19372,SOLICITUDES!$J$2:$J$1048576)","v":0},0,{"$f":"SUMIF(SOLICITUDES!$C$2:$C$1048576,BD!C19372,SOLICITUDES!$K$2:$K$1048576)","v":0},0]
[null,null,"T3435",15,13200,240,-76.659627278259464,2.5537675679457879,7.5,7.5,3,3,{"$f":"SUMIF(SOLICITUDES!$C$2:$C$1048576,BD!C19382,SOLICITUDES!$I$2:$I$1048576)","v":0},0,{"$f":"SUMIF(SOLICITUDES!$C$2:$C$1048576,BD!C19382,SOLICITUDES!$J$2:$J$1048576)","v":0},0,{"$f":"SUMIF(SOLICITUDES!$C$2:$C$1048576,BD!C19382,SOLICITUDES!$K$2:$K$1048576)","v":0},0]
[null,null,"T1334",10,13200,240,-76.517973957026044,2.2469706231238802,5,5,2,2,{"$f":"SUMIF(SOLICITUDES!$C$2:$C$1048576,BD!C19397,SOLICITUDES!$I$2:$I$1048576)","v":0},0,{"$f":"SUMIF(SOLICITUDES!$C$2:$C$1048576,BD!C19397,SOLICITUDES!$J$2:$J$1048576)","v":0},0,{"$f":"SUMIF(SOLICITUDES!$C$2:$C$1048576,BD!C19397,SOLICITUDES!$K$2:$K$1048576)","v":0},0]
[null,null,"T13130",15,13200,240,-76.49862037619225,2.2014199007273247,7.5,7.5,3,3,{"$f":"SUMIF(SOLICITUDES!$C$2:$C$1048576,BD!C19408,SOLICITUDES!$I$2:$I$1048576)","v":0},0,{"$f":"SUMIF(SOLICITUDES!$C$2:$C$1048576,BD!C19408,SOLICITUDES!$J$2:$J$1048576)","v":0},0,{"$f":"SUMIF(SOLICITUDES!$C$2:$C$1048576,BD!C19408,SOLICITUDES!$K$2:$K$1048576)","v":0},0]
[null,null,"T9463",10,13200,240,-76.439667357253569,2.2650602842147514,5,5,2,2,{"$f":"SUMIF(SOLICITUDES!$C$2:$C$1048576,BD!C19413,SOLICITUDES!$I$2:$I$1048576)","v":0},0,{"$f":"SUMIF(SOLICITUDES!$C$2:$C$1048576,BD!C19413,SOLICITUDES!$J$2:$J$1048576)","v":0},0,{"$f":"SUMIF(SOLICITUDES!$C$2:$C$1048576,BD!C19413,SOLICITUDES!$K$2:$K$1048576)","v":0},0]
[null,null,"T31895",10,13200,240,-76.524344065532205,2.2319488949410626,5,5,2,2,{"$f":"SUMIF(SOLICITUDES!$C$2:$C$1048576,BD!C19424,SOLICITUDES!$I$2:$I$1048576)","v":0},0,{"$f":"SUMIF(SOLICITUDES!$C$2:$C$1048576,BD!C19424,SOLICITUDES!$J$2:$J$1048576)","v":0},0,{"$f":"SUMIF(SOLICITUDES!$C$2:$C$1048576,BD!C19424,SOLICITUDES!$K$2:$K$1048576)","v":0},0]
[null,null,"T10713",15,13200,240,-76.52678278463209,2.2014238198840195,7.5,7.5,3,3,{"$f":"SUMIF(SOLICITUDES!$C$2:$C$1048576,BD!C19439,SOLICITUDES!$I$2:$I$1048576)","v":0},0,{"$f":"SUMIF(SOLICITUDES!$C$2:$C$1048576,BD!C19439,SOLICITUDES!$J$2:$J$1048576)","v":0},0,{"$f":"SUMIF(SOLICITUDES!$C$2:$C$1048576,BD!C19439,SOLICITUDES!$K$2:$K$1048576)","v":0},0]
[null,null,"T10720",0.5,13200,240,-76.505127435222448,2.1782922994418579,0.25,0.25,0.1,0.1,{"$f":"SUMIF(SOLICITUDES!$C$2:$C$1048576,BD!C19444,SOLICITUDES!$I$2:$I$1048576)","v":0},0,{"$f":"SUMIF(SOLICITUDES!$C$2:$C$1048576,BD!C19444,SOLICITUDES!$J$2:$J$1048576)","v":0},0,{"$f":"SUMIF(SOLICITUDES!$C$2:$C$1048576,BD!C19444,SOLICITUDES!$K$2:$K$1048576)","v":0},0]
[null,null,"T4047",5,13200,240,-76.715111658626014,2.5432395401972956,2.5,2.5,1,1,{"$f":"SUMIF(SOLICITUDES!$C$2:$C$1048576,BD!C19455,SOLICITUDES!$I$2:$I$1048576)","v":0},0,{"$f":"SUMIF(SOLICITUDES!$C$2:$C$1048576,BD!C19455,SOLICITUDES!$J$2:$J$1048576)","v":0},0,{"$f":"SUMIF(SOLICITUDES!$C$2:$C$1048576,BD!C19455,SOLICITUDES!$K$2:$K$1048576)","v":0},0]
[null,null,"T13669",10,13200,240,-76.700310426041682,2.5262091955249688,5,5,2,2,{"$f":"SUMIF(SOLICITUDES!$C$2:$C$1048576,BD!C19463,SOLICITUDES!$I$2:$I$1048576)","v":0},0,{"$f":"SUMIF(SOLICITUDES!$C$2:$C$1048576,BD!C19463,SOLICITUDES!$J$2:$J$1048576)","v":0},0,{"$f":"SUMIF(SOLICITUDES!$C$2:$C$1048576,BD!C19463,SOLICITUDES!$K$2:$K$1048576)","v":0},0]
[null,null,"T2974",10,13200,208,-76.67242493388423,2.5238559140416013,5,5,2,2,{"$f":"SUMIF(SOLICITUDES!$C$2:$C$1048576,BD!C19472,SOLICITUDES!$I$2:$I$1048576)","v":0},0,{"$f":"SUMIF(SOLICITUDES!$C$2:$C$1048576,BD!C19472,SOLICITUDES!$J$2:$J$1048576)","v":0},0,{"$f":"SUMIF(SOLICITUDES!$C$2:$C$1048576,BD!C19472,SOLICITUDES!$K$2:$K$1048576)","v":0},0]
[null,null,"T2546",15,13200,240,-76.636145881173405,2.5181195820297426,7.5,7.5,3,3,{"$f":"SUMIF(SOLICITUDES!$C$2:$C$1048576,BD!C19487,SOLICITUDES!$I$2:$I$1048576)","v":0},0,{"$f":"SUMIF(SOLICITUDES!$C$2:$C$1048576,BD!C19487,SOLICITUDES!$J$2:$J$1048576)","v":0},0,{"$f":"SUMIF(SOLICITUDES!$C$2:$C$1048576,BD!C19487,SOLICITUDES!$K$2:$K$1048576)","v":0},0]
[null,null,"T2980",30,13200,208,-76.675677141909389,2.5325836927040677,15,15,6,6,{"$f":"SUMIF(SOLICITUDES!$C$2:$C$1048576,BD!C19492,SOLICITUDES!$I$2:$I$1048576)","v":0},0,{"$f":"SUMIF(SOLICITUDES!$C$2:$C$1048576,BD!C19492,SOLICITUDES!$J$2:$J$1048576)","v":0},0,{"$f":"SUMIF(SOLICITUDES!$C$2:$C$1048576,BD!C19492,SOLICITUDES!$K$2:$K$1048576)","v":0},0]
[null,null,"T10800",10,13200,240,-76.839205048071804,2.3607431429296062,5,5,2,2,{"$f":"SUMIF(SOLICITUDES!$C$2:$C$1048576,BD!C19503,SOLICITUDES!$I$2:$I$1048576)","v":0},0,{"$f":"SUMIF(SOLICITUDES!$C$2:$C$1048576,BD!C19503,SOLICITUDES!$J$2:$J$1048576)","v":0},0,{"$f":"SUMIF(SOLICITUDES!$C$2:$C$1048576,BD!C19503,SOLICITUDES!$K$2:$K$1048576)","v":0},0]
[null,null,"T13782",15,13200,240,-76.885351687127496,2.3743085707608604,7.5,7.5,3,3,{"$f":"SUMIF(SOLICITUDES!$C$2:$C$1048576,BD!C19518,SOLICITUDES!$I$2:$I$1048576)","v":0},0,{"$f":"SUMIF(SOLICITUDES!$C$2:$C$1048576,BD!C19518,SOLICITUDES!$J$2:$J$1048576)","v":0},0,{"$f":"SUMIF(SOLICITUDES!$C$2:$C$1048576,BD!C19518,SOLICITUDES!$K$2:$K$1048576)","v":0},0]
[null,null,"T44784",0.5,13200,240,-76.848887680388728,2.3563792604314306,0.25,{"$f":"D19523*0.5-M19523","v":0.25},0.1,0.1,{"$f":"SUMIF(SOLICITUDES!$C$2:$C$1048576,BD!C19523,SOLICITUDES!$I$2:$I$1048576)","v":0},{"$f":"M19523/D19523","v":0},{"$f":"SUMIF(SOLICITUDES!$C$2:$C$1048576,BD!C19523,SOLICITUDES!$J$2:$J$1048576)","v":0},0,{"$f":"SUMIF(SOLICITUDES!$C$2:$C$1048576,BD!C19523,SOLICITUDES!$K$2:$K$1048576)","v":0},0]
[null,null,"T13788",10,13200,240,-76.904569443977536,2.338960109518061,5,5,2,2,{"$f":"SUMIF(SOLICITUDES!$C$2:$C$1048576,BD!C19534,SOLICITUDES!$I$2:$I$1048576)","v":0},0,{"$f":"SUMIF(SOLICITUDES!$C$2:$C$1048576,BD!C19534,SOLICITUDES!$J$2:$J$1048576)","v":0},0,{"$f":"SUMIF(SOLICITUDES!$C$2:$C$1048576,BD!C19534,SOLICITUDES!$K$2:$K$1048576)","v":0},0]
[null,null,"T31813",10,13200,240,-76.85599215424061,2.3442022606355777,5,5,2,2,{"$f":"SUMIF(SOLICITUDES!$C$2:$C$1048576,BD!C19549,SOLICITUDES!$I$2:$I$1048576)","v":0},0,{"$f":"SUMIF(SOLICITUDES!$C$2:$C$1048576,BD!C19549,SOLICITUDES!$J$2:$J$1048576)","v":0},0,{"$f":"SUMIF(SOLICITUDES!$C$2:$C$1048576,BD!C19549,SOLICITUDES!$K$2:$K$1048576)","v":0},0]
[null,null,"T17380",10,13200,240,-76.328026784013801,1.5673180245521767,5,5,2,2,{"$f":"SUMIF(SOLICITUDES!$C$2:$C$1048576,BD!C19558,SOLICITUDES!$I$2:$I$1048576)","v":0},0,{"$f":"SUMIF(SOLICITUDES!$C$2:$C$1048576,BD!C19558,SOLICITUDES!$J$2:$J$1048576)","v":0},0,{"$f":"SUMIF(SOLICITUDES!$C$2:$C$1048576,BD!C19558,SOLICITUDES!$K$2:$K$1048576)","v":0},0]
[null,null,"T17498",10,13200,240,-76.30921229829633,1.5875397773867181,5,5,2,2,{"$f":"SUMIF(SOLICITUDES!$C$2:$C$1048576,BD!C19566,SOLICITUDES!$I$2:$I$1048576)","v":0},0,{"$f":"SUMIF(SOLICITUDES!$C$2:$C$1048576,BD!C19566,SOLICITUDES!$J$2:$J$1048576)","v":0},0,{"$f":"SUMIF(SOLICITUDES!$C$2:$C$1048576,BD!C19566,SOLICITUDES!$K$2:$K$1048576)","v":0},0]
[null,null,"T4117",75,13200,220,-76.589371013983396,2.4564601626150355,37.5,37.5,15,15,{"$f":"SUMIF(SOLICITUDES!$C$2:$C$1048576,BD!C19581,SOLICITUDES!$I$2:$I$1048576)","v":0},0,{"$f":"SUMIF(SOLICITUDES!$C$2:$C$1048576,BD!C19581,SOLICITUDES!$J$2:$J$1048576)","v":0},0,{"$f":"SUMIF(SOLICITUDES!$C$2:$C$1048576,BD!C19581,SOLICITUDES!$K$2:$K$1048576)","v":0},0]
[null,null,"T4221",75,13200,220,-76.588454205324354,2.4571748850659985,37.5,37.5,15,15,{"$f":"SUMIF(SOLICITUDES!$C$2:$C$1048576,BD!C19582,SOLICITUDES!$I$2:$I$1048576)","v":0},0,{"$f":"SUMIF(SOLICITUDES!$C$2:$C$1048576,BD!C19582,SOLICITUDES!$J$2:$J$1048576)","v":0},0,{"$f":"SUMIF(SOLICITUDES!$C$2:$C$1048576,BD!C19582,SOLICITUDES!$K$2:$K$1048576)","v":0},0]
[null,null,"T12935",25,13200,240,-76.855805441576194,1.8991498325290379,12.5,12.5,5,5,{"$f":"SUMIF(SOLICITUDES!$C$2:$C$1048576,BD!C19597,SOLICITUDES!$I$2:$I$1048576)","v":0},0,{"$f":"SUMIF(SOLICITUDES!$C$2:$C$1048576,BD!C19597,SOLICITUDES!$J$2:$J$1048576)","v":0},0,{"$f":"SUMIF(SOLICITUDES!$C$2:$C$1048576,BD!C19597,SOLICITUDES!$K$2:$K$1048576)","v":0},0]
[null,null,"T31340",37.5,13200,240,-76.857346853977916,1.9042877802634013,18.75,18.75,7.5,7.5,{"$f":"SUMIF(SOLICITUDES!$C$2:$C$1048576,BD!C19608,SOLICITUDES!$I$2:$I$1048576)","v":0},0,{"$f":"SUMIF(SOLICITUDES!$C$2:$C$1048576,BD!C19608,SOLICITUDES!$J$2:$J$1048576)","v":0},0,{"$f":"SUMIF(SOLICITUDES!$C$2:$C$1048576,BD!C19608,SOLICITUDES!$K$2:$K$1048576)","v":0},0]
[null,null,"T11467",25,13200,240,-76.836436250494828,1.9002234740033441,12.5,12.5,5,5,{"$f":"SUMIF(SOLICITUDES!$C$2:$C$1048576,BD!C19613,SOLICITUDES!$I$2:$I$1048576)","v":0},0,{"$f":"SUMIF(SOLICITUDES!$C$2:$C$1048576,BD!C19613,SOLICITUDES!$J$2:$J$1048576)","v":0},0,{"$f":"SUMIF(SOLICITUDES!$C$2:$C$1048576,BD!C19613,SOLICITUDES!$K$2:$K$1048576)","v":0},0]
[null,null,"T13095",25,13200,240,-76.858764685507836,1.8818681713964664,12.5,12.5,5,5,{"$f":"SUMIF(SOLICITUDES!$C$2:$C$1048576,BD!C19628,SOLICITUDES!$I$2:$I$1048576)","v":0},0,{"$f":"SUMIF(SOLICITUDES!$C$2:$C$1048576,BD!C19628,SOLICITUDES!$J$2:$J$1048576)","v":0},0,{"$f":"SUMIF(SOLICITUDES!$C$2:$C$1048576,BD!C19628,SOLICITUDES!$K$2:$K$1048576)","v":0},0]
[null,null,"T13088",5,13200,240,-76.868436525599648,1.8746706150597454,2.5,2.5,1,1,{"$f":"SUMIF(SOLICITUDES!$C$2:$C$1048576,BD!C19639,SOLICITUDES!$I$2:$I$1048576)","v":0},0,{"$f":"SUMIF(SOLICITUDES!$C$2:$C$1048576,BD!C19639,SOLICITUDES!$J$2:$J$1048576)","v":0},0,{"$f":"SUMIF(SOLICITUDES!$C$2:$C$1048576,BD!C19639,SOLICITUDES!$K$2:$K$1048576)","v":0},0]
[null,null,"T6167",10,13200,240,-76.446850965479484,2.3440449581974696,5,5,2,2,{"$f":"SUMIF(SOLICITUDES!$C$2:$C$1048576,BD!C19649,SOLICITUDES!$I$2:$I$1048576)","v":0},0,{"$f":"SUMIF(SOLICITUDES!$C$2:$C$1048576,BD!C19649,SOLICITUDES!$J$2:$J$1048576)","v":0},0,{"$f":"SUMIF(SOLICITUDES!$C$2:$C$1048576,BD!C19649,SOLICITUDES!$K$2:$K$1048576)","v":0},0]
[null,null,"T23028",5,13200,240,-76.409610257540265,2.3958177251580564,2.5,2.5,1,1,{"$f":"SUMIF(SOLICITUDES!$C$2:$C$1048576,BD!C19660,SOLICITUDES!$I$2:$I$1048576)","v":0},0,{"$f":"SUMIF(SOLICITUDES!$C$2:$C$1048576,BD!C19660,SOLICITUDES!$J$2:$J$1048576)","v":0},0,{"$f":"SUMIF(SOLICITUDES!$C$2:$C$1048576,BD!C19660,SOLICITUDES!$K$2:$K$1048576)","v":0},0]
[null,null,"T23032",5,13200,240,-76.403197205517586,2.3939792810554406,2.5,2.5,1,1,{"$f":"SUMIF(SOLICITUDES!$C$2:$C$1048576,BD!C19671,SOLICITUDES!$I$2:$I$1048576)","v":0},0,{"$f":"SUMIF(SOLICITUDES!$C$2:$C$1048576,BD!C19671,SOLICITUDES!$J$2:$J$1048576)","v":0},0,{"$f":"SUMIF(SOLICITUDES!$C$2:$C$1048576,BD!C19671,SOLICITUDES!$K$2:$K$1048576)","v":0},0]
[null,null,"T5730",25,13200,240,-76.401077842903419,2.37257178072075,12.5,12.5,5,5,{"$f":"SUMIF(SOLICITUDES!$C$2:$C$1048576,BD!C19676,SOLICITUDES!$I$2:$I$1048576)","v":0},0,{"$f":"SUMIF(SOLICITUDES!$C$2:$C$1048576,BD!C19676,SOLICITUDES!$J$2:$J$1048576)","v":0},0,{"$f":"SUMIF(SOLICITUDES!$C$2:$C$1048576,BD!C19676,SOLICITUDES!$K$2:$K$1048576)","v":0},0]
[null,null,"T23020",5,13200,240,-76.391774357198088,2.3818804327900667,2.5,2.5,1,1,{"$f":"SUMIF(SOLICITUDES!$C$2:$C$1048576,BD!C19687,SOLICITUDES!$I$2:$I$1048576)","v":0},0,{"$f":"SUMIF(SOLICITUDES!$C$2:$C$1048576,BD!C19687,SOLICITUDES!$J$2:$J$1048576)","v":0},0,{"$f":"SUMIF(SOLICITUDES!$C$2:$C$1048576,BD!C19687,SOLICITUDES!$K$2:$K$1048576)","v":0},0]
[null,null,"T5121",45,13200,208,-76.465825182702616,2.3935096555742037,22.5,22.5,9,9,{"$f":"SUMIF(SOLICITUDES!$C$2:$C$1048576,BD!C19702,SOLICITUDES!$I$2:$I$1048576)","v":0},0,{"$f":"SUMIF(SOLICITUDES!$C$2:$C$1048576,BD!C19702,SOLICITUDES!$J$2:$J$1048576)","v":0},0,{"$f":"SUMIF(SOLICITUDES!$C$2:$C$1048576,BD!C19702,SOLICITUDES!$K$2:$K$1048576)","v":0},0]
[null,null,"133TR2",75,34500,214,-76.49180930759762,2.9981438890208465,37.5,37.5,15,15,{"$f":"SUMIF(SOLICITUDES!$C$2:$C$1048576,BD!C19707,SOLICITUDES!$I$2:$I$1048576)","v":0},0,{"$f":"SUMIF(SOLICITUDES!$C$2:$C$1048576,BD!C19707,SOLICITUDES!$J$2:$J$1048576)","v":0},0,{"$f":"SUMIF(SOLICITUDES!$C$2:$C$1048576,BD!C19707,SOLICITUDES!$K$2:$K$1048576)","v":0},0]
[null,null,"T3799",15,13200,240,-76.584849186636447,2.4404968095080961,7.5,7.5,3,3,{"$f":"SUMIF(SOLICITUDES!$C$2:$C$1048576,BD!C19718,SOLICITUDES!$I$2:$I$1048576)","v":0},0,{"$f":"SUMIF(SOLICITUDES!$C$2:$C$1048576,BD!C19718,SOLICITUDES!$J$2:$J$1048576)","v":0},0,{"$f":"SUMIF(SOLICITUDES!$C$2:$C$1048576,BD!C19718,SOLICITUDES!$K$2:$K$1048576)","v":0},0]
[null,null,"T22001",30,13200,208,-76.587821935437304,2.4382400544637721,15,15,6,6,{"$f":"SUMIF(SOLICITUDES!$C$2:$C$1048576,BD!C19723,SOLICITUDES!$I$2:$I$1048576)","v":0},0,{"$f":"SUMIF(SOLICITUDES!$C$2:$C$1048576,BD!C19723,SOLICITUDES!$J$2:$J$1048576)","v":0},0,{"$f":"SUMIF(SOLICITUDES!$C$2:$C$1048576,BD!C19723,SOLICITUDES!$K$2:$K$1048576)","v":0},0]
[null,null,"T3813",45,13200,208,-76.600400363062292,2.4304782201139079,22.5,22.5,9,9,{"$f":"SUMIF(SOLICITUDES!$C$2:$C$1048576,BD!C19740,SOLICITUDES!$I$2:$I$1048576)","v":0},0,{"$f":"SUMIF(SOLICITUDES!$C$2:$C$1048576,BD!C19740,SOLICITUDES!$J$2:$J$1048576)","v":0},0,{"$f":"SUMIF(SOLICITUDES!$C$2:$C$1048576,BD!C19740,SOLICITUDES!$K$2:$K$1048576)","v":0},0]
[null,null,"T3816",45,13200,214,-76.598934946222471,2.4302244835313083,22.5,22.5,9,9,{"$f":"SUMIF(SOLICITUDES!$C$2:$C$1048576,BD!C19750,SOLICITUDES!$I$2:$I$1048576)","v":0},0,{"$f":"SUMIF(SOLICITUDES!$C$2:$C$1048576,BD!C19750,SOLICITUDES!$J$2:$J$1048576)","v":0},0,{"$f":"SUMIF(SOLICITUDES!$C$2:$C$1048576,BD!C19750,SOLICITUDES!$K$2:$K$1048576)","v":0},0]
[null,null,"T3367",112.5,13200,208,-76.602503739602156,2.4318625841626567,56.25,56.25,22.5,22.5,{"$f":"SUMIF(SOLICITUDES!$C$2:$C$1048576,BD!C19755,SOLICITUDES!$I$2:$I$1048576)","v":0},0,{"$f":"SUMIF(SOLICITUDES!$C$2:$C$1048576,BD!C19755,SOLICITUDES!$J$2:$J$1048576)","v":0},0,{"$f":"SUMIF(SOLICITUDES!$C$2:$C$1048576,BD!C19755,SOLICITUDES!$K$2:$K$1048576)","v":0},0]
[null,null,"T3807",75,13200,208,-76.60182949021042,2.4286871396744112,37.5,37.5,15,15,{"$f":"SUMIF(SOLICITUDES!$C$2:$C$1048576,BD!C19766,SOLICITUDES!$I$2:$I$1048576)","v":0},0,{"$f":"SUMIF(SOLICITUDES!$C$2:$C$1048576,BD!C19766,SOLICITUDES!$J$2:$J$1048576)","v":0},0,{"$f":"SUMIF(SOLICITUDES!$C$2:$C$1048576,BD!C19766,SOLICITUDES!$K$2:$K$1048576)","v":0},0]
[null,null,"T3957",112.5,13200,208,-76.611953866924765,2.4385004353991313,56.25,56.25,22.5,22.5,{"$f":"SUMIF(SOLICITUDES!$C$2:$C$1048576,BD!C19781,SOLICITUDES!$I$2:$I$1048576)","v":0},0,{"$f":"SUMIF(SOLICITUDES!$C$2:$C$1048576,BD!C19781,SOLICITUDES!$J$2:$J$1048576)","v":0},0,{"$f":"SUMIF(SOLICITUDES!$C$2:$C$1048576,BD!C19781,SOLICITUDES!$K$2:$K$1048576)","v":0},0]
[null,null,"T3929",112.5,13200,208,-76.610857992309235,2.4387417527781983,56.25,56.25,22.5,22.5,{"$f":"SUMIF(SOLICITUDES!$C$2:$C$1048576,BD!C19786,SOLICITUDES!$I$2:$I$1048576)","v":0},0,{"$f":"SUMIF(SOLICITUDES!$C$2:$C$1048576,BD!C19786,SOLICITUDES!$J$2:$J$1048576)","v":0},0,{"$f":"SUMIF(SOLICITUDES!$C$2:$C$1048576,BD!C19786,SOLICITUDES!$K$2:$K$1048576)","v":0},0]
[null,null,"T30924",75,13200,208,-76.611715711850081,2.4422793380926677,37.5,37.5,15,15,{"$f":"SUMIF(SOLICITUDES!$C$2:$C$1048576,BD!C19797,SOLICITUDES!$I$2:$I$1048576)","v":0},0,{"$f":"SUMIF(SOLICITUDES!$C$2:$C$1048576,BD!C19797,SOLICITUDES!$J$2:$J$1048576)","v":0},0,{"$f":"SUMIF(SOLICITUDES!$C$2:$C$1048576,BD!C19797,SOLICITUDES!$K$2:$K$1048576)","v":0},0]
[null,null,"T24811",30,13200,240,-76.549388755264985,2.472373371062913,15,15,6,6,{"$f":"SUMIF(SOLICITUDES!$C$2:$C$1048576,BD!C19812,SOLICITUDES!$I$2:$I$1048576)","v":0},0,{"$f":"SUMIF(SOLICITUDES!$C$2:$C$1048576,BD!C19812,SOLICITUDES!$J$2:$J$1048576)","v":0},0,{"$f":"SUMIF(SOLICITUDES!$C$2:$C$1048576,BD!C19812,SOLICITUDES!$K$2:$K$1048576)","v":0},0]
[null,null,"T27040",30,13200,208,-76.547833052954005,2.4704249202353328,15,15,6,6,{"$f":"SUMIF(SOLICITUDES!$C$2:$C$1048576,BD!C19823,SOLICITUDES!$I$2:$I$1048576)","v":0},0,{"$f":"SUMIF(SOLICITUDES!$C$2:$C$1048576,BD!C19823,SOLICITUDES!$J$2:$J$1048576)","v":0},0,{"$f":"SUMIF(SOLICITUDES!$C$2:$C$1048576,BD!C19823,SOLICITUDES!$K$2:$K$1048576)","v":0},0]
[null,null,"T41483",15,13200,240,-76.530739923661187,2.4782762324778389,7.5,7.5,3,3,{"$f":"SUMIF(SOLICITUDES!$C$2:$C$1048576,BD!C19824,SOLICITUDES!$I$2:$I$1048576)","v":0},0,{"$f":"SUMIF(SOLICITUDES!$C$2:$C$1048576,BD!C19824,SOLICITUDES!$J$2:$J$1048576)","v":0},0,{"$f":"SUMIF(SOLICITUDES!$C$2:$C$1048576,BD!C19824,SOLICITUDES!$K$2:$K$1048576)","v":0},0]
[null,null,"T23828",112.5,13200,208,-76.607972916423932,2.4497791341984887,{"$f":"D19844*0.5","v":56.25},56.25,{"$f":"0.2*D19844","v":22.5},{"$f":"0.2*D19844","v":22.5},{"$f":"SUMIF(SOLICITUDES!$C$2:$C$1048576,BD!C19844,SOLICITUDES!$I$2:$I$1048576)","v":0},0,{"$f":"SUMIF(SOLICITUDES!$C$2:$C$1048576,BD!C19844,SOLICITUDES!$J$2:$J$1048576)","v":0},{"$f":"O19844/(2*K19844)","v":0},{"$f":"SUMIF(SOLICITUDES!$C$2:$C$1048576,BD!C19844,SOLICITUDES!$K$2:$K$1048576)","v":0},{"$f":"Q19844/(2*L19844)","v":0}]
[null,null,"T5257",75,13200,208,-76.609363728282048,2.4486130865094178,37.5,37.5,15,15,{"$f":"SUMIF(SOLICITUDES!$C$2:$C$1048576,BD!C19845,SOLICITUDES!$I$2:$I$1048576)","v":0},0,{"$f":"SUMIF(SOLICITUDES!$C$2:$C$1048576,BD!C19845,SOLICITUDES!$J$2:$J$1048576)","v":0},0,{"$f":"SUMIF(SOLICITUDES!$C$2:$C$1048576,BD!C19845,SOLICITUDES!$K$2:$K$1048576)","v":0},0]
[null,null,"T42380",10,13200,240,-76.430960059613042,2.6221655024623547,5,5,2,2,{"$f":"SUMIF(SOLICITUDES!$C$2:$C$1048576,BD!C19860,SOLICITUDES!$I$2:$I$1048576)","v":0},0,{"$f":"SUMIF(SOLICITUDES!$C$2:$C$1048576,BD!C19860,SOLICITUDES!$J$2:$J$1048576)","v":0},0,{"$f":"SUMIF(SOLICITUDES!$C$2:$C$1048576,BD!C19860,SOLICITUDES!$K$2:$K$1048576)","v":0},0]
[null,null,"T42381",10,13200,240,-76.433707628272671,2.6183185207301656,5,5,2,2,{"$f":"SUMIF(SOLICITUDES!$C$2:$C$1048576,BD!C19865,SOLICITUDES!$I$2:$I$1048576)","v":0},0,{"$f":"SUMIF(SOLICITUDES!$C$2:$C$1048576,BD!C19865,SOLICITUDES!$J$2:$J$1048576)","v":0},0,{"$f":"SUMIF(SOLICITUDES!$C$2:$C$1048576,BD!C19865,SOLICITUDES!$K$2:$K$1048576)","v":0},0]
[null,null,"T4512",25,13200,240,-76.45914154153742,2.6112074208527667,12.5,12.5,5,5,{"$f":"SUMIF(SOLICITUDES!$C$2:$C$1048576,BD!C19876,SOLICITUDES!$I$2:$I$1048576)","v":0},0,{"$f":"SUMIF(SOLICITUDES!$C$2:$C$1048576,BD!C19876,SOLICITUDES!$J$2:$J$1048576)","v":0},0,{"$f":"SUMIF(SOLICITUDES!$C$2:$C$1048576,BD!C19876,SOLICITUDES!$K$2:$K$1048576)","v":0},0]
[null,null,"T8548",25,13200,240,-76.854350713241999,2.4344066641506368,12.5,12.5,5,5,{"$f":"SUMIF(SOLICITUDES!$C$2:$C$1048576,BD!C19891,SOLICITUDES!$I$2:$I$1048576)","v":0},0,{"$f":"SUMIF(SOLICITUDES!$C$2:$C$1048576,BD!C19891,SOLICITUDES!$J$2:$J$1048576)","v":0},0,{"$f":"SUMIF(SOLICITUDES!$C$2:$C$1048576,BD!C19891,SOLICITUDES!$K$2:$K$1048576)","v":0},0]
[null,null,"T8555",25,13200,214,-76.859564214024374,2.4423115165220093,12.5,12.5,5,5,{"$f":"SUMIF(SOLICITUDES!$C$2:$C$1048576,BD!C19902,SOLICITUDES!$I$2:$I$1048576)","v":0},0,{"$f":"SUMIF(SOLICITUDES!$C$2:$C$1048576,BD!C19902,SOLICITUDES!$J$2:$J$1048576)","v":0},0,{"$f":"SUMIF(SOLICITUDES!$C$2:$C$1048576,BD!C19902,SOLICITUDES!$K$2:$K$1048576)","v":0},0]
[null,null,"T31758",10,13200,240,-76.85640258430692,2.4415110044538015,5,{"$f":"D19907*0.5-M19907","v":5},2,2,{"$f":"SUMIF(SOLICITUDES!$C$2:$C$1048576,BD!C19907,SOLICITUDES!$I$2:$I$1048576)","v":0},{"$f":"M19907/D19907","v":0},{"$f":"SUMIF(SOLICITUDES!$C$2:$C$1048576,BD!C19907,SOLICITUDES!$J$2:$J$1048576)","v":0},0,{"$f":"SUMIF(SOLICITUDES!$C$2:$C$1048576,BD!C19907,SOLICITUDES!$K$2:$K$1048576)","v":0},0]
[null,null,"T31766",10,13200,240,-76.845564698952117,2.4439944082317662,5,5,2,2,{"$f":"SUMIF(SOLICITUDES!$C$2:$C$1048576,BD!C19915,SOLICITUDES!$I$2:$I$1048576)","v":0},0,{"$f":"SUMIF(SOLICITUDES!$C$2:$C$1048576,BD!C19915,SOLICITUDES!$J$2:$J$1048576)","v":0},0,{"$f":"SUMIF(SOLICITUDES!$C$2:$C$1048576,BD!C19915,SOLICITUDES!$K$2:$K$1048576)","v":0},0]
[null,null,"T1624",15,13200,240,-76.829754293679173,2.4161435466281902,7.5,7.5,3,3,{"$f":"SUMIF(SOLICITUDES!$C$2:$C$1048576,BD!C19934,SOLICITUDES!$I$2:$I$1048576)","v":0},0,{"$f":"SUMIF(SOLICITUDES!$C$2:$C$1048576,BD!C19934,SOLICITUDES!$J$2:$J$1048576)","v":0},0,{"$f":"SUMIF(SOLICITUDES!$C$2:$C$1048576,BD!C19934,SOLICITUDES!$K$2:$K$1048576)","v":0},0]
[null,null,"T8545",25,13200,240,-76.865127977836181,2.4534087510169633,12.5,12.5,5,5,{"$f":"SUMIF(SOLICITUDES!$C$2:$C$1048576,BD!C19939,SOLICITUDES!$I$2:$I$1048576)","v":0},0,{"$f":"SUMIF(SOLICITUDES!$C$2:$C$1048576,BD!C19939,SOLICITUDES!$J$2:$J$1048576)","v":0},0,{"$f":"SUMIF(SOLICITUDES!$C$2:$C$1048576,BD!C19939,SOLICITUDES!$K$2:$K$1048576)","v":0},0]
[null,null,"T31801",10,13200,240,-76.843997986909372,2.4048146903682603,5,5,2,2,{"$f":"SUMIF(SOLICITUDES!$C$2:$C$1048576,BD!C19954,SOLICITUDES!$I$2:$I$1048576)","v":0},0,{"$f":"SUMIF(SOLICITUDES!$C$2:$C$1048576,BD!C19954,SOLICITUDES!$J$2:$J$1048576)","v":0},0,{"$f":"SUMIF(SOLICITUDES!$C$2:$C$1048576,BD!C19954,SOLICITUDES!$K$2:$K$1048576)","v":0},0]
[null,null,"T31780",10,13200,240,-76.873664130474154,2.4470084909053753,5,5,2,2,{"$f":"SUMIF(SOLICITUDES!$C$2:$C$1048576,BD!C19965,SOLICITUDES!$I$2:$I$1048576)","v":0},0,{"$f":"SUMIF(SOLICITUDES!$C$2:$C$1048576,BD!C19965,SOLICITUDES!$J$2:$J$1048576)","v":0},0,{"$f":"SUMIF(SOLICITUDES!$C$2:$C$1048576,BD!C19965,SOLICITUDES!$K$2:$K$1048576)","v":0},0]
[null,null,"T30775",0.5,13200,240,-76.840060766790458,2.4005997310146907,0.25,0.25,0.1,0.1,{"$f":"SUMIF(SOLICITUDES!$C$2:$C$1048576,BD!C19970,SOLICITUDES!$I$2:$I$1048576)","v":0},0,{"$f":"SUMIF(SOLICITUDES!$C$2:$C$1048576,BD!C19970,SOLICITUDES!$J$2:$J$1048576)","v":0},0,{"$f":"SUMIF(SOLICITUDES!$C$2:$C$1048576,BD!C19970,SOLICITUDES!$K$2:$K$1048576)","v":0},0]
[null,null,"T42426",10,13200,240,-76.545929843382979,2.457927707426677,5,5,2,2,{"$f":"SUMIF(SOLICITUDES!$C$2:$C$1048576,BD!C19981,SOLICITUDES!$I$2:$I$1048576)","v":0},0,{"$f":"SUMIF(SOLICITUDES!$C$2:$C$1048576,BD!C19981,SOLICITUDES!$J$2:$J$1048576)","v":0},0,{"$f":"SUMIF(SOLICITUDES!$C$2:$C$1048576,BD!C19981,SOLICITUDES!$K$2:$K$1048576)","v":0},0]
[null,null,"T44744",10,13200,240,-76.525594558096827,2.4535287426404975,5,5,2,2,{"$f":"SUMIF(SOLICITUDES!$C$2:$C$1048576,BD!C19986,SOLICITUDES!$I$2:$I$1048576)","v":0},0,{"$f":"SUMIF(SOLICITUDES!$C$2:$C$1048576,BD!C19986,SOLICITUDES!$J$2:$J$1048576)","v":0},0,{"$f":"SUMIF(SOLICITUDES!$C$2:$C$1048576,BD!C19986,SOLICITUDES!$K$2:$K$1048576)","v":0},0]
[null,null,"T3964",15,13200,240,-76.516219337558482,2.4379089284820918,7.5,7.5,3,3,{"$f":"SUMIF(SOLICITUDES!$C$2:$C$1048576,BD!C20001,SOLICITUDES!$I$2:$I$1048576)","v":0},0,{"$f":"SUMIF(SOLICITUDES!$C$2:$C$1048576,BD!C20001,SOLICITUDES!$J$2:$J$1048576)","v":0},0,{"$f":"SUMIF(SOLICITUDES!$C$2:$C$1048576,BD!C20001,SOLICITUDES!$K$2:$K$1048576)","v":0},0]
[null,null,"T16101",37.5,13200,240,-76.068655880555696,2.7249004532431029,18.75,18.75,7.5,7.5,{"$f":"SUMIF(SOLICITUDES!$C$2:$C$1048576,BD!C20010,SOLICITUDES!$I$2:$I$1048576)","v":0},0,{"$f":"SUMIF(SOLICITUDES!$C$2:$C$1048576,BD!C20010,SOLICITUDES!$J$2:$J$1048576)","v":0},0,{"$f":"SUMIF(SOLICITUDES!$C$2:$C$1048576,BD!C20010,SOLICITUDES!$K$2:$K$1048576)","v":0},0]
[null,null,"T16136",10,13200,240,-76.068818689109648,2.7237612857413591,5,5,2,2,{"$f":"SUMIF(SOLICITUDES!$C$2:$C$1048576,BD!C20018,SOLICITUDES!$I$2:$I$1048576)","v":0},0,{"$f":"SUMIF(SOLICITUDES!$C$2:$C$1048576,BD!C20018,SOLICITUDES!$J$2:$J$1048576)","v":0},0,{"$f":"SUMIF(SOLICITUDES!$C$2:$C$1048576,BD!C20018,SOLICITUDES!$K$2:$K$1048576)","v":0},0]
[null,null,"T16018",25,13200,240,-76.080545659250177,2.72180900390553,12.5,12.5,5,5,{"$f":"SUMIF(SOLICITUDES!$C$2:$C$1048576,BD!C20029,SOLICITUDES!$I$2:$I$1048576)","v":0},0,{"$f":"SUMIF(SOLICITUDES!$C$2:$C$1048576,BD!C20029,SOLICITUDES!$J$2:$J$1048576)","v":0},0,{"$f":"SUMIF(SOLICITUDES!$C$2:$C$1048576,BD!C20029,SOLICITUDES!$K$2:$K$1048576)","v":0},0]
[null,null,"T12518",10,13200,240,-76.04442187099211,2.6899436964393977,5,5,2,2,{"$f":"SUMIF(SOLICITUDES!$C$2:$C$1048576,BD!C20044,SOLICITUDES!$I$2:$I$1048576)","v":0},0,{"$f":"SUMIF(SOLICITUDES!$C$2:$C$1048576,BD!C20044,SOLICITUDES!$J$2:$J$1048576)","v":0},0,{"$f":"SUMIF(SOLICITUDES!$C$2:$C$1048576,BD!C20044,SOLICITUDES!$K$2:$K$1048576)","v":0},0]
[null,null,"T27091",15,13200,240,-76.057520198296615,2.7809086979839193,7.5,7.5,3,3,{"$f":"SUMIF(SOLICITUDES!$C$2:$C$1048576,BD!C20049,SOLICITUDES!$I$2:$I$1048576)","v":0},0,{"$f":"SUMIF(SOLICITUDES!$C$2:$C$1048576,BD!C20049,SOLICITUDES!$J$2:$J$1048576)","v":0},0,{"$f":"SUMIF(SOLICITUDES!$C$2:$C$1048576,BD!C20049,SOLICITUDES!$K$2:$K$1048576)","v":0},0]
[null,null,"T3970",45,13200,208,-76.508278373364263,2.4144629178975729,22.5,22.5,9,9,{"$f":"SUMIF(SOLICITUDES!$C$2:$C$1048576,BD!C20060,SOLICITUDES!$I$2:$I$1048576)","v":0},0,{"$f":"SUMIF(SOLICITUDES!$C$2:$C$1048576,BD!C20060,SOLICITUDES!$J$2:$J$1048576)","v":0},0,{"$f":"SUMIF(SOLICITUDES!$C$2:$C$1048576,BD!C20060,SOLICITUDES!$K$2:$K$1048576)","v":0},0]
[null,null,"T8021",15,13200,240,-76.525440901160565,2.4128221730593387,7.5,7.5,3,3,{"$f":"SUMIF(SOLICITUDES!$C$2:$C$1048576,BD!C20075,SOLICITUDES!$I$2:$I$1048576)","v":0},0,{"$f":"SUMIF(SOLICITUDES!$C$2:$C$1048576,BD!C20075,SOLICITUDES!$J$2:$J$1048576)","v":0},0,{"$f":"SUMIF(SOLICITUDES!$C$2:$C$1048576,BD!C20075,SOLICITUDES!$K$2:$K$1048576)","v":0},0]
[null,null,"T8017",15,13200,240,-76.530618095991883,2.3949907675753668,7.5,7.5,3,3,{"$f":"SUMIF(SOLICITUDES!$C$2:$C$1048576,BD!C20080,SOLICITUDES!$I$2:$I$1048576)","v":0},0,{"$f":"SUMIF(SOLICITUDES!$C$2:$C$1048576,BD!C20080,SOLICITUDES!$J$2:$J$1048576)","v":0},0,{"$f":"SUMIF(SOLICITUDES!$C$2:$C$1048576,BD!C20080,SOLICITUDES!$K$2:$K$1048576)","v":0},0]
[null,null,"T7992",45,13200,208,-76.538033647617056,2.4170223634840866,22.5,22.5,9,9,{"$f":"SUMIF(SOLICITUDES!$C$2:$C$1048576,BD!C20091,SOLICITUDES!$I$2:$I$1048576)","v":0},0,{"$f":"SUMIF(SOLICITUDES!$C$2:$C$1048576,BD!C20091,SOLICITUDES!$J$2:$J$1048576)","v":0},0,{"$f":"SUMIF(SOLICITUDES!$C$2:$C$1048576,BD!C20091,SOLICITUDES!$K$2:$K$1048576)","v":0},0]
[null,null,"T2655",45,13200,208,-76.531296573276848,2.5187304456823609,22.5,22.5,9,9,{"$f":"SUMIF(SOLICITUDES!$C$2:$C$1048576,BD!C20101,SOLICITUDES!$I$2:$I$1048576)","v":0},0,{"$f":"SUMIF(SOLICITUDES!$C$2:$C$1048576,BD!C20101,SOLICITUDES!$J$2:$J$1048576)","v":0},0,{"$f":"SUMIF(SOLICITUDES!$C$2:$C$1048576,BD!C20101,SOLICITUDES!$K$2:$K$1048576)","v":0},0]
[null,null,"T30925",30,13200,214,-76.559054875902433,2.4911151649564784,15,15,6,6,{"$f":"SUMIF(SOLICITUDES!$C$2:$C$1048576,BD!C20108,SOLICITUDES!$I$2:$I$1048576)","v":0},0,{"$f":"SUMIF(SOLICITUDES!$C$2:$C$1048576,BD!C20108,SOLICITUDES!$J$2:$J$1048576)","v":0},0,{"$f":"SUMIF(SOLICITUDES!$C$2:$C$1048576,BD!C20108,SOLICITUDES!$K$2:$K$1048576)","v":0},0]
[null,null,"T18208",37.5,13200,240,-77.227041670558705,2.1400423880634305,18.75,18.75,7.5,7.5,{"$f":"SUMIF(SOLICITUDES!$C$2:$C$1048576,BD!C20123,SOLICITUDES!$I$2:$I$1048576)","v":0},0,{"$f":"SUMIF(SOLICITUDES!$C$2:$C$1048576,BD!C20123,SOLICITUDES!$J$2:$J$1048576)","v":0},0,{"$f":"SUMIF(SOLICITUDES!$C$2:$C$1048576,BD!C20123,SOLICITUDES!$K$2:$K$1048576)","v":0},0]
[null,null,"T21251",5,13200,240,-77.208167448838026,2.1824333310751256,2.5,2.5,1,1,{"$f":"SUMIF(SOLICITUDES!$C$2:$C$1048576,BD!C20128,SOLICITUDES!$I$2:$I$1048576)","v":0},0,{"$f":"SUMIF(SOLICITUDES!$C$2:$C$1048576,BD!C20128,SOLICITUDES!$J$2:$J$1048576)","v":0},0,{"$f":"SUMIF(SOLICITUDES!$C$2:$C$1048576,BD!C20128,SOLICITUDES!$K$2:$K$1048576)","v":0},0]
[null,null,"T16859",15,13200,240,-77.22783896854331,2.2044412793762223,7.5,7.5,3,3,{"$f":"SUMIF(SOLICITUDES!$C$2:$C$1048576,BD!C20139,SOLICITUDES!$I$2:$I$1048576)","v":0},0,{"$f":"SUMIF(SOLICITUDES!$C$2:$C$1048576,BD!C20139,SOLICITUDES!$J$2:$J$1048576)","v":0},0,{"$f":"SUMIF(SOLICITUDES!$C$2:$C$1048576,BD!C20139,SOLICITUDES!$K$2:$K$1048576)","v":0},0]
[null,null,"T12847",25,13200,240,-76.669381835465344,2.980783282825791,12.5,12.5,5,5,{"$f":"SUMIF(SOLICITUDES!$C$2:$C$1048576,BD!C20154,SOLICITUDES!$I$2:$I$1048576)","v":0},0,{"$f":"SUMIF(SOLICITUDES!$C$2:$C$1048576,BD!C20154,SOLICITUDES!$J$2:$J$1048576)","v":0},0,{"$f":"SUMIF(SOLICITUDES!$C$2:$C$1048576,BD!C20154,SOLICITUDES!$K$2:$K$1048576)","v":0},0]
[null,null,"T12869",5,13200,240,-76.655063015807087,2.9775583751630221,2.5,2.5,1,1,{"$f":"SUMIF(SOLICITUDES!$C$2:$C$1048576,BD!C20165,SOLICITUDES!$I$2:$I$1048576)","v":0},0,{"$f":"SUMIF(SOLICITUDES!$C$2:$C$1048576,BD!C20165,SOLICITUDES!$J$2:$J$1048576)","v":0},0,{"$f":"SUMIF(SOLICITUDES!$C$2:$C$1048576,BD!C20165,SOLICITUDES!$K$2:$K$1048576)","v":0},0]
[null,null,"T13865",75,13200,208,-77.163520019513115,1.7905373760100132,37.5,37.5,15,15,{"$f":"SUMIF(SOLICITUDES!$C$2:$C$1048576,BD!C20170,SOLICITUDES!$I$2:$I$1048576)","v":0},0,{"$f":"SUMIF(SOLICITUDES!$C$2:$C$1048576,BD!C20170,SOLICITUDES!$J$2:$J$1048576)","v":0},0,{"$f":"SUMIF(SOLICITUDES!$C$2:$C$1048576,BD!C20170,SOLICITUDES!$K$2:$K$1048576)","v":0},0]
[null,null,"T13864",15,13200,240,-77.160745529751551,1.7655438376059831,7.5,7.5,3,3,{"$f":"SUMIF(SOLICITUDES!$C$2:$C$1048576,BD!C20185,SOLICITUDES!$I$2:$I$1048576)","v":0},0,{"$f":"SUMIF(SOLICITUDES!$C$2:$C$1048576,BD!C20185,SOLICITUDES!$J$2:$J$1048576)","v":0},0,{"$f":"SUMIF(SOLICITUDES!$C$2:$C$1048576,BD!C20185,SOLICITUDES!$K$2:$K$1048576)","v":0},0]
[null,null,"T2271",75,13200,208,-76.556923690280826,2.4917744681972618,37.5,37.5,15,15,{"$f":"SUMIF(SOLICITUDES!$C$2:$C$1048576,BD!C20196,SOLICITUDES!$I$2:$I$1048576)","v":0},0,{"$f":"SUMIF(SOLICITUDES!$C$2:$C$1048576,BD!C20196,SOLICITUDES!$J$2:$J$1048576)","v":0},0,{"$f":"SUMIF(SOLICITUDES!$C$2:$C$1048576,BD!C20196,SOLICITUDES!$K$2:$K$1048576)","v":0},0]
[null,null,"T2307",15,13200,240,-76.558666806494642,2.4947684474045735,7.5,7.5,3,3,{"$f":"SUMIF(SOLICITUDES!$C$2:$C$1048576,BD!C20202,SOLICITUDES!$I$2:$I$1048576)","v":0},0,{"$f":"SUMIF(SOLICITUDES!$C$2:$C$1048576,BD!C20202,SOLICITUDES!$J$2:$J$1048576)","v":0},0,{"$f":"SUMIF(SOLICITUDES!$C$2:$C$1048576,BD!C20202,SOLICITUDES!$K$2:$K$1048576)","v":0},0]
[null,null,"T2188",10,13200,240,-76.554086839774641,2.5034660486431339,5,5,2,2,{"$f":"SUMIF(SOLICITUDES!$C$2:$C$1048576,BD!C20217,SOLICITUDES!$I$2:$I$1048576)","v":0},0,{"$f":"SUMIF(SOLICITUDES!$C$2:$C$1048576,BD!C20217,SOLICITUDES!$J$2:$J$1048576)","v":0},0,{"$f":"SUMIF(SOLICITUDES!$C$2:$C$1048576,BD!C20217,SOLICITUDES!$K$2:$K$1048576)","v":0},0]
[null,null,"T2315",75,13200,208,-76.537187841012098,2.4921643150840058,{"$f":"D20228*0.5","v":37.5},37.5,{"$f":"0.2*D20228","v":15},{"$f":"0.2*D20228","v":15},{"$f":"SUMIF(SOLICITUDES!$C$2:$C$1048576,BD!C20228,SOLICITUDES!$I$2:$I$1048576)","v":0},0,{"$f":"SUMIF(SOLICITUDES!$C$2:$C$1048576,BD!C20228,SOLICITUDES!$J$2:$J$1048576)","v":0},{"$f":"O20228/(2*K20228)","v":0},{"$f":"SUMIF(SOLICITUDES!$C$2:$C$1048576,BD!C20228,SOLICITUDES!$K$2:$K$1048576)","v":0},{"$f":"Q20228/(2*L20228)","v":0}]
[null,null,"T28294",45,13200,226,-76.553220914854265,2.510329430171411,22.5,22.5,9,9,{"$f":"SUMIF(SOLICITUDES!$C$2:$C$1048576,BD!C20233,SOLICITUDES!$I$2:$I$1048576)","v":0},0,{"$f":"SUMIF(SOLICITUDES!$C$2:$C$1048576,BD!C20233,SOLICITUDES!$J$2:$J$1048576)","v":0},0,{"$f":"SUMIF(SOLICITUDES!$C$2:$C$1048576,BD!C20233,SOLICITUDES!$K$2:$K$1048576)","v":0},0]
[null,null,"T3468",10,13200,240,-76.543581929807189,2.5111122578140272,5,5,2,2,{"$f":"SUMIF(SOLICITUDES!$C$2:$C$1048576,BD!C20244,SOLICITUDES!$I$2:$I$1048576)","v":0},0,{"$f":"SUMIF(SOLICITUDES!$C$2:$C$1048576,BD!C20244,SOLICITUDES!$J$2:$J$1048576)","v":0},0,{"$f":"SUMIF(SOLICITUDES!$C$2:$C$1048576,BD!C20244,SOLICITUDES!$K$2:$K$1048576)","v":0},0]
[null,null,"T3458",15,13200,240,-76.541540548687834,2.5119524125725805,7.5,7.5,3,3,{"$f":"SUMIF(SOLICITUDES!$C$2:$C$1048576,BD!C20249,SOLICITUDES!$I$2:$I$1048576)","v":0},0,{"$f":"SUMIF(SOLICITUDES!$C$2:$C$1048576,BD!C20249,SOLICITUDES!$J$2:$J$1048576)","v":0},0,{"$f":"SUMIF(SOLICITUDES!$C$2:$C$1048576,BD!C20249,SOLICITUDES!$K$2:$K$1048576)","v":0},0]
[null,null,"T2323",75,13200,208,-76.535094353053623,2.5103761882519628,37.5,37.5,15,15,{"$f":"SUMIF(SOLICITUDES!$C$2:$C$1048576,BD!C20264,SOLICITUDES!$I$2:$I$1048576)","v":0},0,{"$f":"SUMIF(SOLICITUDES!$C$2:$C$1048576,BD!C20264,SOLICITUDES!$J$2:$J$1048576)","v":0},0,{"$f":"SUMIF(SOLICITUDES!$C$2:$C$1048576,BD!C20264,SOLICITUDES!$K$2:$K$1048576)","v":0},0]
[null,null,"T27859",25,13200,240,-76.550360050849989,2.5102829224168515,12.5,12.5,5,5,{"$f":"SUMIF(SOLICITUDES!$C$2:$C$1048576,BD!C20275,SOLICITUDES!$I$2:$I$1048576)","v":0},0,{"$f":"SUMIF(SOLICITUDES!$C$2:$C$1048576,BD!C20275,SOLICITUDES!$J$2:$J$1048576)","v":0},0,{"$f":"SUMIF(SOLICITUDES!$C$2:$C$1048576,BD!C20275,SOLICITUDES!$K$2:$K$1048576)","v":0},0]
[null,null,"T3467",15,13200,240,-76.5563487309484,2.5133239786839856,7.5,7.5,3,3,{"$f":"SUMIF(SOLICITUDES!$C$2:$C$1048576,BD!C20280,SOLICITUDES!$I$2:$I$1048576)","v":0},0,{"$f":"SUMIF(SOLICITUDES!$C$2:$C$1048576,BD!C20280,SOLICITUDES!$J$2:$J$1048576)","v":0},0,{"$f":"SUMIF(SOLICITUDES!$C$2:$C$1048576,BD!C20280,SOLICITUDES!$K$2:$K$1048576)","v":0},0]
[null,null,"T3794",15,13200,240,-76.507456763257196,2.5142214182659153,{"$f":"D20292*0.5","v":7.5},7.5,{"$f":"0.2*D20292","v":3},{"$f":"0.2*D20292","v":3},{"$f":"SUMIF(SOLICITUDES!$C$2:$C$1048576,BD!C20292,SOLICITUDES!$I$2:$I$1048576)","v":0},0,{"$f":"SUMIF(SOLICITUDES!$C$2:$C$1048576,BD!C20292,SOLICITUDES!$J$2:$J$1048576)","v":0},{"$f":"O20292/(2*K20292)","v":0},{"$f":"SUMIF(SOLICITUDES!$C$2:$C$1048576,BD!C20292,SOLICITUDES!$K$2:$K$1048576)","v":0},{"$f":"Q20292/(2*L20292)","v":0}]
[null,null,"T14868",15,13200,240,-76.544643795372181,2.935613496541269,7.5,7.5,3,3,{"$f":"SUMIF(SOLICITUDES!$C$2:$C$1048576,BD!C20307,SOLICITUDES!$I$2:$I$1048576)","v":0},0,{"$f":"SUMIF(SOLICITUDES!$C$2:$C$1048576,BD!C20307,SOLICITUDES!$J$2:$J$1048576)","v":0},0,{"$f":"SUMIF(SOLICITUDES!$C$2:$C$1048576,BD!C20307,SOLICITUDES!$K$2:$K$1048576)","v":0},0]
[null,null,"T14017",15,13200,240,-76.519366752937657,2.930365805700081,7.5,7.5,3,3,{"$f":"SUMIF(SOLICITUDES!$C$2:$C$1048576,BD!C20312,SOLICITUDES!$I$2:$I$1048576)","v":0},0,{"$f":"SUMIF(SOLICITUDES!$C$2:$C$1048576,BD!C20312,SOLICITUDES!$J$2:$J$1048576)","v":0},0,{"$f":"SUMIF(SOLICITUDES!$C$2:$C$1048576,BD!C20312,SOLICITUDES!$K$2:$K$1048576)","v":0},0]
[null,null,"T14849",10,13200,240,-76.503725866570633,2.9163256194594283,5,5,2,2,{"$f":"SUMIF(SOLICITUDES!$C$2:$C$1048576,BD!C20323,SOLICITUDES!$I$2:$I$1048576)","v":0},0,{"$f":"SUMIF(SOLICITUDES!$C$2:$C$1048576,BD!C20323,SOLICITUDES!$J$2:$J$1048576)","v":0},0,{"$f":"SUMIF(SOLICITUDES!$C$2:$C$1048576,BD!C20323,SOLICITUDES!$K$2:$K$1048576)","v":0},0]
[null,null,"T18101",75,13200,208,-77.248215518326418,2.2561861170400896,37.5,37.5,15,15,{"$f":"SUMIF(SOLICITUDES!$C$2:$C$1048576,BD!C20338,SOLICITUDES!$I$2:$I$1048576)","v":0},0,{"$f":"SUMIF(SOLICITUDES!$C$2:$C$1048576,BD!C20338,SOLICITUDES!$J$2:$J$1048576)","v":0},0,{"$f":"SUMIF(SOLICITUDES!$C$2:$C$1048576,BD!C20338,SOLICITUDES!$K$2:$K$1048576)","v":0},0]
[null,null,"T18109",75,13200,208,-77.250229248434579,2.2559959436788346,37.5,37.5,15,15,{"$f":"SUMIF(SOLICITUDES!$C$2:$C$1048576,BD!C20343,SOLICITUDES!$I$2:$I$1048576)","v":0},0,{"$f":"SUMIF(SOLICITUDES!$C$2:$C$1048576,BD!C20343,SOLICITUDES!$J$2:$J$1048576)","v":0},0,{"$f":"SUMIF(SOLICITUDES!$C$2:$C$1048576,BD!C20343,SOLICITUDES!$K$2:$K$1048576)","v":0},0]
[null,null,"T22457",15,13200,240,-77.27215434632933,2.2474468625820725,7.5,7.5,3,3,{"$f":"SUMIF(SOLICITUDES!$C$2:$C$1048576,BD!C20354,SOLICITUDES!$I$2:$I$1048576)","v":0},0,{"$f":"SUMIF(SOLICITUDES!$C$2:$C$1048576,BD!C20354,SOLICITUDES!$J$2:$J$1048576)","v":0},0,{"$f":"SUMIF(SOLICITUDES!$C$2:$C$1048576,BD!C20354,SOLICITUDES!$K$2:$K$1048576)","v":0},0]
[null,null,"T22445",25,13200,240,-77.259842328838459,2.2231858283909549,12.5,12.5,5,5,{"$f":"SUMIF(SOLICITUDES!$C$2:$C$1048576,BD!C20369,SOLICITUDES!$I$2:$I$1048576)","v":0},0,{"$f":"SUMIF(SOLICITUDES!$C$2:$C$1048576,BD!C20369,SOLICITUDES!$J$2:$J$1048576)","v":0},0,{"$f":"SUMIF(SOLICITUDES!$C$2:$C$1048576,BD!C20369,SOLICITUDES!$K$2:$K$1048576)","v":0},0]
[null,null,"T25221",5,13200,240,-77.286866498595117,2.2378300394259587,2.5,2.5,1,1,{"$f":"SUMIF(SOLICITUDES!$C$2:$C$1048576,BD!C20370,SOLICITUDES!$I$2:$I$1048576)","v":0},0,{"$f":"SUMIF(SOLICITUDES!$C$2:$C$1048576,BD!C20370,SOLICITUDES!$J$2:$J$1048576)","v":0},0,{"$f":"SUMIF(SOLICITUDES!$C$2:$C$1048576,BD!C20370,SOLICITUDES!$K$2:$K$1048576)","v":0},0]
[null,null,"T16472",50,13200,240,-77.213864218420724,2.044362877774319,25,25,10,10,{"$f":"SUMIF(SOLICITUDES!$C$2:$C$1048576,BD!C20387,SOLICITUDES!$I$2:$I$1048576)","v":0},0,{"$f":"SUMIF(SOLICITUDES!$C$2:$C$1048576,BD!C20387,SOLICITUDES!$J$2:$J$1048576)","v":0},0,{"$f":"SUMIF(SOLICITUDES!$C$2:$C$1048576,BD!C20387,SOLICITUDES!$K$2:$K$1048576)","v":0},0]
[null,null,"T15884",15,13200,214,-77.195006307033012,2.0531818067198198,7.5,7.5,3,3,{"$f":"SUMIF(SOLICITUDES!$C$2:$C$1048576,BD!C20391,SOLICITUDES!$I$2:$I$1048576)","v":0},0,{"$f":"SUMIF(SOLICITUDES!$C$2:$C$1048576,BD!C20391,SOLICITUDES!$J$2:$J$1048576)","v":0},0,{"$f":"SUMIF(SOLICITUDES!$C$2:$C$1048576,BD!C20391,SOLICITUDES!$K$2:$K$1048576)","v":0},0]
[null,null,"T15862",15,13200,240,-77.200705462541876,2.0562290680674677,7.5,7.5,3,3,{"$f":"SUMIF(SOLICITUDES!$C$2:$C$1048576,BD!C20402,SOLICITUDES!$I$2:$I$1048576)","v":0},0,{"$f":"SUMIF(SOLICITUDES!$C$2:$C$1048576,BD!C20402,SOLICITUDES!$J$2:$J$1048576)","v":0},0,{"$f":"SUMIF(SOLICITUDES!$C$2:$C$1048576,BD!C20402,SOLICITUDES!$K$2:$K$1048576)","v":0},0]
[null,null,"T19981",5,13200,240,-76.677463066031237,2.8696268817158321,2.5,2.5,1,1,{"$f":"SUMIF(SOLICITUDES!$C$2:$C$1048576,BD!C20417,SOLICITUDES!$I$2:$I$1048576)","v":0},0,{"$f":"SUMIF(SOLICITUDES!$C$2:$C$1048576,BD!C20417,SOLICITUDES!$J$2:$J$1048576)","v":0},0,{"$f":"SUMIF(SOLICITUDES!$C$2:$C$1048576,BD!C20417,SOLICITUDES!$K$2:$K$1048576)","v":0},0]
[null,null,"T22729",10,13200,240,-76.664704673622595,2.8838767614236005,5,5,2,2,{"$f":"SUMIF(SOLICITUDES!$C$2:$C$1048576,BD!C20422,SOLICITUDES!$I$2:$I$1048576)","v":0},0,{"$f":"SUMIF(SOLICITUDES!$C$2:$C$1048576,BD!C20422,SOLICITUDES!$J$2:$J$1048576)","v":0},0,{"$f":"SUMIF(SOLICITUDES!$C$2:$C$1048576,BD!C20422,SOLICITUDES!$K$2:$K$1048576)","v":0},0]
[null,null,"T22730",10,13200,240,-76.655251752849821,2.8839267926040297,5,5,2,2,{"$f":"SUMIF(SOLICITUDES!$C$2:$C$1048576,BD!C20433,SOLICITUDES!$I$2:$I$1048576)","v":0},0,{"$f":"SUMIF(SOLICITUDES!$C$2:$C$1048576,BD!C20433,SOLICITUDES!$J$2:$J$1048576)","v":0},0,{"$f":"SUMIF(SOLICITUDES!$C$2:$C$1048576,BD!C20433,SOLICITUDES!$K$2:$K$1048576)","v":0},0]
[null,null,"T16885",5,13200,240,-76.670282640846168,2.8531294495049377,2.5,2.5,1,1,{"$f":"SUMIF(SOLICITUDES!$C$2:$C$1048576,BD!C20448,SOLICITUDES!$I$2:$I$1048576)","v":0},0,{"$f":"SUMIF(SOLICITUDES!$C$2:$C$1048576,BD!C20448,SOLICITUDES!$J$2:$J$1048576)","v":0},0,{"$f":"SUMIF(SOLICITUDES!$C$2:$C$1048576,BD!C20448,SOLICITUDES!$K$2:$K$1048576)","v":0},0]
[null,null,"T31572",10,13200,240,-76.723543336781219,3.010366439821484,5,5,2,2,{"$f":"SUMIF(SOLICITUDES!$C$2:$C$1048576,BD!C20459,SOLICITUDES!$I$2:$I$1048576)","v":0},0,{"$f":"SUMIF(SOLICITUDES!$C$2:$C$1048576,BD!C20459,SOLICITUDES!$J$2:$J$1048576)","v":0},0,{"$f":"SUMIF(SOLICITUDES!$C$2:$C$1048576,BD!C20459,SOLICITUDES!$K$2:$K$1048576)","v":0},0]
[null,null,"T16054",10,13200,214,-76.692964641965546,2.8557599124071174,5,5,2,2,{"$f":"SUMIF(SOLICITUDES!$C$2:$C$1048576,BD!C20464,SOLICITUDES!$I$2:$I$1048576)","v":0},0,{"$f":"SUMIF(SOLICITUDES!$C$2:$C$1048576,BD!C20464,SOLICITUDES!$J$2:$J$1048576)","v":0},0,{"$f":"SUMIF(SOLICITUDES!$C$2:$C$1048576,BD!C20464,SOLICITUDES!$K$2:$K$1048576)","v":0},0]
[null,null,"T4560",15,13200,240,-76.387209649188407,2.6062231339239585,7.5,7.5,3,3,{"$f":"SUMIF(SOLICITUDES!$C$2:$C$1048576,BD!C20478,SOLICITUDES!$I$2:$I$1048576)","v":0},0,{"$f":"SUMIF(SOLICITUDES!$C$2:$C$1048576,BD!C20478,SOLICITUDES!$J$2:$J$1048576)","v":0},0,{"$f":"SUMIF(SOLICITUDES!$C$2:$C$1048576,BD!C20478,SOLICITUDES!$K$2:$K$1048576)","v":0},0]
[null,null,"T4577",10,13200,240,-76.404496274248118,2.6011402729356434,5,5,2,2,{"$f":"SUMIF(SOLICITUDES!$C$2:$C$1048576,BD!C20491,SOLICITUDES!$I$2:$I$1048576)","v":0},0,{"$f":"SUMIF(SOLICITUDES!$C$2:$C$1048576,BD!C20491,SOLICITUDES!$J$2:$J$1048576)","v":0},0,{"$f":"SUMIF(SOLICITUDES!$C$2:$C$1048576,BD!C20491,SOLICITUDES!$K$2:$K$1048576)","v":0},0]
[null,null,"T42369",10,13200,240,-76.411169636529536,2.6095621450380873,5,5,2,2,{"$f":"SUMIF(SOLICITUDES!$C$2:$C$1048576,BD!C20496,SOLICITUDES!$I$2:$I$1048576)","v":0},0,{"$f":"SUMIF(SOLICITUDES!$C$2:$C$1048576,BD!C20496,SOLICITUDES!$J$2:$J$1048576)","v":0},0,{"$f":"SUMIF(SOLICITUDES!$C$2:$C$1048576,BD!C20496,SOLICITUDES!$K$2:$K$1048576)","v":0},0]
[null,null,"T14479",15,13200,240,-76.688501040749344,2.9414431850459923,7.5,7.5,3,3,{"$f":"SUMIF(SOLICITUDES!$C$2:$C$1048576,BD!C20511,SOLICITUDES!$I$2:$I$1048576)","v":0},0,{"$f":"SUMIF(SOLICITUDES!$C$2:$C$1048576,BD!C20511,SOLICITUDES!$J$2:$J$1048576)","v":0},0,{"$f":"SUMIF(SOLICITUDES!$C$2:$C$1048576,BD!C20511,SOLICITUDES!$K$2:$K$1048576)","v":0},0]
[null,null,"T13363",15,13200,220,-76.682772270401657,2.9472172996655153,7.5,7.5,3,3,{"$f":"SUMIF(SOLICITUDES!$C$2:$C$1048576,BD!C20512,SOLICITUDES!$I$2:$I$1048576)","v":0},0,{"$f":"SUMIF(SOLICITUDES!$C$2:$C$1048576,BD!C20512,SOLICITUDES!$J$2:$J$1048576)","v":0},0,{"$f":"SUMIF(SOLICITUDES!$C$2:$C$1048576,BD!C20512,SOLICITUDES!$K$2:$K$1048576)","v":0},0]
[null,null,"T13688",45,13200,208,-76.690224467508926,2.951653622443573,22.5,22.5,9,9,{"$f":"SUMIF(SOLICITUDES!$C$2:$C$1048576,BD!C20527,SOLICITUDES!$I$2:$I$1048576)","v":0},0,{"$f":"SUMIF(SOLICITUDES!$C$2:$C$1048576,BD!C20527,SOLICITUDES!$J$2:$J$1048576)","v":0},0,{"$f":"SUMIF(SOLICITUDES!$C$2:$C$1048576,BD!C20527,SOLICITUDES!$K$2:$K$1048576)","v":0},0]
[null,null,"T44961",25,13200,240,-76.694208486173835,2.9512662623010972,12.5,12.5,5,5,{"$f":"SUMIF(SOLICITUDES!$C$2:$C$1048576,BD!C20538,SOLICITUDES!$I$2:$I$1048576)","v":0},0,{"$f":"SUMIF(SOLICITUDES!$C$2:$C$1048576,BD!C20538,SOLICITUDES!$J$2:$J$1048576)","v":0},0,{"$f":"SUMIF(SOLICITUDES!$C$2:$C$1048576,BD!C20538,SOLICITUDES!$K$2:$K$1048576)","v":0},0]
[null,null,"T12584",10,13200,240,-76.708075951597039,2.961245657514163,5,5,2,2,{"$f":"SUMIF(SOLICITUDES!$C$2:$C$1048576,BD!C20543,SOLICITUDES!$I$2:$I$1048576)","v":0},0,{"$f":"SUMIF(SOLICITUDES!$C$2:$C$1048576,BD!C20543,SOLICITUDES!$J$2:$J$1048576)","v":0},0,{"$f":"SUMIF(SOLICITUDES!$C$2:$C$1048576,BD!C20543,SOLICITUDES!$K$2:$K$1048576)","v":0},0]
[null,null,"T12215",5,13200,240,-76.798905665854321,1.9356318734573963,2.5,2.5,1,1,{"$f":"SUMIF(SOLICITUDES!$C$2:$C$1048576,BD!C20558,SOLICITUDES!$I$2:$I$1048576)","v":0},0,{"$f":"SUMIF(SOLICITUDES!$C$2:$C$1048576,BD!C20558,SOLICITUDES!$J$2:$J$1048576)","v":0},0,{"$f":"SUMIF(SOLICITUDES!$C$2:$C$1048576,BD!C20558,SOLICITUDES!$K$2:$K$1048576)","v":0},0]
[null,null,"T43169",10,13200,240,-76.799925439871686,1.9640751192808519,5,5,2,2,{"$f":"SUMIF(SOLICITUDES!$C$2:$C$1048576,BD!C20562,SOLICITUDES!$I$2:$I$1048576)","v":0},0,{"$f":"SUMIF(SOLICITUDES!$C$2:$C$1048576,BD!C20562,SOLICITUDES!$J$2:$J$1048576)","v":0},0,{"$f":"SUMIF(SOLICITUDES!$C$2:$C$1048576,BD!C20562,SOLICITUDES!$K$2:$K$1048576)","v":0},0]
[null,null,"T12204",10,13200,240,-76.7745127391632,1.8800555704544133,5,5,2,2,{"$f":"SUMIF(SOLICITUDES!$C$2:$C$1048576,BD!C20575,SOLICITUDES!$I$2:$I$1048576)","v":0},0,{"$f":"SUMIF(SOLICITUDES!$C$2:$C$1048576,BD!C20575,SOLICITUDES!$J$2:$J$1048576)","v":0},0,{"$f":"SUMIF(SOLICITUDES!$C$2:$C$1048576,BD!C20575,SOLICITUDES!$K$2:$K$1048576)","v":0},0]
[null,null,"T13589",10,13200,240,-76.798630132232248,1.9709647404146966,5,5,2,2,{"$f":"SUMIF(SOLICITUDES!$C$2:$C$1048576,BD!C20586,SOLICITUDES!$I$2:$I$1048576)","v":0},0,{"$f":"SUMIF(SOLICITUDES!$C$2:$C$1048576,BD!C20586,SOLICITUDES!$J$2:$J$1048576)","v":0},0,{"$f":"SUMIF(SOLICITUDES!$C$2:$C$1048576,BD!C20586,SOLICITUDES!$K$2:$K$1048576)","v":0},0]
[null,null,"T13574",10,13200,240,-76.807629219706513,1.9783206644816966,5,5,2,2,{"$f":"SUMIF(SOLICITUDES!$C$2:$C$1048576,BD!C20601,SOLICITUDES!$I$2:$I$1048576)","v":0},0,{"$f":"SUMIF(SOLICITUDES!$C$2:$C$1048576,BD!C20601,SOLICITUDES!$J$2:$J$1048576)","v":0},0,{"$f":"SUMIF(SOLICITUDES!$C$2:$C$1048576,BD!C20601,SOLICITUDES!$K$2:$K$1048576)","v":0},0]
[null,null,"T1146",75,13200,208,-76.574832397772838,2.4729626793126047,37.5,37.5,15,15,{"$f":"SUMIF(SOLICITUDES!$C$2:$C$1048576,BD!C20606,SOLICITUDES!$I$2:$I$1048576)","v":0},0,{"$f":"SUMIF(SOLICITUDES!$C$2:$C$1048576,BD!C20606,SOLICITUDES!$J$2:$J$1048576)","v":0},0,{"$f":"SUMIF(SOLICITUDES!$C$2:$C$1048576,BD!C20606,SOLICITUDES!$K$2:$K$1048576)","v":0},0]
[null,null,"T1122",45,13200,208,-76.576002217447723,2.4703677453453183,22.5,22.5,9,9,{"$f":"SUMIF(SOLICITUDES!$C$2:$C$1048576,BD!C20617,SOLICITUDES!$I$2:$I$1048576)","v":0},0,{"$f":"SUMIF(SOLICITUDES!$C$2:$C$1048576,BD!C20617,SOLICITUDES!$J$2:$J$1048576)","v":0},0,{"$f":"SUMIF(SOLICITUDES!$C$2:$C$1048576,BD!C20617,SOLICITUDES!$K$2:$K$1048576)","v":0},0]
[null,null,"16TR2",30,13200,220,-76.573202170968045,2.4773832874223767,15,15,6,6,{"$f":"SUMIF(SOLICITUDES!$C$2:$C$1048576,BD!C20632,SOLICITUDES!$I$2:$I$1048576)","v":0},0,{"$f":"SUMIF(SOLICITUDES!$C$2:$C$1048576,BD!C20632,SOLICITUDES!$J$2:$J$1048576)","v":0},0,{"$f":"SUMIF(SOLICITUDES!$C$2:$C$1048576,BD!C20632,SOLICITUDES!$K$2:$K$1048576)","v":0},0]
[null,null,"T13606",10,13200,214,-76.750566312172481,2.6196187283884194,5,5,2,2,{"$f":"SUMIF(SOLICITUDES!$C$2:$C$1048576,BD!C20637,SOLICITUDES!$I$2:$I$1048576)","v":0},0,{"$f":"SUMIF(SOLICITUDES!$C$2:$C$1048576,BD!C20637,SOLICITUDES!$J$2:$J$1048576)","v":0},0,{"$f":"SUMIF(SOLICITUDES!$C$2:$C$1048576,BD!C20637,SOLICITUDES!$K$2:$K$1048576)","v":0},0]
[null,null,"T18919",10,13200,240,-76.760269870845377,2.627634733181416,5,5,2,2,{"$f":"SUMIF(SOLICITUDES!$C$2:$C$1048576,BD!C20648,SOLICITUDES!$I$2:$I$1048576)","v":0},0,{"$f":"SUMIF(SOLICITUDES!$C$2:$C$1048576,BD!C20648,SOLICITUDES!$J$2:$J$1048576)","v":0},0,{"$f":"SUMIF(SOLICITUDES!$C$2:$C$1048576,BD!C20648,SOLICITUDES!$K$2:$K$1048576)","v":0},0]
[null,null,"T18923",15,13200,240,-76.769975488307779,2.615169356572443,7.5,7.5,3,3,{"$f":"SUMIF(SOLICITUDES!$C$2:$C$1048576,BD!C20653,SOLICITUDES!$I$2:$I$1048576)","v":0},0,{"$f":"SUMIF(SOLICITUDES!$C$2:$C$1048576,BD!C20653,SOLICITUDES!$J$2:$J$1048576)","v":0},0,{"$f":"SUMIF(SOLICITUDES!$C$2:$C$1048576,BD!C20653,SOLICITUDES!$K$2:$K$1048576)","v":0},0]
[null,null,"T10640",10,13200,214,-76.748295886877088,2.5951302698313961,5,5,2,2,{"$f":"SUMIF(SOLICITUDES!$C$2:$C$1048576,BD!C20665,SOLICITUDES!$I$2:$I$1048576)","v":0},0,{"$f":"SUMIF(SOLICITUDES!$C$2:$C$1048576,BD!C20665,SOLICITUDES!$J$2:$J$1048576)","v":0},0,{"$f":"SUMIF(SOLICITUDES!$C$2:$C$1048576,BD!C20665,SOLICITUDES!$K$2:$K$1048576)","v":0},0]
[null,null,"T18933",10,13200,240,-76.776013886613214,2.6220743910424971,5,5,2,2,{"$f":"SUMIF(SOLICITUDES!$C$2:$C$1048576,BD!C20680,SOLICITUDES!$I$2:$I$1048576)","v":0},0,{"$f":"SUMIF(SOLICITUDES!$C$2:$C$1048576,BD!C20680,SOLICITUDES!$J$2:$J$1048576)","v":0},0,{"$f":"SUMIF(SOLICITUDES!$C$2:$C$1048576,BD!C20680,SOLICITUDES!$K$2:$K$1048576)","v":0},0]
[null,null,"T21895",5,13200,240,-76.776895962990508,2.6036544429088804,2.5,2.5,1,1,{"$f":"SUMIF(SOLICITUDES!$C$2:$C$1048576,BD!C20685,SOLICITUDES!$I$2:$I$1048576)","v":0},0,{"$f":"SUMIF(SOLICITUDES!$C$2:$C$1048576,BD!C20685,SOLICITUDES!$J$2:$J$1048576)","v":0},0,{"$f":"SUMIF(SOLICITUDES!$C$2:$C$1048576,BD!C20685,SOLICITUDES!$K$2:$K$1048576)","v":0},0]
[null,null,"T5163",25,13200,240,-76.669532976522731,2.7782626521137961,12.5,12.5,5,5,{"$f":"SUMIF(SOLICITUDES!$C$2:$C$1048576,BD!C20696,SOLICITUDES!$I$2:$I$1048576)","v":0},0,{"$f":"SUMIF(SOLICITUDES!$C$2:$C$1048576,BD!C20696,SOLICITUDES!$J$2:$J$1048576)","v":0},0,{"$f":"SUMIF(SOLICITUDES!$C$2:$C$1048576,BD!C20696,SOLICITUDES!$K$2:$K$1048576)","v":0},0]
[null,null,"T6108",10,13200,240,-76.672489287348881,2.7666948495963481,5,5,2,2,{"$f":"SUMIF(SOLICITUDES!$C$2:$C$1048576,BD!C20711,SOLICITUDES!$I$2:$I$1048576)","v":0},0,{"$f":"SUMIF(SOLICITUDES!$C$2:$C$1048576,BD!C20711,SOLICITUDES!$J$2:$J$1048576)","v":0},0,{"$f":"SUMIF(SOLICITUDES!$C$2:$C$1048576,BD!C20711,SOLICITUDES!$K$2:$K$1048576)","v":0},0]
[null,null,"T6082",15,13200,208,-76.6964789687528,2.7568045277319544,7.5,7.5,3,3,{"$f":"SUMIF(SOLICITUDES!$C$2:$C$1048576,BD!C20722,SOLICITUDES!$I$2:$I$1048576)","v":0},0,{"$f":"SUMIF(SOLICITUDES!$C$2:$C$1048576,BD!C20722,SOLICITUDES!$J$2:$J$1048576)","v":0},0,{"$f":"SUMIF(SOLICITUDES!$C$2:$C$1048576,BD!C20722,SOLICITUDES!$K$2:$K$1048576)","v":0},0]
[null,null,"T6126",15,13200,240,-76.701188503898464,2.7622280406327264,7.5,7.5,3,3,{"$f":"SUMIF(SOLICITUDES!$C$2:$C$1048576,BD!C20727,SOLICITUDES!$I$2:$I$1048576)","v":0},0,{"$f":"SUMIF(SOLICITUDES!$C$2:$C$1048576,BD!C20727,SOLICITUDES!$J$2:$J$1048576)","v":0},0,{"$f":"SUMIF(SOLICITUDES!$C$2:$C$1048576,BD!C20727,SOLICITUDES!$K$2:$K$1048576)","v":0},0]
[null,null,"T6098",10,13200,240,-76.707823240576204,2.7409693214919466,5,5,2,2,{"$f":"SUMIF(SOLICITUDES!$C$2:$C$1048576,BD!C20742,SOLICITUDES!$I$2:$I$1048576)","v":0},0,{"$f":"SUMIF(SOLICITUDES!$C$2:$C$1048576,BD!C20742,SOLICITUDES!$J$2:$J$1048576)","v":0},0,{"$f":"SUMIF(SOLICITUDES!$C$2:$C$1048576,BD!C20742,SOLICITUDES!$K$2:$K$1048576)","v":0},0]
[null,null,"T8061",15,13200,240,-76.508334203023779,2.7886644870984547,7.5,7.5,3,3,{"$f":"SUMIF(SOLICITUDES!$C$2:$C$1048576,BD!C20748,SOLICITUDES!$I$2:$I$1048576)","v":0},0,{"$f":"SUMIF(SOLICITUDES!$C$2:$C$1048576,BD!C20748,SOLICITUDES!$J$2:$J$1048576)","v":0},0,{"$f":"SUMIF(SOLICITUDES!$C$2:$C$1048576,BD!C20748,SOLICITUDES!$K$2:$K$1048576)","v":0},0]
[null,null,"T8068",10,13200,214,-76.523701896844969,2.8115779642137575,5,5,2,2,{"$f":"SUMIF(SOLICITUDES!$C$2:$C$1048576,BD!C20759,SOLICITUDES!$I$2:$I$1048576)","v":0},0,{"$f":"SUMIF(SOLICITUDES!$C$2:$C$1048576,BD!C20759,SOLICITUDES!$J$2:$J$1048576)","v":0},0,{"$f":"SUMIF(SOLICITUDES!$C$2:$C$1048576,BD!C20759,SOLICITUDES!$K$2:$K$1048576)","v":0},0]
[null,null,"T9608",75,13200,208,-76.510387998126845,2.7817294894233724,37.5,37.5,15,15,{"$f":"SUMIF(SOLICITUDES!$C$2:$C$1048576,BD!C20774,SOLICITUDES!$I$2:$I$1048576)","v":0},0,{"$f":"SUMIF(SOLICITUDES!$C$2:$C$1048576,BD!C20774,SOLICITUDES!$J$2:$J$1048576)","v":0},0,{"$f":"SUMIF(SOLICITUDES!$C$2:$C$1048576,BD!C20774,SOLICITUDES!$K$2:$K$1048576)","v":0},0]
[null,null,"T8052",25,13200,240,-76.506752602438794,2.7675211072115067,12.5,12.5,5,5,{"$f":"SUMIF(SOLICITUDES!$C$2:$C$1048576,BD!C20775,SOLICITUDES!$I$2:$I$1048576)","v":0},0,{"$f":"SUMIF(SOLICITUDES!$C$2:$C$1048576,BD!C20775,SOLICITUDES!$J$2:$J$1048576)","v":0},0,{"$f":"SUMIF(SOLICITUDES!$C$2:$C$1048576,BD!C20775,SOLICITUDES!$K$2:$K$1048576)","v":0},0]
[null,null,"T11278",25,13200,240,-76.505518241818322,2.8092631074203038,12.5,12.5,5,5,{"$f":"SUMIF(SOLICITUDES!$C$2:$C$1048576,BD!C20790,SOLICITUDES!$I$2:$I$1048576)","v":0},0,{"$f":"SUMIF(SOLICITUDES!$C$2:$C$1048576,BD!C20790,SOLICITUDES!$J$2:$J$1048576)","v":0},0,{"$f":"SUMIF(SOLICITUDES!$C$2:$C$1048576,BD!C20790,SOLICITUDES!$K$2:$K$1048576)","v":0},0]
[null,null,"T26522",15,13200,240,-76.524926513058389,2.7531791506089203,7.5,7.5,3,3,{"$f":"SUMIF(SOLICITUDES!$C$2:$C$1048576,BD!C20801,SOLICITUDES!$I$2:$I$1048576)","v":0},0,{"$f":"SUMIF(SOLICITUDES!$C$2:$C$1048576,BD!C20801,SOLICITUDES!$J$2:$J$1048576)","v":0},0,{"$f":"SUMIF(SOLICITUDES!$C$2:$C$1048576,BD!C20801,SOLICITUDES!$K$2:$K$1048576)","v":0},0]
[null,null,"T8880",25,13200,240,-76.557478343330274,2.5439626067958039,12.5,12.5,5,5,{"$f":"SUMIF(SOLICITUDES!$C$2:$C$1048576,BD!C20806,SOLICITUDES!$I$2:$I$1048576)","v":0},0,{"$f":"SUMIF(SOLICITUDES!$C$2:$C$1048576,BD!C20806,SOLICITUDES!$J$2:$J$1048576)","v":0},0,{"$f":"SUMIF(SOLICITUDES!$C$2:$C$1048576,BD!C20806,SOLICITUDES!$K$2:$K$1048576)","v":0},0]
[null,null,"T8915",37.5,13200,240,-76.552566789431069,2.5272365603937255,18.75,18.75,7.5,7.5,{"$f":"SUMIF(SOLICITUDES!$C$2:$C$1048576,BD!C20821,SOLICITUDES!$I$2:$I$1048576)","v":0},0,{"$f":"SUMIF(SOLICITUDES!$C$2:$C$1048576,BD!C20821,SOLICITUDES!$J$2:$J$1048576)","v":0},0,{"$f":"SUMIF(SOLICITUDES!$C$2:$C$1048576,BD!C20821,SOLICITUDES!$K$2:$K$1048576)","v":0},0]
[null,null,"T5016",15,13200,240,-76.58076436522127,2.5753934050436547,7.5,7.5,3,3,{"$f":"SUMIF(SOLICITUDES!$C$2:$C$1048576,BD!C20832,SOLICITUDES!$I$2:$I$1048576)","v":0},0,{"$f":"SUMIF(SOLICITUDES!$C$2:$C$1048576,BD!C20832,SOLICITUDES!$J$2:$J$1048576)","v":0},0,{"$f":"SUMIF(SOLICITUDES!$C$2:$C$1048576,BD!C20832,SOLICITUDES!$K$2:$K$1048576)","v":0},0]
[null,null,"T4767",25,13200,240,-76.554665108940611,2.5410947941597586,12.5,12.5,5,5,{"$f":"SUMIF(SOLICITUDES!$C$2:$C$1048576,BD!C20839,SOLICITUDES!$I$2:$I$1048576)","v":0},0,{"$f":"SUMIF(SOLICITUDES!$C$2:$C$1048576,BD!C20839,SOLICITUDES!$J$2:$J$1048576)","v":0},0,{"$f":"SUMIF(SOLICITUDES!$C$2:$C$1048576,BD!C20839,SOLICITUDES!$K$2:$K$1048576)","v":0},0]
[null,null,"T4770",10,13200,220,-76.552731026999268,2.5432462124449624,5,5,2,2,{"$f":"SUMIF(SOLICITUDES!$C$2:$C$1048576,BD!C20853,SOLICITUDES!$I$2:$I$1048576)","v":0},0,{"$f":"SUMIF(SOLICITUDES!$C$2:$C$1048576,BD!C20853,SOLICITUDES!$J$2:$J$1048576)","v":0},0,{"$f":"SUMIF(SOLICITUDES!$C$2:$C$1048576,BD!C20853,SOLICITUDES!$K$2:$K$1048576)","v":0},0]
[null,null,"T23357",5,13200,240,-76.009795690879443,2.6214747517906947,2.5,2.5,1,1,{"$f":"SUMIF(SOLICITUDES!$C$2:$C$1048576,BD!C20864,SOLICITUDES!$I$2:$I$1048576)","v":0},0,{"$f":"SUMIF(SOLICITUDES!$C$2:$C$1048576,BD!C20864,SOLICITUDES!$J$2:$J$1048576)","v":0},0,{"$f":"SUMIF(SOLICITUDES!$C$2:$C$1048576,BD!C20864,SOLICITUDES!$K$2:$K$1048576)","v":0},0]
[null,null,"T16449",10,13200,240,-75.832970884133317,2.5723222238757142,5,5,2,2,{"$f":"SUMIF(SOLICITUDES!$C$2:$C$1048576,BD!C20869,SOLICITUDES!$I$2:$I$1048576)","v":0},0,{"$f":"SUMIF(SOLICITUDES!$C$2:$C$1048576,BD!C20869,SOLICITUDES!$J$2:$J$1048576)","v":0},0,{"$f":"SUMIF(SOLICITUDES!$C$2:$C$1048576,BD!C20869,SOLICITUDES!$K$2:$K$1048576)","v":0},0]
[null,null,"T13046",25,13200,240,-75.959816194673195,2.6508419072230796,12.5,12.5,5,5,{"$f":"SUMIF(SOLICITUDES!$C$2:$C$1048576,BD!C20880,SOLICITUDES!$I$2:$I$1048576)","v":0},0,{"$f":"SUMIF(SOLICITUDES!$C$2:$C$1048576,BD!C20880,SOLICITUDES!$J$2:$J$1048576)","v":0},0,{"$f":"SUMIF(SOLICITUDES!$C$2:$C$1048576,BD!C20880,SOLICITUDES!$K$2:$K$1048576)","v":0},0]
[null,null,"T6505",75,13200,208,-76.380596247385753,2.6143399128268912,37.5,37.5,15,15,{"$f":"SUMIF(SOLICITUDES!$C$2:$C$1048576,BD!C20895,SOLICITUDES!$I$2:$I$1048576)","v":0},0,{"$f":"SUMIF(SOLICITUDES!$C$2:$C$1048576,BD!C20895,SOLICITUDES!$J$2:$J$1048576)","v":0},0,{"$f":"SUMIF(SOLICITUDES!$C$2:$C$1048576,BD!C20895,SOLICITUDES!$K$2:$K$1048576)","v":0},0]
[null,null,"T6515",37.5,13200,240,-76.383158254427599,2.6155350194055567,18.75,18.75,7.5,7.5,{"$f":"SUMIF(SOLICITUDES!$C$2:$C$1048576,BD!C20900,SOLICITUDES!$I$2:$I$1048576)","v":0},0,{"$f":"SUMIF(SOLICITUDES!$C$2:$C$1048576,BD!C20900,SOLICITUDES!$J$2:$J$1048576)","v":0},0,{"$f":"SUMIF(SOLICITUDES!$C$2:$C$1048576,BD!C20900,SOLICITUDES!$K$2:$K$1048576)","v":0},0]
[null,null,"T9114",15,13200,240,-76.530111015817027,2.5368975178912456,7.5,7.5,3,3,{"$f":"SUMIF(SOLICITUDES!$C$2:$C$1048576,BD!C20911,SOLICITUDES!$I$2:$I$1048576)","v":0},0,{"$f":"SUMIF(SOLICITUDES!$C$2:$C$1048576,BD!C20911,SOLICITUDES!$J$2:$J$1048576)","v":0},0,{"$f":"SUMIF(SOLICITUDES!$C$2:$C$1048576,BD!C20911,SOLICITUDES!$K$2:$K$1048576)","v":0},0]
[null,null,"T9089",15,13200,240,-76.540923832371334,2.5465059190429828,7.5,7.5,3,3,{"$f":"SUMIF(SOLICITUDES!$C$2:$C$1048576,BD!C20916,SOLICITUDES!$I$2:$I$1048576)","v":0},0,{"$f":"SUMIF(SOLICITUDES!$C$2:$C$1048576,BD!C20916,SOLICITUDES!$J$2:$J$1048576)","v":0},0,{"$f":"SUMIF(SOLICITUDES!$C$2:$C$1048576,BD!C20916,SOLICITUDES!$K$2:$K$1048576)","v":0},0]
[null,null,"T16425",10,13200,240,-75.912906028053115,2.5682120999172784,5,5,2,2,{"$f":"SUMIF(SOLICITUDES!$C$2:$C$1048576,BD!C20934,SOLICITUDES!$I$2:$I$1048576)","v":0},0,{"$f":"SUMIF(SOLICITUDES!$C$2:$C$1048576,BD!C20934,SOLICITUDES!$J$2:$J$1048576)","v":0},0,{"$f":"SUMIF(SOLICITUDES!$C$2:$C$1048576,BD!C20934,SOLICITUDES!$K$2:$K$1048576)","v":0},0]
[null,null,"T12367",15,13200,240,-75.985128564827235,2.6170210045794939,7.5,7.5,3,3,{"$f":"SUMIF(SOLICITUDES!$C$2:$C$1048576,BD!C20943,SOLICITUDES!$I$2:$I$1048576)","v":0},0,{"$f":"SUMIF(SOLICITUDES!$C$2:$C$1048576,BD!C20943,SOLICITUDES!$J$2:$J$1048576)","v":0},0,{"$f":"SUMIF(SOLICITUDES!$C$2:$C$1048576,BD!C20943,SOLICITUDES!$K$2:$K$1048576)","v":0},0]
[null,null,"T23352",5,13200,240,-75.890691987368726,2.5919036884119273,2.5,2.5,1,1,{"$f":"SUMIF(SOLICITUDES!$C$2:$C$1048576,BD!C20948,SOLICITUDES!$I$2:$I$1048576)","v":0},0,{"$f":"SUMIF(SOLICITUDES!$C$2:$C$1048576,BD!C20948,SOLICITUDES!$J$2:$J$1048576)","v":0},0,{"$f":"SUMIF(SOLICITUDES!$C$2:$C$1048576,BD!C20948,SOLICITUDES!$K$2:$K$1048576)","v":0},0]
[null,null,"T27127",25,13200,240,-75.961222321141165,2.6193240902444686,12.5,12.5,5,5,{"$f":"SUMIF(SOLICITUDES!$C$2:$C$1048576,BD!C20959,SOLICITUDES!$I$2:$I$1048576)","v":0},0,{"$f":"SUMIF(SOLICITUDES!$C$2:$C$1048576,BD!C20959,SOLICITUDES!$J$2:$J$1048576)","v":0},0,{"$f":"SUMIF(SOLICITUDES!$C$2:$C$1048576,BD!C20959,SOLICITUDES!$K$2:$K$1048576)","v":0},0]
[null,null,"T15739",10,13200,240,-75.878794132819223,2.6284600205088817,5,5,2,2,{"$f":"SUMIF(SOLICITUDES!$C$2:$C$1048576,BD!C20974,SOLICITUDES!$I$2:$I$1048576)","v":0},0,{"$f":"SUMIF(SOLICITUDES!$C$2:$C$1048576,BD!C20974,SOLICITUDES!$J$2:$J$1048576)","v":0},0,{"$f":"SUMIF(SOLICITUDES!$C$2:$C$1048576,BD!C20974,SOLICITUDES!$K$2:$K$1048576)","v":0},0]
[null,null,"T15731",10,13200,240,-75.870496347036692,2.6186057931118389,5,5,2,2,{"$f":"SUMIF(SOLICITUDES!$C$2:$C$1048576,BD!C20979,SOLICITUDES!$I$2:$I$1048576)","v":0},0,{"$f":"SUMIF(SOLICITUDES!$C$2:$C$1048576,BD!C20979,SOLICITUDES!$J$2:$J$1048576)","v":0},0,{"$f":"SUMIF(SOLICITUDES!$C$2:$C$1048576,BD!C20979,SOLICITUDES!$K$2:$K$1048576)","v":0},0]
[null,null,"T23384",5,13200,240,-75.994037486620854,2.6221658598950688,2.5,2.5,1,1,{"$f":"SUMIF(SOLICITUDES!$C$2:$C$1048576,BD!C20990,SOLICITUDES!$I$2:$I$1048576)","v":0},0,{"$f":"SUMIF(SOLICITUDES!$C$2:$C$1048576,BD!C20990,SOLICITUDES!$J$2:$J$1048576)","v":0},0,{"$f":"SUMIF(SOLICITUDES!$C$2:$C$1048576,BD!C20990,SOLICITUDES!$K$2:$K$1048576)","v":0},0]
[null,null,"T31711",10,13200,240,-76.904672652280453,2.5068989489563038,5,5,2,2,{"$f":"SUMIF(SOLICITUDES!$C$2:$C$1048576,BD!C21005,SOLICITUDES!$I$2:$I$1048576)","v":0},0,{"$f":"SUMIF(SOLICITUDES!$C$2:$C$1048576,BD!C21005,SOLICITUDES!$J$2:$J$1048576)","v":0},0,{"$f":"SUMIF(SOLICITUDES!$C$2:$C$1048576,BD!C21005,SOLICITUDES!$K$2:$K$1048576)","v":0},0]
[null,null,"T31709",10,13200,240,-76.925192551248387,2.5136468452052272,5,5,2,2,{"$f":"SUMIF(SOLICITUDES!$C$2:$C$1048576,BD!C21016,SOLICITUDES!$I$2:$I$1048576)","v":0},0,{"$f":"SUMIF(SOLICITUDES!$C$2:$C$1048576,BD!C21016,SOLICITUDES!$J$2:$J$1048576)","v":0},0,{"$f":"SUMIF(SOLICITUDES!$C$2:$C$1048576,BD!C21016,SOLICITUDES!$K$2:$K$1048576)","v":0},0]
[null,null,"T11315",25,13200,240,-76.882853954776166,2.4863387871367331,12.5,12.5,5,5,{"$f":"SUMIF(SOLICITUDES!$C$2:$C$1048576,BD!C21025,SOLICITUDES!$I$2:$I$1048576)","v":0},0,{"$f":"SUMIF(SOLICITUDES!$C$2:$C$1048576,BD!C21025,SOLICITUDES!$J$2:$J$1048576)","v":0},0,{"$f":"SUMIF(SOLICITUDES!$C$2:$C$1048576,BD!C21025,SOLICITUDES!$K$2:$K$1048576)","v":0},0]
[null,null,"T11318",50,13200,240,-76.889851569755749,2.4704594751387967,25,25,10,10,{"$f":"SUMIF(SOLICITUDES!$C$2:$C$1048576,BD!C21037,SOLICITUDES!$I$2:$I$1048576)","v":0},0,{"$f":"SUMIF(SOLICITUDES!$C$2:$C$1048576,BD!C21037,SOLICITUDES!$J$2:$J$1048576)","v":0},0,{"$f":"SUMIF(SOLICITUDES!$C$2:$C$1048576,BD!C21037,SOLICITUDES!$K$2:$K$1048576)","v":0},0]
[null,null,"T11316",15,13200,240,-76.886223371628972,2.4706210185611126,7.5,7.5,3,3,{"$f":"SUMIF(SOLICITUDES!$C$2:$C$1048576,BD!C21038,SOLICITUDES!$I$2:$I$1048576)","v":0},0,{"$f":"SUMIF(SOLICITUDES!$C$2:$C$1048576,BD!C21038,SOLICITUDES!$J$2:$J$1048576)","v":0},0,{"$f":"SUMIF(SOLICITUDES!$C$2:$C$1048576,BD!C21038,SOLICITUDES!$K$2:$K$1048576)","v":0},0]
[null,null,"T18533",112.5,13200,208,-76.956940895080109,2.5197184087615083,56.25,56.25,22.5,22.5,{"$f":"SUMIF(SOLICITUDES!$C$2:$C$1048576,BD!C21053,SOLICITUDES!$I$2:$I$1048576)","v":0},0,{"$f":"SUMIF(SOLICITUDES!$C$2:$C$1048576,BD!C21053,SOLICITUDES!$J$2:$J$1048576)","v":0},0,{"$f":"SUMIF(SOLICITUDES!$C$2:$C$1048576,BD!C21053,SOLICITUDES!$K$2:$K$1048576)","v":0},0]
[null,null,"T31707",10,13200,240,-76.876688082803526,2.5137278306253563,5,5,2,2,{"$f":"SUMIF(SOLICITUDES!$C$2:$C$1048576,BD!C21064,SOLICITUDES!$I$2:$I$1048576)","v":0},0,{"$f":"SUMIF(SOLICITUDES!$C$2:$C$1048576,BD!C21064,SOLICITUDES!$J$2:$J$1048576)","v":0},0,{"$f":"SUMIF(SOLICITUDES!$C$2:$C$1048576,BD!C21064,SOLICITUDES!$K$2:$K$1048576)","v":0},0]
[null,null,"T28712",0.5,13200,240,-76.852124436608079,2.4660854733440987,0.25,0.25,0.1,0.1,{"$f":"SUMIF(SOLICITUDES!$C$2:$C$1048576,BD!C21069,SOLICITUDES!$I$2:$I$1048576)","v":0},0,{"$f":"SUMIF(SOLICITUDES!$C$2:$C$1048576,BD!C21069,SOLICITUDES!$J$2:$J$1048576)","v":0},0,{"$f":"SUMIF(SOLICITUDES!$C$2:$C$1048576,BD!C21069,SOLICITUDES!$K$2:$K$1048576)","v":0},0]
[null,null,"T31797",10,13200,240,-76.866233965012569,2.4664631714237744,5,5,2,2,{"$f":"SUMIF(SOLICITUDES!$C$2:$C$1048576,BD!C21084,SOLICITUDES!$I$2:$I$1048576)","v":0},0,{"$f":"SUMIF(SOLICITUDES!$C$2:$C$1048576,BD!C21084,SOLICITUDES!$J$2:$J$1048576)","v":0},0,{"$f":"SUMIF(SOLICITUDES!$C$2:$C$1048576,BD!C21084,SOLICITUDES!$K$2:$K$1048576)","v":0},0]
[null,null,"T20144",5,13200,240,-76.872440568846429,2.4578717047410596,2.5,2.5,1,1,{"$f":"SUMIF(SOLICITUDES!$C$2:$C$1048576,BD!C21095,SOLICITUDES!$I$2:$I$1048576)","v":0},0,{"$f":"SUMIF(SOLICITUDES!$C$2:$C$1048576,BD!C21095,SOLICITUDES!$J$2:$J$1048576)","v":0},0,{"$f":"SUMIF(SOLICITUDES!$C$2:$C$1048576,BD!C21095,SOLICITUDES!$K$2:$K$1048576)","v":0},0]
[null,null,"T2560",10,13200,240,-76.638101544001941,2.5015223067063235,5,5,2,2,{"$f":"SUMIF(SOLICITUDES!$C$2:$C$1048576,BD!C21100,SOLICITUDES!$I$2:$I$1048576)","v":0},0,{"$f":"SUMIF(SOLICITUDES!$C$2:$C$1048576,BD!C21100,SOLICITUDES!$J$2:$J$1048576)","v":0},0,{"$f":"SUMIF(SOLICITUDES!$C$2:$C$1048576,BD!C21100,SOLICITUDES!$K$2:$K$1048576)","v":0},0]
[null,null,"T18894",5,13200,240,-77.077665920373036,2.5054163972644723,2.5,2.5,1,1,{"$f":"SUMIF(SOLICITUDES!$C$2:$C$1048576,BD!C21116,SOLICITUDES!$I$2:$I$1048576)","v":0},0,{"$f":"SUMIF(SOLICITUDES!$C$2:$C$1048576,BD!C21116,SOLICITUDES!$J$2:$J$1048576)","v":0},0,{"$f":"SUMIF(SOLICITUDES!$C$2:$C$1048576,BD!C21116,SOLICITUDES!$K$2:$K$1048576)","v":0},0]
[null,null,"T18897",15,13200,240,-77.062268904588549,2.4961953493471469,7.5,7.5,3,3,{"$f":"SUMIF(SOLICITUDES!$C$2:$C$1048576,BD!C21127,SOLICITUDES!$I$2:$I$1048576)","v":0},0,{"$f":"SUMIF(SOLICITUDES!$C$2:$C$1048576,BD!C21127,SOLICITUDES!$J$2:$J$1048576)","v":0},0,{"$f":"SUMIF(SOLICITUDES!$C$2:$C$1048576,BD!C21127,SOLICITUDES!$K$2:$K$1048576)","v":0},0]
[null,null,"T18906",10,13200,240,-77.067469656927301,2.4892150592989557,5,5,2,2,{"$f":"SUMIF(SOLICITUDES!$C$2:$C$1048576,BD!C21132,SOLICITUDES!$I$2:$I$1048576)","v":0},0,{"$f":"SUMIF(SOLICITUDES!$C$2:$C$1048576,BD!C21132,SOLICITUDES!$J$2:$J$1048576)","v":0},0,{"$f":"SUMIF(SOLICITUDES!$C$2:$C$1048576,BD!C21132,SOLICITUDES!$K$2:$K$1048576)","v":0},0]
[null,null,"T21694",5,13200,240,-76.985776294432512,2.5626785493648159,2.5,2.5,1,1,{"$f":"SUMIF(SOLICITUDES!$C$2:$C$1048576,BD!C21143,SOLICITUDES!$I$2:$I$1048576)","v":0},0,{"$f":"SUMIF(SOLICITUDES!$C$2:$C$1048576,BD!C21143,SOLICITUDES!$J$2:$J$1048576)","v":0},0,{"$f":"SUMIF(SOLICITUDES!$C$2:$C$1048576,BD!C21143,SOLICITUDES!$K$2:$K$1048576)","v":0},0]
[null,null,"T31853",10,13200,240,-77.012461372073403,2.5862780637805516,5,5,2,2,{"$f":"SUMIF(SOLICITUDES!$C$2:$C$1048576,BD!C21158,SOLICITUDES!$I$2:$I$1048576)","v":0},0,{"$f":"SUMIF(SOLICITUDES!$C$2:$C$1048576,BD!C21158,SOLICITUDES!$J$2:$J$1048576)","v":0},0,{"$f":"SUMIF(SOLICITUDES!$C$2:$C$1048576,BD!C21158,SOLICITUDES!$K$2:$K$1048576)","v":0},0]
[null,null,"T21701",5,13200,240,-76.975795183771922,2.5592026589959977,2.5,2.5,1,1,{"$f":"SUMIF(SOLICITUDES!$C$2:$C$1048576,BD!C21163,SOLICITUDES!$I$2:$I$1048576)","v":0},0,{"$f":"SUMIF(SOLICITUDES!$C$2:$C$1048576,BD!C21163,SOLICITUDES!$J$2:$J$1048576)","v":0},0,{"$f":"SUMIF(SOLICITUDES!$C$2:$C$1048576,BD!C21163,SOLICITUDES!$K$2:$K$1048576)","v":0},0]
[null,null,"T28910",5,13200,240,-77.061693163310593,2.474297091984536,2.5,2.5,1,1,{"$f":"SUMIF(SOLICITUDES!$C$2:$C$1048576,BD!C21174,SOLICITUDES!$I$2:$I$1048576)","v":0},0,{"$f":"SUMIF(SOLICITUDES!$C$2:$C$1048576,BD!C21174,SOLICITUDES!$J$2:$J$1048576)","v":0},0,{"$f":"SUMIF(SOLICITUDES!$C$2:$C$1048576,BD!C21174,SOLICITUDES!$K$2:$K$1048576)","v":0},0]
[null,null,"T29367",10,13200,240,-76.634274352243281,2.5116214218875377,5,5,2,2,{"$f":"SUMIF(SOLICITUDES!$C$2:$C$1048576,BD!C21179,SOLICITUDES!$I$2:$I$1048576)","v":0},0,{"$f":"SUMIF(SOLICITUDES!$C$2:$C$1048576,BD!C21179,SOLICITUDES!$J$2:$J$1048576)","v":0},0,{"$f":"SUMIF(SOLICITUDES!$C$2:$C$1048576,BD!C21179,SOLICITUDES!$K$2:$K$1048576)","v":0},0]
[null,null,"T11934",10,13200,240,-76.972743923524291,1.8257184355611695,5,5,2,2,{"$f":"SUMIF(SOLICITUDES!$C$2:$C$1048576,BD!C21194,SOLICITUDES!$I$2:$I$1048576)","v":0},0,{"$f":"SUMIF(SOLICITUDES!$C$2:$C$1048576,BD!C21194,SOLICITUDES!$J$2:$J$1048576)","v":0},0,{"$f":"SUMIF(SOLICITUDES!$C$2:$C$1048576,BD!C21194,SOLICITUDES!$K$2:$K$1048576)","v":0},0]
[null,null,"T12427",25,13200,240,-76.986774197760042,1.8152195666945976,12.5,12.5,5,5,{"$f":"SUMIF(SOLICITUDES!$C$2:$C$1048576,BD!C21200,SOLICITUDES!$I$2:$I$1048576)","v":0},0,{"$f":"SUMIF(SOLICITUDES!$C$2:$C$1048576,BD!C21200,SOLICITUDES!$J$2:$J$1048576)","v":0},0,{"$f":"SUMIF(SOLICITUDES!$C$2:$C$1048576,BD!C21200,SOLICITUDES!$K$2:$K$1048576)","v":0},0]
[null,null,"T7701",15,13200,240,-76.407788637570647,3.0626991817102294,7.5,7.5,3,3,{"$f":"SUMIF(SOLICITUDES!$C$2:$C$1048576,BD!C21211,SOLICITUDES!$I$2:$I$1048576)","v":0},0,{"$f":"SUMIF(SOLICITUDES!$C$2:$C$1048576,BD!C21211,SOLICITUDES!$J$2:$J$1048576)","v":0},0,{"$f":"SUMIF(SOLICITUDES!$C$2:$C$1048576,BD!C21211,SOLICITUDES!$K$2:$K$1048576)","v":0},0]
[null,null,"T12707",25,13200,240,-76.412341824430541,3.0889533806601785,12.5,12.5,5,5,{"$f":"SUMIF(SOLICITUDES!$C$2:$C$1048576,BD!C21222,SOLICITUDES!$I$2:$I$1048576)","v":0},0,{"$f":"SUMIF(SOLICITUDES!$C$2:$C$1048576,BD!C21222,SOLICITUDES!$J$2:$J$1048576)","v":0},0,{"$f":"SUMIF(SOLICITUDES!$C$2:$C$1048576,BD!C21222,SOLICITUDES!$K$2:$K$1048576)","v":0},0]
[null,null,"T12696",25,13200,240,-76.410209892576603,3.0889519749980749,12.5,12.5,5,5,{"$f":"SUMIF(SOLICITUDES!$C$2:$C$1048576,BD!C21237,SOLICITUDES!$I$2:$I$1048576)","v":0},0,{"$f":"SUMIF(SOLICITUDES!$C$2:$C$1048576,BD!C21237,SOLICITUDES!$J$2:$J$1048576)","v":0},0,{"$f":"SUMIF(SOLICITUDES!$C$2:$C$1048576,BD!C21237,SOLICITUDES!$K$2:$K$1048576)","v":0},0]
[null,null,"T8713",45,13200,208,-76.424276506845857,3.0928221786194445,22.5,22.5,9,9,{"$f":"SUMIF(SOLICITUDES!$C$2:$C$1048576,BD!C21242,SOLICITUDES!$I$2:$I$1048576)","v":0},0,{"$f":"SUMIF(SOLICITUDES!$C$2:$C$1048576,BD!C21242,SOLICITUDES!$J$2:$J$1048576)","v":0},0,{"$f":"SUMIF(SOLICITUDES!$C$2:$C$1048576,BD!C21242,SOLICITUDES!$K$2:$K$1048576)","v":0},0]
[null,null,"T2545",15,13200,240,-76.641782773136512,2.4935148172770023,7.5,7.5,3,3,{"$f":"SUMIF(SOLICITUDES!$C$2:$C$1048576,BD!C21253,SOLICITUDES!$I$2:$I$1048576)","v":0},0,{"$f":"SUMIF(SOLICITUDES!$C$2:$C$1048576,BD!C21253,SOLICITUDES!$J$2:$J$1048576)","v":0},0,{"$f":"SUMIF(SOLICITUDES!$C$2:$C$1048576,BD!C21253,SOLICITUDES!$K$2:$K$1048576)","v":0},0]
[null,null,"T41796",10,13200,240,-76.40624658807738,3.1114784258435377,5,5,2,2,{"$f":"SUMIF(SOLICITUDES!$C$2:$C$1048576,BD!C21268,SOLICITUDES!$I$2:$I$1048576)","v":0},0,{"$f":"SUMIF(SOLICITUDES!$C$2:$C$1048576,BD!C21268,SOLICITUDES!$J$2:$J$1048576)","v":0},0,{"$f":"SUMIF(SOLICITUDES!$C$2:$C$1048576,BD!C21268,SOLICITUDES!$K$2:$K$1048576)","v":0},0]
[null,null,"T12722",15,13200,240,-76.391300431895672,3.1415677181138659,7.5,7.5,3,3,{"$f":"SUMIF(SOLICITUDES!$C$2:$C$1048576,BD!C21279,SOLICITUDES!$I$2:$I$1048576)","v":0},0,{"$f":"SUMIF(SOLICITUDES!$C$2:$C$1048576,BD!C21279,SOLICITUDES!$J$2:$J$1048576)","v":0},0,{"$f":"SUMIF(SOLICITUDES!$C$2:$C$1048576,BD!C21279,SOLICITUDES!$K$2:$K$1048576)","v":0},0]
[null,null,"T15453",15,13200,240,-76.403432286254485,3.1512977962760607,7.5,7.5,3,3,{"$f":"SUMIF(SOLICITUDES!$C$2:$C$1048576,BD!C21284,SOLICITUDES!$I$2:$I$1048576)","v":0},0,{"$f":"SUMIF(SOLICITUDES!$C$2:$C$1048576,BD!C21284,SOLICITUDES!$J$2:$J$1048576)","v":0},0,{"$f":"SUMIF(SOLICITUDES!$C$2:$C$1048576,BD!C21284,SOLICITUDES!$K$2:$K$1048576)","v":0},0]
[null,null,"T15767",25,13200,240,-76.379661614253251,3.1694488389292728,12.5,12.5,5,5,{"$f":"SUMIF(SOLICITUDES!$C$2:$C$1048576,BD!C21299,SOLICITUDES!$I$2:$I$1048576)","v":0},0,{"$f":"SUMIF(SOLICITUDES!$C$2:$C$1048576,BD!C21299,SOLICITUDES!$J$2:$J$1048576)","v":0},0,{"$f":"SUMIF(SOLICITUDES!$C$2:$C$1048576,BD!C21299,SOLICITUDES!$K$2:$K$1048576)","v":0},0]
[null,null,"T14132",25,13200,240,-76.374676259528314,3.1584313777604729,12.5,12.5,5,5,{"$f":"SUMIF(SOLICITUDES!$C$2:$C$1048576,BD!C21300,SOLICITUDES!$I$2:$I$1048576)","v":0},0,{"$f":"SUMIF(SOLICITUDES!$C$2:$C$1048576,BD!C21300,SOLICITUDES!$J$2:$J$1048576)","v":0},0,{"$f":"SUMIF(SOLICITUDES!$C$2:$C$1048576,BD!C21300,SOLICITUDES!$K$2:$K$1048576)","v":0},0]
[null,null,"T15463",25,13200,240,-76.369628360023711,3.1334700098528265,{"$f":"D21316*0.5","v":12.5},12.5,{"$f":"0.2*D21316","v":5},{"$f":"0.2*D21316","v":5},{"$f":"SUMIF(SOLICITUDES!$C$2:$C$1048576,BD!C21316,SOLICITUDES!$I$2:$I$1048576)","v":0},0,{"$f":"SUMIF(SOLICITUDES!$C$2:$C$1048576,BD!C21316,SOLICITUDES!$J$2:$J$1048576)","v":0},{"$f":"O21316/(2*K21316)","v":0},{"$f":"SUMIF(SOLICITUDES!$C$2:$C$1048576,BD!C21316,SOLICITUDES!$K$2:$K$1048576)","v":0},{"$f":"Q21316/(2*L21316)","v":0}]
[null,null,"T15476",15,13200,240,-76.384333888575014,3.1238855906207723,7.5,7.5,3,3,{"$f":"SUMIF(SOLICITUDES!$C$2:$C$1048576,BD!C21321,SOLICITUDES!$I$2:$I$1048576)","v":0},0,{"$f":"SUMIF(SOLICITUDES!$C$2:$C$1048576,BD!C21321,SOLICITUDES!$J$2:$J$1048576)","v":0},0,{"$f":"SUMIF(SOLICITUDES!$C$2:$C$1048576,BD!C21321,SOLICITUDES!$K$2:$K$1048576)","v":0},0]
[null,null,"T29513",5,13200,240,-76.220596301132716,2.9303093858132194,2.5,2.5,1,1,{"$f":"SUMIF(SOLICITUDES!$C$2:$C$1048576,BD!C21332,SOLICITUDES!$I$2:$I$1048576)","v":0},0,{"$f":"SUMIF(SOLICITUDES!$C$2:$C$1048576,BD!C21332,SOLICITUDES!$J$2:$J$1048576)","v":0},0,{"$f":"SUMIF(SOLICITUDES!$C$2:$C$1048576,BD!C21332,SOLICITUDES!$K$2:$K$1048576)","v":0},0]
[null,null,"T13735",15,13200,240,-76.253696880017955,2.9981539034891695,7.5,7.5,3,3,{"$f":"SUMIF(SOLICITUDES!$C$2:$C$1048576,BD!C21347,SOLICITUDES!$I$2:$I$1048576)","v":0},0,{"$f":"SUMIF(SOLICITUDES!$C$2:$C$1048576,BD!C21347,SOLICITUDES!$J$2:$J$1048576)","v":0},0,{"$f":"SUMIF(SOLICITUDES!$C$2:$C$1048576,BD!C21347,SOLICITUDES!$K$2:$K$1048576)","v":0},0]
[null,null,"T20901",25,13200,240,-76.254666037523691,2.9855826004714663,12.5,12.5,5,5,{"$f":"SUMIF(SOLICITUDES!$C$2:$C$1048576,BD!C21358,SOLICITUDES!$I$2:$I$1048576)","v":0},0,{"$f":"SUMIF(SOLICITUDES!$C$2:$C$1048576,BD!C21358,SOLICITUDES!$J$2:$J$1048576)","v":0},0,{"$f":"SUMIF(SOLICITUDES!$C$2:$C$1048576,BD!C21358,SOLICITUDES!$K$2:$K$1048576)","v":0},0]
[null,null,"T14076",10,13200,214,-76.240343026478016,3.0062005547551025,5,5,2,2,{"$f":"SUMIF(SOLICITUDES!$C$2:$C$1048576,BD!C21363,SOLICITUDES!$I$2:$I$1048576)","v":0},0,{"$f":"SUMIF(SOLICITUDES!$C$2:$C$1048576,BD!C21363,SOLICITUDES!$J$2:$J$1048576)","v":0},0,{"$f":"SUMIF(SOLICITUDES!$C$2:$C$1048576,BD!C21363,SOLICITUDES!$K$2:$K$1048576)","v":0},0]
[null,null,"T14093",25,13200,240,-76.268788229665702,2.9877753813586363,12.5,12.5,5,5,{"$f":"SUMIF(SOLICITUDES!$C$2:$C$1048576,BD!C21378,SOLICITUDES!$I$2:$I$1048576)","v":0},0,{"$f":"SUMIF(SOLICITUDES!$C$2:$C$1048576,BD!C21378,SOLICITUDES!$J$2:$J$1048576)","v":0},0,{"$f":"SUMIF(SOLICITUDES!$C$2:$C$1048576,BD!C21378,SOLICITUDES!$K$2:$K$1048576)","v":0},0]
[null,null,"T24241",10,13200,220,-76.484877697315412,2.780823065191135,5,5,2,2,{"$f":"SUMIF(SOLICITUDES!$C$2:$C$1048576,BD!C21389,SOLICITUDES!$I$2:$I$1048576)","v":0},0,{"$f":"SUMIF(SOLICITUDES!$C$2:$C$1048576,BD!C21389,SOLICITUDES!$J$2:$J$1048576)","v":0},0,{"$f":"SUMIF(SOLICITUDES!$C$2:$C$1048576,BD!C21389,SOLICITUDES!$K$2:$K$1048576)","v":0},0]
[null,null,"T24149",10,13200,240,-76.458278568797837,2.780132523818533,5,5,2,2,{"$f":"SUMIF(SOLICITUDES!$C$2:$C$1048576,BD!C21391,SOLICITUDES!$I$2:$I$1048576)","v":0},0,{"$f":"SUMIF(SOLICITUDES!$C$2:$C$1048576,BD!C21391,SOLICITUDES!$J$2:$J$1048576)","v":0},0,{"$f":"SUMIF(SOLICITUDES!$C$2:$C$1048576,BD!C21391,SOLICITUDES!$K$2:$K$1048576)","v":0},0]
[null,null,"T14056",25,13200,240,-76.447061312961523,2.7472827544805858,12.5,12.5,5,5,{"$f":"SUMIF(SOLICITUDES!$C$2:$C$1048576,BD!C21410,SOLICITUDES!$I$2:$I$1048576)","v":0},0,{"$f":"SUMIF(SOLICITUDES!$C$2:$C$1048576,BD!C21410,SOLICITUDES!$J$2:$J$1048576)","v":0},0,{"$f":"SUMIF(SOLICITUDES!$C$2:$C$1048576,BD!C21410,SOLICITUDES!$K$2:$K$1048576)","v":0},0]
[null,null,"T14630",15,13200,240,-76.4473883290853,2.7943665083383422,7.5,7.5,3,3,{"$f":"SUMIF(SOLICITUDES!$C$2:$C$1048576,BD!C21421,SOLICITUDES!$I$2:$I$1048576)","v":0},0,{"$f":"SUMIF(SOLICITUDES!$C$2:$C$1048576,BD!C21421,SOLICITUDES!$J$2:$J$1048576)","v":0},0,{"$f":"SUMIF(SOLICITUDES!$C$2:$C$1048576,BD!C21421,SOLICITUDES!$K$2:$K$1048576)","v":0},0]
[null,null,"T14048",25,13200,240,-76.451814468387695,2.7493800857704205,12.5,12.5,5,5,{"$f":"SUMIF(SOLICITUDES!$C$2:$C$1048576,BD!C21426,SOLICITUDES!$I$2:$I$1048576)","v":0},0,{"$f":"SUMIF(SOLICITUDES!$C$2:$C$1048576,BD!C21426,SOLICITUDES!$J$2:$J$1048576)","v":0},0,{"$f":"SUMIF(SOLICITUDES!$C$2:$C$1048576,BD!C21426,SOLICITUDES!$K$2:$K$1048576)","v":0},0]
[null,null,"T2924",37.5,13200,240,-76.625222937867633,2.434203649572134,18.75,18.75,7.5,7.5,{"$f":"SUMIF(SOLICITUDES!$C$2:$C$1048576,BD!C21437,SOLICITUDES!$I$2:$I$1048576)","v":0},0,{"$f":"SUMIF(SOLICITUDES!$C$2:$C$1048576,BD!C21437,SOLICITUDES!$J$2:$J$1048576)","v":0},0,{"$f":"SUMIF(SOLICITUDES!$C$2:$C$1048576,BD!C21437,SOLICITUDES!$K$2:$K$1048576)","v":0},0]
[null,null,"T2931",37.5,13200,240,-76.630879384224329,2.4307419936834651,18.75,18.75,7.5,7.5,{"$f":"SUMIF(SOLICITUDES!$C$2:$C$1048576,BD!C21442,SOLICITUDES!$I$2:$I$1048576)","v":0},0,{"$f":"SUMIF(SOLICITUDES!$C$2:$C$1048576,BD!C21442,SOLICITUDES!$J$2:$J$1048576)","v":0},0,{"$f":"SUMIF(SOLICITUDES!$C$2:$C$1048576,BD!C21442,SOLICITUDES!$K$2:$K$1048576)","v":0},0]
[null,null,"T30187",0.5,13200,240,-76.621649964266553,2.4447468442159654,0.25,0.25,0.1,0.1,{"$f":"SUMIF(SOLICITUDES!$C$2:$C$1048576,BD!C21457,SOLICITUDES!$I$2:$I$1048576)","v":0},0,{"$f":"SUMIF(SOLICITUDES!$C$2:$C$1048576,BD!C21457,SOLICITUDES!$J$2:$J$1048576)","v":0},0,{"$f":"SUMIF(SOLICITUDES!$C$2:$C$1048576,BD!C21457,SOLICITUDES!$K$2:$K$1048576)","v":0},0]
[null,null,"T2891",30,13200,208,-76.622107202328905,2.4485813345327929,15,15,6,6,{"$f":"SUMIF(SOLICITUDES!$C$2:$C$1048576,BD!C21468,SOLICITUDES!$I$2:$I$1048576)","v":0},0,{"$f":"SUMIF(SOLICITUDES!$C$2:$C$1048576,BD!C21468,SOLICITUDES!$J$2:$J$1048576)","v":0},0,{"$f":"SUMIF(SOLICITUDES!$C$2:$C$1048576,BD!C21468,SOLICITUDES!$K$2:$K$1048576)","v":0},0]
[null,null,"T16998",10,13200,240,-76.623749794250529,2.4955197171492571,5,5,2,2,{"$f":"SUMIF(SOLICITUDES!$C$2:$C$1048576,BD!C21473,SOLICITUDES!$I$2:$I$1048576)","v":0},0,{"$f":"SUMIF(SOLICITUDES!$C$2:$C$1048576,BD!C21473,SOLICITUDES!$J$2:$J$1048576)","v":0},0,{"$f":"SUMIF(SOLICITUDES!$C$2:$C$1048576,BD!C21473,SOLICITUDES!$K$2:$K$1048576)","v":0},0]
[null,null,"T13067",25,13200,240,-76.487920064744145,2.7694922269729574,12.5,12.5,5,5,{"$f":"SUMIF(SOLICITUDES!$C$2:$C$1048576,BD!C21486,SOLICITUDES!$I$2:$I$1048576)","v":0},0,{"$f":"SUMIF(SOLICITUDES!$C$2:$C$1048576,BD!C21486,SOLICITUDES!$J$2:$J$1048576)","v":0},0,{"$f":"SUMIF(SOLICITUDES!$C$2:$C$1048576,BD!C21486,SOLICITUDES!$K$2:$K$1048576)","v":0},0]
[null,null,"T13881",45,13200,214,-76.482321454134706,2.7970162296871601,22.5,22.5,9,9,{"$f":"SUMIF(SOLICITUDES!$C$2:$C$1048576,BD!C21500,SOLICITUDES!$I$2:$I$1048576)","v":0},0,{"$f":"SUMIF(SOLICITUDES!$C$2:$C$1048576,BD!C21500,SOLICITUDES!$J$2:$J$1048576)","v":0},0,{"$f":"SUMIF(SOLICITUDES!$C$2:$C$1048576,BD!C21500,SOLICITUDES!$K$2:$K$1048576)","v":0},0]
[null,null,"T13907",25,13200,240,-76.480784359521749,2.8012646967841501,12.5,12.5,5,5,{"$f":"SUMIF(SOLICITUDES!$C$2:$C$1048576,BD!C21505,SOLICITUDES!$I$2:$I$1048576)","v":0},0,{"$f":"SUMIF(SOLICITUDES!$C$2:$C$1048576,BD!C21505,SOLICITUDES!$J$2:$J$1048576)","v":0},0,{"$f":"SUMIF(SOLICITUDES!$C$2:$C$1048576,BD!C21505,SOLICITUDES!$K$2:$K$1048576)","v":0},0]
[null,null,"T17001",10,13200,240,-76.624763088827507,2.4946592726950643,5,5,2,2,{"$f":"SUMIF(SOLICITUDES!$C$2:$C$1048576,BD!C21516,SOLICITUDES!$I$2:$I$1048576)","v":0},0,{"$f":"SUMIF(SOLICITUDES!$C$2:$C$1048576,BD!C21516,SOLICITUDES!$J$2:$J$1048576)","v":0},0,{"$f":"SUMIF(SOLICITUDES!$C$2:$C$1048576,BD!C21516,SOLICITUDES!$K$2:$K$1048576)","v":0},0]
[null,null,"T25213",5,13200,240,-77.22559169658615,2.4456712959232458,2.5,2.5,1,1,{"$f":"SUMIF(SOLICITUDES!$C$2:$C$1048576,BD!C21531,SOLICITUDES!$I$2:$I$1048576)","v":0},0,{"$f":"SUMIF(SOLICITUDES!$C$2:$C$1048576,BD!C21531,SOLICITUDES!$J$2:$J$1048576)","v":0},0,{"$f":"SUMIF(SOLICITUDES!$C$2:$C$1048576,BD!C21531,SOLICITUDES!$K$2:$K$1048576)","v":0},0]
[null,null,"T25145",5,13200,240,-77.242638964717557,2.5026954178682863,2.5,2.5,1,1,{"$f":"SUMIF(SOLICITUDES!$C$2:$C$1048576,BD!C21536,SOLICITUDES!$I$2:$I$1048576)","v":0},0,{"$f":"SUMIF(SOLICITUDES!$C$2:$C$1048576,BD!C21536,SOLICITUDES!$J$2:$J$1048576)","v":0},0,{"$f":"SUMIF(SOLICITUDES!$C$2:$C$1048576,BD!C21536,SOLICITUDES!$K$2:$K$1048576)","v":0},0]
[null,null,"T25250",10,13200,240,-77.216839027589714,2.5008410627631616,5,5,2,2,{"$f":"SUMIF(SOLICITUDES!$C$2:$C$1048576,BD!C21547,SOLICITUDES!$I$2:$I$1048576)","v":0},0,{"$f":"SUMIF(SOLICITUDES!$C$2:$C$1048576,BD!C21547,SOLICITUDES!$J$2:$J$1048576)","v":0},0,{"$f":"SUMIF(SOLICITUDES!$C$2:$C$1048576,BD!C21547,SOLICITUDES!$K$2:$K$1048576)","v":0},0]
[null,null,"T25256",5,13200,240,-77.209732538741918,2.5136000701724739,2.5,2.5,1,1,{"$f":"SUMIF(SOLICITUDES!$C$2:$C$1048576,BD!C21562,SOLICITUDES!$I$2:$I$1048576)","v":0},0,{"$f":"SUMIF(SOLICITUDES!$C$2:$C$1048576,BD!C21562,SOLICITUDES!$J$2:$J$1048576)","v":0},0,{"$f":"SUMIF(SOLICITUDES!$C$2:$C$1048576,BD!C21562,SOLICITUDES!$K$2:$K$1048576)","v":0},0]
[null,null,"T25257",5,13200,240,-77.20681958803479,2.5132253275642089,2.5,2.5,1,1,{"$f":"SUMIF(SOLICITUDES!$C$2:$C$1048576,BD!C21563,SOLICITUDES!$I$2:$I$1048576)","v":0},0,{"$f":"SUMIF(SOLICITUDES!$C$2:$C$1048576,BD!C21563,SOLICITUDES!$J$2:$J$1048576)","v":0},0,{"$f":"SUMIF(SOLICITUDES!$C$2:$C$1048576,BD!C21563,SOLICITUDES!$K$2:$K$1048576)","v":0},0]
[null,null,"T25297",5,13200,240,-77.194967572880742,2.4832038885860577,2.5,2.5,1,1,{"$f":"SUMIF(SOLICITUDES!$C$2:$C$1048576,BD!C21577,SOLICITUDES!$I$2:$I$1048576)","v":0},0,{"$f":"SUMIF(SOLICITUDES!$C$2:$C$1048576,BD!C21577,SOLICITUDES!$J$2:$J$1048576)","v":0},0,{"$f":"SUMIF(SOLICITUDES!$C$2:$C$1048576,BD!C21577,SOLICITUDES!$K$2:$K$1048576)","v":0},0]
[null,null,"T25158",5,13200,240,-77.225926533635857,2.5168721136979002,2.5,2.5,1,1,{"$f":"SUMIF(SOLICITUDES!$C$2:$C$1048576,BD!C21584,SOLICITUDES!$I$2:$I$1048576)","v":0},0,{"$f":"SUMIF(SOLICITUDES!$C$2:$C$1048576,BD!C21584,SOLICITUDES!$J$2:$J$1048576)","v":0},0,{"$f":"SUMIF(SOLICITUDES!$C$2:$C$1048576,BD!C21584,SOLICITUDES!$K$2:$K$1048576)","v":0},0]
[null,null,"T29782",10,13200,240,-77.210414677693336,2.4098131881303799,5,5,2,2,{"$f":"SUMIF(SOLICITUDES!$C$2:$C$1048576,BD!C21595,SOLICITUDES!$I$2:$I$1048576)","v":0},0,{"$f":"SUMIF(SOLICITUDES!$C$2:$C$1048576,BD!C21595,SOLICITUDES!$J$2:$J$1048576)","v":0},0,{"$f":"SUMIF(SOLICITUDES!$C$2:$C$1048576,BD!C21595,SOLICITUDES!$K$2:$K$1048576)","v":0},0]
[null,null,"T21258",5,13200,240,-77.219921174279236,2.4187857333752811,2.5,2.5,1,1,{"$f":"SUMIF(SOLICITUDES!$C$2:$C$1048576,BD!C21610,SOLICITUDES!$I$2:$I$1048576)","v":0},0,{"$f":"SUMIF(SOLICITUDES!$C$2:$C$1048576,BD!C21610,SOLICITUDES!$J$2:$J$1048576)","v":0},0,{"$f":"SUMIF(SOLICITUDES!$C$2:$C$1048576,BD!C21610,SOLICITUDES!$K$2:$K$1048576)","v":0},0]
[null,null,"T25272",5,13200,240,-77.259345621402545,2.4373519207035397,2.5,2.5,1,1,{"$f":"SUMIF(SOLICITUDES!$C$2:$C$1048576,BD!C21621,SOLICITUDES!$I$2:$I$1048576)","v":0},0,{"$f":"SUMIF(SOLICITUDES!$C$2:$C$1048576,BD!C21621,SOLICITUDES!$J$2:$J$1048576)","v":0},0,{"$f":"SUMIF(SOLICITUDES!$C$2:$C$1048576,BD!C21621,SOLICITUDES!$K$2:$K$1048576)","v":0},0]
[null,null,"T25360",5,13200,240,-77.269365757820097,2.425854131884698,2.5,2.5,1,1,{"$f":"SUMIF(SOLICITUDES!$C$2:$C$1048576,BD!C21626,SOLICITUDES!$I$2:$I$1048576)","v":0},0,{"$f":"SUMIF(SOLICITUDES!$C$2:$C$1048576,BD!C21626,SOLICITUDES!$J$2:$J$1048576)","v":0},0,{"$f":"SUMIF(SOLICITUDES!$C$2:$C$1048576,BD!C21626,SOLICITUDES!$K$2:$K$1048576)","v":0},0]
[null,null,"T25304",5,13200,240,-77.180168428921363,2.4971871698657639,2.5,2.5,1,1,{"$f":"SUMIF(SOLICITUDES!$C$2:$C$1048576,BD!C21641,SOLICITUDES!$I$2:$I$1048576)","v":0},0,{"$f":"SUMIF(SOLICITUDES!$C$2:$C$1048576,BD!C21641,SOLICITUDES!$J$2:$J$1048576)","v":0},0,{"$f":"SUMIF(SOLICITUDES!$C$2:$C$1048576,BD!C21641,SOLICITUDES!$K$2:$K$1048576)","v":0},0]
[null,null,"T25300",5,13200,240,-77.184387906133153,2.4940340130488527,2.5,2.5,1,1,{"$f":"SUMIF(SOLICITUDES!$C$2:$C$1048576,BD!C21652,SOLICITUDES!$I$2:$I$1048576)","v":0},0,{"$f":"SUMIF(SOLICITUDES!$C$2:$C$1048576,BD!C21652,SOLICITUDES!$J$2:$J$1048576)","v":0},0,{"$f":"SUMIF(SOLICITUDES!$C$2:$C$1048576,BD!C21652,SOLICITUDES!$K$2:$K$1048576)","v":0},0]
[null,null,"T25315",5,13200,240,-77.165007009282661,2.4767352679350134,2.5,2.5,1,1,{"$f":"SUMIF(SOLICITUDES!$C$2:$C$1048576,BD!C21657,SOLICITUDES!$I$2:$I$1048576)","v":0},0,{"$f":"SUMIF(SOLICITUDES!$C$2:$C$1048576,BD!C21657,SOLICITUDES!$J$2:$J$1048576)","v":0},0,{"$f":"SUMIF(SOLICITUDES!$C$2:$C$1048576,BD!C21657,SOLICITUDES!$K$2:$K$1048576)","v":0},0]
[null,null,"T25275",5,13200,240,-77.253231904266272,2.4307448468802431,2.5,2.5,1,1,{"$f":"SUMIF(SOLICITUDES!$C$2:$C$1048576,BD!C21668,SOLICITUDES!$I$2:$I$1048576)","v":0},0,{"$f":"SUMIF(SOLICITUDES!$C$2:$C$1048576,BD!C21668,SOLICITUDES!$J$2:$J$1048576)","v":0},0,{"$f":"SUMIF(SOLICITUDES!$C$2:$C$1048576,BD!C21668,SOLICITUDES!$K$2:$K$1048576)","v":0},0]
[null,null,"T25111",5,13200,240,-77.219791901363479,2.3888533697341856,2.5,2.5,1,1,{"$f":"SUMIF(SOLICITUDES!$C$2:$C$1048576,BD!C21684,SOLICITUDES!$I$2:$I$1048576)","v":0},0,{"$f":"SUMIF(SOLICITUDES!$C$2:$C$1048576,BD!C21684,SOLICITUDES!$J$2:$J$1048576)","v":0},0,{"$f":"SUMIF(SOLICITUDES!$C$2:$C$1048576,BD!C21684,SOLICITUDES!$K$2:$K$1048576)","v":0},0]
[null,null,"T25185",10,13200,240,-77.246646520158606,2.5282179439607653,5,5,2,2,{"$f":"SUMIF(SOLICITUDES!$C$2:$C$1048576,BD!C21689,SOLICITUDES!$I$2:$I$1048576)","v":0},0,{"$f":"SUMIF(SOLICITUDES!$C$2:$C$1048576,BD!C21689,SOLICITUDES!$J$2:$J$1048576)","v":0},0,{"$f":"SUMIF(SOLICITUDES!$C$2:$C$1048576,BD!C21689,SOLICITUDES!$K$2:$K$1048576)","v":0},0]
[null,null,"T25263",5,13200,240,-77.218424660517897,2.5348752422181602,{"$f":"D21700*0.5","v":2.5},2.5,{"$f":"0.2*D21700","v":1},{"$f":"0.2*D21700","v":1},{"$f":"SUMIF(SOLICITUDES!$C$2:$C$1048576,BD!C21700,SOLICITUDES!$I$2:$I$1048576)","v":0},0,{"$f":"SUMIF(SOLICITUDES!$C$2:$C$1048576,BD!C21700,SOLICITUDES!$J$2:$J$1048576)","v":0},{"$f":"O21700/(2*K21700)","v":0},{"$f":"SUMIF(SOLICITUDES!$C$2:$C$1048576,BD!C21700,SOLICITUDES!$K$2:$K$1048576)","v":0},{"$f":"Q21700/(2*L21700)","v":0}]
[null,null,"T25114",5,13200,240,-77.220153228433759,2.395569756814385,2.5,2.5,1,1,{"$f":"SUMIF(SOLICITUDES!$C$2:$C$1048576,BD!C21705,SOLICITUDES!$I$2:$I$1048576)","v":0},0,{"$f":"SUMIF(SOLICITUDES!$C$2:$C$1048576,BD!C21705,SOLICITUDES!$J$2:$J$1048576)","v":0},0,{"$f":"SUMIF(SOLICITUDES!$C$2:$C$1048576,BD!C21705,SOLICITUDES!$K$2:$K$1048576)","v":0},0]
[null,null,"T25270",5,13200,240,-77.230331791426593,2.5384346137178802,2.5,2.5,1,1,{"$f":"SUMIF(SOLICITUDES!$C$2:$C$1048576,BD!C21720,SOLICITUDES!$I$2:$I$1048576)","v":0},0,{"$f":"SUMIF(SOLICITUDES!$C$2:$C$1048576,BD!C21720,SOLICITUDES!$J$2:$J$1048576)","v":0},0,{"$f":"SUMIF(SOLICITUDES!$C$2:$C$1048576,BD!C21720,SOLICITUDES!$K$2:$K$1048576)","v":0},0]
[null,null,"T29803",10,13200,240,-77.211176002595494,2.5325169989272429,5,5,2,2,{"$f":"SUMIF(SOLICITUDES!$C$2:$C$1048576,BD!C21731,SOLICITUDES!$I$2:$I$1048576)","v":0},0,{"$f":"SUMIF(SOLICITUDES!$C$2:$C$1048576,BD!C21731,SOLICITUDES!$J$2:$J$1048576)","v":0},0,{"$f":"SUMIF(SOLICITUDES!$C$2:$C$1048576,BD!C21731,SOLICITUDES!$K$2:$K$1048576)","v":0},0]
[null,null,"T25231",10,13200,240,-77.207689802693039,2.5546650518063889,5,5,2,2,{"$f":"SUMIF(SOLICITUDES!$C$2:$C$1048576,BD!C21736,SOLICITUDES!$I$2:$I$1048576)","v":0},0,{"$f":"SUMIF(SOLICITUDES!$C$2:$C$1048576,BD!C21736,SOLICITUDES!$J$2:$J$1048576)","v":0},0,{"$f":"SUMIF(SOLICITUDES!$C$2:$C$1048576,BD!C21736,SOLICITUDES!$K$2:$K$1048576)","v":0},0]
[null,null,"T25332",5,13200,240,-77.240399519859224,2.5594717329527743,2.5,2.5,1,1,{"$f":"SUMIF(SOLICITUDES!$C$2:$C$1048576,BD!C21751,SOLICITUDES!$I$2:$I$1048576)","v":0},0,{"$f":"SUMIF(SOLICITUDES!$C$2:$C$1048576,BD!C21751,SOLICITUDES!$J$2:$J$1048576)","v":0},0,{"$f":"SUMIF(SOLICITUDES!$C$2:$C$1048576,BD!C21751,SOLICITUDES!$K$2:$K$1048576)","v":0},0]
[null,null,"T25336",5,13200,240,-77.245558433054029,2.5694158802587515,2.5,{"$f":"D21763*0.5-M21763","v":2.5},1,1,{"$f":"SUMIF(SOLICITUDES!$C$2:$C$1048576,BD!C21763,SOLICITUDES!$I$2:$I$1048576)","v":0},{"$f":"M21763/D21763","v":0},{"$f":"SUMIF(SOLICITUDES!$C$2:$C$1048576,BD!C21763,SOLICITUDES!$J$2:$J$1048576)","v":0},0,{"$f":"SUMIF(SOLICITUDES!$C$2:$C$1048576,BD!C21763,SOLICITUDES!$K$2:$K$1048576)","v":0},0]
[null,null,"T25343",5,13200,240,-77.246420847784208,2.5432882894843183,2.5,2.5,1,1,{"$f":"SUMIF(SOLICITUDES!$C$2:$C$1048576,BD!C21768,SOLICITUDES!$I$2:$I$1048576)","v":0},0,{"$f":"SUMIF(SOLICITUDES!$C$2:$C$1048576,BD!C21768,SOLICITUDES!$J$2:$J$1048576)","v":0},0,{"$f":"SUMIF(SOLICITUDES!$C$2:$C$1048576,BD!C21768,SOLICITUDES!$K$2:$K$1048576)","v":0},0]
[null,null,"T29760",10,13200,240,-77.187299823442999,2.5898587134372781,5,5,2,2,{"$f":"SUMIF(SOLICITUDES!$C$2:$C$1048576,BD!C21779,SOLICITUDES!$I$2:$I$1048576)","v":0},0,{"$f":"SUMIF(SOLICITUDES!$C$2:$C$1048576,BD!C21779,SOLICITUDES!$J$2:$J$1048576)","v":0},0,{"$f":"SUMIF(SOLICITUDES!$C$2:$C$1048576,BD!C21779,SOLICITUDES!$K$2:$K$1048576)","v":0},0]
[null,null,"T29766",10,13200,240,-77.191919238389289,2.6021651008515794,5,5,2,2,{"$f":"SUMIF(SOLICITUDES!$C$2:$C$1048576,BD!C21794,SOLICITUDES!$I$2:$I$1048576)","v":0},0,{"$f":"SUMIF(SOLICITUDES!$C$2:$C$1048576,BD!C21794,SOLICITUDES!$J$2:$J$1048576)","v":0},0,{"$f":"SUMIF(SOLICITUDES!$C$2:$C$1048576,BD!C21794,SOLICITUDES!$K$2:$K$1048576)","v":0},0]
[null,null,"T29762",15,13200,240,-77.186036435867422,2.5974820693790517,7.5,7.5,3,3,{"$f":"SUMIF(SOLICITUDES!$C$2:$C$1048576,BD!C21799,SOLICITUDES!$I$2:$I$1048576)","v":0},0,{"$f":"SUMIF(SOLICITUDES!$C$2:$C$1048576,BD!C21799,SOLICITUDES!$J$2:$J$1048576)","v":0},0,{"$f":"SUMIF(SOLICITUDES!$C$2:$C$1048576,BD!C21799,SOLICITUDES!$K$2:$K$1048576)","v":0},0]
[null,null,"T29734",10,13200,240,-77.210478334049796,2.5946680438341621,5,5,2,2,{"$f":"SUMIF(SOLICITUDES!$C$2:$C$1048576,BD!C21810,SOLICITUDES!$I$2:$I$1048576)","v":0},0,{"$f":"SUMIF(SOLICITUDES!$C$2:$C$1048576,BD!C21810,SOLICITUDES!$J$2:$J$1048576)","v":0},0,{"$f":"SUMIF(SOLICITUDES!$C$2:$C$1048576,BD!C21810,SOLICITUDES!$K$2:$K$1048576)","v":0},0]
[null,null,"T10514",37.5,13200,240,-76.332474346407494,2.641476361188511,18.75,18.75,7.5,7.5,{"$f":"SUMIF(SOLICITUDES!$C$2:$C$1048576,BD!C21825,SOLICITUDES!$I$2:$I$1048576)","v":0},0,{"$f":"SUMIF(SOLICITUDES!$C$2:$C$1048576,BD!C21825,SOLICITUDES!$J$2:$J$1048576)","v":0},0,{"$f":"SUMIF(SOLICITUDES!$C$2:$C$1048576,BD!C21825,SOLICITUDES!$K$2:$K$1048576)","v":0},0]
[null,null,"T8461",37.5,13200,240,-76.330582451088347,2.6324595911441055,18.75,18.75,7.5,7.5,{"$f":"SUMIF(SOLICITUDES!$C$2:$C$1048576,BD!C21826,SOLICITUDES!$I$2:$I$1048576)","v":0},0,{"$f":"SUMIF(SOLICITUDES!$C$2:$C$1048576,BD!C21826,SOLICITUDES!$J$2:$J$1048576)","v":0},0,{"$f":"SUMIF(SOLICITUDES!$C$2:$C$1048576,BD!C21826,SOLICITUDES!$K$2:$K$1048576)","v":0},0]
[null,null,"T8615",25,13200,240,-76.325454787794953,2.6214063127024918,12.5,12.5,5,5,{"$f":"SUMIF(SOLICITUDES!$C$2:$C$1048576,BD!C21841,SOLICITUDES!$I$2:$I$1048576)","v":0},0,{"$f":"SUMIF(SOLICITUDES!$C$2:$C$1048576,BD!C21841,SOLICITUDES!$J$2:$J$1048576)","v":0},0,{"$f":"SUMIF(SOLICITUDES!$C$2:$C$1048576,BD!C21841,SOLICITUDES!$K$2:$K$1048576)","v":0},0]
[null,null,"T8617",37.5,13200,240,-76.313084643042927,2.6321504587636588,18.75,18.75,7.5,7.5,{"$f":"SUMIF(SOLICITUDES!$C$2:$C$1048576,BD!C21854,SOLICITUDES!$I$2:$I$1048576)","v":0},0,{"$f":"SUMIF(SOLICITUDES!$C$2:$C$1048576,BD!C21854,SOLICITUDES!$J$2:$J$1048576)","v":0},0,{"$f":"SUMIF(SOLICITUDES!$C$2:$C$1048576,BD!C21854,SOLICITUDES!$K$2:$K$1048576)","v":0},0]
[null,null,"T8624",10,13200,240,-76.340786196465928,2.6659871998878932,5,5,2,2,{"$f":"SUMIF(SOLICITUDES!$C$2:$C$1048576,BD!C21858,SOLICITUDES!$I$2:$I$1048576)","v":0},0,{"$f":"SUMIF(SOLICITUDES!$C$2:$C$1048576,BD!C21858,SOLICITUDES!$J$2:$J$1048576)","v":0},0,{"$f":"SUMIF(SOLICITUDES!$C$2:$C$1048576,BD!C21858,SOLICITUDES!$K$2:$K$1048576)","v":0},0]
[null,null,"T7922",10,13200,240,-76.345458714824673,2.7460725605856635,5,5,2,2,{"$f":"SUMIF(SOLICITUDES!$C$2:$C$1048576,BD!C21873,SOLICITUDES!$I$2:$I$1048576)","v":0},0,{"$f":"SUMIF(SOLICITUDES!$C$2:$C$1048576,BD!C21873,SOLICITUDES!$J$2:$J$1048576)","v":0},0,{"$f":"SUMIF(SOLICITUDES!$C$2:$C$1048576,BD!C21873,SOLICITUDES!$K$2:$K$1048576)","v":0},0]
[null,null,"T7907",15,13200,240,-76.34259192742131,2.7284103062974152,7.5,7.5,3,3,{"$f":"SUMIF(SOLICITUDES!$C$2:$C$1048576,BD!C21878,SOLICITUDES!$I$2:$I$1048576)","v":0},0,{"$f":"SUMIF(SOLICITUDES!$C$2:$C$1048576,BD!C21878,SOLICITUDES!$J$2:$J$1048576)","v":0},0,{"$f":"SUMIF(SOLICITUDES!$C$2:$C$1048576,BD!C21878,SOLICITUDES!$K$2:$K$1048576)","v":0},0]
[null,null,"T7908",15,13200,240,-76.33056375774953,2.7221724573447887,7.5,7.5,3,3,{"$f":"SUMIF(SOLICITUDES!$C$2:$C$1048576,BD!C21889,SOLICITUDES!$I$2:$I$1048576)","v":0},0,{"$f":"SUMIF(SOLICITUDES!$C$2:$C$1048576,BD!C21889,SOLICITUDES!$J$2:$J$1048576)","v":0},0,{"$f":"SUMIF(SOLICITUDES!$C$2:$C$1048576,BD!C21889,SOLICITUDES!$K$2:$K$1048576)","v":0},0]
[null,null,"T23249",5,13200,240,-76.376517250621433,2.6980559800813992,2.5,2.5,1,1,{"$f":"SUMIF(SOLICITUDES!$C$2:$C$1048576,BD!C21904,SOLICITUDES!$I$2:$I$1048576)","v":0},0,{"$f":"SUMIF(SOLICITUDES!$C$2:$C$1048576,BD!C21904,SOLICITUDES!$J$2:$J$1048576)","v":0},0,{"$f":"SUMIF(SOLICITUDES!$C$2:$C$1048576,BD!C21904,SOLICITUDES!$K$2:$K$1048576)","v":0},0]
[null,null,"T6245",15,13200,240,-76.350870567813246,2.7043164235920996,7.5,7.5,3,3,{"$f":"SUMIF(SOLICITUDES!$C$2:$C$1048576,BD!C21915,SOLICITUDES!$I$2:$I$1048576)","v":0},0,{"$f":"SUMIF(SOLICITUDES!$C$2:$C$1048576,BD!C21915,SOLICITUDES!$J$2:$J$1048576)","v":0},0,{"$f":"SUMIF(SOLICITUDES!$C$2:$C$1048576,BD!C21915,SOLICITUDES!$K$2:$K$1048576)","v":0},0]
[null,null,"T23291",5,13200,240,-76.382845955950472,2.7348597534827075,2.5,2.5,1,1,{"$f":"SUMIF(SOLICITUDES!$C$2:$C$1048576,BD!C21920,SOLICITUDES!$I$2:$I$1048576)","v":0},0,{"$f":"SUMIF(SOLICITUDES!$C$2:$C$1048576,BD!C21920,SOLICITUDES!$J$2:$J$1048576)","v":0},0,{"$f":"SUMIF(SOLICITUDES!$C$2:$C$1048576,BD!C21920,SOLICITUDES!$K$2:$K$1048576)","v":0},0]
[null,null,"T23257",5,13200,240,-76.383701249273813,2.6960760930573362,2.5,2.5,1,1,{"$f":"SUMIF(SOLICITUDES!$C$2:$C$1048576,BD!C21935,SOLICITUDES!$I$2:$I$1048576)","v":0},0,{"$f":"SUMIF(SOLICITUDES!$C$2:$C$1048576,BD!C21935,SOLICITUDES!$J$2:$J$1048576)","v":0},0,{"$f":"SUMIF(SOLICITUDES!$C$2:$C$1048576,BD!C21935,SOLICITUDES!$K$2:$K$1048576)","v":0},0]
[null,null,"T23203",5,13200,240,-76.354698412682623,2.7069171537709487,2.5,2.5,1,1,{"$f":"SUMIF(SOLICITUDES!$C$2:$C$1048576,BD!C21938,SOLICITUDES!$I$2:$I$1048576)","v":0},0,{"$f":"SUMIF(SOLICITUDES!$C$2:$C$1048576,BD!C21938,SOLICITUDES!$J$2:$J$1048576)","v":0},0,{"$f":"SUMIF(SOLICITUDES!$C$2:$C$1048576,BD!C21938,SOLICITUDES!$K$2:$K$1048576)","v":0},0]
[null,null,"T8472",15,13200,240,-76.333545759840987,2.578232168659877,7.5,7.5,3,3,{"$f":"SUMIF(SOLICITUDES!$C$2:$C$1048576,BD!C21952,SOLICITUDES!$I$2:$I$1048576)","v":0},0,{"$f":"SUMIF(SOLICITUDES!$C$2:$C$1048576,BD!C21952,SOLICITUDES!$J$2:$J$1048576)","v":0},0,{"$f":"SUMIF(SOLICITUDES!$C$2:$C$1048576,BD!C21952,SOLICITUDES!$K$2:$K$1048576)","v":0},0]
[null,null,"T8462",25,13200,240,-76.328012555520701,2.5688967143497692,12.5,12.5,5,5,{"$f":"SUMIF(SOLICITUDES!$C$2:$C$1048576,BD!C21963,SOLICITUDES!$I$2:$I$1048576)","v":0},0,{"$f":"SUMIF(SOLICITUDES!$C$2:$C$1048576,BD!C21963,SOLICITUDES!$J$2:$J$1048576)","v":0},0,{"$f":"SUMIF(SOLICITUDES!$C$2:$C$1048576,BD!C21963,SOLICITUDES!$K$2:$K$1048576)","v":0},0]
[null,null,"T23300",5,13200,240,-76.368370000930454,2.7391906689373386,2.5,2.5,1,1,{"$f":"SUMIF(SOLICITUDES!$C$2:$C$1048576,BD!C21968,SOLICITUDES!$I$2:$I$1048576)","v":0},0,{"$f":"SUMIF(SOLICITUDES!$C$2:$C$1048576,BD!C21968,SOLICITUDES!$J$2:$J$1048576)","v":0},0,{"$f":"SUMIF(SOLICITUDES!$C$2:$C$1048576,BD!C21968,SOLICITUDES!$K$2:$K$1048576)","v":0},0]
[null,null,"T6311",45,13200,208,-76.685322036340011,2.3528977303894574,22.5,22.5,9,9,{"$f":"SUMIF(SOLICITUDES!$C$2:$C$1048576,BD!C21983,SOLICITUDES!$I$2:$I$1048576)","v":0},0,{"$f":"SUMIF(SOLICITUDES!$C$2:$C$1048576,BD!C21983,SOLICITUDES!$J$2:$J$1048576)","v":0},0,{"$f":"SUMIF(SOLICITUDES!$C$2:$C$1048576,BD!C21983,SOLICITUDES!$K$2:$K$1048576)","v":0},0]
[null,null,"T40256",25,13200,240,-76.663092495756231,2.3703743025815029,12.5,12.5,5,5,{"$f":"SUMIF(SOLICITUDES!$C$2:$C$1048576,BD!C21994,SOLICITUDES!$I$2:$I$1048576)","v":0},0,{"$f":"SUMIF(SOLICITUDES!$C$2:$C$1048576,BD!C21994,SOLICITUDES!$J$2:$J$1048576)","v":0},0,{"$f":"SUMIF(SOLICITUDES!$C$2:$C$1048576,BD!C21994,SOLICITUDES!$K$2:$K$1048576)","v":0},0]
[null,null,"T18452",50,13200,240,-76.685105003302937,2.3638295099988036,25,25,10,10,{"$f":"SUMIF(SOLICITUDES!$C$2:$C$1048576,BD!C21999,SOLICITUDES!$I$2:$I$1048576)","v":0},0,{"$f":"SUMIF(SOLICITUDES!$C$2:$C$1048576,BD!C21999,SOLICITUDES!$J$2:$J$1048576)","v":0},0,{"$f":"SUMIF(SOLICITUDES!$C$2:$C$1048576,BD!C21999,SOLICITUDES!$K$2:$K$1048576)","v":0},0]
[null,null,"T37010",25,13200,240,-76.684075929179528,2.3480940369056205,12.5,12.5,5,5,{"$f":"SUMIF(SOLICITUDES!$C$2:$C$1048576,BD!C22014,SOLICITUDES!$I$2:$I$1048576)","v":0},0,{"$f":"SUMIF(SOLICITUDES!$C$2:$C$1048576,BD!C22014,SOLICITUDES!$J$2:$J$1048576)","v":0},0,{"$f":"SUMIF(SOLICITUDES!$C$2:$C$1048576,BD!C22014,SOLICITUDES!$K$2:$K$1048576)","v":0},0]
[null,null,"T16719",10,13200,240,-76.688392158824684,2.3758038055453321,5,5,2,2,{"$f":"SUMIF(SOLICITUDES!$C$2:$C$1048576,BD!C22025,SOLICITUDES!$I$2:$I$1048576)","v":0},0,{"$f":"SUMIF(SOLICITUDES!$C$2:$C$1048576,BD!C22025,SOLICITUDES!$J$2:$J$1048576)","v":0},0,{"$f":"SUMIF(SOLICITUDES!$C$2:$C$1048576,BD!C22025,SOLICITUDES!$K$2:$K$1048576)","v":0},0]
[null,null,"T8304",10,13200,240,-76.662677533309306,2.2898215290531372,5,5,2,2,{"$f":"SUMIF(SOLICITUDES!$C$2:$C$1048576,BD!C22029,SOLICITUDES!$I$2:$I$1048576)","v":0},0,{"$f":"SUMIF(SOLICITUDES!$C$2:$C$1048576,BD!C22029,SOLICITUDES!$J$2:$J$1048576)","v":0},0,{"$f":"SUMIF(SOLICITUDES!$C$2:$C$1048576,BD!C22029,SOLICITUDES!$K$2:$K$1048576)","v":0},0]
[null,null,"T4263",75,13200,208,-76.679165592471179,2.3522252160596091,37.5,37.5,15,15,{"$f":"SUMIF(SOLICITUDES!$C$2:$C$1048576,BD!C22042,SOLICITUDES!$I$2:$I$1048576)","v":0},0,{"$f":"SUMIF(SOLICITUDES!$C$2:$C$1048576,BD!C22042,SOLICITUDES!$J$2:$J$1048576)","v":0},0,{"$f":"SUMIF(SOLICITUDES!$C$2:$C$1048576,BD!C22042,SOLICITUDES!$K$2:$K$1048576)","v":0},0]
[null,null,"T4296",45,13200,208,-76.682078007119202,2.3539533347838222,22.5,22.5,9,9,{"$f":"SUMIF(SOLICITUDES!$C$2:$C$1048576,BD!C22057,SOLICITUDES!$I$2:$I$1048576)","v":0},0,{"$f":"SUMIF(SOLICITUDES!$C$2:$C$1048576,BD!C22057,SOLICITUDES!$J$2:$J$1048576)","v":0},0,{"$f":"SUMIF(SOLICITUDES!$C$2:$C$1048576,BD!C22057,SOLICITUDES!$K$2:$K$1048576)","v":0},0]
[null,null,"T4279",45,13200,208,-76.683399802177959,2.3537437630390303,22.5,22.5,9,9,{"$f":"SUMIF(SOLICITUDES!$C$2:$C$1048576,BD!C22062,SOLICITUDES!$I$2:$I$1048576)","v":0},0,{"$f":"SUMIF(SOLICITUDES!$C$2:$C$1048576,BD!C22062,SOLICITUDES!$J$2:$J$1048576)","v":0},0,{"$f":"SUMIF(SOLICITUDES!$C$2:$C$1048576,BD!C22062,SOLICITUDES!$K$2:$K$1048576)","v":0},0]
[null,null,"T11418",45,13200,208,-76.265610463096266,3.1688042625313404,22.5,22.5,9,9,{"$f":"SUMIF(SOLICITUDES!$C$2:$C$1048576,BD!C22073,SOLICITUDES!$I$2:$I$1048576)","v":0},0,{"$f":"SUMIF(SOLICITUDES!$C$2:$C$1048576,BD!C22073,SOLICITUDES!$J$2:$J$1048576)","v":0},0,{"$f":"SUMIF(SOLICITUDES!$C$2:$C$1048576,BD!C22073,SOLICITUDES!$K$2:$K$1048576)","v":0},0]
[null,null,"T24824",30,13200,208,-76.244228351437926,3.1896390400147347,15,15,6,6,{"$f":"SUMIF(SOLICITUDES!$C$2:$C$1048576,BD!C22088,SOLICITUDES!$I$2:$I$1048576)","v":0},0,{"$f":"SUMIF(SOLICITUDES!$C$2:$C$1048576,BD!C22088,SOLICITUDES!$J$2:$J$1048576)","v":0},0,{"$f":"SUMIF(SOLICITUDES!$C$2:$C$1048576,BD!C22088,SOLICITUDES!$K$2:$K$1048576)","v":0},0]
[null,null,"T40372",75,13200,213,-76.25321661770532,3.168407589305132,37.5,37.5,15,15,{"$f":"SUMIF(SOLICITUDES!$C$2:$C$1048576,BD!C22093,SOLICITUDES!$I$2:$I$1048576)","v":0},0,{"$f":"SUMIF(SOLICITUDES!$C$2:$C$1048576,BD!C22093,SOLICITUDES!$J$2:$J$1048576)","v":0},0,{"$f":"SUMIF(SOLICITUDES!$C$2:$C$1048576,BD!C22093,SOLICITUDES!$K$2:$K$1048576)","v":0},0]
[null,null,"T41512",15,13200,240,-76.687872083742434,2.9943134280510617,7.5,7.5,3,3,{"$f":"SUMIF(SOLICITUDES!$C$2:$C$1048576,BD!C22104,SOLICITUDES!$I$2:$I$1048576)","v":0},0,{"$f":"SUMIF(SOLICITUDES!$C$2:$C$1048576,BD!C22104,SOLICITUDES!$J$2:$J$1048576)","v":0},0,{"$f":"SUMIF(SOLICITUDES!$C$2:$C$1048576,BD!C22104,SOLICITUDES!$K$2:$K$1048576)","v":0},0]
[null,null,"T13153",10,13200,220,-76.68809981414708,2.9983011791942342,5,5,2,2,{"$f":"SUMIF(SOLICITUDES!$C$2:$C$1048576,BD!C22109,SOLICITUDES!$I$2:$I$1048576)","v":0},0,{"$f":"SUMIF(SOLICITUDES!$C$2:$C$1048576,BD!C22109,SOLICITUDES!$J$2:$J$1048576)","v":0},0,{"$f":"SUMIF(SOLICITUDES!$C$2:$C$1048576,BD!C22109,SOLICITUDES!$K$2:$K$1048576)","v":0},0]
[null,null,"T40210",10,13200,240,-76.668667962950678,3.0427416536159826,5,5,2,2,{"$f":"SUMIF(SOLICITUDES!$C$2:$C$1048576,BD!C22124,SOLICITUDES!$I$2:$I$1048576)","v":0},0,{"$f":"SUMIF(SOLICITUDES!$C$2:$C$1048576,BD!C22124,SOLICITUDES!$J$2:$J$1048576)","v":0},0,{"$f":"SUMIF(SOLICITUDES!$C$2:$C$1048576,BD!C22124,SOLICITUDES!$K$2:$K$1048576)","v":0},0]
[null,null,"T10874",25,13200,240,-76.708101750959969,2.2649649314134077,12.5,12.5,5,5,{"$f":"SUMIF(SOLICITUDES!$C$2:$C$1048576,BD!C22136,SOLICITUDES!$I$2:$I$1048576)","v":0},0,{"$f":"SUMIF(SOLICITUDES!$C$2:$C$1048576,BD!C22136,SOLICITUDES!$J$2:$J$1048576)","v":0},0,{"$f":"SUMIF(SOLICITUDES!$C$2:$C$1048576,BD!C22136,SOLICITUDES!$K$2:$K$1048576)","v":0},0]
[null,null,"T8184",5,13200,240,-76.695545586093985,2.2215247593943648,2.5,2.5,1,1,{"$f":"SUMIF(SOLICITUDES!$C$2:$C$1048576,BD!C22141,SOLICITUDES!$I$2:$I$1048576)","v":0},0,{"$f":"SUMIF(SOLICITUDES!$C$2:$C$1048576,BD!C22141,SOLICITUDES!$J$2:$J$1048576)","v":0},0,{"$f":"SUMIF(SOLICITUDES!$C$2:$C$1048576,BD!C22141,SOLICITUDES!$K$2:$K$1048576)","v":0},0]
[null,null,"T8189",5,13200,240,-76.679959955740159,2.2111948007979638,2.5,2.5,1,1,{"$f":"SUMIF(SOLICITUDES!$C$2:$C$1048576,BD!C22152,SOLICITUDES!$I$2:$I$1048576)","v":0},0,{"$f":"SUMIF(SOLICITUDES!$C$2:$C$1048576,BD!C22152,SOLICITUDES!$J$2:$J$1048576)","v":0},0,{"$f":"SUMIF(SOLICITUDES!$C$2:$C$1048576,BD!C22152,SOLICITUDES!$K$2:$K$1048576)","v":0},0]
[null,null,"T25727",10,13200,240,-76.228626145714955,3.1928042864060959,5,5,2,2,{"$f":"SUMIF(SOLICITUDES!$C$2:$C$1048576,BD!C22167,SOLICITUDES!$I$2:$I$1048576)","v":0},0,{"$f":"SUMIF(SOLICITUDES!$C$2:$C$1048576,BD!C22167,SOLICITUDES!$J$2:$J$1048576)","v":0},0,{"$f":"SUMIF(SOLICITUDES!$C$2:$C$1048576,BD!C22167,SOLICITUDES!$K$2:$K$1048576)","v":0},0]
[null,null,"T10470",10,13200,240,-76.320442151193632,3.2037506927302171,5,5,2,2,{"$f":"SUMIF(SOLICITUDES!$C$2:$C$1048576,BD!C22178,SOLICITUDES!$I$2:$I$1048576)","v":0},0,{"$f":"SUMIF(SOLICITUDES!$C$2:$C$1048576,BD!C22178,SOLICITUDES!$J$2:$J$1048576)","v":0},0,{"$f":"SUMIF(SOLICITUDES!$C$2:$C$1048576,BD!C22178,SOLICITUDES!$K$2:$K$1048576)","v":0},0]
[null,null,"T12827",45,13200,220,-76.312539014101205,3.214532780083466,22.5,22.5,9,9,{"$f":"SUMIF(SOLICITUDES!$C$2:$C$1048576,BD!C22183,SOLICITUDES!$I$2:$I$1048576)","v":0},0,{"$f":"SUMIF(SOLICITUDES!$C$2:$C$1048576,BD!C22183,SOLICITUDES!$J$2:$J$1048576)","v":0},0,{"$f":"SUMIF(SOLICITUDES!$C$2:$C$1048576,BD!C22183,SOLICITUDES!$K$2:$K$1048576)","v":0},0]
[null,null,"T10878",15,13200,240,-76.67786580109231,2.2425383994591068,7.5,7.5,3,3,{"$f":"SUMIF(SOLICITUDES!$C$2:$C$1048576,BD!C22198,SOLICITUDES!$I$2:$I$1048576)","v":0},0,{"$f":"SUMIF(SOLICITUDES!$C$2:$C$1048576,BD!C22198,SOLICITUDES!$J$2:$J$1048576)","v":0},0,{"$f":"SUMIF(SOLICITUDES!$C$2:$C$1048576,BD!C22198,SOLICITUDES!$K$2:$K$1048576)","v":0},0]
[null,null,"T19167",30,13200,240,-76.313480839609554,3.2252940264357743,15,15,6,6,{"$f":"SUMIF(SOLICITUDES!$C$2:$C$1048576,BD!C22209,SOLICITUDES!$I$2:$I$1048576)","v":0},0,{"$f":"SUMIF(SOLICITUDES!$C$2:$C$1048576,BD!C22209,SOLICITUDES!$J$2:$J$1048576)","v":0},0,{"$f":"SUMIF(SOLICITUDES!$C$2:$C$1048576,BD!C22209,SOLICITUDES!$K$2:$K$1048576)","v":0},0]
[null,null,"T31101",30,13200,240,-76.312528674270368,3.2257412794921025,15,15,6,6,{"$f":"SUMIF(SOLICITUDES!$C$2:$C$1048576,BD!C22215,SOLICITUDES!$I$2:$I$1048576)","v":0},0,{"$f":"SUMIF(SOLICITUDES!$C$2:$C$1048576,BD!C22215,SOLICITUDES!$J$2:$J$1048576)","v":0},0,{"$f":"SUMIF(SOLICITUDES!$C$2:$C$1048576,BD!C22215,SOLICITUDES!$K$2:$K$1048576)","v":0},0]
[null,null,"T11040",50,13200,240,-76.313902257804827,3.22731077073376,25,25,10,10,{"$f":"SUMIF(SOLICITUDES!$C$2:$C$1048576,BD!C22221,SOLICITUDES!$I$2:$I$1048576)","v":0},0,{"$f":"SUMIF(SOLICITUDES!$C$2:$C$1048576,BD!C22221,SOLICITUDES!$J$2:$J$1048576)","v":0},0,{"$f":"SUMIF(SOLICITUDES!$C$2:$C$1048576,BD!C22221,SOLICITUDES!$K$2:$K$1048576)","v":0},0]
[null,null,"T11056",45,13200,208,-76.314119337261062,3.2256561328436075,22.5,22.5,9,9,{"$f":"SUMIF(SOLICITUDES!$C$2:$C$1048576,BD!C22222,SOLICITUDES!$I$2:$I$1048576)","v":0},0,{"$f":"SUMIF(SOLICITUDES!$C$2:$C$1048576,BD!C22222,SOLICITUDES!$J$2:$J$1048576)","v":0},0,{"$f":"SUMIF(SOLICITUDES!$C$2:$C$1048576,BD!C22222,SOLICITUDES!$K$2:$K$1048576)","v":0},0]
[null,null,"T11039",30,13200,208,-76.314146332965663,3.2256561882654382,15,15,6,6,{"$f":"SUMIF(SOLICITUDES!$C$2:$C$1048576,BD!C22223,SOLICITUDES!$I$2:$I$1048576)","v":0},0,{"$f":"SUMIF(SOLICITUDES!$C$2:$C$1048576,BD!C22223,SOLICITUDES!$J$2:$J$1048576)","v":0},0,{"$f":"SUMIF(SOLICITUDES!$C$2:$C$1048576,BD!C22223,SOLICITUDES!$K$2:$K$1048576)","v":0},0]
[null,null,"T11050",15,13200,240,-76.320054859562319,3.2286537623486469,7.5,7.5,3,3,{"$f":"SUMIF(SOLICITUDES!$C$2:$C$1048576,BD!C22224,SOLICITUDES!$I$2:$I$1048576)","v":0},0,{"$f":"SUMIF(SOLICITUDES!$C$2:$C$1048576,BD!C22224,SOLICITUDES!$J$2:$J$1048576)","v":0},0,{"$f":"SUMIF(SOLICITUDES!$C$2:$C$1048576,BD!C22224,SOLICITUDES!$K$2:$K$1048576)","v":0},0]
[null,null,"T11014",25,13200,240,-76.304449690928863,3.223559955218597,12.5,12.5,5,5,{"$f":"SUMIF(SOLICITUDES!$C$2:$C$1048576,BD!C22225,SOLICITUDES!$I$2:$I$1048576)","v":0},0,{"$f":"SUMIF(SOLICITUDES!$C$2:$C$1048576,BD!C22225,SOLICITUDES!$J$2:$J$1048576)","v":0},0,{"$f":"SUMIF(SOLICITUDES!$C$2:$C$1048576,BD!C22225,SOLICITUDES!$K$2:$K$1048576)","v":0},0]
[null,null,"T11553",10,13200,240,-76.298528355015947,3.2258251164272389,5,5,2,2,{"$f":"SUMIF(SOLICITUDES!$C$2:$C$1048576,BD!C22226,SOLICITUDES!$I$2:$I$1048576)","v":0},0,{"$f":"SUMIF(SOLICITUDES!$C$2:$C$1048576,BD!C22226,SOLICITUDES!$J$2:$J$1048576)","v":0},0,{"$f":"SUMIF(SOLICITUDES!$C$2:$C$1048576,BD!C22226,SOLICITUDES!$K$2:$K$1048576)","v":0},0]
[null,null,"T11028",25,13200,240,-76.323525774296229,3.2309441178092015,12.5,12.5,5,5,{"$f":"SUMIF(SOLICITUDES!$C$2:$C$1048576,BD!C22227,SOLICITUDES!$I$2:$I$1048576)","v":0},0,{"$f":"SUMIF(SOLICITUDES!$C$2:$C$1048576,BD!C22227,SOLICITUDES!$J$2:$J$1048576)","v":0},0,{"$f":"SUMIF(SOLICITUDES!$C$2:$C$1048576,BD!C22227,SOLICITUDES!$K$2:$K$1048576)","v":0},0]
[null,null,"T11038",30,13200,208,-76.32456909072269,3.2313789731401705,15,15,6,6,{"$f":"SUMIF(SOLICITUDES!$C$2:$C$1048576,BD!C22228,SOLICITUDES!$I$2:$I$1048576)","v":0},0,{"$f":"SUMIF(SOLICITUDES!$C$2:$C$1048576,BD!C22228,SOLICITUDES!$J$2:$J$1048576)","v":0},0,{"$f":"SUMIF(SOLICITUDES!$C$2:$C$1048576,BD!C22228,SOLICITUDES!$K$2:$K$1048576)","v":0},0]
[null,null,"T11551",10,13200,240,-76.295656983413068,3.2276674931578868,5,5,2,2,{"$f":"SUMIF(SOLICITUDES!$C$2:$C$1048576,BD!C22229,SOLICITUDES!$I$2:$I$1048576)","v":0},0,{"$f":"SUMIF(SOLICITUDES!$C$2:$C$1048576,BD!C22229,SOLICITUDES!$J$2:$J$1048576)","v":0},0,{"$f":"SUMIF(SOLICITUDES!$C$2:$C$1048576,BD!C22229,SOLICITUDES!$K$2:$K$1048576)","v":0},0]
[null,null,"T11047",15,13200,240,-76.30214246909452,3.2289837658415159,7.5,7.5,3,3,{"$f":"SUMIF(SOLICITUDES!$C$2:$C$1048576,BD!C22230,SOLICITUDES!$I$2:$I$1048576)","v":0},0,{"$f":"SUMIF(SOLICITUDES!$C$2:$C$1048576,BD!C22230,SOLICITUDES!$J$2:$J$1048576)","v":0},0,{"$f":"SUMIF(SOLICITUDES!$C$2:$C$1048576,BD!C22230,SOLICITUDES!$K$2:$K$1048576)","v":0},0]
[null,null,"T11130",30,13200,208,-76.307022544623379,3.2237608693319526,15,15,6,6,{"$f":"SUMIF(SOLICITUDES!$C$2:$C$1048576,BD!C22231,SOLICITUDES!$I$2:$I$1048576)","v":0},0,{"$f":"SUMIF(SOLICITUDES!$C$2:$C$1048576,BD!C22231,SOLICITUDES!$J$2:$J$1048576)","v":0},0,{"$f":"SUMIF(SOLICITUDES!$C$2:$C$1048576,BD!C22231,SOLICITUDES!$K$2:$K$1048576)","v":0},0]
[null,null,"T12030",25,13200,240,-76.300338624304956,3.2231499054684303,12.5,12.5,5,5,{"$f":"SUMIF(SOLICITUDES!$C$2:$C$1048576,BD!C22232,SOLICITUDES!$I$2:$I$1048576)","v":0},0,{"$f":"SUMIF(SOLICITUDES!$C$2:$C$1048576,BD!C22232,SOLICITUDES!$J$2:$J$1048576)","v":0},0,{"$f":"SUMIF(SOLICITUDES!$C$2:$C$1048576,BD!C22232,SOLICITUDES!$K$2:$K$1048576)","v":0},0]
[null,null,"T11013",25,13200,240,-76.304644508662733,3.2180809433545612,12.5,12.5,5,5,{"$f":"SUMIF(SOLICITUDES!$C$2:$C$1048576,BD!C22233,SOLICITUDES!$I$2:$I$1048576)","v":0},0,{"$f":"SUMIF(SOLICITUDES!$C$2:$C$1048576,BD!C22233,SOLICITUDES!$J$2:$J$1048576)","v":0},0,{"$f":"SUMIF(SOLICITUDES!$C$2:$C$1048576,BD!C22233,SOLICITUDES!$K$2:$K$1048576)","v":0},0]
[null,null,"T11020",10,13200,208,-76.307004545202489,3.2237590564761502,5,5,2,2,{"$f":"SUMIF(SOLICITUDES!$C$2:$C$1048576,BD!C22234,SOLICITUDES!$I$2:$I$1048576)","v":0},0,{"$f":"SUMIF(SOLICITUDES!$C$2:$C$1048576,BD!C22234,SOLICITUDES!$J$2:$J$1048576)","v":0},0,{"$f":"SUMIF(SOLICITUDES!$C$2:$C$1048576,BD!C22234,SOLICITUDES!$K$2:$K$1048576)","v":0},0]
[null,null,"T11555",15,13200,240,-76.289756697126677,3.2247655183624184,7.5,7.5,3,3,{"$f":"SUMIF(SOLICITUDES!$C$2:$C$1048576,BD!C22235,SOLICITUDES!$I$2:$I$1048576)","v":0},0,{"$f":"SUMIF(SOLICITUDES!$C$2:$C$1048576,BD!C22235,SOLICITUDES!$J$2:$J$1048576)","v":0},0,{"$f":"SUMIF(SOLICITUDES!$C$2:$C$1048576,BD!C22235,SOLICITUDES!$K$2:$K$1048576)","v":0},0]
[null,null,"T12013",25,13200,240,-76.29942425398319,3.2188720306847065,12.5,12.5,5,5,{"$f":"SUMIF(SOLICITUDES!$C$2:$C$1048576,BD!C22236,SOLICITUDES!$I$2:$I$1048576)","v":0},0,{"$f":"SUMIF(SOLICITUDES!$C$2:$C$1048576,BD!C22236,SOLICITUDES!$J$2:$J$1048576)","v":0},0,{"$f":"SUMIF(SOLICITUDES!$C$2:$C$1048576,BD!C22236,SOLICITUDES!$K$2:$K$1048576)","v":0},0]
[null,null,"T12418",25,13200,240,-76.294059948499012,3.2220780009250976,12.5,12.5,5,5,{"$f":"SUMIF(SOLICITUDES!$C$2:$C$1048576,BD!C22237,SOLICITUDES!$I$2:$I$1048576)","v":0},0,{"$f":"SUMIF(SOLICITUDES!$C$2:$C$1048576,BD!C22237,SOLICITUDES!$J$2:$J$1048576)","v":0},0,{"$f":"SUMIF(SOLICITUDES!$C$2:$C$1048576,BD!C22237,SOLICITUDES!$K$2:$K$1048576)","v":0},0]
[null,null,"T11018",15,13200,240,-76.328609034850828,3.2307218288632447,7.5,7.5,3,3,{"$f":"SUMIF(SOLICITUDES!$C$2:$C$1048576,BD!C22238,SOLICITUDES!$I$2:$I$1048576)","v":0},0,{"$f":"SUMIF(SOLICITUDES!$C$2:$C$1048576,BD!C22238,SOLICITUDES!$J$2:$J$1048576)","v":0},0,{"$f":"SUMIF(SOLICITUDES!$C$2:$C$1048576,BD!C22238,SOLICITUDES!$K$2:$K$1048576)","v":0},0]
[null,null,"T11058",5,13200,240,-76.321749043609003,3.2369470925876653,2.5,2.5,1,1,{"$f":"SUMIF(SOLICITUDES!$C$2:$C$1048576,BD!C22239,SOLICITUDES!$I$2:$I$1048576)","v":0},0,{"$f":"SUMIF(SOLICITUDES!$C$2:$C$1048576,BD!C22239,SOLICITUDES!$J$2:$J$1048576)","v":0},0,{"$f":"SUMIF(SOLICITUDES!$C$2:$C$1048576,BD!C22239,SOLICITUDES!$K$2:$K$1048576)","v":0},0]
[null,null,"T12012",15,13200,240,-76.29772968729452,3.2231659114383828,7.5,7.5,3,3,{"$f":"SUMIF(SOLICITUDES!$C$2:$C$1048576,BD!C22240,SOLICITUDES!$I$2:$I$1048576)","v":0},0,{"$f":"SUMIF(SOLICITUDES!$C$2:$C$1048576,BD!C22240,SOLICITUDES!$J$2:$J$1048576)","v":0},0,{"$f":"SUMIF(SOLICITUDES!$C$2:$C$1048576,BD!C22240,SOLICITUDES!$K$2:$K$1048576)","v":0},0]
[null,null,"T11016",10,13200,240,-76.302466217292249,3.2173914054185144,5,5,2,2,{"$f":"SUMIF(SOLICITUDES!$C$2:$C$1048576,BD!C22241,SOLICITUDES!$I$2:$I$1048576)","v":0},0,{"$f":"SUMIF(SOLICITUDES!$C$2:$C$1048576,BD!C22241,SOLICITUDES!$J$2:$J$1048576)","v":0},0,{"$f":"SUMIF(SOLICITUDES!$C$2:$C$1048576,BD!C22241,SOLICITUDES!$K$2:$K$1048576)","v":0},0]
[null,null,"T11064",10,13200,240,-76.303613197184902,3.2351338300348536,5,5,2,2,{"$f":"SUMIF(SOLICITUDES!$C$2:$C$1048576,BD!C22242,SOLICITUDES!$I$2:$I$1048576)","v":0},0,{"$f":"SUMIF(SOLICITUDES!$C$2:$C$1048576,BD!C22242,SOLICITUDES!$J$2:$J$1048576)","v":0},0,{"$f":"SUMIF(SOLICITUDES!$C$2:$C$1048576,BD!C22242,SOLICITUDES!$K$2:$K$1048576)","v":0},0]
[null,null,"T11053",112.5,13200,208,-76.304500434424014,3.2159371318549721,56.25,56.25,22.5,22.5,{"$f":"SUMIF(SOLICITUDES!$C$2:$C$1048576,BD!C22243,SOLICITUDES!$I$2:$I$1048576)","v":0},0,{"$f":"SUMIF(SOLICITUDES!$C$2:$C$1048576,BD!C22243,SOLICITUDES!$J$2:$J$1048576)","v":0},0,{"$f":"SUMIF(SOLICITUDES!$C$2:$C$1048576,BD!C22243,SOLICITUDES!$K$2:$K$1048576)","v":0},0]
[null,null,"T11044",15,13200,240,-76.305077750096373,3.2139120010266966,7.5,7.5,3,3,{"$f":"SUMIF(SOLICITUDES!$C$2:$C$1048576,BD!C22244,SOLICITUDES!$I$2:$I$1048576)","v":0},0,{"$f":"SUMIF(SOLICITUDES!$C$2:$C$1048576,BD!C22244,SOLICITUDES!$J$2:$J$1048576)","v":0},0,{"$f":"SUMIF(SOLICITUDES!$C$2:$C$1048576,BD!C22244,SOLICITUDES!$K$2:$K$1048576)","v":0},0]
[null,null,"T11063",15,13200,240,-76.332002524012154,3.2283461474218367,7.5,7.5,3,3,{"$f":"SUMIF(SOLICITUDES!$C$2:$C$1048576,BD!C22245,SOLICITUDES!$I$2:$I$1048576)","v":0},0,{"$f":"SUMIF(SOLICITUDES!$C$2:$C$1048576,BD!C22245,SOLICITUDES!$J$2:$J$1048576)","v":0},0,{"$f":"SUMIF(SOLICITUDES!$C$2:$C$1048576,BD!C22245,SOLICITUDES!$K$2:$K$1048576)","v":0},0]
[null,null,"T25455",15,13200,240,-76.319630271058102,3.2163112050722988,7.5,7.5,3,3,{"$f":"SUMIF(SOLICITUDES!$C$2:$C$1048576,BD!C22246,SOLICITUDES!$I$2:$I$1048576)","v":0},0,{"$f":"SUMIF(SOLICITUDES!$C$2:$C$1048576,BD!C22246,SOLICITUDES!$J$2:$J$1048576)","v":0},0,{"$f":"SUMIF(SOLICITUDES!$C$2:$C$1048576,BD!C22246,SOLICITUDES!$K$2:$K$1048576)","v":0},0]
[null,null,"T11562",25,13200,240,-76.287418927726335,3.2242520368730632,12.5,12.5,5,5,{"$f":"SUMIF(SOLICITUDES!$C$2:$C$1048576,BD!C22247,SOLICITUDES!$I$2:$I$1048576)","v":0},0,{"$f":"SUMIF(SOLICITUDES!$C$2:$C$1048576,BD!C22247,SOLICITUDES!$J$2:$J$1048576)","v":0},0,{"$f":"SUMIF(SOLICITUDES!$C$2:$C$1048576,BD!C22247,SOLICITUDES!$K$2:$K$1048576)","v":0},0]
[null,null,"T11055",75,13200,208,-76.307156815508876,3.2127561339892474,37.5,37.5,15,15,{"$f":"SUMIF(SOLICITUDES!$C$2:$C$1048576,BD!C22248,SOLICITUDES!$I$2:$I$1048576)","v":0},0,{"$f":"SUMIF(SOLICITUDES!$C$2:$C$1048576,BD!C22248,SOLICITUDES!$J$2:$J$1048576)","v":0},0,{"$f":"SUMIF(SOLICITUDES!$C$2:$C$1048576,BD!C22248,SOLICITUDES!$K$2:$K$1048576)","v":0},0]
[null,null,"T11566",37.5,13200,240,-76.293315718992176,3.2189034391867501,18.75,18.75,7.5,7.5,{"$f":"SUMIF(SOLICITUDES!$C$2:$C$1048576,BD!C22249,SOLICITUDES!$I$2:$I$1048576)","v":0},0,{"$f":"SUMIF(SOLICITUDES!$C$2:$C$1048576,BD!C22249,SOLICITUDES!$J$2:$J$1048576)","v":0},0,{"$f":"SUMIF(SOLICITUDES!$C$2:$C$1048576,BD!C22249,SOLICITUDES!$K$2:$K$1048576)","v":0},0]
[null,null,"T11560",10,13200,240,-76.284684071268515,3.2241865867597426,5,5,2,2,{"$f":"SUMIF(SOLICITUDES!$C$2:$C$1048576,BD!C22250,SOLICITUDES!$I$2:$I$1048576)","v":0},0,{"$f":"SUMIF(SOLICITUDES!$C$2:$C$1048576,BD!C22250,SOLICITUDES!$J$2:$J$1048576)","v":0},0,{"$f":"SUMIF(SOLICITUDES!$C$2:$C$1048576,BD!C22250,SOLICITUDES!$K$2:$K$1048576)","v":0},0]
[null,null,"T11048",10,13200,240,-76.308155560071341,3.2125489026019971,5,5,2,2,{"$f":"SUMIF(SOLICITUDES!$C$2:$C$1048576,BD!C22251,SOLICITUDES!$I$2:$I$1048576)","v":0},0,{"$f":"SUMIF(SOLICITUDES!$C$2:$C$1048576,BD!C22251,SOLICITUDES!$J$2:$J$1048576)","v":0},0,{"$f":"SUMIF(SOLICITUDES!$C$2:$C$1048576,BD!C22251,SOLICITUDES!$K$2:$K$1048576)","v":0},0]
[null,null,"T25453",5,13200,208,-76.335330007045386,3.2283604847228289,2.5,2.5,1,1,{"$f":"SUMIF(SOLICITUDES!$C$2:$C$1048576,BD!C22252,SOLICITUDES!$I$2:$I$1048576)","v":0},0,{"$f":"SUMIF(SOLICITUDES!$C$2:$C$1048576,BD!C22252,SOLICITUDES!$J$2:$J$1048576)","v":0},0,{"$f":"SUMIF(SOLICITUDES!$C$2:$C$1048576,BD!C22252,SOLICITUDES!$K$2:$K$1048576)","v":0},0]
[null,null,"T30121",300,13200,440,-76.304775932487644,3.2159231296439237,150,150,60,60,{"$f":"SUMIF(SOLICITUDES!$C$2:$C$1048576,BD!C22253,SOLICITUDES!$I$2:$I$1048576)","v":0},0,{"$f":"SUMIF(SOLICITUDES!$C$2:$C$1048576,BD!C22253,SOLICITUDES!$J$2:$J$1048576)","v":0},0,{"$f":"SUMIF(SOLICITUDES!$C$2:$C$1048576,BD!C22253,SOLICITUDES!$K$2:$K$1048576)","v":0},0]
[null,null,"T11035",10,13200,240,-76.332826441524531,3.2333925695634917,5,5,2,2,{"$f":"SUMIF(SOLICITUDES!$C$2:$C$1048576,BD!C22254,SOLICITUDES!$I$2:$I$1048576)","v":0},0,{"$f":"SUMIF(SOLICITUDES!$C$2:$C$1048576,BD!C22254,SOLICITUDES!$J$2:$J$1048576)","v":0},0,{"$f":"SUMIF(SOLICITUDES!$C$2:$C$1048576,BD!C22254,SOLICITUDES!$K$2:$K$1048576)","v":0},0]
[null,null,"T11563",37.5,13200,240,-76.288302137972025,3.2222453340111925,18.75,18.75,7.5,7.5,{"$f":"SUMIF(SOLICITUDES!$C$2:$C$1048576,BD!C22255,SOLICITUDES!$I$2:$I$1048576)","v":0},0,{"$f":"SUMIF(SOLICITUDES!$C$2:$C$1048576,BD!C22255,SOLICITUDES!$J$2:$J$1048576)","v":0},0,{"$f":"SUMIF(SOLICITUDES!$C$2:$C$1048576,BD!C22255,SOLICITUDES!$K$2:$K$1048576)","v":0},0]
[null,null,"T11029",25,13200,240,-76.303124133648566,3.2394467491943426,12.5,12.5,5,5,{"$f":"SUMIF(SOLICITUDES!$C$2:$C$1048576,BD!C22256,SOLICITUDES!$I$2:$I$1048576)","v":0},0,{"$f":"SUMIF(SOLICITUDES!$C$2:$C$1048576,BD!C22256,SOLICITUDES!$J$2:$J$1048576)","v":0},0,{"$f":"SUMIF(SOLICITUDES!$C$2:$C$1048576,BD!C22256,SOLICITUDES!$K$2:$K$1048576)","v":0},0]
[null,null,"T11057",37.5,13200,240,-76.302620199001495,3.2395819850727707,18.75,18.75,7.5,7.5,{"$f":"SUMIF(SOLICITUDES!$C$2:$C$1048576,BD!C22257,SOLICITUDES!$I$2:$I$1048576)","v":0},0,{"$f":"SUMIF(SOLICITUDES!$C$2:$C$1048576,BD!C22257,SOLICITUDES!$J$2:$J$1048576)","v":0},0,{"$f":"SUMIF(SOLICITUDES!$C$2:$C$1048576,BD!C22257,SOLICITUDES!$K$2:$K$1048576)","v":0},0]
[null,null,"T11017",25,13200,240,-76.331774202327267,3.2329486922613362,12.5,12.5,5,5,{"$f":"SUMIF(SOLICITUDES!$C$2:$C$1048576,BD!C22258,SOLICITUDES!$I$2:$I$1048576)","v":0},0,{"$f":"SUMIF(SOLICITUDES!$C$2:$C$1048576,BD!C22258,SOLICITUDES!$J$2:$J$1048576)","v":0},0,{"$f":"SUMIF(SOLICITUDES!$C$2:$C$1048576,BD!C22258,SOLICITUDES!$K$2:$K$1048576)","v":0},0]
[null,null,"T11564",15,13200,240,-76.281291977577908,3.2247174675532637,7.5,7.5,3,3,{"$f":"SUMIF(SOLICITUDES!$C$2:$C$1048576,BD!C22259,SOLICITUDES!$I$2:$I$1048576)","v":0},0,{"$f":"SUMIF(SOLICITUDES!$C$2:$C$1048576,BD!C22259,SOLICITUDES!$J$2:$J$1048576)","v":0},0,{"$f":"SUMIF(SOLICITUDES!$C$2:$C$1048576,BD!C22259,SOLICITUDES!$K$2:$K$1048576)","v":0},0]
[null,null,"T11032",10,13200,240,-76.335248087438742,3.2312964595491658,5,5,2,2,{"$f":"SUMIF(SOLICITUDES!$C$2:$C$1048576,BD!C22260,SOLICITUDES!$I$2:$I$1048576)","v":0},0,{"$f":"SUMIF(SOLICITUDES!$C$2:$C$1048576,BD!C22260,SOLICITUDES!$J$2:$J$1048576)","v":0},0,{"$f":"SUMIF(SOLICITUDES!$C$2:$C$1048576,BD!C22260,SOLICITUDES!$K$2:$K$1048576)","v":0},0]
[null,null,"T11022",10,13200,240,-76.335375399853518,3.229424699096632,5,5,2,2,{"$f":"SUMIF(SOLICITUDES!$C$2:$C$1048576,BD!C22261,SOLICITUDES!$I$2:$I$1048576)","v":0},0,{"$f":"SUMIF(SOLICITUDES!$C$2:$C$1048576,BD!C22261,SOLICITUDES!$J$2:$J$1048576)","v":0},0,{"$f":"SUMIF(SOLICITUDES!$C$2:$C$1048576,BD!C22261,SOLICITUDES!$K$2:$K$1048576)","v":0},0]
[null,null,"T11549",15,13200,240,-76.287047009467798,3.2276533597357573,7.5,7.5,3,3,{"$f":"SUMIF(SOLICITUDES!$C$2:$C$1048576,BD!C22262,SOLICITUDES!$I$2:$I$1048576)","v":0},0,{"$f":"SUMIF(SOLICITUDES!$C$2:$C$1048576,BD!C22262,SOLICITUDES!$J$2:$J$1048576)","v":0},0,{"$f":"SUMIF(SOLICITUDES!$C$2:$C$1048576,BD!C22262,SOLICITUDES!$K$2:$K$1048576)","v":0},0]
[null,null,"T11024",25,13200,240,-76.331539616537526,3.221618129981481,12.5,12.5,5,5,{"$f":"SUMIF(SOLICITUDES!$C$2:$C$1048576,BD!C22263,SOLICITUDES!$I$2:$I$1048576)","v":0},0,{"$f":"SUMIF(SOLICITUDES!$C$2:$C$1048576,BD!C22263,SOLICITUDES!$J$2:$J$1048576)","v":0},0,{"$f":"SUMIF(SOLICITUDES!$C$2:$C$1048576,BD!C22263,SOLICITUDES!$K$2:$K$1048576)","v":0},0]
[null,null,"T11558",10,13200,240,-76.282404962863055,3.2279736198984943,5,5,2,2,{"$f":"SUMIF(SOLICITUDES!$C$2:$C$1048576,BD!C22264,SOLICITUDES!$I$2:$I$1048576)","v":0},0,{"$f":"SUMIF(SOLICITUDES!$C$2:$C$1048576,BD!C22264,SOLICITUDES!$J$2:$J$1048576)","v":0},0,{"$f":"SUMIF(SOLICITUDES!$C$2:$C$1048576,BD!C22264,SOLICITUDES!$K$2:$K$1048576)","v":0},0]
[null,null,"T11034",15,13200,240,-76.332374490466634,3.2363220711648588,7.5,7.5,3,3,{"$f":"SUMIF(SOLICITUDES!$C$2:$C$1048576,BD!C22265,SOLICITUDES!$I$2:$I$1048576)","v":0},0,{"$f":"SUMIF(SOLICITUDES!$C$2:$C$1048576,BD!C22265,SOLICITUDES!$J$2:$J$1048576)","v":0},0,{"$f":"SUMIF(SOLICITUDES!$C$2:$C$1048576,BD!C22265,SOLICITUDES!$K$2:$K$1048576)","v":0},0]
[null,null,"T11019",37.5,13200,240,-76.331639372470164,3.2205511000321549,18.75,18.75,7.5,7.5,{"$f":"SUMIF(SOLICITUDES!$C$2:$C$1048576,BD!C22266,SOLICITUDES!$I$2:$I$1048576)","v":0},0,{"$f":"SUMIF(SOLICITUDES!$C$2:$C$1048576,BD!C22266,SOLICITUDES!$J$2:$J$1048576)","v":0},0,{"$f":"SUMIF(SOLICITUDES!$C$2:$C$1048576,BD!C22266,SOLICITUDES!$K$2:$K$1048576)","v":0},0]
[null,null,"T11559",15,13200,240,-76.277671513444631,3.2247627410684165,7.5,7.5,3,3,{"$f":"SUMIF(SOLICITUDES!$C$2:$C$1048576,BD!C22267,SOLICITUDES!$I$2:$I$1048576)","v":0},0,{"$f":"SUMIF(SOLICITUDES!$C$2:$C$1048576,BD!C22267,SOLICITUDES!$J$2:$J$1048576)","v":0},0,{"$f":"SUMIF(SOLICITUDES!$C$2:$C$1048576,BD!C22267,SOLICITUDES!$K$2:$K$1048576)","v":0},0]
[null,null,"T11027",15,13200,240,-76.330778225923908,3.2170871586246785,7.5,7.5,3,3,{"$f":"SUMIF(SOLICITUDES!$C$2:$C$1048576,BD!C22268,SOLICITUDES!$I$2:$I$1048576)","v":0},0,{"$f":"SUMIF(SOLICITUDES!$C$2:$C$1048576,BD!C22268,SOLICITUDES!$J$2:$J$1048576)","v":0},0,{"$f":"SUMIF(SOLICITUDES!$C$2:$C$1048576,BD!C22268,SOLICITUDES!$K$2:$K$1048576)","v":0},0]
[null,null,"T12014",25,13200,240,-76.278591343818277,3.2269126989814696,12.5,12.5,5,5,{"$f":"SUMIF(SOLICITUDES!$C$2:$C$1048576,BD!C22269,SOLICITUDES!$I$2:$I$1048576)","v":0},0,{"$f":"SUMIF(SOLICITUDES!$C$2:$C$1048576,BD!C22269,SOLICITUDES!$J$2:$J$1048576)","v":0},0,{"$f":"SUMIF(SOLICITUDES!$C$2:$C$1048576,BD!C22269,SOLICITUDES!$K$2:$K$1048576)","v":0},0]
[null,null,"T12446",25,13200,240,-76.287719231985164,3.2314140040618815,12.5,12.5,5,5,{"$f":"SUMIF(SOLICITUDES!$C$2:$C$1048576,BD!C22270,SOLICITUDES!$I$2:$I$1048576)","v":0},0,{"$f":"SUMIF(SOLICITUDES!$C$2:$C$1048576,BD!C22270,SOLICITUDES!$J$2:$J$1048576)","v":0},0,{"$f":"SUMIF(SOLICITUDES!$C$2:$C$1048576,BD!C22270,SOLICITUDES!$K$2:$K$1048576)","v":0},0]
[null,null,"T11550",10,13200,240,-76.271009547243224,3.2241305675847189,5,5,2,2,{"$f":"SUMIF(SOLICITUDES!$C$2:$C$1048576,BD!C22271,SOLICITUDES!$I$2:$I$1048576)","v":0},0,{"$f":"SUMIF(SOLICITUDES!$C$2:$C$1048576,BD!C22271,SOLICITUDES!$J$2:$J$1048576)","v":0},0,{"$f":"SUMIF(SOLICITUDES!$C$2:$C$1048576,BD!C22271,SOLICITUDES!$K$2:$K$1048576)","v":0},0]
[null,null,"T11554",37.5,13200,240,-76.273410903577258,3.2249734217418422,18.75,18.75,7.5,7.5,{"$f":"SUMIF(SOLICITUDES!$C$2:$C$1048576,BD!C22272,SOLICITUDES!$I$2:$I$1048576)","v":0},0,{"$f":"SUMIF(SOLICITUDES!$C$2:$C$1048576,BD!C22272,SOLICITUDES!$J$2:$J$1048576)","v":0},0,{"$f":"SUMIF(SOLICITUDES!$C$2:$C$1048576,BD!C22272,SOLICITUDES!$K$2:$K$1048576)","v":0},0]
[null,null,"T11060",10,13200,240,-76.313514615598805,3.2402594993529084,5,5,2,2,{"$f":"SUMIF(SOLICITUDES!$C$2:$C$1048576,BD!C22273,SOLICITUDES!$I$2:$I$1048576)","v":0},0,{"$f":"SUMIF(SOLICITUDES!$C$2:$C$1048576,BD!C22273,SOLICITUDES!$J$2:$J$1048576)","v":0},0,{"$f":"SUMIF(SOLICITUDES!$C$2:$C$1048576,BD!C22273,SOLICITUDES!$K$2:$K$1048576)","v":0},0]
[null,null,"T11561",15,13200,240,-76.283563064321598,3.2311756230876179,7.5,7.5,3,3,{"$f":"SUMIF(SOLICITUDES!$C$2:$C$1048576,BD!C22274,SOLICITUDES!$I$2:$I$1048576)","v":0},0,{"$f":"SUMIF(SOLICITUDES!$C$2:$C$1048576,BD!C22274,SOLICITUDES!$J$2:$J$1048576)","v":0},0,{"$f":"SUMIF(SOLICITUDES!$C$2:$C$1048576,BD!C22274,SOLICITUDES!$K$2:$K$1048576)","v":0},0]
[null,null,"T11567",15,13200,240,-76.28127445391199,3.2125281591501804,7.5,{"$f":"D22275*0.5-M22275","v":7.5},3,3,{"$f":"SUMIF(SOLICITUDES!$C$2:$C$1048576,BD!C22275,SOLICITUDES!$I$2:$I$1048576)","v":0},{"$f":"M22275/D22275","v":0},{"$f":"SUMIF(SOLICITUDES!$C$2:$C$1048576,BD!C22275,SOLICITUDES!$J$2:$J$1048576)","v":0},0,{"$f":"SUMIF(SOLICITUDES!$C$2:$C$1048576,BD!C22275,SOLICITUDES!$K$2:$K$1048576)","v":0},0]
[null,null,"T11552",10,13200,240,-76.279967913775209,3.2382169180808766,{"$f":"D22276*0.5","v":5},5,{"$f":"0.2*D22276","v":2},{"$f":"0.2*D22276","v":2},{"$f":"SUMIF(SOLICITUDES!$C$2:$C$1048576,BD!C22276,SOLICITUDES!$I$2:$I$1048576)","v":0},0,{"$f":"SUMIF(SOLICITUDES!$C$2:$C$1048576,BD!C22276,SOLICITUDES!$J$2:$J$1048576)","v":0},{"$f":"O22276/(2*K22276)","v":0},{"$f":"SUMIF(SOLICITUDES!$C$2:$C$1048576,BD!C22276,SOLICITUDES!$K$2:$K$1048576)","v":0},{"$f":"Q22276/(2*L22276)","v":0}]
[null,null,"T11033",15,13200,240,-76.329705229752008,3.2080979691381963,7.5,7.5,3,3,{"$f":"SUMIF(SOLICITUDES!$C$2:$C$1048576,BD!C22277,SOLICITUDES!$I$2:$I$1048576)","v":0},0,{"$f":"SUMIF(SOLICITUDES!$C$2:$C$1048576,BD!C22277,SOLICITUDES!$J$2:$J$1048576)","v":0},0,{"$f":"SUMIF(SOLICITUDES!$C$2:$C$1048576,BD!C22277,SOLICITUDES!$K$2:$K$1048576)","v":0},0]
[null,null,"T40264",75,13200,460,-76.314482157849213,3.244291479385347,37.5,37.5,15,15,{"$f":"SUMIF(SOLICITUDES!$C$2:$C$1048576,BD!C22278,SOLICITUDES!$I$2:$I$1048576)","v":0},0,{"$f":"SUMIF(SOLICITUDES!$C$2:$C$1048576,BD!C22278,SOLICITUDES!$J$2:$J$1048576)","v":0},0,{"$f":"SUMIF(SOLICITUDES!$C$2:$C$1048576,BD!C22278,SOLICITUDES!$K$2:$K$1048576)","v":0},0]
[null,null,"T11061",25,13200,240,-76.330166914895671,3.2041828674310153,12.5,12.5,5,5,{"$f":"SUMIF(SOLICITUDES!$C$2:$C$1048576,BD!C22279,SOLICITUDES!$I$2:$I$1048576)","v":0},0,{"$f":"SUMIF(SOLICITUDES!$C$2:$C$1048576,BD!C22279,SOLICITUDES!$J$2:$J$1048576)","v":0},0,{"$f":"SUMIF(SOLICITUDES!$C$2:$C$1048576,BD!C22279,SOLICITUDES!$K$2:$K$1048576)","v":0},0]
[null,null,"T11565",15,13200,240,-76.278682969442841,3.2476652663295384,7.5,7.5,3,3,{"$f":"SUMIF(SOLICITUDES!$C$2:$C$1048576,BD!C22280,SOLICITUDES!$I$2:$I$1048576)","v":0},0,{"$f":"SUMIF(SOLICITUDES!$C$2:$C$1048576,BD!C22280,SOLICITUDES!$J$2:$J$1048576)","v":0},0,{"$f":"SUMIF(SOLICITUDES!$C$2:$C$1048576,BD!C22280,SOLICITUDES!$K$2:$K$1048576)","v":0},0]
[null,null,"T28729",0.5,13200,240,-76.265403863667999,3.1713955880859239,0.25,0.25,0.1,0.1,{"$f":"SUMIF(SOLICITUDES!$C$2:$C$1048576,BD!C22281,SOLICITUDES!$I$2:$I$1048576)","v":0},0,{"$f":"SUMIF(SOLICITUDES!$C$2:$C$1048576,BD!C22281,SOLICITUDES!$J$2:$J$1048576)","v":0},0,{"$f":"SUMIF(SOLICITUDES!$C$2:$C$1048576,BD!C22281,SOLICITUDES!$K$2:$K$1048576)","v":0},0]
[null,null,"T30661",0.5,13200,240,-76.265160417492666,3.1709672707423158,0.25,0.25,0.1,0.1,{"$f":"SUMIF(SOLICITUDES!$C$2:$C$1048576,BD!C22282,SOLICITUDES!$I$2:$I$1048576)","v":0},0,{"$f":"SUMIF(SOLICITUDES!$C$2:$C$1048576,BD!C22282,SOLICITUDES!$J$2:$J$1048576)","v":0},0,{"$f":"SUMIF(SOLICITUDES!$C$2:$C$1048576,BD!C22282,SOLICITUDES!$K$2:$K$1048576)","v":0},0]
[null,null,"T30665",0.5,13200,120,-76.266730734946222,3.1694649678222855,0.25,0.25,0.1,0.1,{"$f":"SUMIF(SOLICITUDES!$C$2:$C$1048576,BD!C22283,SOLICITUDES!$I$2:$I$1048576)","v":0},0,{"$f":"SUMIF(SOLICITUDES!$C$2:$C$1048576,BD!C22283,SOLICITUDES!$J$2:$J$1048576)","v":0},0,{"$f":"SUMIF(SOLICITUDES!$C$2:$C$1048576,BD!C22283,SOLICITUDES!$K$2:$K$1048576)","v":0},0]
[null,null,"38TR2",10,13200,208,-76.738626196804901,2.2611333383678014,5,5,2,2,{"$f":"SUMIF(SOLICITUDES!$C$2:$C$1048576,BD!C22284,SOLICITUDES!$I$2:$I$1048576)","v":0},0,{"$f":"SUMIF(SOLICITUDES!$C$2:$C$1048576,BD!C22284,SOLICITUDES!$J$2:$J$1048576)","v":0},0,{"$f":"SUMIF(SOLICITUDES!$C$2:$C$1048576,BD!C22284,SOLICITUDES!$K$2:$K$1048576)","v":0},0]
[null,null,"38TR3",30,34500,208,-76.738747970439135,2.2610664091666592,15,15,6,6,{"$f":"SUMIF(SOLICITUDES!$C$2:$C$1048576,BD!C22285,SOLICITUDES!$I$2:$I$1048576)","v":0},0,{"$f":"SUMIF(SOLICITUDES!$C$2:$C$1048576,BD!C22285,SOLICITUDES!$J$2:$J$1048576)","v":0},0,{"$f":"SUMIF(SOLICITUDES!$C$2:$C$1048576,BD!C22285,SOLICITUDES!$K$2:$K$1048576)","v":0},0]
[null,null,"T4923",30,13200,208,-76.529937740321515,2.6259176029803499,15,15,6,6,{"$f":"SUMIF(SOLICITUDES!$C$2:$C$1048576,BD!C22286,SOLICITUDES!$I$2:$I$1048576)","v":0},0,{"$f":"SUMIF(SOLICITUDES!$C$2:$C$1048576,BD!C22286,SOLICITUDES!$J$2:$J$1048576)","v":0},0,{"$f":"SUMIF(SOLICITUDES!$C$2:$C$1048576,BD!C22286,SOLICITUDES!$K$2:$K$1048576)","v":0},0]
[null,null,"T5288",37.5,13200,240,-76.538840021505536,2.5838711405065364,18.75,18.75,7.5,7.5,{"$f":"SUMIF(SOLICITUDES!$C$2:$C$1048576,BD!C22287,SOLICITUDES!$I$2:$I$1048576)","v":0},0,{"$f":"SUMIF(SOLICITUDES!$C$2:$C$1048576,BD!C22287,SOLICITUDES!$J$2:$J$1048576)","v":0},0,{"$f":"SUMIF(SOLICITUDES!$C$2:$C$1048576,BD!C22287,SOLICITUDES!$K$2:$K$1048576)","v":0},0]
[null,null,"T5174",15,13200,240,-76.510774174901869,2.5891128054262462,7.5,7.5,3,3,{"$f":"SUMIF(SOLICITUDES!$C$2:$C$1048576,BD!C22288,SOLICITUDES!$I$2:$I$1048576)","v":0},0,{"$f":"SUMIF(SOLICITUDES!$C$2:$C$1048576,BD!C22288,SOLICITUDES!$J$2:$J$1048576)","v":0},0,{"$f":"SUMIF(SOLICITUDES!$C$2:$C$1048576,BD!C22288,SOLICITUDES!$K$2:$K$1048576)","v":0},0]
[null,null,"T3854",10,13200,220,-76.532418785583161,2.6277544341029699,5,5,2,2,{"$f":"SUMIF(SOLICITUDES!$C$2:$C$1048576,BD!C22289,SOLICITUDES!$I$2:$I$1048576)","v":0},0,{"$f":"SUMIF(SOLICITUDES!$C$2:$C$1048576,BD!C22289,SOLICITUDES!$J$2:$J$1048576)","v":0},0,{"$f":"SUMIF(SOLICITUDES!$C$2:$C$1048576,BD!C22289,SOLICITUDES!$K$2:$K$1048576)","v":0},0]
[null,null,"T6327",10,13200,240,-76.539153202410091,2.6084413746684296,5,5,2,2,{"$f":"SUMIF(SOLICITUDES!$C$2:$C$1048576,BD!C22290,SOLICITUDES!$I$2:$I$1048576)","v":0},0,{"$f":"SUMIF(SOLICITUDES!$C$2:$C$1048576,BD!C22290,SOLICITUDES!$J$2:$J$1048576)","v":0},0,{"$f":"SUMIF(SOLICITUDES!$C$2:$C$1048576,BD!C22290,SOLICITUDES!$K$2:$K$1048576)","v":0},0]
[null,null,"T6331",15,13200,240,-76.539516264096406,2.600537867608979,7.5,7.5,3,3,{"$f":"SUMIF(SOLICITUDES!$C$2:$C$1048576,BD!C22291,SOLICITUDES!$I$2:$I$1048576)","v":0},0,{"$f":"SUMIF(SOLICITUDES!$C$2:$C$1048576,BD!C22291,SOLICITUDES!$J$2:$J$1048576)","v":0},0,{"$f":"SUMIF(SOLICITUDES!$C$2:$C$1048576,BD!C22291,SOLICITUDES!$K$2:$K$1048576)","v":0},0]
[null,null,"T5296",37.5,13200,240,-76.542303157068247,2.5836004860554209,18.75,18.75,7.5,7.5,{"$f":"SUMIF(SOLICITUDES!$C$2:$C$1048576,BD!C22292,SOLICITUDES!$I$2:$I$1048576)","v":0},0,{"$f":"SUMIF(SOLICITUDES!$C$2:$C$1048576,BD!C22292,SOLICITUDES!$J$2:$J$1048576)","v":0},0,{"$f":"SUMIF(SOLICITUDES!$C$2:$C$1048576,BD!C22292,SOLICITUDES!$K$2:$K$1048576)","v":0},0]
[null,null,"T5172",10,13200,240,-76.505021330433038,2.5849141351571849,5,5,2,2,{"$f":"SUMIF(SOLICITUDES!$C$2:$C$1048576,BD!C22293,SOLICITUDES!$I$2:$I$1048576)","v":0},0,{"$f":"SUMIF(SOLICITUDES!$C$2:$C$1048576,BD!C22293,SOLICITUDES!$J$2:$J$1048576)","v":0},0,{"$f":"SUMIF(SOLICITUDES!$C$2:$C$1048576,BD!C22293,SOLICITUDES!$K$2:$K$1048576)","v":0},0]
[null,null,"T29274",5,13200,240,-76.536600795435007,2.6213794056299951,2.5,2.5,1,1,{"$f":"SUMIF(SOLICITUDES!$C$2:$C$1048576,BD!C22294,SOLICITUDES!$I$2:$I$1048576)","v":0},0,{"$f":"SUMIF(SOLICITUDES!$C$2:$C$1048576,BD!C22294,SOLICITUDES!$J$2:$J$1048576)","v":0},0,{"$f":"SUMIF(SOLICITUDES!$C$2:$C$1048576,BD!C22294,SOLICITUDES!$K$2:$K$1048576)","v":0},0]
[null,null,"T2786",37.5,13200,240,-76.487603737956647,2.5861088729609363,18.75,18.75,7.5,7.5,{"$f":"SUMIF(SOLICITUDES!$C$2:$C$1048576,BD!C22295,SOLICITUDES!$I$2:$I$1048576)","v":0},0,{"$f":"SUMIF(SOLICITUDES!$C$2:$C$1048576,BD!C22295,SOLICITUDES!$J$2:$J$1048576)","v":0},0,{"$f":"SUMIF(SOLICITUDES!$C$2:$C$1048576,BD!C22295,SOLICITUDES!$K$2:$K$1048576)","v":0},0]
[null,null,"T5291",37.5,13200,240,-76.544244757860355,2.5823270940878742,18.75,18.75,7.5,7.5,{"$f":"SUMIF(SOLICITUDES!$C$2:$C$1048576,BD!C22296,SOLICITUDES!$I$2:$I$1048576)","v":0},0,{"$f":"SUMIF(SOLICITUDES!$C$2:$C$1048576,BD!C22296,SOLICITUDES!$J$2:$J$1048576)","v":0},0,{"$f":"SUMIF(SOLICITUDES!$C$2:$C$1048576,BD!C22296,SOLICITUDES!$K$2:$K$1048576)","v":0},0]
[null,null,"T6322",37.5,13200,240,-76.544341372453118,2.6090947309752988,18.75,18.75,7.5,7.5,{"$f":"SUMIF(SOLICITUDES!$C$2:$C$1048576,BD!C22297,SOLICITUDES!$I$2:$I$1048576)","v":0},0,{"$f":"SUMIF(SOLICITUDES!$C$2:$C$1048576,BD!C22297,SOLICITUDES!$J$2:$J$1048576)","v":0},0,{"$f":"SUMIF(SOLICITUDES!$C$2:$C$1048576,BD!C22297,SOLICITUDES!$K$2:$K$1048576)","v":0},0]
[null,null,"T5287",15,13200,240,-76.546979098980572,2.5803025469351391,7.5,7.5,3,3,{"$f":"SUMIF(SOLICITUDES!$C$2:$C$1048576,BD!C22298,SOLICITUDES!$I$2:$I$1048576)","v":0},0,{"$f":"SUMIF(SOLICITUDES!$C$2:$C$1048576,BD!C22298,SOLICITUDES!$J$2:$J$1048576)","v":0},0,{"$f":"SUMIF(SOLICITUDES!$C$2:$C$1048576,BD!C22298,SOLICITUDES!$K$2:$K$1048576)","v":0},0]
[null,null,"T5170",10,13200,240,-76.498917879513215,2.5805526774570207,5,5,2,2,{"$f":"SUMIF(SOLICITUDES!$C$2:$C$1048576,BD!C22299,SOLICITUDES!$I$2:$I$1048576)","v":0},0,{"$f":"SUMIF(SOLICITUDES!$C$2:$C$1048576,BD!C22299,SOLICITUDES!$J$2:$J$1048576)","v":0},0,{"$f":"SUMIF(SOLICITUDES!$C$2:$C$1048576,BD!C22299,SOLICITUDES!$K$2:$K$1048576)","v":0},0]
[null,null,"T28306",25,13200,240,-76.538947959545069,2.5907838798717617,12.5,12.5,5,5,{"$f":"SUMIF(SOLICITUDES!$C$2:$C$1048576,BD!C22300,SOLICITUDES!$I$2:$I$1048576)","v":0},0,{"$f":"SUMIF(SOLICITUDES!$C$2:$C$1048576,BD!C22300,SOLICITUDES!$J$2:$J$1048576)","v":0},0,{"$f":"SUMIF(SOLICITUDES!$C$2:$C$1048576,BD!C22300,SOLICITUDES!$K$2:$K$1048576)","v":0},0]
[null,null,"T42100",0.5,13200,240,-76.542706396194347,2.584035545182811,0.25,0.25,0.1,0.1,{"$f":"SUMIF(SOLICITUDES!$C$2:$C$1048576,BD!C22301,SOLICITUDES!$I$2:$I$1048576)","v":0},0,{"$f":"SUMIF(SOLICITUDES!$C$2:$C$1048576,BD!C22301,SOLICITUDES!$J$2:$J$1048576)","v":0},0,{"$f":"SUMIF(SOLICITUDES!$C$2:$C$1048576,BD!C22301,SOLICITUDES!$K$2:$K$1048576)","v":0},0]
[null,null,"T28304",15,13200,240,-76.539341969943379,2.5895910929701342,7.5,7.5,3,3,{"$f":"SUMIF(SOLICITUDES!$C$2:$C$1048576,BD!C22302,SOLICITUDES!$I$2:$I$1048576)","v":0},0,{"$f":"SUMIF(SOLICITUDES!$C$2:$C$1048576,BD!C22302,SOLICITUDES!$J$2:$J$1048576)","v":0},0,{"$f":"SUMIF(SOLICITUDES!$C$2:$C$1048576,BD!C22302,SOLICITUDES!$K$2:$K$1048576)","v":0},0]
[null,null,"T6054",15,13200,240,-76.535633176854034,2.5762283583673478,7.5,7.5,3,3,{"$f":"SUMIF(SOLICITUDES!$C$2:$C$1048576,BD!C22303,SOLICITUDES!$I$2:$I$1048576)","v":0},0,{"$f":"SUMIF(SOLICITUDES!$C$2:$C$1048576,BD!C22303,SOLICITUDES!$J$2:$J$1048576)","v":0},0,{"$f":"SUMIF(SOLICITUDES!$C$2:$C$1048576,BD!C22303,SOLICITUDES!$K$2:$K$1048576)","v":0},0]
[null,null,"T6065",25,13200,240,-76.547302039044382,2.5821022343275866,12.5,12.5,5,5,{"$f":"SUMIF(SOLICITUDES!$C$2:$C$1048576,BD!C22304,SOLICITUDES!$I$2:$I$1048576)","v":0},0,{"$f":"SUMIF(SOLICITUDES!$C$2:$C$1048576,BD!C22304,SOLICITUDES!$J$2:$J$1048576)","v":0},0,{"$f":"SUMIF(SOLICITUDES!$C$2:$C$1048576,BD!C22304,SOLICITUDES!$K$2:$K$1048576)","v":0},0]
[null,null,"T4928",37.5,13200,240,-76.537298719042141,2.6341591439995087,18.75,18.75,7.5,7.5,{"$f":"SUMIF(SOLICITUDES!$C$2:$C$1048576,BD!C22305,SOLICITUDES!$I$2:$I$1048576)","v":0},0,{"$f":"SUMIF(SOLICITUDES!$C$2:$C$1048576,BD!C22305,SOLICITUDES!$J$2:$J$1048576)","v":0},0,{"$f":"SUMIF(SOLICITUDES!$C$2:$C$1048576,BD!C22305,SOLICITUDES!$K$2:$K$1048576)","v":0},0]
[null,null,"T6320",25,13200,240,-76.547209643075462,2.6094214677670422,12.5,12.5,5,5,{"$f":"SUMIF(SOLICITUDES!$C$2:$C$1048576,BD!C22306,SOLICITUDES!$I$2:$I$1048576)","v":0},0,{"$f":"SUMIF(SOLICITUDES!$C$2:$C$1048576,BD!C22306,SOLICITUDES!$J$2:$J$1048576)","v":0},0,{"$f":"SUMIF(SOLICITUDES!$C$2:$C$1048576,BD!C22306,SOLICITUDES!$K$2:$K$1048576)","v":0},0]
[null,null,"T3111",5,13200,240,-76.479503566698924,2.5831027262174437,2.5,2.5,1,1,{"$f":"SUMIF(SOLICITUDES!$C$2:$C$1048576,BD!C22307,SOLICITUDES!$I$2:$I$1048576)","v":0},0,{"$f":"SUMIF(SOLICITUDES!$C$2:$C$1048576,BD!C22307,SOLICITUDES!$J$2:$J$1048576)","v":0},0,{"$f":"SUMIF(SOLICITUDES!$C$2:$C$1048576,BD!C22307,SOLICITUDES!$K$2:$K$1048576)","v":0},0]
[null,null,"T6074",15,13200,240,-76.531174314368869,2.5738209343414495,7.5,7.5,3,3,{"$f":"SUMIF(SOLICITUDES!$C$2:$C$1048576,BD!C22308,SOLICITUDES!$I$2:$I$1048576)","v":0},0,{"$f":"SUMIF(SOLICITUDES!$C$2:$C$1048576,BD!C22308,SOLICITUDES!$J$2:$J$1048576)","v":0},0,{"$f":"SUMIF(SOLICITUDES!$C$2:$C$1048576,BD!C22308,SOLICITUDES!$K$2:$K$1048576)","v":0},0]
[null,null,"T51965",75,13200,214,-76.548912776748182,2.5791277408356388,37.5,37.5,15,15,{"$f":"SUMIF(SOLICITUDES!$C$2:$C$1048576,BD!C22309,SOLICITUDES!$I$2:$I$1048576)","v":0},0,{"$f":"SUMIF(SOLICITUDES!$C$2:$C$1048576,BD!C22309,SOLICITUDES!$J$2:$J$1048576)","v":0},0,{"$f":"SUMIF(SOLICITUDES!$C$2:$C$1048576,BD!C22309,SOLICITUDES!$K$2:$K$1048576)","v":0},0]
[null,null,"T6060",45,13200,208,-76.549101544309153,2.5793630107494931,22.5,22.5,9,9,{"$f":"SUMIF(SOLICITUDES!$C$2:$C$1048576,BD!C22310,SOLICITUDES!$I$2:$I$1048576)","v":0},0,{"$f":"SUMIF(SOLICITUDES!$C$2:$C$1048576,BD!C22310,SOLICITUDES!$J$2:$J$1048576)","v":0},0,{"$f":"SUMIF(SOLICITUDES!$C$2:$C$1048576,BD!C22310,SOLICITUDES!$K$2:$K$1048576)","v":0},0]
[null,null,"T6078",15,13200,240,-76.533729331149047,2.5705574377940676,7.5,7.5,3,3,{"$f":"SUMIF(SOLICITUDES!$C$2:$C$1048576,BD!C22311,SOLICITUDES!$I$2:$I$1048576)","v":0},0,{"$f":"SUMIF(SOLICITUDES!$C$2:$C$1048576,BD!C22311,SOLICITUDES!$J$2:$J$1048576)","v":0},0,{"$f":"SUMIF(SOLICITUDES!$C$2:$C$1048576,BD!C22311,SOLICITUDES!$K$2:$K$1048576)","v":0},0]
[null,null,"T5283",25,13200,240,-76.52979565364862,2.580512187571566,12.5,12.5,5,5,{"$f":"SUMIF(SOLICITUDES!$C$2:$C$1048576,BD!C22312,SOLICITUDES!$I$2:$I$1048576)","v":0},0,{"$f":"SUMIF(SOLICITUDES!$C$2:$C$1048576,BD!C22312,SOLICITUDES!$J$2:$J$1048576)","v":0},0,{"$f":"SUMIF(SOLICITUDES!$C$2:$C$1048576,BD!C22312,SOLICITUDES!$K$2:$K$1048576)","v":0},0]
[null,null,"T4920",15,13200,240,-76.541371708369766,2.6352550822914358,7.5,7.5,3,3,{"$f":"SUMIF(SOLICITUDES!$C$2:$C$1048576,BD!C22313,SOLICITUDES!$I$2:$I$1048576)","v":0},0,{"$f":"SUMIF(SOLICITUDES!$C$2:$C$1048576,BD!C22313,SOLICITUDES!$J$2:$J$1048576)","v":0},0,{"$f":"SUMIF(SOLICITUDES!$C$2:$C$1048576,BD!C22313,SOLICITUDES!$K$2:$K$1048576)","v":0},0]
[null,null,"T45136",37.5,13200,240,-76.549244002118968,2.5765516572239462,18.75,18.75,7.5,7.5,{"$f":"SUMIF(SOLICITUDES!$C$2:$C$1048576,BD!C22314,SOLICITUDES!$I$2:$I$1048576)","v":0},0,{"$f":"SUMIF(SOLICITUDES!$C$2:$C$1048576,BD!C22314,SOLICITUDES!$J$2:$J$1048576)","v":0},0,{"$f":"SUMIF(SOLICITUDES!$C$2:$C$1048576,BD!C22314,SOLICITUDES!$K$2:$K$1048576)","v":0},0]
[null,null,"T30063",5,13200,240,-76.549730586453848,2.5801862042474077,2.5,2.5,1,1,{"$f":"SUMIF(SOLICITUDES!$C$2:$C$1048576,BD!C22315,SOLICITUDES!$I$2:$I$1048576)","v":0},0,{"$f":"SUMIF(SOLICITUDES!$C$2:$C$1048576,BD!C22315,SOLICITUDES!$J$2:$J$1048576)","v":0},0,{"$f":"SUMIF(SOLICITUDES!$C$2:$C$1048576,BD!C22315,SOLICITUDES!$K$2:$K$1048576)","v":0},0]
[null,null,"T4924",15,13200,240,-76.547225206556547,2.6364242050110183,7.5,7.5,3,3,{"$f":"SUMIF(SOLICITUDES!$C$2:$C$1048576,BD!C22316,SOLICITUDES!$I$2:$I$1048576)","v":0},0,{"$f":"SUMIF(SOLICITUDES!$C$2:$C$1048576,BD!C22316,SOLICITUDES!$J$2:$J$1048576)","v":0},0,{"$f":"SUMIF(SOLICITUDES!$C$2:$C$1048576,BD!C22316,SOLICITUDES!$K$2:$K$1048576)","v":0},0]
[null,null,"T5294",15,13200,240,-76.522161262699527,2.581322779063576,7.5,7.5,3,3,{"$f":"SUMIF(SOLICITUDES!$C$2:$C$1048576,BD!C22317,SOLICITUDES!$I$2:$I$1048576)","v":0},0,{"$f":"SUMIF(SOLICITUDES!$C$2:$C$1048576,BD!C22317,SOLICITUDES!$J$2:$J$1048576)","v":0},0,{"$f":"SUMIF(SOLICITUDES!$C$2:$C$1048576,BD!C22317,SOLICITUDES!$K$2:$K$1048576)","v":0},0]
[null,null,"T5290",10,13200,240,-76.516650444881492,2.5787882303384682,5,5,2,2,{"$f":"SUMIF(SOLICITUDES!$C$2:$C$1048576,BD!C22318,SOLICITUDES!$I$2:$I$1048576)","v":0},0,{"$f":"SUMIF(SOLICITUDES!$C$2:$C$1048576,BD!C22318,SOLICITUDES!$J$2:$J$1048576)","v":0},0,{"$f":"SUMIF(SOLICITUDES!$C$2:$C$1048576,BD!C22318,SOLICITUDES!$K$2:$K$1048576)","v":0},0]
[null,null,"T6265",15,13200,240,-76.538871125867075,2.5739870700547698,7.5,7.5,3,3,{"$f":"SUMIF(SOLICITUDES!$C$2:$C$1048576,BD!C22319,SOLICITUDES!$I$2:$I$1048576)","v":0},0,{"$f":"SUMIF(SOLICITUDES!$C$2:$C$1048576,BD!C22319,SOLICITUDES!$J$2:$J$1048576)","v":0},0,{"$f":"SUMIF(SOLICITUDES!$C$2:$C$1048576,BD!C22319,SOLICITUDES!$K$2:$K$1048576)","v":0},0]
[null,null,"T18330",37.5,13200,240,-76.551042747743011,2.5817602534157724,18.75,18.75,7.5,7.5,{"$f":"SUMIF(SOLICITUDES!$C$2:$C$1048576,BD!C22320,SOLICITUDES!$I$2:$I$1048576)","v":0},0,{"$f":"SUMIF(SOLICITUDES!$C$2:$C$1048576,BD!C22320,SOLICITUDES!$J$2:$J$1048576)","v":0},0,{"$f":"SUMIF(SOLICITUDES!$C$2:$C$1048576,BD!C22320,SOLICITUDES!$K$2:$K$1048576)","v":0},0]
[null,null,"T6269",15,13200,240,-76.516336966148558,2.5760570606083126,7.5,7.5,3,3,{"$f":"SUMIF(SOLICITUDES!$C$2:$C$1048576,BD!C22321,SOLICITUDES!$I$2:$I$1048576)","v":0},0,{"$f":"SUMIF(SOLICITUDES!$C$2:$C$1048576,BD!C22321,SOLICITUDES!$J$2:$J$1048576)","v":0},0,{"$f":"SUMIF(SOLICITUDES!$C$2:$C$1048576,BD!C22321,SOLICITUDES!$K$2:$K$1048576)","v":0},0]
[null,null,"T5286",15,13200,240,-76.525640266034145,2.5833047208202218,7.5,7.5,3,3,{"$f":"SUMIF(SOLICITUDES!$C$2:$C$1048576,BD!C22322,SOLICITUDES!$I$2:$I$1048576)","v":0},0,{"$f":"SUMIF(SOLICITUDES!$C$2:$C$1048576,BD!C22322,SOLICITUDES!$J$2:$J$1048576)","v":0},0,{"$f":"SUMIF(SOLICITUDES!$C$2:$C$1048576,BD!C22322,SOLICITUDES!$K$2:$K$1048576)","v":0},0]
[null,null,"T3110",15,13200,240,-76.470035205215055,2.5831976142455741,7.5,7.5,3,3,{"$f":"SUMIF(SOLICITUDES!$C$2:$C$1048576,BD!C22323,SOLICITUDES!$I$2:$I$1048576)","v":0},0,{"$f":"SUMIF(SOLICITUDES!$C$2:$C$1048576,BD!C22323,SOLICITUDES!$J$2:$J$1048576)","v":0},0,{"$f":"SUMIF(SOLICITUDES!$C$2:$C$1048576,BD!C22323,SOLICITUDES!$K$2:$K$1048576)","v":0},0]
[null,null,"T4918",25,13200,240,-76.555506243675765,2.6383178172125814,12.5,12.5,5,5,{"$f":"SUMIF(SOLICITUDES!$C$2:$C$1048576,BD!C22324,SOLICITUDES!$I$2:$I$1048576)","v":0},0,{"$f":"SUMIF(SOLICITUDES!$C$2:$C$1048576,BD!C22324,SOLICITUDES!$J$2:$J$1048576)","v":0},0,{"$f":"SUMIF(SOLICITUDES!$C$2:$C$1048576,BD!C22324,SOLICITUDES!$K$2:$K$1048576)","v":0},0]
[null,null,"T28305",15,13200,240,-76.541521386326906,2.5908425579577621,7.5,3.5,3,3,{"$f":"SUMIF(SOLICITUDES!$C$2:$C$1048576,BD!C22325,SOLICITUDES!$I$2:$I$1048576)","v":4},0.26666666666666666,{"$f":"SUMIF(SOLICITUDES!$C$2:$C$1048576,BD!C22325,SOLICITUDES!$J$2:$J$1048576)","v":0},0,{"$f":"SUMIF(SOLICITUDES!$C$2:$C$1048576,BD!C22325,SOLICITUDES!$K$2:$K$1048576)","v":4},0.66666666666666663]
[null,null,"T6275",10,13200,240,-76.51200333306349,2.5750694818607243,5,5,2,2,{"$f":"SUMIF(SOLICITUDES!$C$2:$C$1048576,BD!C22326,SOLICITUDES!$I$2:$I$1048576)","v":0},0,{"$f":"SUMIF(SOLICITUDES!$C$2:$C$1048576,BD!C22326,SOLICITUDES!$J$2:$J$1048576)","v":0},0,{"$f":"SUMIF(SOLICITUDES!$C$2:$C$1048576,BD!C22326,SOLICITUDES!$K$2:$K$1048576)","v":0},0]
[null,null,"T3106",10,13200,240,-76.464550097224006,2.5835928818228218,5,5,2,2,{"$f":"SUMIF(SOLICITUDES!$C$2:$C$1048576,BD!C22327,SOLICITUDES!$I$2:$I$1048576)","v":0},0,{"$f":"SUMIF(SOLICITUDES!$C$2:$C$1048576,BD!C22327,SOLICITUDES!$J$2:$J$1048576)","v":0},0,{"$f":"SUMIF(SOLICITUDES!$C$2:$C$1048576,BD!C22327,SOLICITUDES!$K$2:$K$1048576)","v":0},0]
[null,null,"T3112",5,13200,240,-76.459948530632118,2.5791867248689901,2.5,2.5,1,1,{"$f":"SUMIF(SOLICITUDES!$C$2:$C$1048576,BD!C22328,SOLICITUDES!$I$2:$I$1048576)","v":0},0,{"$f":"SUMIF(SOLICITUDES!$C$2:$C$1048576,BD!C22328,SOLICITUDES!$J$2:$J$1048576)","v":0},0,{"$f":"SUMIF(SOLICITUDES!$C$2:$C$1048576,BD!C22328,SOLICITUDES!$K$2:$K$1048576)","v":0},0]
[null,null,"T6319",10,13200,240,-76.537706333792869,2.5643736793114957,5,5,2,2,{"$f":"SUMIF(SOLICITUDES!$C$2:$C$1048576,BD!C22329,SOLICITUDES!$I$2:$I$1048576)","v":0},0,{"$f":"SUMIF(SOLICITUDES!$C$2:$C$1048576,BD!C22329,SOLICITUDES!$J$2:$J$1048576)","v":0},0,{"$f":"SUMIF(SOLICITUDES!$C$2:$C$1048576,BD!C22329,SOLICITUDES!$K$2:$K$1048576)","v":0},0]
[null,null,"T6329",10,13200,240,-76.530187934211312,2.5674903122386517,5,5,2,2,{"$f":"SUMIF(SOLICITUDES!$C$2:$C$1048576,BD!C22330,SOLICITUDES!$I$2:$I$1048576)","v":0},0,{"$f":"SUMIF(SOLICITUDES!$C$2:$C$1048576,BD!C22330,SOLICITUDES!$J$2:$J$1048576)","v":0},0,{"$f":"SUMIF(SOLICITUDES!$C$2:$C$1048576,BD!C22330,SOLICITUDES!$K$2:$K$1048576)","v":0},0]
[null,null,"T6267",10,13200,240,-76.545759854295241,2.5716206950378036,5,5,2,2,{"$f":"SUMIF(SOLICITUDES!$C$2:$C$1048576,BD!C22331,SOLICITUDES!$I$2:$I$1048576)","v":0},0,{"$f":"SUMIF(SOLICITUDES!$C$2:$C$1048576,BD!C22331,SOLICITUDES!$J$2:$J$1048576)","v":0},0,{"$f":"SUMIF(SOLICITUDES!$C$2:$C$1048576,BD!C22331,SOLICITUDES!$K$2:$K$1048576)","v":0},0]
[null,null,"T4948",37.5,13200,240,-76.52337121145834,2.6311234768735723,18.75,18.75,7.5,7.5,{"$f":"SUMIF(SOLICITUDES!$C$2:$C$1048576,BD!C22332,SOLICITUDES!$I$2:$I$1048576)","v":0},0,{"$f":"SUMIF(SOLICITUDES!$C$2:$C$1048576,BD!C22332,SOLICITUDES!$J$2:$J$1048576)","v":0},0,{"$f":"SUMIF(SOLICITUDES!$C$2:$C$1048576,BD!C22332,SOLICITUDES!$K$2:$K$1048576)","v":0},0]
[null,null,"T3424",25,13200,240,-76.527272717249815,2.6336301717834072,12.5,12.5,5,5,{"$f":"SUMIF(SOLICITUDES!$C$2:$C$1048576,BD!C22333,SOLICITUDES!$I$2:$I$1048576)","v":0},0,{"$f":"SUMIF(SOLICITUDES!$C$2:$C$1048576,BD!C22333,SOLICITUDES!$J$2:$J$1048576)","v":0},0,{"$f":"SUMIF(SOLICITUDES!$C$2:$C$1048576,BD!C22333,SOLICITUDES!$K$2:$K$1048576)","v":0},0]
[null,null,"T4947",25,13200,220,-76.524783368975335,2.6303011882811487,12.5,12.5,5,5,{"$f":"SUMIF(SOLICITUDES!$C$2:$C$1048576,BD!C22334,SOLICITUDES!$I$2:$I$1048576)","v":0},0,{"$f":"SUMIF(SOLICITUDES!$C$2:$C$1048576,BD!C22334,SOLICITUDES!$J$2:$J$1048576)","v":0},0,{"$f":"SUMIF(SOLICITUDES!$C$2:$C$1048576,BD!C22334,SOLICITUDES!$K$2:$K$1048576)","v":0},0]
[null,null,"T15381",15,13200,240,-76.528045513574313,2.6347608822011881,7.5,7.5,3,3,{"$f":"SUMIF(SOLICITUDES!$C$2:$C$1048576,BD!C22335,SOLICITUDES!$I$2:$I$1048576)","v":0},0,{"$f":"SUMIF(SOLICITUDES!$C$2:$C$1048576,BD!C22335,SOLICITUDES!$J$2:$J$1048576)","v":0},0,{"$f":"SUMIF(SOLICITUDES!$C$2:$C$1048576,BD!C22335,SOLICITUDES!$K$2:$K$1048576)","v":0},0]
[null,null,"T4957",75,13200,208,-76.530020616052155,2.6382724475920316,37.5,37.5,15,15,{"$f":"SUMIF(SOLICITUDES!$C$2:$C$1048576,BD!C22336,SOLICITUDES!$I$2:$I$1048576)","v":0},0,{"$f":"SUMIF(SOLICITUDES!$C$2:$C$1048576,BD!C22336,SOLICITUDES!$J$2:$J$1048576)","v":0},0,{"$f":"SUMIF(SOLICITUDES!$C$2:$C$1048576,BD!C22336,SOLICITUDES!$K$2:$K$1048576)","v":0},0]
[null,null,"T4956",75,13200,208,-76.53480484277803,2.6411664389820149,37.5,37.5,15,15,{"$f":"SUMIF(SOLICITUDES!$C$2:$C$1048576,BD!C22337,SOLICITUDES!$I$2:$I$1048576)","v":0},0,{"$f":"SUMIF(SOLICITUDES!$C$2:$C$1048576,BD!C22337,SOLICITUDES!$J$2:$J$1048576)","v":0},0,{"$f":"SUMIF(SOLICITUDES!$C$2:$C$1048576,BD!C22337,SOLICITUDES!$K$2:$K$1048576)","v":0},0]
[null,null,"T4963",25,13200,240,-76.539155078009827,2.645807397299349,12.5,12.5,5,5,{"$f":"SUMIF(SOLICITUDES!$C$2:$C$1048576,BD!C22338,SOLICITUDES!$I$2:$I$1048576)","v":0},0,{"$f":"SUMIF(SOLICITUDES!$C$2:$C$1048576,BD!C22338,SOLICITUDES!$J$2:$J$1048576)","v":0},0,{"$f":"SUMIF(SOLICITUDES!$C$2:$C$1048576,BD!C22338,SOLICITUDES!$K$2:$K$1048576)","v":0},0]
[null,null,"T4714",25,13200,240,-76.542652179312597,2.6479069874753081,12.5,{"$f":"D22339*0.5-M22339","v":12.5},5,5,{"$f":"SUMIF(SOLICITUDES!$C$2:$C$1048576,BD!C22339,SOLICITUDES!$I$2:$I$1048576)","v":0},{"$f":"M22339/D22339","v":0},{"$f":"SUMIF(SOLICITUDES!$C$2:$C$1048576,BD!C22339,SOLICITUDES!$J$2:$J$1048576)","v":0},0,{"$f":"SUMIF(SOLICITUDES!$C$2:$C$1048576,BD!C22339,SOLICITUDES!$K$2:$K$1048576)","v":0},0]
[null,null,"T42039",0.5,13200,240,-76.54281135578421,2.6477616347988384,{"$f":"D22340*0.5","v":0.25},0.25,{"$f":"0.2*D22340","v":0.1},{"$f":"0.2*D22340","v":0.1},{"$f":"SUMIF(SOLICITUDES!$C$2:$C$1048576,BD!C22340,SOLICITUDES!$I$2:$I$1048576)","v":0},0,{"$f":"SUMIF(SOLICITUDES!$C$2:$C$1048576,BD!C22340,SOLICITUDES!$J$2:$J$1048576)","v":0},{"$f":"O22340/(2*K22340)","v":0},{"$f":"SUMIF(SOLICITUDES!$C$2:$C$1048576,BD!C22340,SOLICITUDES!$K$2:$K$1048576)","v":0},{"$f":"Q22340/(2*L22340)","v":0}]
[null,null,"T41476",5,13200,240,-76.544160300575513,2.6539213239580279,2.5,2.5,1,1,{"$f":"SUMIF(SOLICITUDES!$C$2:$C$1048576,BD!C22341,SOLICITUDES!$I$2:$I$1048576)","v":0},0,{"$f":"SUMIF(SOLICITUDES!$C$2:$C$1048576,BD!C22341,SOLICITUDES!$J$2:$J$1048576)","v":0},0,{"$f":"SUMIF(SOLICITUDES!$C$2:$C$1048576,BD!C22341,SOLICITUDES!$K$2:$K$1048576)","v":0},0]
[null,null,"T4954",15,13200,240,-76.547554506397447,2.6443279955595886,7.5,7.5,3,3,{"$f":"SUMIF(SOLICITUDES!$C$2:$C$1048576,BD!C22342,SOLICITUDES!$I$2:$I$1048576)","v":0},0,{"$f":"SUMIF(SOLICITUDES!$C$2:$C$1048576,BD!C22342,SOLICITUDES!$J$2:$J$1048576)","v":0},0,{"$f":"SUMIF(SOLICITUDES!$C$2:$C$1048576,BD!C22342,SOLICITUDES!$K$2:$K$1048576)","v":0},0]
[null,null,"T16701",15,13200,240,-76.543119874139663,2.6476630327229449,7.5,7.5,3,3,{"$f":"SUMIF(SOLICITUDES!$C$2:$C$1048576,BD!C22343,SOLICITUDES!$I$2:$I$1048576)","v":0},0,{"$f":"SUMIF(SOLICITUDES!$C$2:$C$1048576,BD!C22343,SOLICITUDES!$J$2:$J$1048576)","v":0},0,{"$f":"SUMIF(SOLICITUDES!$C$2:$C$1048576,BD!C22343,SOLICITUDES!$K$2:$K$1048576)","v":0},0]
[null,null,"T3408",37.5,13200,240,-76.549449474618996,2.6481416519069678,18.75,18.75,7.5,7.5,{"$f":"SUMIF(SOLICITUDES!$C$2:$C$1048576,BD!C22344,SOLICITUDES!$I$2:$I$1048576)","v":0},0,{"$f":"SUMIF(SOLICITUDES!$C$2:$C$1048576,BD!C22344,SOLICITUDES!$J$2:$J$1048576)","v":0},0,{"$f":"SUMIF(SOLICITUDES!$C$2:$C$1048576,BD!C22344,SOLICITUDES!$K$2:$K$1048576)","v":0},0]
[null,null,"T4489",50,13200,240,-76.544809349136955,2.6502410296603771,25,25,10,10,{"$f":"SUMIF(SOLICITUDES!$C$2:$C$1048576,BD!C22345,SOLICITUDES!$I$2:$I$1048576)","v":0},0,{"$f":"SUMIF(SOLICITUDES!$C$2:$C$1048576,BD!C22345,SOLICITUDES!$J$2:$J$1048576)","v":0},0,{"$f":"SUMIF(SOLICITUDES!$C$2:$C$1048576,BD!C22345,SOLICITUDES!$K$2:$K$1048576)","v":0},0]
[null,null,"T3417",25,13200,240,-76.554754677012951,2.6504985649430512,12.5,12.5,5,5,{"$f":"SUMIF(SOLICITUDES!$C$2:$C$1048576,BD!C22346,SOLICITUDES!$I$2:$I$1048576)","v":0},0,{"$f":"SUMIF(SOLICITUDES!$C$2:$C$1048576,BD!C22346,SOLICITUDES!$J$2:$J$1048576)","v":0},0,{"$f":"SUMIF(SOLICITUDES!$C$2:$C$1048576,BD!C22346,SOLICITUDES!$K$2:$K$1048576)","v":0},0]
[null,null,"T4493",25,13200,240,-76.545134466652712,2.6624609675701421,12.5,12.5,5,5,{"$f":"SUMIF(SOLICITUDES!$C$2:$C$1048576,BD!C22347,SOLICITUDES!$I$2:$I$1048576)","v":0},0,{"$f":"SUMIF(SOLICITUDES!$C$2:$C$1048576,BD!C22347,SOLICITUDES!$J$2:$J$1048576)","v":0},0,{"$f":"SUMIF(SOLICITUDES!$C$2:$C$1048576,BD!C22347,SOLICITUDES!$K$2:$K$1048576)","v":0},0]
[null,null,"T3406",25,13200,240,-76.557597285018289,2.6509432732030174,12.5,12.5,5,5,{"$f":"SUMIF(SOLICITUDES!$C$2:$C$1048576,BD!C22348,SOLICITUDES!$I$2:$I$1048576)","v":0},0,{"$f":"SUMIF(SOLICITUDES!$C$2:$C$1048576,BD!C22348,SOLICITUDES!$J$2:$J$1048576)","v":0},0,{"$f":"SUMIF(SOLICITUDES!$C$2:$C$1048576,BD!C22348,SOLICITUDES!$K$2:$K$1048576)","v":0},0]
[null,null,"T8593",15,13200,240,-76.540849511593819,2.6633428611370928,7.5,7.5,3,3,{"$f":"SUMIF(SOLICITUDES!$C$2:$C$1048576,BD!C22349,SOLICITUDES!$I$2:$I$1048576)","v":0},0,{"$f":"SUMIF(SOLICITUDES!$C$2:$C$1048576,BD!C22349,SOLICITUDES!$J$2:$J$1048576)","v":0},0,{"$f":"SUMIF(SOLICITUDES!$C$2:$C$1048576,BD!C22349,SOLICITUDES!$K$2:$K$1048576)","v":0},0]
[null,null,"T8588",25,13200,208,-76.541551329787666,2.6682727318964892,12.5,12.5,5,5,{"$f":"SUMIF(SOLICITUDES!$C$2:$C$1048576,BD!C22350,SOLICITUDES!$I$2:$I$1048576)","v":0},0,{"$f":"SUMIF(SOLICITUDES!$C$2:$C$1048576,BD!C22350,SOLICITUDES!$J$2:$J$1048576)","v":0},0,{"$f":"SUMIF(SOLICITUDES!$C$2:$C$1048576,BD!C22350,SOLICITUDES!$K$2:$K$1048576)","v":0},0]
[null,null,"T3428",25,13200,240,-76.563503228867091,2.6528715121356155,12.5,12.5,5,5,{"$f":"SUMIF(SOLICITUDES!$C$2:$C$1048576,BD!C22351,SOLICITUDES!$I$2:$I$1048576)","v":0},0,{"$f":"SUMIF(SOLICITUDES!$C$2:$C$1048576,BD!C22351,SOLICITUDES!$J$2:$J$1048576)","v":0},0,{"$f":"SUMIF(SOLICITUDES!$C$2:$C$1048576,BD!C22351,SOLICITUDES!$K$2:$K$1048576)","v":0},0]
[null,null,"T44740",75,13200,208,-76.549657473459476,2.6624508646194855,37.5,37.5,15,15,{"$f":"SUMIF(SOLICITUDES!$C$2:$C$1048576,BD!C22352,SOLICITUDES!$I$2:$I$1048576)","v":0},0,{"$f":"SUMIF(SOLICITUDES!$C$2:$C$1048576,BD!C22352,SOLICITUDES!$J$2:$J$1048576)","v":0},0,{"$f":"SUMIF(SOLICITUDES!$C$2:$C$1048576,BD!C22352,SOLICITUDES!$K$2:$K$1048576)","v":0},0]
[null,null,"T8587",25,13200,240,-76.543342510814597,2.6734540336367578,12.5,12.5,5,5,{"$f":"SUMIF(SOLICITUDES!$C$2:$C$1048576,BD!C22353,SOLICITUDES!$I$2:$I$1048576)","v":0},0,{"$f":"SUMIF(SOLICITUDES!$C$2:$C$1048576,BD!C22353,SOLICITUDES!$J$2:$J$1048576)","v":0},0,{"$f":"SUMIF(SOLICITUDES!$C$2:$C$1048576,BD!C22353,SOLICITUDES!$K$2:$K$1048576)","v":0},0]
[null,null,"T4480",25,13200,240,-76.554438777103158,2.6744083676867549,12.5,12.5,5,5,{"$f":"SUMIF(SOLICITUDES!$C$2:$C$1048576,BD!C22354,SOLICITUDES!$I$2:$I$1048576)","v":0},0,{"$f":"SUMIF(SOLICITUDES!$C$2:$C$1048576,BD!C22354,SOLICITUDES!$J$2:$J$1048576)","v":0},0,{"$f":"SUMIF(SOLICITUDES!$C$2:$C$1048576,BD!C22354,SOLICITUDES!$K$2:$K$1048576)","v":0},0]
[null,null,"T4482",37.5,13200,240,-76.550689824595125,2.6626649737296799,18.75,18.75,7.5,7.5,{"$f":"SUMIF(SOLICITUDES!$C$2:$C$1048576,BD!C22355,SOLICITUDES!$I$2:$I$1048576)","v":0},0,{"$f":"SUMIF(SOLICITUDES!$C$2:$C$1048576,BD!C22355,SOLICITUDES!$J$2:$J$1048576)","v":0},0,{"$f":"SUMIF(SOLICITUDES!$C$2:$C$1048576,BD!C22355,SOLICITUDES!$K$2:$K$1048576)","v":0},0]
[null,null,"T30192",0.5,13200,240,-76.554609452901033,2.6748967856733925,0.25,0.25,0.1,0.1,{"$f":"SUMIF(SOLICITUDES!$C$2:$C$1048576,BD!C22356,SOLICITUDES!$I$2:$I$1048576)","v":0},0,{"$f":"SUMIF(SOLICITUDES!$C$2:$C$1048576,BD!C22356,SOLICITUDES!$J$2:$J$1048576)","v":0},0,{"$f":"SUMIF(SOLICITUDES!$C$2:$C$1048576,BD!C22356,SOLICITUDES!$K$2:$K$1048576)","v":0},0]
[null,null,"T8591",45,13200,208,-76.539355784500245,2.6597610599919665,22.5,22.5,9,9,{"$f":"SUMIF(SOLICITUDES!$C$2:$C$1048576,BD!C22357,SOLICITUDES!$I$2:$I$1048576)","v":0},0,{"$f":"SUMIF(SOLICITUDES!$C$2:$C$1048576,BD!C22357,SOLICITUDES!$J$2:$J$1048576)","v":0},0,{"$f":"SUMIF(SOLICITUDES!$C$2:$C$1048576,BD!C22357,SOLICITUDES!$K$2:$K$1048576)","v":0},0]
[null,null,"T8805",25,13200,240,-76.554105454329473,2.6758009282791875,12.5,12.5,5,5,{"$f":"SUMIF(SOLICITUDES!$C$2:$C$1048576,BD!C22358,SOLICITUDES!$I$2:$I$1048576)","v":0},0,{"$f":"SUMIF(SOLICITUDES!$C$2:$C$1048576,BD!C22358,SOLICITUDES!$J$2:$J$1048576)","v":0},0,{"$f":"SUMIF(SOLICITUDES!$C$2:$C$1048576,BD!C22358,SOLICITUDES!$K$2:$K$1048576)","v":0},0]
[null,null,"T8592",25,13200,240,-76.54142589309312,2.6762022528937899,12.5,12.5,5,5,{"$f":"SUMIF(SOLICITUDES!$C$2:$C$1048576,BD!C22359,SOLICITUDES!$I$2:$I$1048576)","v":0},0,{"$f":"SUMIF(SOLICITUDES!$C$2:$C$1048576,BD!C22359,SOLICITUDES!$J$2:$J$1048576)","v":0},0,{"$f":"SUMIF(SOLICITUDES!$C$2:$C$1048576,BD!C22359,SOLICITUDES!$K$2:$K$1048576)","v":0},0]
[null,null,"T3420",10,13200,240,-76.56653221931407,2.6564267293795409,5,5,2,2,{"$f":"SUMIF(SOLICITUDES!$C$2:$C$1048576,BD!C22360,SOLICITUDES!$I$2:$I$1048576)","v":0},0,{"$f":"SUMIF(SOLICITUDES!$C$2:$C$1048576,BD!C22360,SOLICITUDES!$J$2:$J$1048576)","v":0},0,{"$f":"SUMIF(SOLICITUDES!$C$2:$C$1048576,BD!C22360,SOLICITUDES!$K$2:$K$1048576)","v":0},0]
[null,null,"T3416",25,13200,240,-76.567351626067449,2.6538316727986526,12.5,12.5,5,5,{"$f":"SUMIF(SOLICITUDES!$C$2:$C$1048576,BD!C22361,SOLICITUDES!$I$2:$I$1048576)","v":0},0,{"$f":"SUMIF(SOLICITUDES!$C$2:$C$1048576,BD!C22361,SOLICITUDES!$J$2:$J$1048576)","v":0},0,{"$f":"SUMIF(SOLICITUDES!$C$2:$C$1048576,BD!C22361,SOLICITUDES!$K$2:$K$1048576)","v":0},0]
[null,null,"T3409",15,13200,240,-76.568833856575367,2.6574044039120359,7.5,7.5,3,3,{"$f":"SUMIF(SOLICITUDES!$C$2:$C$1048576,BD!C22362,SOLICITUDES!$I$2:$I$1048576)","v":0},0,{"$f":"SUMIF(SOLICITUDES!$C$2:$C$1048576,BD!C22362,SOLICITUDES!$J$2:$J$1048576)","v":0},0,{"$f":"SUMIF(SOLICITUDES!$C$2:$C$1048576,BD!C22362,SOLICITUDES!$K$2:$K$1048576)","v":0},0]
[null,null,"T8800",15,13200,240,-76.556270429142629,2.6715441055015545,7.5,7.5,3,3,{"$f":"SUMIF(SOLICITUDES!$C$2:$C$1048576,BD!C22363,SOLICITUDES!$I$2:$I$1048576)","v":0},0,{"$f":"SUMIF(SOLICITUDES!$C$2:$C$1048576,BD!C22363,SOLICITUDES!$J$2:$J$1048576)","v":0},0,{"$f":"SUMIF(SOLICITUDES!$C$2:$C$1048576,BD!C22363,SOLICITUDES!$K$2:$K$1048576)","v":0},0]
[null,null,"T8804",25,13200,240,-76.554773173983563,2.6705742845107281,12.5,12.5,5,5,{"$f":"SUMIF(SOLICITUDES!$C$2:$C$1048576,BD!C22364,SOLICITUDES!$I$2:$I$1048576)","v":0},0,{"$f":"SUMIF(SOLICITUDES!$C$2:$C$1048576,BD!C22364,SOLICITUDES!$J$2:$J$1048576)","v":0},0,{"$f":"SUMIF(SOLICITUDES!$C$2:$C$1048576,BD!C22364,SOLICITUDES!$K$2:$K$1048576)","v":0},0]
[null,null,"T8586",25,13200,208,-76.55348974043693,2.655469160522709,12.5,12.5,5,5,{"$f":"SUMIF(SOLICITUDES!$C$2:$C$1048576,BD!C22365,SOLICITUDES!$I$2:$I$1048576)","v":0},0,{"$f":"SUMIF(SOLICITUDES!$C$2:$C$1048576,BD!C22365,SOLICITUDES!$J$2:$J$1048576)","v":0},0,{"$f":"SUMIF(SOLICITUDES!$C$2:$C$1048576,BD!C22365,SOLICITUDES!$K$2:$K$1048576)","v":0},0]
[null,null,"T3407",15,13200,240,-76.569222003123969,2.6537782818160038,7.5,7.5,3,3,{"$f":"SUMIF(SOLICITUDES!$C$2:$C$1048576,BD!C22366,SOLICITUDES!$I$2:$I$1048576)","v":0},0,{"$f":"SUMIF(SOLICITUDES!$C$2:$C$1048576,BD!C22366,SOLICITUDES!$J$2:$J$1048576)","v":0},0,{"$f":"SUMIF(SOLICITUDES!$C$2:$C$1048576,BD!C22366,SOLICITUDES!$K$2:$K$1048576)","v":0},0]
[null,null,"T8594",10,13200,208,-76.546378117250953,2.6822362576534222,5,5,2,2,{"$f":"SUMIF(SOLICITUDES!$C$2:$C$1048576,BD!C22367,SOLICITUDES!$I$2:$I$1048576)","v":0},0,{"$f":"SUMIF(SOLICITUDES!$C$2:$C$1048576,BD!C22367,SOLICITUDES!$J$2:$J$1048576)","v":0},0,{"$f":"SUMIF(SOLICITUDES!$C$2:$C$1048576,BD!C22367,SOLICITUDES!$K$2:$K$1048576)","v":0},0]
[null,null,"T4490",25,13200,240,-76.558295027693291,2.6780996368012833,12.5,12.5,5,5,{"$f":"SUMIF(SOLICITUDES!$C$2:$C$1048576,BD!C22368,SOLICITUDES!$I$2:$I$1048576)","v":0},0,{"$f":"SUMIF(SOLICITUDES!$C$2:$C$1048576,BD!C22368,SOLICITUDES!$J$2:$J$1048576)","v":0},0,{"$f":"SUMIF(SOLICITUDES!$C$2:$C$1048576,BD!C22368,SOLICITUDES!$K$2:$K$1048576)","v":0},0]
[null,null,"T4596",15,13200,240,-76.662432644827092,2.6416051480399774,7.5,7.5,3,3,{"$f":"SUMIF(SOLICITUDES!$C$2:$C$1048576,BD!C22369,SOLICITUDES!$I$2:$I$1048576)","v":0},0,{"$f":"SUMIF(SOLICITUDES!$C$2:$C$1048576,BD!C22369,SOLICITUDES!$J$2:$J$1048576)","v":0},0,{"$f":"SUMIF(SOLICITUDES!$C$2:$C$1048576,BD!C22369,SOLICITUDES!$K$2:$K$1048576)","v":0},0]
[null,null,"T4626",15,13200,240,-76.659237542860467,2.6232100853374409,7.5,7.5,3,3,{"$f":"SUMIF(SOLICITUDES!$C$2:$C$1048576,BD!C22370,SOLICITUDES!$I$2:$I$1048576)","v":0},0,{"$f":"SUMIF(SOLICITUDES!$C$2:$C$1048576,BD!C22370,SOLICITUDES!$J$2:$J$1048576)","v":0},0,{"$f":"SUMIF(SOLICITUDES!$C$2:$C$1048576,BD!C22370,SOLICITUDES!$K$2:$K$1048576)","v":0},0]
[null,null,"T44867",0.5,13200,240,-76.676531894956312,2.6443770798392769,0.25,0.25,0.1,0.1,{"$f":"SUMIF(SOLICITUDES!$C$2:$C$1048576,BD!C22371,SOLICITUDES!$I$2:$I$1048576)","v":0},0,{"$f":"SUMIF(SOLICITUDES!$C$2:$C$1048576,BD!C22371,SOLICITUDES!$J$2:$J$1048576)","v":0},0,{"$f":"SUMIF(SOLICITUDES!$C$2:$C$1048576,BD!C22371,SOLICITUDES!$K$2:$K$1048576)","v":0},0]
[null,null,"T4619",10,13200,240,-76.669741147634667,2.6486794395747673,5,5,2,2,{"$f":"SUMIF(SOLICITUDES!$C$2:$C$1048576,BD!C22372,SOLICITUDES!$I$2:$I$1048576)","v":0},0,{"$f":"SUMIF(SOLICITUDES!$C$2:$C$1048576,BD!C22372,SOLICITUDES!$J$2:$J$1048576)","v":0},0,{"$f":"SUMIF(SOLICITUDES!$C$2:$C$1048576,BD!C22372,SOLICITUDES!$K$2:$K$1048576)","v":0},0]
[null,null,"T4616",15,13200,214,-76.674037835075438,2.6538988365261553,7.5,7.5,3,3,{"$f":"SUMIF(SOLICITUDES!$C$2:$C$1048576,BD!C22373,SOLICITUDES!$I$2:$I$1048576)","v":0},0,{"$f":"SUMIF(SOLICITUDES!$C$2:$C$1048576,BD!C22373,SOLICITUDES!$J$2:$J$1048576)","v":0},0,{"$f":"SUMIF(SOLICITUDES!$C$2:$C$1048576,BD!C22373,SOLICITUDES!$K$2:$K$1048576)","v":0},0]
[null,null,"T4617",25,13200,208,-76.661430095336513,2.6546632683471962,12.5,12.5,5,5,{"$f":"SUMIF(SOLICITUDES!$C$2:$C$1048576,BD!C22374,SOLICITUDES!$I$2:$I$1048576)","v":0},0,{"$f":"SUMIF(SOLICITUDES!$C$2:$C$1048576,BD!C22374,SOLICITUDES!$J$2:$J$1048576)","v":0},0,{"$f":"SUMIF(SOLICITUDES!$C$2:$C$1048576,BD!C22374,SOLICITUDES!$K$2:$K$1048576)","v":0},0]
[null,null,"T4614",15,13200,240,-76.656434642621619,2.6531392065881398,7.5,7.5,3,3,{"$f":"SUMIF(SOLICITUDES!$C$2:$C$1048576,BD!C22375,SOLICITUDES!$I$2:$I$1048576)","v":0},0,{"$f":"SUMIF(SOLICITUDES!$C$2:$C$1048576,BD!C22375,SOLICITUDES!$J$2:$J$1048576)","v":0},0,{"$f":"SUMIF(SOLICITUDES!$C$2:$C$1048576,BD!C22375,SOLICITUDES!$K$2:$K$1048576)","v":0},0]
[null,null,"T4592",10,13200,240,-76.66382987162072,2.6582904365840676,5,5,2,2,{"$f":"SUMIF(SOLICITUDES!$C$2:$C$1048576,BD!C22376,SOLICITUDES!$I$2:$I$1048576)","v":0},0,{"$f":"SUMIF(SOLICITUDES!$C$2:$C$1048576,BD!C22376,SOLICITUDES!$J$2:$J$1048576)","v":0},0,{"$f":"SUMIF(SOLICITUDES!$C$2:$C$1048576,BD!C22376,SOLICITUDES!$K$2:$K$1048576)","v":0},0]
[null,null,"T22406",15,13200,240,-77.24084422195665,2.4426560977674749,7.5,7.5,3,3,{"$f":"SUMIF(SOLICITUDES!$C$2:$C$1048576,BD!C22377,SOLICITUDES!$I$2:$I$1048576)","v":0},0,{"$f":"SUMIF(SOLICITUDES!$C$2:$C$1048576,BD!C22377,SOLICITUDES!$J$2:$J$1048576)","v":0},0,{"$f":"SUMIF(SOLICITUDES!$C$2:$C$1048576,BD!C22377,SOLICITUDES!$K$2:$K$1048576)","v":0},0]
[null,null,"T22405",15,13200,240,-77.237311211580746,2.457785112825928,7.5,7.5,3,3,{"$f":"SUMIF(SOLICITUDES!$C$2:$C$1048576,BD!C22378,SOLICITUDES!$I$2:$I$1048576)","v":0},0,{"$f":"SUMIF(SOLICITUDES!$C$2:$C$1048576,BD!C22378,SOLICITUDES!$J$2:$J$1048576)","v":0},0,{"$f":"SUMIF(SOLICITUDES!$C$2:$C$1048576,BD!C22378,SOLICITUDES!$K$2:$K$1048576)","v":0},0]
[null,null,"T22494",50,13200,240,-77.2299739813473,2.4864988943020538,25,25,10,10,{"$f":"SUMIF(SOLICITUDES!$C$2:$C$1048576,BD!C22379,SOLICITUDES!$I$2:$I$1048576)","v":0},0,{"$f":"SUMIF(SOLICITUDES!$C$2:$C$1048576,BD!C22379,SOLICITUDES!$J$2:$J$1048576)","v":0},0,{"$f":"SUMIF(SOLICITUDES!$C$2:$C$1048576,BD!C22379,SOLICITUDES!$K$2:$K$1048576)","v":0},0]
[null,null,"T45226",30,13200,240,-77.236760432561752,2.4603487749569384,15,15,6,6,{"$f":"SUMIF(SOLICITUDES!$C$2:$C$1048576,BD!C22380,SOLICITUDES!$I$2:$I$1048576)","v":0},0,{"$f":"SUMIF(SOLICITUDES!$C$2:$C$1048576,BD!C22380,SOLICITUDES!$J$2:$J$1048576)","v":0},0,{"$f":"SUMIF(SOLICITUDES!$C$2:$C$1048576,BD!C22380,SOLICITUDES!$K$2:$K$1048576)","v":0},0]
[null,null,"T22409",15,13200,240,-77.23983322392094,2.4454611006675888,7.5,7.5,3,3,{"$f":"SUMIF(SOLICITUDES!$C$2:$C$1048576,BD!C22381,SOLICITUDES!$I$2:$I$1048576)","v":0},0,{"$f":"SUMIF(SOLICITUDES!$C$2:$C$1048576,BD!C22381,SOLICITUDES!$J$2:$J$1048576)","v":0},0,{"$f":"SUMIF(SOLICITUDES!$C$2:$C$1048576,BD!C22381,SOLICITUDES!$K$2:$K$1048576)","v":0},0]
[null,null,"T22403",10,13200,240,-77.243409229516331,2.4526291097544317,5,5,2,2,{"$f":"SUMIF(SOLICITUDES!$C$2:$C$1048576,BD!C22382,SOLICITUDES!$I$2:$I$1048576)","v":0},0,{"$f":"SUMIF(SOLICITUDES!$C$2:$C$1048576,BD!C22382,SOLICITUDES!$J$2:$J$1048576)","v":0},0,{"$f":"SUMIF(SOLICITUDES!$C$2:$C$1048576,BD!C22382,SOLICITUDES!$K$2:$K$1048576)","v":0},0]
[null,null,"T22477",5,13200,240,-77.258591248696561,2.4644101247639556,2.5,2.5,1,1,{"$f":"SUMIF(SOLICITUDES!$C$2:$C$1048576,BD!C22383,SOLICITUDES!$I$2:$I$1048576)","v":0},0,{"$f":"SUMIF(SOLICITUDES!$C$2:$C$1048576,BD!C22383,SOLICITUDES!$J$2:$J$1048576)","v":0},0,{"$f":"SUMIF(SOLICITUDES!$C$2:$C$1048576,BD!C22383,SOLICITUDES!$K$2:$K$1048576)","v":0},0]
[null,null,"T45284",30,13200,240,-77.235145104817178,2.4613672687837487,15,15,6,6,{"$f":"SUMIF(SOLICITUDES!$C$2:$C$1048576,BD!C22384,SOLICITUDES!$I$2:$I$1048576)","v":0},0,{"$f":"SUMIF(SOLICITUDES!$C$2:$C$1048576,BD!C22384,SOLICITUDES!$J$2:$J$1048576)","v":0},0,{"$f":"SUMIF(SOLICITUDES!$C$2:$C$1048576,BD!C22384,SOLICITUDES!$K$2:$K$1048576)","v":0},0]
[null,null,"T22418",25,13200,240,-77.234875212987859,2.4453350938506144,12.5,12.5,5,5,{"$f":"SUMIF(SOLICITUDES!$C$2:$C$1048576,BD!C22385,SOLICITUDES!$I$2:$I$1048576)","v":0},0,{"$f":"SUMIF(SOLICITUDES!$C$2:$C$1048576,BD!C22385,SOLICITUDES!$J$2:$J$1048576)","v":0},0,{"$f":"SUMIF(SOLICITUDES!$C$2:$C$1048576,BD!C22385,SOLICITUDES!$K$2:$K$1048576)","v":0},0]
[null,null,"T22402",25,13200,240,-77.246969233602698,2.4538071113576683,12.5,12.5,5,5,{"$f":"SUMIF(SOLICITUDES!$C$2:$C$1048576,BD!C22386,SOLICITUDES!$I$2:$I$1048576)","v":0},0,{"$f":"SUMIF(SOLICITUDES!$C$2:$C$1048576,BD!C22386,SOLICITUDES!$J$2:$J$1048576)","v":0},0,{"$f":"SUMIF(SOLICITUDES!$C$2:$C$1048576,BD!C22386,SOLICITUDES!$K$2:$K$1048576)","v":0},0]
[null,null,"T22401",25,13200,240,-77.2447332225493,2.4573861173918923,12.5,12.5,5,5,{"$f":"SUMIF(SOLICITUDES!$C$2:$C$1048576,BD!C22387,SOLICITUDES!$I$2:$I$1048576)","v":0},0,{"$f":"SUMIF(SOLICITUDES!$C$2:$C$1048576,BD!C22387,SOLICITUDES!$J$2:$J$1048576)","v":0},0,{"$f":"SUMIF(SOLICITUDES!$C$2:$C$1048576,BD!C22387,SOLICITUDES!$K$2:$K$1048576)","v":0},0]
[null,null,"T22488",15,13200,240,-77.231031430254461,2.4680953108881649,7.5,7.5,3,3,{"$f":"SUMIF(SOLICITUDES!$C$2:$C$1048576,BD!C22388,SOLICITUDES!$I$2:$I$1048576)","v":0},0,{"$f":"SUMIF(SOLICITUDES!$C$2:$C$1048576,BD!C22388,SOLICITUDES!$J$2:$J$1048576)","v":0},0,{"$f":"SUMIF(SOLICITUDES!$C$2:$C$1048576,BD!C22388,SOLICITUDES!$K$2:$K$1048576)","v":0},0]
[null,null,"T25203",5,13200,240,-77.244743385963673,2.476827843413405,2.5,2.5,1,1,{"$f":"SUMIF(SOLICITUDES!$C$2:$C$1048576,BD!C22389,SOLICITUDES!$I$2:$I$1048576)","v":0},0,{"$f":"SUMIF(SOLICITUDES!$C$2:$C$1048576,BD!C22389,SOLICITUDES!$J$2:$J$1048576)","v":0},0,{"$f":"SUMIF(SOLICITUDES!$C$2:$C$1048576,BD!C22389,SOLICITUDES!$K$2:$K$1048576)","v":0},0]
[null,null,"T22481",25,13200,240,-77.266105260594884,2.4529281120694986,12.5,12.5,5,5,{"$f":"SUMIF(SOLICITUDES!$C$2:$C$1048576,BD!C22390,SOLICITUDES!$I$2:$I$1048576)","v":0},0,{"$f":"SUMIF(SOLICITUDES!$C$2:$C$1048576,BD!C22390,SOLICITUDES!$J$2:$J$1048576)","v":0},0,{"$f":"SUMIF(SOLICITUDES!$C$2:$C$1048576,BD!C22390,SOLICITUDES!$K$2:$K$1048576)","v":0},0]
[null,null,"T22496",25,13200,240,-77.232496196900442,2.4941751527803455,12.5,12.5,5,5,{"$f":"SUMIF(SOLICITUDES!$C$2:$C$1048576,BD!C22391,SOLICITUDES!$I$2:$I$1048576)","v":0},0,{"$f":"SUMIF(SOLICITUDES!$C$2:$C$1048576,BD!C22391,SOLICITUDES!$J$2:$J$1048576)","v":0},0,{"$f":"SUMIF(SOLICITUDES!$C$2:$C$1048576,BD!C22391,SOLICITUDES!$K$2:$K$1048576)","v":0},0]
[null,null,"T22495",37.5,13200,240,-77.229802538619879,2.4941883706369588,18.75,18.75,7.5,7.5,{"$f":"SUMIF(SOLICITUDES!$C$2:$C$1048576,BD!C22392,SOLICITUDES!$I$2:$I$1048576)","v":0},0,{"$f":"SUMIF(SOLICITUDES!$C$2:$C$1048576,BD!C22392,SOLICITUDES!$J$2:$J$1048576)","v":0},0,{"$f":"SUMIF(SOLICITUDES!$C$2:$C$1048576,BD!C22392,SOLICITUDES!$K$2:$K$1048576)","v":0},0]
[null,null,"T22479",15,13200,240,-77.259990249076097,2.4566631124886222,7.5,7.5,3,3,{"$f":"SUMIF(SOLICITUDES!$C$2:$C$1048576,BD!C22393,SOLICITUDES!$I$2:$I$1048576)","v":0},0,{"$f":"SUMIF(SOLICITUDES!$C$2:$C$1048576,BD!C22393,SOLICITUDES!$J$2:$J$1048576)","v":0},0,{"$f":"SUMIF(SOLICITUDES!$C$2:$C$1048576,BD!C22393,SOLICITUDES!$K$2:$K$1048576)","v":0},0]
[null,null,"T22419",25,13200,240,-77.226211202054458,2.4506920941250967,12.5,12.5,5,5,{"$f":"SUMIF(SOLICITUDES!$C$2:$C$1048576,BD!C22394,SOLICITUDES!$I$2:$I$1048576)","v":0},0,{"$f":"SUMIF(SOLICITUDES!$C$2:$C$1048576,BD!C22394,SOLICITUDES!$J$2:$J$1048576)","v":0},0,{"$f":"SUMIF(SOLICITUDES!$C$2:$C$1048576,BD!C22394,SOLICITUDES!$K$2:$K$1048576)","v":0},0]
[null,null,"T25211",10,13200,208,-77.230660130449607,2.4829539435523529,5,5,2,2,{"$f":"SUMIF(SOLICITUDES!$C$2:$C$1048576,BD!C22395,SOLICITUDES!$I$2:$I$1048576)","v":0},0,{"$f":"SUMIF(SOLICITUDES!$C$2:$C$1048576,BD!C22395,SOLICITUDES!$J$2:$J$1048576)","v":0},0,{"$f":"SUMIF(SOLICITUDES!$C$2:$C$1048576,BD!C22395,SOLICITUDES!$K$2:$K$1048576)","v":0},0]
[null,null,"T22407",15,13200,240,-77.231362629574335,2.4405900672687713,7.5,7.5,3,3,{"$f":"SUMIF(SOLICITUDES!$C$2:$C$1048576,BD!C22396,SOLICITUDES!$I$2:$I$1048576)","v":0},0,{"$f":"SUMIF(SOLICITUDES!$C$2:$C$1048576,BD!C22396,SOLICITUDES!$J$2:$J$1048576)","v":0},0,{"$f":"SUMIF(SOLICITUDES!$C$2:$C$1048576,BD!C22396,SOLICITUDES!$K$2:$K$1048576)","v":0},0]
[null,null,"T29777",10,13200,240,-77.233814035623482,2.4880866838173468,5,5,2,2,{"$f":"SUMIF(SOLICITUDES!$C$2:$C$1048576,BD!C22397,SOLICITUDES!$I$2:$I$1048576)","v":0},0,{"$f":"SUMIF(SOLICITUDES!$C$2:$C$1048576,BD!C22397,SOLICITUDES!$J$2:$J$1048576)","v":0},0,{"$f":"SUMIF(SOLICITUDES!$C$2:$C$1048576,BD!C22397,SOLICITUDES!$K$2:$K$1048576)","v":0},0]
[null,null,"T22487",10,13200,240,-77.224773198085316,2.4702571234093762,5,5,2,2,{"$f":"SUMIF(SOLICITUDES!$C$2:$C$1048576,BD!C22398,SOLICITUDES!$I$2:$I$1048576)","v":0},0,{"$f":"SUMIF(SOLICITUDES!$C$2:$C$1048576,BD!C22398,SOLICITUDES!$J$2:$J$1048576)","v":0},0,{"$f":"SUMIF(SOLICITUDES!$C$2:$C$1048576,BD!C22398,SOLICITUDES!$K$2:$K$1048576)","v":0},0]
[null,null,"T25193",10,13200,240,-77.249481641893411,2.4777147369692449,5,5,2,2,{"$f":"SUMIF(SOLICITUDES!$C$2:$C$1048576,BD!C22399,SOLICITUDES!$I$2:$I$1048576)","v":0},0,{"$f":"SUMIF(SOLICITUDES!$C$2:$C$1048576,BD!C22399,SOLICITUDES!$J$2:$J$1048576)","v":0},0,{"$f":"SUMIF(SOLICITUDES!$C$2:$C$1048576,BD!C22399,SOLICITUDES!$K$2:$K$1048576)","v":0},0]
[null,null,"T25202",5,13200,240,-77.247175846141957,2.4801214859496015,2.5,2.5,1,1,{"$f":"SUMIF(SOLICITUDES!$C$2:$C$1048576,BD!C22400,SOLICITUDES!$I$2:$I$1048576)","v":0},0,{"$f":"SUMIF(SOLICITUDES!$C$2:$C$1048576,BD!C22400,SOLICITUDES!$J$2:$J$1048576)","v":0},0,{"$f":"SUMIF(SOLICITUDES!$C$2:$C$1048576,BD!C22400,SOLICITUDES!$K$2:$K$1048576)","v":0},0]
[null,null,"T25210",5,13200,240,-77.235089655545778,2.4834236884996934,2.5,2.5,1,1,{"$f":"SUMIF(SOLICITUDES!$C$2:$C$1048576,BD!C22401,SOLICITUDES!$I$2:$I$1048576)","v":0},0,{"$f":"SUMIF(SOLICITUDES!$C$2:$C$1048576,BD!C22401,SOLICITUDES!$J$2:$J$1048576)","v":0},0,{"$f":"SUMIF(SOLICITUDES!$C$2:$C$1048576,BD!C22401,SOLICITUDES!$K$2:$K$1048576)","v":0},0]
[null,null,"T22410",25,13200,240,-77.228170209257996,2.438788084077574,12.5,12.5,5,5,{"$f":"SUMIF(SOLICITUDES!$C$2:$C$1048576,BD!C22402,SOLICITUDES!$I$2:$I$1048576)","v":0},0,{"$f":"SUMIF(SOLICITUDES!$C$2:$C$1048576,BD!C22402,SOLICITUDES!$J$2:$J$1048576)","v":0},0,{"$f":"SUMIF(SOLICITUDES!$C$2:$C$1048576,BD!C22402,SOLICITUDES!$K$2:$K$1048576)","v":0},0]
[null,null,"T22497",10,13200,220,-77.23718920720188,2.4977641610081092,5,{"$f":"D22403*0.5-M22403","v":5},2,2,{"$f":"SUMIF(SOLICITUDES!$C$2:$C$1048576,BD!C22403,SOLICITUDES!$I$2:$I$1048576)","v":0},{"$f":"M22403/D22403","v":0},{"$f":"SUMIF(SOLICITUDES!$C$2:$C$1048576,BD!C22403,SOLICITUDES!$J$2:$J$1048576)","v":0},0,{"$f":"SUMIF(SOLICITUDES!$C$2:$C$1048576,BD!C22403,SOLICITUDES!$K$2:$K$1048576)","v":0},0]
[null,null,"T22489",10,13200,240,-77.221051195264351,2.4682771179736935,{"$f":"D22404*0.5","v":5},5,{"$f":"0.2*D22404","v":2},{"$f":"0.2*D22404","v":2},{"$f":"SUMIF(SOLICITUDES!$C$2:$C$1048576,BD!C22404,SOLICITUDES!$I$2:$I$1048576)","v":0},0,{"$f":"SUMIF(SOLICITUDES!$C$2:$C$1048576,BD!C22404,SOLICITUDES!$J$2:$J$1048576)","v":0},{"$f":"O22404/(2*K22404)","v":0},{"$f":"SUMIF(SOLICITUDES!$C$2:$C$1048576,BD!C22404,SOLICITUDES!$K$2:$K$1048576)","v":0},{"$f":"Q22404/(2*L22404)","v":0}]
[null,null,"T45290",45,13200,240,-77.236084275738534,2.4586174531931686,22.5,22.5,9,9,{"$f":"SUMIF(SOLICITUDES!$C$2:$C$1048576,BD!C22405,SOLICITUDES!$I$2:$I$1048576)","v":0},0,{"$f":"SUMIF(SOLICITUDES!$C$2:$C$1048576,BD!C22405,SOLICITUDES!$J$2:$J$1048576)","v":0},0,{"$f":"SUMIF(SOLICITUDES!$C$2:$C$1048576,BD!C22405,SOLICITUDES!$K$2:$K$1048576)","v":0},0]
[null,null,"T22411",25,13200,240,-77.219891202174239,2.4346940780352608,12.5,12.5,5,5,{"$f":"SUMIF(SOLICITUDES!$C$2:$C$1048576,BD!C22406,SOLICITUDES!$I$2:$I$1048576)","v":0},0,{"$f":"SUMIF(SOLICITUDES!$C$2:$C$1048576,BD!C22406,SOLICITUDES!$J$2:$J$1048576)","v":0},0,{"$f":"SUMIF(SOLICITUDES!$C$2:$C$1048576,BD!C22406,SOLICITUDES!$K$2:$K$1048576)","v":0},0]
[null,null,"T22408",25,13200,240,-77.234780096021197,2.4400430114658476,12.5,12.5,5,5,{"$f":"SUMIF(SOLICITUDES!$C$2:$C$1048576,BD!C22407,SOLICITUDES!$I$2:$I$1048576)","v":0},0,{"$f":"SUMIF(SOLICITUDES!$C$2:$C$1048576,BD!C22407,SOLICITUDES!$J$2:$J$1048576)","v":0},0,{"$f":"SUMIF(SOLICITUDES!$C$2:$C$1048576,BD!C22407,SOLICITUDES!$K$2:$K$1048576)","v":0},0]
[null,null,"T22498",5,13200,240,-77.240505207171779,2.4966981530184182,2.5,2.5,1,1,{"$f":"SUMIF(SOLICITUDES!$C$2:$C$1048576,BD!C22408,SOLICITUDES!$I$2:$I$1048576)","v":0},0,{"$f":"SUMIF(SOLICITUDES!$C$2:$C$1048576,BD!C22408,SOLICITUDES!$J$2:$J$1048576)","v":0},0,{"$f":"SUMIF(SOLICITUDES!$C$2:$C$1048576,BD!C22408,SOLICITUDES!$K$2:$K$1048576)","v":0},0]
[null,null,"T25204",5,13200,240,-77.243454406502465,2.4799850647850947,2.5,2.5,1,1,{"$f":"SUMIF(SOLICITUDES!$C$2:$C$1048576,BD!C22409,SOLICITUDES!$I$2:$I$1048576)","v":0},0,{"$f":"SUMIF(SOLICITUDES!$C$2:$C$1048576,BD!C22409,SOLICITUDES!$J$2:$J$1048576)","v":0},0,{"$f":"SUMIF(SOLICITUDES!$C$2:$C$1048576,BD!C22409,SOLICITUDES!$K$2:$K$1048576)","v":0},0]
[null,null,"T25208",5,13200,240,-77.249061428146433,2.4843509273876059,2.5,2.5,1,1,{"$f":"SUMIF(SOLICITUDES!$C$2:$C$1048576,BD!C22410,SOLICITUDES!$I$2:$I$1048576)","v":0},0,{"$f":"SUMIF(SOLICITUDES!$C$2:$C$1048576,BD!C22410,SOLICITUDES!$J$2:$J$1048576)","v":0},0,{"$f":"SUMIF(SOLICITUDES!$C$2:$C$1048576,BD!C22410,SOLICITUDES!$K$2:$K$1048576)","v":0},0]
[null,null,"T22485",15,13200,240,-77.274571273184932,2.452388114422356,7.5,7.5,3,3,{"$f":"SUMIF(SOLICITUDES!$C$2:$C$1048576,BD!C22411,SOLICITUDES!$I$2:$I$1048576)","v":0},0,{"$f":"SUMIF(SOLICITUDES!$C$2:$C$1048576,BD!C22411,SOLICITUDES!$J$2:$J$1048576)","v":0},0,{"$f":"SUMIF(SOLICITUDES!$C$2:$C$1048576,BD!C22411,SOLICITUDES!$K$2:$K$1048576)","v":0},0]
[null,null,"T25242",5,13200,240,-77.225412981054006,2.4895260960575754,2.5,2.5,1,1,{"$f":"SUMIF(SOLICITUDES!$C$2:$C$1048576,BD!C22412,SOLICITUDES!$I$2:$I$1048576)","v":0},0,{"$f":"SUMIF(SOLICITUDES!$C$2:$C$1048576,BD!C22412,SOLICITUDES!$J$2:$J$1048576)","v":0},0,{"$f":"SUMIF(SOLICITUDES!$C$2:$C$1048576,BD!C22412,SOLICITUDES!$K$2:$K$1048576)","v":0},0]
[null,null,"T25199",5,13200,240,-77.254439116964051,2.4753648690916132,2.5,2.5,1,1,{"$f":"SUMIF(SOLICITUDES!$C$2:$C$1048576,BD!C22413,SOLICITUDES!$I$2:$I$1048576)","v":0},0,{"$f":"SUMIF(SOLICITUDES!$C$2:$C$1048576,BD!C22413,SOLICITUDES!$J$2:$J$1048576)","v":0},0,{"$f":"SUMIF(SOLICITUDES!$C$2:$C$1048576,BD!C22413,SOLICITUDES!$K$2:$K$1048576)","v":0},0]
[null,null,"T25194",5,13200,240,-77.253022407511125,2.4773832399791398,2.5,2.5,1,1,{"$f":"SUMIF(SOLICITUDES!$C$2:$C$1048576,BD!C22414,SOLICITUDES!$I$2:$I$1048576)","v":0},0,{"$f":"SUMIF(SOLICITUDES!$C$2:$C$1048576,BD!C22414,SOLICITUDES!$J$2:$J$1048576)","v":0},0,{"$f":"SUMIF(SOLICITUDES!$C$2:$C$1048576,BD!C22414,SOLICITUDES!$K$2:$K$1048576)","v":0},0]
[null,null,"T25207",5,13200,240,-77.245914499592416,2.4890391212438172,2.5,2.5,1,1,{"$f":"SUMIF(SOLICITUDES!$C$2:$C$1048576,BD!C22415,SOLICITUDES!$I$2:$I$1048576)","v":0},0,{"$f":"SUMIF(SOLICITUDES!$C$2:$C$1048576,BD!C22415,SOLICITUDES!$J$2:$J$1048576)","v":0},0,{"$f":"SUMIF(SOLICITUDES!$C$2:$C$1048576,BD!C22415,SOLICITUDES!$K$2:$K$1048576)","v":0},0]
[null,null,"T25241",5,13200,240,-77.222425362056924,2.487451891827444,2.5,2.5,1,1,{"$f":"SUMIF(SOLICITUDES!$C$2:$C$1048576,BD!C22416,SOLICITUDES!$I$2:$I$1048576)","v":0},0,{"$f":"SUMIF(SOLICITUDES!$C$2:$C$1048576,BD!C22416,SOLICITUDES!$J$2:$J$1048576)","v":0},0,{"$f":"SUMIF(SOLICITUDES!$C$2:$C$1048576,BD!C22416,SOLICITUDES!$K$2:$K$1048576)","v":0},0]
[null,null,"T29773",10,13200,240,-77.246046872440559,2.4830309499970014,5,5,2,2,{"$f":"SUMIF(SOLICITUDES!$C$2:$C$1048576,BD!C22417,SOLICITUDES!$I$2:$I$1048576)","v":0},0,{"$f":"SUMIF(SOLICITUDES!$C$2:$C$1048576,BD!C22417,SOLICITUDES!$J$2:$J$1048576)","v":0},0,{"$f":"SUMIF(SOLICITUDES!$C$2:$C$1048576,BD!C22417,SOLICITUDES!$K$2:$K$1048576)","v":0},0]
[null,null,"T29774",10,13200,240,-77.241315493026846,2.484881312079454,5,5,2,2,{"$f":"SUMIF(SOLICITUDES!$C$2:$C$1048576,BD!C22418,SOLICITUDES!$I$2:$I$1048576)","v":0},0,{"$f":"SUMIF(SOLICITUDES!$C$2:$C$1048576,BD!C22418,SOLICITUDES!$J$2:$J$1048576)","v":0},0,{"$f":"SUMIF(SOLICITUDES!$C$2:$C$1048576,BD!C22418,SOLICITUDES!$K$2:$K$1048576)","v":0},0]
[null,null,"T25124",10,13200,240,-77.217608012569841,2.4823251264812303,5,5,2,2,{"$f":"SUMIF(SOLICITUDES!$C$2:$C$1048576,BD!C22419,SOLICITUDES!$I$2:$I$1048576)","v":0},0,{"$f":"SUMIF(SOLICITUDES!$C$2:$C$1048576,BD!C22419,SOLICITUDES!$J$2:$J$1048576)","v":0},0,{"$f":"SUMIF(SOLICITUDES!$C$2:$C$1048576,BD!C22419,SOLICITUDES!$K$2:$K$1048576)","v":0},0]
[null,null,"T22412",45,13200,208,-77.216853196264196,2.4275370635262106,22.5,22.5,9,9,{"$f":"SUMIF(SOLICITUDES!$C$2:$C$1048576,BD!C22420,SOLICITUDES!$I$2:$I$1048576)","v":0},0,{"$f":"SUMIF(SOLICITUDES!$C$2:$C$1048576,BD!C22420,SOLICITUDES!$J$2:$J$1048576)","v":0},0,{"$f":"SUMIF(SOLICITUDES!$C$2:$C$1048576,BD!C22420,SOLICITUDES!$K$2:$K$1048576)","v":0},0]
[null,null,"T22420",15,13200,240,-77.220147191814604,2.4420940830059332,7.5,7.5,3,3,{"$f":"SUMIF(SOLICITUDES!$C$2:$C$1048576,BD!C22421,SOLICITUDES!$I$2:$I$1048576)","v":0},0,{"$f":"SUMIF(SOLICITUDES!$C$2:$C$1048576,BD!C22421,SOLICITUDES!$J$2:$J$1048576)","v":0},0,{"$f":"SUMIF(SOLICITUDES!$C$2:$C$1048576,BD!C22421,SOLICITUDES!$K$2:$K$1048576)","v":0},0]
[null,null,"T22482",15,13200,240,-77.264307261399395,2.4477731040739945,7.5,7.5,3,3,{"$f":"SUMIF(SOLICITUDES!$C$2:$C$1048576,BD!C22422,SOLICITUDES!$I$2:$I$1048576)","v":0},0,{"$f":"SUMIF(SOLICITUDES!$C$2:$C$1048576,BD!C22422,SOLICITUDES!$J$2:$J$1048576)","v":0},0,{"$f":"SUMIF(SOLICITUDES!$C$2:$C$1048576,BD!C22422,SOLICITUDES!$K$2:$K$1048576)","v":0},0]
[null,null,"T25195",5,13200,240,-77.254940957809751,2.4797936683285036,2.5,2.5,1,1,{"$f":"SUMIF(SOLICITUDES!$C$2:$C$1048576,BD!C22423,SOLICITUDES!$I$2:$I$1048576)","v":0},0,{"$f":"SUMIF(SOLICITUDES!$C$2:$C$1048576,BD!C22423,SOLICITUDES!$J$2:$J$1048576)","v":0},0,{"$f":"SUMIF(SOLICITUDES!$C$2:$C$1048576,BD!C22423,SOLICITUDES!$K$2:$K$1048576)","v":0},0]
[null,null,"T25205",5,13200,240,-77.238821871686199,2.4778413831903219,2.5,2.5,1,1,{"$f":"SUMIF(SOLICITUDES!$C$2:$C$1048576,BD!C22424,SOLICITUDES!$I$2:$I$1048576)","v":0},0,{"$f":"SUMIF(SOLICITUDES!$C$2:$C$1048576,BD!C22424,SOLICITUDES!$J$2:$J$1048576)","v":0},0,{"$f":"SUMIF(SOLICITUDES!$C$2:$C$1048576,BD!C22424,SOLICITUDES!$K$2:$K$1048576)","v":0},0]
[null,null,"T25209",5,13200,240,-77.252647014738926,2.4892354938441477,2.5,2.5,1,1,{"$f":"SUMIF(SOLICITUDES!$C$2:$C$1048576,BD!C22425,SOLICITUDES!$I$2:$I$1048576)","v":0},0,{"$f":"SUMIF(SOLICITUDES!$C$2:$C$1048576,BD!C22425,SOLICITUDES!$J$2:$J$1048576)","v":0},0,{"$f":"SUMIF(SOLICITUDES!$C$2:$C$1048576,BD!C22425,SOLICITUDES!$K$2:$K$1048576)","v":0},0]
[null,null,"T25214",15,13200,240,-77.226039233465059,2.4390801703205476,7.5,7.5,3,3,{"$f":"SUMIF(SOLICITUDES!$C$2:$C$1048576,BD!C22426,SOLICITUDES!$I$2:$I$1048576)","v":0},0,{"$f":"SUMIF(SOLICITUDES!$C$2:$C$1048576,BD!C22426,SOLICITUDES!$J$2:$J$1048576)","v":0},0,{"$f":"SUMIF(SOLICITUDES!$C$2:$C$1048576,BD!C22426,SOLICITUDES!$K$2:$K$1048576)","v":0},0]
[null,null,"T25243",10,13200,240,-77.219755639528543,2.4927178858292458,5,5,2,2,{"$f":"SUMIF(SOLICITUDES!$C$2:$C$1048576,BD!C22427,SOLICITUDES!$I$2:$I$1048576)","v":0},0,{"$f":"SUMIF(SOLICITUDES!$C$2:$C$1048576,BD!C22427,SOLICITUDES!$J$2:$J$1048576)","v":0},0,{"$f":"SUMIF(SOLICITUDES!$C$2:$C$1048576,BD!C22427,SOLICITUDES!$K$2:$K$1048576)","v":0},0]
[null,null,"T29775",10,13200,240,-77.239880815582922,2.4871727590938986,5,5,2,2,{"$f":"SUMIF(SOLICITUDES!$C$2:$C$1048576,BD!C22428,SOLICITUDES!$I$2:$I$1048576)","v":0},0,{"$f":"SUMIF(SOLICITUDES!$C$2:$C$1048576,BD!C22428,SOLICITUDES!$J$2:$J$1048576)","v":0},0,{"$f":"SUMIF(SOLICITUDES!$C$2:$C$1048576,BD!C22428,SOLICITUDES!$K$2:$K$1048576)","v":0},0]
[null,null,"T22486",5,13200,240,-77.282233291965611,2.4492861161769892,2.5,2.5,1,1,{"$f":"SUMIF(SOLICITUDES!$C$2:$C$1048576,BD!C22429,SOLICITUDES!$I$2:$I$1048576)","v":0},0,{"$f":"SUMIF(SOLICITUDES!$C$2:$C$1048576,BD!C22429,SOLICITUDES!$J$2:$J$1048576)","v":0},0,{"$f":"SUMIF(SOLICITUDES!$C$2:$C$1048576,BD!C22429,SOLICITUDES!$K$2:$K$1048576)","v":0},0]
[null,null,"T22484",10,13200,240,-77.27888327826237,2.4576571227379684,5,5,2,2,{"$f":"SUMIF(SOLICITUDES!$C$2:$C$1048576,BD!C22430,SOLICITUDES!$I$2:$I$1048576)","v":0},0,{"$f":"SUMIF(SOLICITUDES!$C$2:$C$1048576,BD!C22430,SOLICITUDES!$J$2:$J$1048576)","v":0},0,{"$f":"SUMIF(SOLICITUDES!$C$2:$C$1048576,BD!C22430,SOLICITUDES!$K$2:$K$1048576)","v":0},0]
[null,null,"T25200",5,13200,240,-77.258521198290211,2.4762438112113281,2.5,2.5,1,1,{"$f":"SUMIF(SOLICITUDES!$C$2:$C$1048576,BD!C22431,SOLICITUDES!$I$2:$I$1048576)","v":0},0,{"$f":"SUMIF(SOLICITUDES!$C$2:$C$1048576,BD!C22431,SOLICITUDES!$J$2:$J$1048576)","v":0},0,{"$f":"SUMIF(SOLICITUDES!$C$2:$C$1048576,BD!C22431,SOLICITUDES!$K$2:$K$1048576)","v":0},0]
[null,null,"T25206",5,13200,240,-77.252210326241624,2.4914329964553033,2.5,2.5,1,1,{"$f":"SUMIF(SOLICITUDES!$C$2:$C$1048576,BD!C22432,SOLICITUDES!$I$2:$I$1048576)","v":0},0,{"$f":"SUMIF(SOLICITUDES!$C$2:$C$1048576,BD!C22432,SOLICITUDES!$J$2:$J$1048576)","v":0},0,{"$f":"SUMIF(SOLICITUDES!$C$2:$C$1048576,BD!C22432,SOLICITUDES!$K$2:$K$1048576)","v":0},0]
[null,null,"T25245",5,13200,240,-77.216156053529645,2.490201725073196,2.5,2.5,1,1,{"$f":"SUMIF(SOLICITUDES!$C$2:$C$1048576,BD!C22433,SOLICITUDES!$I$2:$I$1048576)","v":0},0,{"$f":"SUMIF(SOLICITUDES!$C$2:$C$1048576,BD!C22433,SOLICITUDES!$J$2:$J$1048576)","v":0},0,{"$f":"SUMIF(SOLICITUDES!$C$2:$C$1048576,BD!C22433,SOLICITUDES!$K$2:$K$1048576)","v":0},0]
[null,null,"T29788",10,13200,240,-77.239057973850706,2.4324595271497391,5,5,2,2,{"$f":"SUMIF(SOLICITUDES!$C$2:$C$1048576,BD!C22434,SOLICITUDES!$I$2:$I$1048576)","v":0},0,{"$f":"SUMIF(SOLICITUDES!$C$2:$C$1048576,BD!C22434,SOLICITUDES!$J$2:$J$1048576)","v":0},0,{"$f":"SUMIF(SOLICITUDES!$C$2:$C$1048576,BD!C22434,SOLICITUDES!$K$2:$K$1048576)","v":0},0]
[null,null,"T25149",5,13200,240,-77.23504014291882,2.5005478481054579,2.5,2.5,1,1,{"$f":"SUMIF(SOLICITUDES!$C$2:$C$1048576,BD!C22435,SOLICITUDES!$I$2:$I$1048576)","v":0},0,{"$f":"SUMIF(SOLICITUDES!$C$2:$C$1048576,BD!C22435,SOLICITUDES!$J$2:$J$1048576)","v":0},0,{"$f":"SUMIF(SOLICITUDES!$C$2:$C$1048576,BD!C22435,SOLICITUDES!$K$2:$K$1048576)","v":0},0]
[null,null,"T21245",25,13200,240,-77.22557522587401,2.4844361327444244,12.5,12.5,5,5,{"$f":"SUMIF(SOLICITUDES!$C$2:$C$1048576,BD!C22436,SOLICITUDES!$I$2:$I$1048576)","v":0},0,{"$f":"SUMIF(SOLICITUDES!$C$2:$C$1048576,BD!C22436,SOLICITUDES!$J$2:$J$1048576)","v":0},0,{"$f":"SUMIF(SOLICITUDES!$C$2:$C$1048576,BD!C22436,SOLICITUDES!$K$2:$K$1048576)","v":0},0]
[null,null,"T21244",25,13200,240,-77.225907944953462,2.4845259719112409,12.5,12.5,5,5,{"$f":"SUMIF(SOLICITUDES!$C$2:$C$1048576,BD!C22437,SOLICITUDES!$I$2:$I$1048576)","v":0},0,{"$f":"SUMIF(SOLICITUDES!$C$2:$C$1048576,BD!C22437,SOLICITUDES!$J$2:$J$1048576)","v":0},0,{"$f":"SUMIF(SOLICITUDES!$C$2:$C$1048576,BD!C22437,SOLICITUDES!$K$2:$K$1048576)","v":0},0]
[null,null,"T22421",15,13200,240,-77.222326200392956,2.4258960669316161,7.5,7.5,3,3,{"$f":"SUMIF(SOLICITUDES!$C$2:$C$1048576,BD!C22438,SOLICITUDES!$I$2:$I$1048576)","v":0},0,{"$f":"SUMIF(SOLICITUDES!$C$2:$C$1048576,BD!C22438,SOLICITUDES!$J$2:$J$1048576)","v":0},0,{"$f":"SUMIF(SOLICITUDES!$C$2:$C$1048576,BD!C22438,SOLICITUDES!$K$2:$K$1048576)","v":0},0]
[null,null,"T22483",15,13200,240,-77.266300271035959,2.4434310990130785,7.5,7.5,3,3,{"$f":"SUMIF(SOLICITUDES!$C$2:$C$1048576,BD!C22439,SOLICITUDES!$I$2:$I$1048576)","v":0},0,{"$f":"SUMIF(SOLICITUDES!$C$2:$C$1048576,BD!C22439,SOLICITUDES!$J$2:$J$1048576)","v":0},0,{"$f":"SUMIF(SOLICITUDES!$C$2:$C$1048576,BD!C22439,SOLICITUDES!$K$2:$K$1048576)","v":0},0]
[null,null,"T25126",10,13200,240,-77.215343684635357,2.4827719219026214,5,5,2,2,{"$f":"SUMIF(SOLICITUDES!$C$2:$C$1048576,BD!C22440,SOLICITUDES!$I$2:$I$1048576)","v":0},0,{"$f":"SUMIF(SOLICITUDES!$C$2:$C$1048576,BD!C22440,SOLICITUDES!$J$2:$J$1048576)","v":0},0,{"$f":"SUMIF(SOLICITUDES!$C$2:$C$1048576,BD!C22440,SOLICITUDES!$K$2:$K$1048576)","v":0},0]
[null,null,"T25196",5,13200,240,-77.25603611411664,2.4834969888740712,2.5,2.5,1,1,{"$f":"SUMIF(SOLICITUDES!$C$2:$C$1048576,BD!C22441,SOLICITUDES!$I$2:$I$1048576)","v":0},0,{"$f":"SUMIF(SOLICITUDES!$C$2:$C$1048576,BD!C22441,SOLICITUDES!$J$2:$J$1048576)","v":0},0,{"$f":"SUMIF(SOLICITUDES!$C$2:$C$1048576,BD!C22441,SOLICITUDES!$K$2:$K$1048576)","v":0},0]
[null,null,"T25259",10,13200,240,-77.219923624374601,2.442281571364584,5,5,2,2,{"$f":"SUMIF(SOLICITUDES!$C$2:$C$1048576,BD!C22442,SOLICITUDES!$I$2:$I$1048576)","v":0},0,{"$f":"SUMIF(SOLICITUDES!$C$2:$C$1048576,BD!C22442,SOLICITUDES!$J$2:$J$1048576)","v":0},0,{"$f":"SUMIF(SOLICITUDES!$C$2:$C$1048576,BD!C22442,SOLICITUDES!$K$2:$K$1048576)","v":0},0]
[null,null,"T25247",5,13200,240,-77.217132112165402,2.4933732367261929,2.5,2.5,1,1,{"$f":"SUMIF(SOLICITUDES!$C$2:$C$1048576,BD!C22443,SOLICITUDES!$I$2:$I$1048576)","v":0},0,{"$f":"SUMIF(SOLICITUDES!$C$2:$C$1048576,BD!C22443,SOLICITUDES!$J$2:$J$1048576)","v":0},0,{"$f":"SUMIF(SOLICITUDES!$C$2:$C$1048576,BD!C22443,SOLICITUDES!$K$2:$K$1048576)","v":0},0]
[null,null,"T25244",5,13200,240,-77.220086275310734,2.4969210790604452,2.5,2.5,1,1,{"$f":"SUMIF(SOLICITUDES!$C$2:$C$1048576,BD!C22444,SOLICITUDES!$I$2:$I$1048576)","v":0},0,{"$f":"SUMIF(SOLICITUDES!$C$2:$C$1048576,BD!C22444,SOLICITUDES!$J$2:$J$1048576)","v":0},0,{"$f":"SUMIF(SOLICITUDES!$C$2:$C$1048576,BD!C22444,SOLICITUDES!$K$2:$K$1048576)","v":0},0]
[null,null,"T29789",10,13200,240,-77.242985175734063,2.4357166855097443,5,5,2,2,{"$f":"SUMIF(SOLICITUDES!$C$2:$C$1048576,BD!C22445,SOLICITUDES!$I$2:$I$1048576)","v":0},0,{"$f":"SUMIF(SOLICITUDES!$C$2:$C$1048576,BD!C22445,SOLICITUDES!$J$2:$J$1048576)","v":0},0,{"$f":"SUMIF(SOLICITUDES!$C$2:$C$1048576,BD!C22445,SOLICITUDES!$K$2:$K$1048576)","v":0},0]
[null,null,"T21247",25,13200,240,-77.226203529412032,2.4839107309174548,12.5,12.5,5,5,{"$f":"SUMIF(SOLICITUDES!$C$2:$C$1048576,BD!C22446,SOLICITUDES!$I$2:$I$1048576)","v":0},0,{"$f":"SUMIF(SOLICITUDES!$C$2:$C$1048576,BD!C22446,SOLICITUDES!$J$2:$J$1048576)","v":0},0,{"$f":"SUMIF(SOLICITUDES!$C$2:$C$1048576,BD!C22446,SOLICITUDES!$K$2:$K$1048576)","v":0},0]
[null,null,"T22428",15,13200,240,-77.222048206288221,2.4285170728126149,7.5,7.5,3,3,{"$f":"SUMIF(SOLICITUDES!$C$2:$C$1048576,BD!C22447,SOLICITUDES!$I$2:$I$1048576)","v":0},0,{"$f":"SUMIF(SOLICITUDES!$C$2:$C$1048576,BD!C22447,SOLICITUDES!$J$2:$J$1048576)","v":0},0,{"$f":"SUMIF(SOLICITUDES!$C$2:$C$1048576,BD!C22447,SOLICITUDES!$K$2:$K$1048576)","v":0},0]
[null,null,"T25125",5,13200,240,-77.216182643195538,2.4791995667889188,2.5,2.5,1,1,{"$f":"SUMIF(SOLICITUDES!$C$2:$C$1048576,BD!C22448,SOLICITUDES!$I$2:$I$1048576)","v":0},0,{"$f":"SUMIF(SOLICITUDES!$C$2:$C$1048576,BD!C22448,SOLICITUDES!$J$2:$J$1048576)","v":0},0,{"$f":"SUMIF(SOLICITUDES!$C$2:$C$1048576,BD!C22448,SOLICITUDES!$K$2:$K$1048576)","v":0},0]
[null,null,"T25127",5,13200,240,-77.211246291887576,2.4835653351423188,2.5,2.5,1,1,{"$f":"SUMIF(SOLICITUDES!$C$2:$C$1048576,BD!C22449,SOLICITUDES!$I$2:$I$1048576)","v":0},0,{"$f":"SUMIF(SOLICITUDES!$C$2:$C$1048576,BD!C22449,SOLICITUDES!$J$2:$J$1048576)","v":0},0,{"$f":"SUMIF(SOLICITUDES!$C$2:$C$1048576,BD!C22449,SOLICITUDES!$K$2:$K$1048576)","v":0},0]
[null,null,"T25201",5,13200,240,-77.26030230406279,2.4771086055511158,2.5,2.5,1,1,{"$f":"SUMIF(SOLICITUDES!$C$2:$C$1048576,BD!C22450,SOLICITUDES!$I$2:$I$1048576)","v":0},0,{"$f":"SUMIF(SOLICITUDES!$C$2:$C$1048576,BD!C22450,SOLICITUDES!$J$2:$J$1048576)","v":0},0,{"$f":"SUMIF(SOLICITUDES!$C$2:$C$1048576,BD!C22450,SOLICITUDES!$K$2:$K$1048576)","v":0},0]
[null,null,"T25197",5,13200,240,-77.257027858658859,2.4860639226766481,2.5,2.5,1,1,{"$f":"SUMIF(SOLICITUDES!$C$2:$C$1048576,BD!C22451,SOLICITUDES!$I$2:$I$1048576)","v":0},0,{"$f":"SUMIF(SOLICITUDES!$C$2:$C$1048576,BD!C22451,SOLICITUDES!$J$2:$J$1048576)","v":0},0,{"$f":"SUMIF(SOLICITUDES!$C$2:$C$1048576,BD!C22451,SOLICITUDES!$K$2:$K$1048576)","v":0},0]
[null,null,"T25212",5,13200,240,-77.228170773734561,2.4453686619907113,2.5,2.5,1,1,{"$f":"SUMIF(SOLICITUDES!$C$2:$C$1048576,BD!C22452,SOLICITUDES!$I$2:$I$1048576)","v":0},0,{"$f":"SUMIF(SOLICITUDES!$C$2:$C$1048576,BD!C22452,SOLICITUDES!$J$2:$J$1048576)","v":0},0,{"$f":"SUMIF(SOLICITUDES!$C$2:$C$1048576,BD!C22452,SOLICITUDES!$K$2:$K$1048576)","v":0},0]
[null,null,"T25248",5,13200,240,-77.216435966522511,2.4963306113527866,2.5,2.5,1,1,{"$f":"SUMIF(SOLICITUDES!$C$2:$C$1048576,BD!C22453,SOLICITUDES!$I$2:$I$1048576)","v":0},0,{"$f":"SUMIF(SOLICITUDES!$C$2:$C$1048576,BD!C22453,SOLICITUDES!$J$2:$J$1048576)","v":0},0,{"$f":"SUMIF(SOLICITUDES!$C$2:$C$1048576,BD!C22453,SOLICITUDES!$K$2:$K$1048576)","v":0},0]
[null,null,"T29855",10,13200,240,-77.244819431459888,2.4368806017061004,5,5,2,2,{"$f":"SUMIF(SOLICITUDES!$C$2:$C$1048576,BD!C22454,SOLICITUDES!$I$2:$I$1048576)","v":0},0,{"$f":"SUMIF(SOLICITUDES!$C$2:$C$1048576,BD!C22454,SOLICITUDES!$J$2:$J$1048576)","v":0},0,{"$f":"SUMIF(SOLICITUDES!$C$2:$C$1048576,BD!C22454,SOLICITUDES!$K$2:$K$1048576)","v":0},0]
[null,null,"T3120",5,13200,240,-76.492168033993877,2.5147976046481455,2.5,2.5,1,1,{"$f":"SUMIF(SOLICITUDES!$C$2:$C$1048576,BD!C22455,SOLICITUDES!$I$2:$I$1048576)","v":0},0,{"$f":"SUMIF(SOLICITUDES!$C$2:$C$1048576,BD!C22455,SOLICITUDES!$J$2:$J$1048576)","v":0},0,{"$f":"SUMIF(SOLICITUDES!$C$2:$C$1048576,BD!C22455,SOLICITUDES!$K$2:$K$1048576)","v":0},0]
[null,null,"T3456",10,13200,240,-76.487563242429232,2.5175626912104305,5,5,2,2,{"$f":"SUMIF(SOLICITUDES!$C$2:$C$1048576,BD!C22456,SOLICITUDES!$I$2:$I$1048576)","v":0},0,{"$f":"SUMIF(SOLICITUDES!$C$2:$C$1048576,BD!C22456,SOLICITUDES!$J$2:$J$1048576)","v":0},0,{"$f":"SUMIF(SOLICITUDES!$C$2:$C$1048576,BD!C22456,SOLICITUDES!$K$2:$K$1048576)","v":0},0]
[null,null,"T3115",5,13200,220,-76.495232051404059,2.5192029623235777,2.5,2.5,1,1,{"$f":"SUMIF(SOLICITUDES!$C$2:$C$1048576,BD!C22457,SOLICITUDES!$I$2:$I$1048576)","v":0},0,{"$f":"SUMIF(SOLICITUDES!$C$2:$C$1048576,BD!C22457,SOLICITUDES!$J$2:$J$1048576)","v":0},0,{"$f":"SUMIF(SOLICITUDES!$C$2:$C$1048576,BD!C22457,SOLICITUDES!$K$2:$K$1048576)","v":0},0]
[null,null,"T3122",5,13200,240,-76.490236195307617,2.5120024025872763,2.5,2.5,1,1,{"$f":"SUMIF(SOLICITUDES!$C$2:$C$1048576,BD!C22458,SOLICITUDES!$I$2:$I$1048576)","v":0},0,{"$f":"SUMIF(SOLICITUDES!$C$2:$C$1048576,BD!C22458,SOLICITUDES!$J$2:$J$1048576)","v":0},0,{"$f":"SUMIF(SOLICITUDES!$C$2:$C$1048576,BD!C22458,SOLICITUDES!$K$2:$K$1048576)","v":0},0]
[null,null,"T3796",10,13200,208,-76.485327948224878,2.5111011801178091,5,5,2,2,{"$f":"SUMIF(SOLICITUDES!$C$2:$C$1048576,BD!C22459,SOLICITUDES!$I$2:$I$1048576)","v":0},0,{"$f":"SUMIF(SOLICITUDES!$C$2:$C$1048576,BD!C22459,SOLICITUDES!$J$2:$J$1048576)","v":0},0,{"$f":"SUMIF(SOLICITUDES!$C$2:$C$1048576,BD!C22459,SOLICITUDES!$K$2:$K$1048576)","v":0},0]
[null,null,"T3123",10,13200,240,-76.498188094968327,2.5240785341905667,5,5,2,2,{"$f":"SUMIF(SOLICITUDES!$C$2:$C$1048576,BD!C22460,SOLICITUDES!$I$2:$I$1048576)","v":0},0,{"$f":"SUMIF(SOLICITUDES!$C$2:$C$1048576,BD!C22460,SOLICITUDES!$J$2:$J$1048576)","v":0},0,{"$f":"SUMIF(SOLICITUDES!$C$2:$C$1048576,BD!C22460,SOLICITUDES!$K$2:$K$1048576)","v":0},0]
[null,null,"T3121",10,13200,240,-76.495040734311885,2.5276431078192356,5,5,2,2,{"$f":"SUMIF(SOLICITUDES!$C$2:$C$1048576,BD!C22461,SOLICITUDES!$I$2:$I$1048576)","v":0},0,{"$f":"SUMIF(SOLICITUDES!$C$2:$C$1048576,BD!C22461,SOLICITUDES!$J$2:$J$1048576)","v":0},0,{"$f":"SUMIF(SOLICITUDES!$C$2:$C$1048576,BD!C22461,SOLICITUDES!$K$2:$K$1048576)","v":0},0]
[null,null,"T3113",10,13200,240,-76.504215078905759,2.5292409591094103,5,5,2,2,{"$f":"SUMIF(SOLICITUDES!$C$2:$C$1048576,BD!C22462,SOLICITUDES!$I$2:$I$1048576)","v":0},0,{"$f":"SUMIF(SOLICITUDES!$C$2:$C$1048576,BD!C22462,SOLICITUDES!$J$2:$J$1048576)","v":0},0,{"$f":"SUMIF(SOLICITUDES!$C$2:$C$1048576,BD!C22462,SOLICITUDES!$K$2:$K$1048576)","v":0},0]
[null,null,"T3119",10,13200,240,-76.50072907318355,2.5357063034405352,5,5,2,2,{"$f":"SUMIF(SOLICITUDES!$C$2:$C$1048576,BD!C22463,SOLICITUDES!$I$2:$I$1048576)","v":0},0,{"$f":"SUMIF(SOLICITUDES!$C$2:$C$1048576,BD!C22463,SOLICITUDES!$J$2:$J$1048576)","v":0},0,{"$f":"SUMIF(SOLICITUDES!$C$2:$C$1048576,BD!C22463,SOLICITUDES!$K$2:$K$1048576)","v":0},0]
[null,null,"T3114",5,13200,240,-76.512675267477292,2.5299716642822276,2.5,2.5,1,1,{"$f":"SUMIF(SOLICITUDES!$C$2:$C$1048576,BD!C22464,SOLICITUDES!$I$2:$I$1048576)","v":0},0,{"$f":"SUMIF(SOLICITUDES!$C$2:$C$1048576,BD!C22464,SOLICITUDES!$J$2:$J$1048576)","v":0},0,{"$f":"SUMIF(SOLICITUDES!$C$2:$C$1048576,BD!C22464,SOLICITUDES!$K$2:$K$1048576)","v":0},0]
[null,null,"T3124",10,13200,240,-76.512808855581028,2.5337377260124527,5,5,2,2,{"$f":"SUMIF(SOLICITUDES!$C$2:$C$1048576,BD!C22465,SOLICITUDES!$I$2:$I$1048576)","v":0},0,{"$f":"SUMIF(SOLICITUDES!$C$2:$C$1048576,BD!C22465,SOLICITUDES!$J$2:$J$1048576)","v":0},0,{"$f":"SUMIF(SOLICITUDES!$C$2:$C$1048576,BD!C22465,SOLICITUDES!$K$2:$K$1048576)","v":0},0]
[null,null,"56TR1",75,13200,208,-76.558916656396434,2.4875602269694079,37.5,37.5,15,15,{"$f":"SUMIF(SOLICITUDES!$C$2:$C$1048576,BD!C22466,SOLICITUDES!$I$2:$I$1048576)","v":0},0,{"$f":"SUMIF(SOLICITUDES!$C$2:$C$1048576,BD!C22466,SOLICITUDES!$J$2:$J$1048576)","v":0},0,{"$f":"SUMIF(SOLICITUDES!$C$2:$C$1048576,BD!C22466,SOLICITUDES!$K$2:$K$1048576)","v":0},0]
[null,null,"56TWACS",75,13200,208,-76.558948028819771,2.4875601716102715,37.5,{"$f":"D22467*0.5-M22467","v":37.5},15,15,{"$f":"SUMIF(SOLICITUDES!$C$2:$C$1048576,BD!C22467,SOLICITUDES!$I$2:$I$1048576)","v":0},{"$f":"M22467/D22467","v":0},{"$f":"SUMIF(SOLICITUDES!$C$2:$C$1048576,BD!C22467,SOLICITUDES!$J$2:$J$1048576)","v":0},0,{"$f":"SUMIF(SOLICITUDES!$C$2:$C$1048576,BD!C22467,SOLICITUDES!$K$2:$K$1048576)","v":0},0]
[null,null,"T22464",45,13200,208,-77.240758217908649,2.4666301238012838,{"$f":"D22468*0.5","v":22.5},22.5,{"$f":"0.2*D22468","v":9},{"$f":"0.2*D22468","v":9},{"$f":"SUMIF(SOLICITUDES!$C$2:$C$1048576,BD!C22468,SOLICITUDES!$I$2:$I$1048576)","v":0},0,{"$f":"SUMIF(SOLICITUDES!$C$2:$C$1048576,BD!C22468,SOLICITUDES!$J$2:$J$1048576)","v":0},{"$f":"O22468/(2*K22468)","v":0},{"$f":"SUMIF(SOLICITUDES!$C$2:$C$1048576,BD!C22468,SOLICITUDES!$K$2:$K$1048576)","v":0},{"$f":"Q22468/(2*L22468)","v":0}]
[null,null,"T30092",45,13200,240,-77.239665003238287,2.4657400042376767,22.5,22.5,9,9,{"$f":"SUMIF(SOLICITUDES!$C$2:$C$1048576,BD!C22469,SOLICITUDES!$I$2:$I$1048576)","v":0},0,{"$f":"SUMIF(SOLICITUDES!$C$2:$C$1048576,BD!C22469,SOLICITUDES!$J$2:$J$1048576)","v":0},0,{"$f":"SUMIF(SOLICITUDES!$C$2:$C$1048576,BD!C22469,SOLICITUDES!$K$2:$K$1048576)","v":0},0]
[null,null,"T22466",112.5,13200,208,-77.23961503327989,2.4652480570739037,56.25,56.25,22.5,22.5,{"$f":"SUMIF(SOLICITUDES!$C$2:$C$1048576,BD!C22470,SOLICITUDES!$I$2:$I$1048576)","v":0},0,{"$f":"SUMIF(SOLICITUDES!$C$2:$C$1048576,BD!C22470,SOLICITUDES!$J$2:$J$1048576)","v":0},0,{"$f":"SUMIF(SOLICITUDES!$C$2:$C$1048576,BD!C22470,SOLICITUDES!$K$2:$K$1048576)","v":0},0]
[null,null,"T22465",75,13200,208,-77.2386112176263,2.4671001254411427,37.5,37.5,15,15,{"$f":"SUMIF(SOLICITUDES!$C$2:$C$1048576,BD!C22471,SOLICITUDES!$I$2:$I$1048576)","v":0},0,{"$f":"SUMIF(SOLICITUDES!$C$2:$C$1048576,BD!C22471,SOLICITUDES!$J$2:$J$1048576)","v":0},0,{"$f":"SUMIF(SOLICITUDES!$C$2:$C$1048576,BD!C22471,SOLICITUDES!$K$2:$K$1048576)","v":0},0]
[null,null,"T22490",25,13200,240,-77.237387217275867,2.4685651222254821,12.5,12.5,5,5,{"$f":"SUMIF(SOLICITUDES!$C$2:$C$1048576,BD!C22472,SOLICITUDES!$I$2:$I$1048576)","v":0},0,{"$f":"SUMIF(SOLICITUDES!$C$2:$C$1048576,BD!C22472,SOLICITUDES!$J$2:$J$1048576)","v":0},0,{"$f":"SUMIF(SOLICITUDES!$C$2:$C$1048576,BD!C22472,SOLICITUDES!$K$2:$K$1048576)","v":0},0]
[null,null,"T22462",30,13200,208,-77.240118220934718,2.4648591183933939,15,15,6,6,{"$f":"SUMIF(SOLICITUDES!$C$2:$C$1048576,BD!C22473,SOLICITUDES!$I$2:$I$1048576)","v":0},0,{"$f":"SUMIF(SOLICITUDES!$C$2:$C$1048576,BD!C22473,SOLICITUDES!$J$2:$J$1048576)","v":0},0,{"$f":"SUMIF(SOLICITUDES!$C$2:$C$1048576,BD!C22473,SOLICITUDES!$K$2:$K$1048576)","v":0},0]
[null,null,"T30828",0.5,13200,240,-77.236445837899765,2.4695997697768135,0.25,0.25,0.1,0.1,{"$f":"SUMIF(SOLICITUDES!$C$2:$C$1048576,BD!C22474,SOLICITUDES!$I$2:$I$1048576)","v":0},0,{"$f":"SUMIF(SOLICITUDES!$C$2:$C$1048576,BD!C22474,SOLICITUDES!$J$2:$J$1048576)","v":0},0,{"$f":"SUMIF(SOLICITUDES!$C$2:$C$1048576,BD!C22474,SOLICITUDES!$K$2:$K$1048576)","v":0},0]
[null,null,"T22463",45,13200,208,-77.240777218102167,2.4657921186958736,22.5,22.5,9,9,{"$f":"SUMIF(SOLICITUDES!$C$2:$C$1048576,BD!C22475,SOLICITUDES!$I$2:$I$1048576)","v":0},0,{"$f":"SUMIF(SOLICITUDES!$C$2:$C$1048576,BD!C22475,SOLICITUDES!$J$2:$J$1048576)","v":0},0,{"$f":"SUMIF(SOLICITUDES!$C$2:$C$1048576,BD!C22475,SOLICITUDES!$K$2:$K$1048576)","v":0},0]
[null,null,"T22467",75,13200,208,-77.238873219321391,2.4642821170618197,37.5,37.5,15,15,{"$f":"SUMIF(SOLICITUDES!$C$2:$C$1048576,BD!C22476,SOLICITUDES!$I$2:$I$1048576)","v":0},0,{"$f":"SUMIF(SOLICITUDES!$C$2:$C$1048576,BD!C22476,SOLICITUDES!$J$2:$J$1048576)","v":0},0,{"$f":"SUMIF(SOLICITUDES!$C$2:$C$1048576,BD!C22476,SOLICITUDES!$K$2:$K$1048576)","v":0},0]
[null,null,"T22461",112.5,13200,240,-77.238475219622913,2.4631651202350224,56.25,56.25,22.5,22.5,{"$f":"SUMIF(SOLICITUDES!$C$2:$C$1048576,BD!C22477,SOLICITUDES!$I$2:$I$1048576)","v":0},0,{"$f":"SUMIF(SOLICITUDES!$C$2:$C$1048576,BD!C22477,SOLICITUDES!$J$2:$J$1048576)","v":0},0,{"$f":"SUMIF(SOLICITUDES!$C$2:$C$1048576,BD!C22477,SOLICITUDES!$K$2:$K$1048576)","v":0},0]
[null,null,"T22472",15,13200,240,-77.24335822599646,2.4679201281063006,7.5,7.5,3,3,{"$f":"SUMIF(SOLICITUDES!$C$2:$C$1048576,BD!C22478,SOLICITUDES!$I$2:$I$1048576)","v":0},0,{"$f":"SUMIF(SOLICITUDES!$C$2:$C$1048576,BD!C22478,SOLICITUDES!$J$2:$J$1048576)","v":0},0,{"$f":"SUMIF(SOLICITUDES!$C$2:$C$1048576,BD!C22478,SOLICITUDES!$K$2:$K$1048576)","v":0},0]
[null,null,"T22468",75,13200,208,-77.23801221717406,2.4652111175682405,37.5,37.5,15,15,{"$f":"SUMIF(SOLICITUDES!$C$2:$C$1048576,BD!C22479,SOLICITUDES!$I$2:$I$1048576)","v":0},0,{"$f":"SUMIF(SOLICITUDES!$C$2:$C$1048576,BD!C22479,SOLICITUDES!$J$2:$J$1048576)","v":0},0,{"$f":"SUMIF(SOLICITUDES!$C$2:$C$1048576,BD!C22479,SOLICITUDES!$K$2:$K$1048576)","v":0},0]
[null,null,"T22471",112.5,13200,208,-77.238011774719993,2.462815549330307,56.25,56.25,22.5,22.5,{"$f":"SUMIF(SOLICITUDES!$C$2:$C$1048576,BD!C22480,SOLICITUDES!$I$2:$I$1048576)","v":0},0,{"$f":"SUMIF(SOLICITUDES!$C$2:$C$1048576,BD!C22480,SOLICITUDES!$J$2:$J$1048576)","v":0},0,{"$f":"SUMIF(SOLICITUDES!$C$2:$C$1048576,BD!C22480,SOLICITUDES!$K$2:$K$1048576)","v":0},0]
[null,null,"T22473",10,13200,240,-77.249412228860464,2.4690501316728497,5,5,2,2,{"$f":"SUMIF(SOLICITUDES!$C$2:$C$1048576,BD!C22481,SOLICITUDES!$I$2:$I$1048576)","v":0},0,{"$f":"SUMIF(SOLICITUDES!$C$2:$C$1048576,BD!C22481,SOLICITUDES!$J$2:$J$1048576)","v":0},0,{"$f":"SUMIF(SOLICITUDES!$C$2:$C$1048576,BD!C22481,SOLICITUDES!$K$2:$K$1048576)","v":0},0]
[null,null,"T22491",15,13200,240,-77.23289820540441,2.4735431259139973,7.5,7.5,3,3,{"$f":"SUMIF(SOLICITUDES!$C$2:$C$1048576,BD!C22482,SOLICITUDES!$I$2:$I$1048576)","v":0},0,{"$f":"SUMIF(SOLICITUDES!$C$2:$C$1048576,BD!C22482,SOLICITUDES!$J$2:$J$1048576)","v":0},0,{"$f":"SUMIF(SOLICITUDES!$C$2:$C$1048576,BD!C22482,SOLICITUDES!$K$2:$K$1048576)","v":0},0]
[null,null,"T29776",10,13200,240,-77.244212303751908,2.466081857767831,5,5,2,2,{"$f":"SUMIF(SOLICITUDES!$C$2:$C$1048576,BD!C22483,SOLICITUDES!$I$2:$I$1048576)","v":0},0,{"$f":"SUMIF(SOLICITUDES!$C$2:$C$1048576,BD!C22483,SOLICITUDES!$J$2:$J$1048576)","v":0},0,{"$f":"SUMIF(SOLICITUDES!$C$2:$C$1048576,BD!C22483,SOLICITUDES!$K$2:$K$1048576)","v":0},0]
[null,null,"T22475",15,13200,240,-77.251243235115794,2.4682431285365278,7.5,7.5,3,3,{"$f":"SUMIF(SOLICITUDES!$C$2:$C$1048576,BD!C22484,SOLICITUDES!$I$2:$I$1048576)","v":0},0,{"$f":"SUMIF(SOLICITUDES!$C$2:$C$1048576,BD!C22484,SOLICITUDES!$J$2:$J$1048576)","v":0},0,{"$f":"SUMIF(SOLICITUDES!$C$2:$C$1048576,BD!C22484,SOLICITUDES!$K$2:$K$1048576)","v":0},0]
[null,null,"T22474",15,13200,240,-77.254122242854223,2.467067129228345,7.5,7.5,3,3,{"$f":"SUMIF(SOLICITUDES!$C$2:$C$1048576,BD!C22485,SOLICITUDES!$I$2:$I$1048576)","v":0},0,{"$f":"SUMIF(SOLICITUDES!$C$2:$C$1048576,BD!C22485,SOLICITUDES!$J$2:$J$1048576)","v":0},0,{"$f":"SUMIF(SOLICITUDES!$C$2:$C$1048576,BD!C22485,SOLICITUDES!$K$2:$K$1048576)","v":0},0]
[null,null,"T43414",30,13200,240,-77.236999827559941,2.4617319061972034,15,15,6,6,{"$f":"SUMIF(SOLICITUDES!$C$2:$C$1048576,BD!C22486,SOLICITUDES!$I$2:$I$1048576)","v":0},0,{"$f":"SUMIF(SOLICITUDES!$C$2:$C$1048576,BD!C22486,SOLICITUDES!$J$2:$J$1048576)","v":0},0,{"$f":"SUMIF(SOLICITUDES!$C$2:$C$1048576,BD!C22486,SOLICITUDES!$K$2:$K$1048576)","v":0},0]
[null,null,"T22476",10,13200,240,-77.254801245380989,2.466806122718471,5,5,2,2,{"$f":"SUMIF(SOLICITUDES!$C$2:$C$1048576,BD!C22487,SOLICITUDES!$I$2:$I$1048576)","v":0},0,{"$f":"SUMIF(SOLICITUDES!$C$2:$C$1048576,BD!C22487,SOLICITUDES!$J$2:$J$1048576)","v":0},0,{"$f":"SUMIF(SOLICITUDES!$C$2:$C$1048576,BD!C22487,SOLICITUDES!$K$2:$K$1048576)","v":0},0]
[null,null,"T22470",75,13200,208,-77.236254217345532,2.4656521151731292,37.5,37.5,15,15,{"$f":"SUMIF(SOLICITUDES!$C$2:$C$1048576,BD!C22488,SOLICITUDES!$I$2:$I$1048576)","v":0},0,{"$f":"SUMIF(SOLICITUDES!$C$2:$C$1048576,BD!C22488,SOLICITUDES!$J$2:$J$1048576)","v":0},0,{"$f":"SUMIF(SOLICITUDES!$C$2:$C$1048576,BD!C22488,SOLICITUDES!$K$2:$K$1048576)","v":0},0]
[null,null,"T25191",5,13200,240,-77.239805073953193,2.4745671548093275,2.5,2.5,1,1,{"$f":"SUMIF(SOLICITUDES!$C$2:$C$1048576,BD!C22489,SOLICITUDES!$I$2:$I$1048576)","v":0},0,{"$f":"SUMIF(SOLICITUDES!$C$2:$C$1048576,BD!C22489,SOLICITUDES!$J$2:$J$1048576)","v":0},0,{"$f":"SUMIF(SOLICITUDES!$C$2:$C$1048576,BD!C22489,SOLICITUDES!$K$2:$K$1048576)","v":0},0]
[null,null,"T22493",15,13200,240,-77.229772386446157,2.4788421257554973,7.5,7.5,3,3,{"$f":"SUMIF(SOLICITUDES!$C$2:$C$1048576,BD!C22490,SOLICITUDES!$I$2:$I$1048576)","v":0},0,{"$f":"SUMIF(SOLICITUDES!$C$2:$C$1048576,BD!C22490,SOLICITUDES!$J$2:$J$1048576)","v":0},0,{"$f":"SUMIF(SOLICITUDES!$C$2:$C$1048576,BD!C22490,SOLICITUDES!$K$2:$K$1048576)","v":0},0]
[null,null,"T22469",112.5,13200,208,-77.235765215164193,2.4664851223491064,56.25,56.25,22.5,22.5,{"$f":"SUMIF(SOLICITUDES!$C$2:$C$1048576,BD!C22491,SOLICITUDES!$I$2:$I$1048576)","v":0},0,{"$f":"SUMIF(SOLICITUDES!$C$2:$C$1048576,BD!C22491,SOLICITUDES!$J$2:$J$1048576)","v":0},0,{"$f":"SUMIF(SOLICITUDES!$C$2:$C$1048576,BD!C22491,SOLICITUDES!$K$2:$K$1048576)","v":0},0]
[null,null,"T25192",5,13200,240,-77.24751608861294,2.4740749066159395,2.5,2.5,1,1,{"$f":"SUMIF(SOLICITUDES!$C$2:$C$1048576,BD!C22492,SOLICITUDES!$I$2:$I$1048576)","v":0},0,{"$f":"SUMIF(SOLICITUDES!$C$2:$C$1048576,BD!C22492,SOLICITUDES!$J$2:$J$1048576)","v":0},0,{"$f":"SUMIF(SOLICITUDES!$C$2:$C$1048576,BD!C22492,SOLICITUDES!$K$2:$K$1048576)","v":0},0]
[null,null,"T22404",25,13200,240,-77.244011226516889,2.4482301061215854,12.5,12.5,5,5,{"$f":"SUMIF(SOLICITUDES!$C$2:$C$1048576,BD!C22493,SOLICITUDES!$I$2:$I$1048576)","v":0},0,{"$f":"SUMIF(SOLICITUDES!$C$2:$C$1048576,BD!C22493,SOLICITUDES!$J$2:$J$1048576)","v":0},0,{"$f":"SUMIF(SOLICITUDES!$C$2:$C$1048576,BD!C22493,SOLICITUDES!$K$2:$K$1048576)","v":0},0]
[null,null,"T22478",25,13200,240,-77.260274252563292,2.4645441288930545,12.5,12.5,5,5,{"$f":"SUMIF(SOLICITUDES!$C$2:$C$1048576,BD!C22494,SOLICITUDES!$I$2:$I$1048576)","v":0},0,{"$f":"SUMIF(SOLICITUDES!$C$2:$C$1048576,BD!C22494,SOLICITUDES!$J$2:$J$1048576)","v":0},0,{"$f":"SUMIF(SOLICITUDES!$C$2:$C$1048576,BD!C22494,SOLICITUDES!$K$2:$K$1048576)","v":0},0]
[null,null,"T22492",30,13200,208,-77.23379644972718,2.4772442200161739,15,15,6,6,{"$f":"SUMIF(SOLICITUDES!$C$2:$C$1048576,BD!C22495,SOLICITUDES!$I$2:$I$1048576)","v":0},0,{"$f":"SUMIF(SOLICITUDES!$C$2:$C$1048576,BD!C22495,SOLICITUDES!$J$2:$J$1048576)","v":0},0,{"$f":"SUMIF(SOLICITUDES!$C$2:$C$1048576,BD!C22495,SOLICITUDES!$K$2:$K$1048576)","v":0},0]
[null,null,"T6800",5,13200,240,-76.443520881401525,2.5242515903115184,2.5,2.5,1,1,{"$f":"SUMIF(SOLICITUDES!$C$2:$C$1048576,BD!C22496,SOLICITUDES!$I$2:$I$1048576)","v":0},0,{"$f":"SUMIF(SOLICITUDES!$C$2:$C$1048576,BD!C22496,SOLICITUDES!$J$2:$J$1048576)","v":0},0,{"$f":"SUMIF(SOLICITUDES!$C$2:$C$1048576,BD!C22496,SOLICITUDES!$K$2:$K$1048576)","v":0},0]
[null,null,"T8024",15,13200,240,-76.466820841917738,2.4974143032862348,7.5,7.5,3,3,{"$f":"SUMIF(SOLICITUDES!$C$2:$C$1048576,BD!C22497,SOLICITUDES!$I$2:$I$1048576)","v":0},0,{"$f":"SUMIF(SOLICITUDES!$C$2:$C$1048576,BD!C22497,SOLICITUDES!$J$2:$J$1048576)","v":0},0,{"$f":"SUMIF(SOLICITUDES!$C$2:$C$1048576,BD!C22497,SOLICITUDES!$K$2:$K$1048576)","v":0},0]
[null,null,"T6813",10,13200,240,-76.456057948047544,2.5174122330030571,5,5,2,2,{"$f":"SUMIF(SOLICITUDES!$C$2:$C$1048576,BD!C22498,SOLICITUDES!$I$2:$I$1048576)","v":0},0,{"$f":"SUMIF(SOLICITUDES!$C$2:$C$1048576,BD!C22498,SOLICITUDES!$J$2:$J$1048576)","v":0},0,{"$f":"SUMIF(SOLICITUDES!$C$2:$C$1048576,BD!C22498,SOLICITUDES!$K$2:$K$1048576)","v":0},0]
[null,null,"T6833",15,13200,240,-76.454268290497467,2.4993616219555284,7.5,7.5,3,3,{"$f":"SUMIF(SOLICITUDES!$C$2:$C$1048576,BD!C22499,SOLICITUDES!$I$2:$I$1048576)","v":0},0,{"$f":"SUMIF(SOLICITUDES!$C$2:$C$1048576,BD!C22499,SOLICITUDES!$J$2:$J$1048576)","v":0},0,{"$f":"SUMIF(SOLICITUDES!$C$2:$C$1048576,BD!C22499,SOLICITUDES!$K$2:$K$1048576)","v":0},0]
[null,null,"T8013",15,13200,240,-76.47204419626442,2.4987609379952742,7.5,7.5,3,3,{"$f":"SUMIF(SOLICITUDES!$C$2:$C$1048576,BD!C22500,SOLICITUDES!$I$2:$I$1048576)","v":0},0,{"$f":"SUMIF(SOLICITUDES!$C$2:$C$1048576,BD!C22500,SOLICITUDES!$J$2:$J$1048576)","v":0},0,{"$f":"SUMIF(SOLICITUDES!$C$2:$C$1048576,BD!C22500,SOLICITUDES!$K$2:$K$1048576)","v":0},0]
[null,null,"T6834",10,13200,240,-76.440218426403874,2.5296938638763655,5,5,2,2,{"$f":"SUMIF(SOLICITUDES!$C$2:$C$1048576,BD!C22501,SOLICITUDES!$I$2:$I$1048576)","v":0},0,{"$f":"SUMIF(SOLICITUDES!$C$2:$C$1048576,BD!C22501,SOLICITUDES!$J$2:$J$1048576)","v":0},0,{"$f":"SUMIF(SOLICITUDES!$C$2:$C$1048576,BD!C22501,SOLICITUDES!$K$2:$K$1048576)","v":0},0]
[null,null,"T8020",5,13200,214,-76.478473591742642,2.4967324520784278,2.5,2.5,1,1,{"$f":"SUMIF(SOLICITUDES!$C$2:$C$1048576,BD!C22502,SOLICITUDES!$I$2:$I$1048576)","v":0},0,{"$f":"SUMIF(SOLICITUDES!$C$2:$C$1048576,BD!C22502,SOLICITUDES!$J$2:$J$1048576)","v":0},0,{"$f":"SUMIF(SOLICITUDES!$C$2:$C$1048576,BD!C22502,SOLICITUDES!$K$2:$K$1048576)","v":0},0]
[null,null,"T6807",10,13200,240,-76.452032538436669,2.4929852156411902,5,5,2,2,{"$f":"SUMIF(SOLICITUDES!$C$2:$C$1048576,BD!C22503,SOLICITUDES!$I$2:$I$1048576)","v":0},0,{"$f":"SUMIF(SOLICITUDES!$C$2:$C$1048576,BD!C22503,SOLICITUDES!$J$2:$J$1048576)","v":0},0,{"$f":"SUMIF(SOLICITUDES!$C$2:$C$1048576,BD!C22503,SOLICITUDES!$K$2:$K$1048576)","v":0},0]
[null,null,"T8007",5,13200,240,-76.483130686970242,2.4975575163413146,2.5,2.5,1,1,{"$f":"SUMIF(SOLICITUDES!$C$2:$C$1048576,BD!C22504,SOLICITUDES!$I$2:$I$1048576)","v":0},0,{"$f":"SUMIF(SOLICITUDES!$C$2:$C$1048576,BD!C22504,SOLICITUDES!$J$2:$J$1048576)","v":0},0,{"$f":"SUMIF(SOLICITUDES!$C$2:$C$1048576,BD!C22504,SOLICITUDES!$K$2:$K$1048576)","v":0},0]
[null,null,"T6818",25,13200,240,-76.452601071866368,2.4886720266640339,12.5,12.5,5,5,{"$f":"SUMIF(SOLICITUDES!$C$2:$C$1048576,BD!C22505,SOLICITUDES!$I$2:$I$1048576)","v":0},0,{"$f":"SUMIF(SOLICITUDES!$C$2:$C$1048576,BD!C22505,SOLICITUDES!$J$2:$J$1048576)","v":0},0,{"$f":"SUMIF(SOLICITUDES!$C$2:$C$1048576,BD!C22505,SOLICITUDES!$K$2:$K$1048576)","v":0},0]
[null,null,"T8032",15,13200,240,-76.486231412568856,2.50014521587125,7.5,7.5,3,3,{"$f":"SUMIF(SOLICITUDES!$C$2:$C$1048576,BD!C22506,SOLICITUDES!$I$2:$I$1048576)","v":0},0,{"$f":"SUMIF(SOLICITUDES!$C$2:$C$1048576,BD!C22506,SOLICITUDES!$J$2:$J$1048576)","v":0},0,{"$f":"SUMIF(SOLICITUDES!$C$2:$C$1048576,BD!C22506,SOLICITUDES!$K$2:$K$1048576)","v":0},0]
[null,null,"T7998",10,13200,240,-76.476778231519262,2.5076917800700054,5,5,2,2,{"$f":"SUMIF(SOLICITUDES!$C$2:$C$1048576,BD!C22507,SOLICITUDES!$I$2:$I$1048576)","v":0},0,{"$f":"SUMIF(SOLICITUDES!$C$2:$C$1048576,BD!C22507,SOLICITUDES!$J$2:$J$1048576)","v":0},0,{"$f":"SUMIF(SOLICITUDES!$C$2:$C$1048576,BD!C22507,SOLICITUDES!$K$2:$K$1048576)","v":0},0]
[null,null,"T5887",15,13200,240,-76.448061389951405,2.4868431448067154,7.5,7.5,3,3,{"$f":"SUMIF(SOLICITUDES!$C$2:$C$1048576,BD!C22508,SOLICITUDES!$I$2:$I$1048576)","v":0},0,{"$f":"SUMIF(SOLICITUDES!$C$2:$C$1048576,BD!C22508,SOLICITUDES!$J$2:$J$1048576)","v":0},0,{"$f":"SUMIF(SOLICITUDES!$C$2:$C$1048576,BD!C22508,SOLICITUDES!$K$2:$K$1048576)","v":0},0]
[null,null,"T6797",15,13200,240,-76.447870800013106,2.4907586088966864,7.5,7.5,3,3,{"$f":"SUMIF(SOLICITUDES!$C$2:$C$1048576,BD!C22509,SOLICITUDES!$I$2:$I$1048576)","v":0},0,{"$f":"SUMIF(SOLICITUDES!$C$2:$C$1048576,BD!C22509,SOLICITUDES!$J$2:$J$1048576)","v":0},0,{"$f":"SUMIF(SOLICITUDES!$C$2:$C$1048576,BD!C22509,SOLICITUDES!$K$2:$K$1048576)","v":0},0]
[null,null,"T6822",5,13200,240,-76.457814746802001,2.4910076062547528,2.5,2.5,1,1,{"$f":"SUMIF(SOLICITUDES!$C$2:$C$1048576,BD!C22510,SOLICITUDES!$I$2:$I$1048576)","v":0},0,{"$f":"SUMIF(SOLICITUDES!$C$2:$C$1048576,BD!C22510,SOLICITUDES!$J$2:$J$1048576)","v":0},0,{"$f":"SUMIF(SOLICITUDES!$C$2:$C$1048576,BD!C22510,SOLICITUDES!$K$2:$K$1048576)","v":0},0]
[null,null,"T6825",25,13200,240,-76.444628085165334,2.4843998227946411,12.5,12.5,5,5,{"$f":"SUMIF(SOLICITUDES!$C$2:$C$1048576,BD!C22511,SOLICITUDES!$I$2:$I$1048576)","v":0},0,{"$f":"SUMIF(SOLICITUDES!$C$2:$C$1048576,BD!C22511,SOLICITUDES!$J$2:$J$1048576)","v":0},0,{"$f":"SUMIF(SOLICITUDES!$C$2:$C$1048576,BD!C22511,SOLICITUDES!$K$2:$K$1048576)","v":0},0]
[null,null,"T6830",5,13200,240,-76.450401736973149,2.4813370528897822,2.5,2.5,1,1,{"$f":"SUMIF(SOLICITUDES!$C$2:$C$1048576,BD!C22512,SOLICITUDES!$I$2:$I$1048576)","v":0},0,{"$f":"SUMIF(SOLICITUDES!$C$2:$C$1048576,BD!C22512,SOLICITUDES!$J$2:$J$1048576)","v":0},0,{"$f":"SUMIF(SOLICITUDES!$C$2:$C$1048576,BD!C22512,SOLICITUDES!$K$2:$K$1048576)","v":0},0]
[null,null,"T6816",10,13200,240,-76.46402750118753,2.4910919357620358,5,5,2,2,{"$f":"SUMIF(SOLICITUDES!$C$2:$C$1048576,BD!C22513,SOLICITUDES!$I$2:$I$1048576)","v":0},0,{"$f":"SUMIF(SOLICITUDES!$C$2:$C$1048576,BD!C22513,SOLICITUDES!$J$2:$J$1048576)","v":0},0,{"$f":"SUMIF(SOLICITUDES!$C$2:$C$1048576,BD!C22513,SOLICITUDES!$K$2:$K$1048576)","v":0},0]
[null,null,"T5886",5,13200,240,-76.448417481956326,2.4755215287741743,2.5,2.5,1,1,{"$f":"SUMIF(SOLICITUDES!$C$2:$C$1048576,BD!C22514,SOLICITUDES!$I$2:$I$1048576)","v":0},0,{"$f":"SUMIF(SOLICITUDES!$C$2:$C$1048576,BD!C22514,SOLICITUDES!$J$2:$J$1048576)","v":0},0,{"$f":"SUMIF(SOLICITUDES!$C$2:$C$1048576,BD!C22514,SOLICITUDES!$K$2:$K$1048576)","v":0},0]
[null,null,"T6811",5,13200,240,-76.465781028852021,2.4904777753718212,2.5,2.5,1,1,{"$f":"SUMIF(SOLICITUDES!$C$2:$C$1048576,BD!C22515,SOLICITUDES!$I$2:$I$1048576)","v":0},0,{"$f":"SUMIF(SOLICITUDES!$C$2:$C$1048576,BD!C22515,SOLICITUDES!$J$2:$J$1048576)","v":0},0,{"$f":"SUMIF(SOLICITUDES!$C$2:$C$1048576,BD!C22515,SOLICITUDES!$K$2:$K$1048576)","v":0},0]
[null,null,"T6839",10,13200,240,-76.454160156023647,2.4808686638723874,5,5,2,2,{"$f":"SUMIF(SOLICITUDES!$C$2:$C$1048576,BD!C22516,SOLICITUDES!$I$2:$I$1048576)","v":0},0,{"$f":"SUMIF(SOLICITUDES!$C$2:$C$1048576,BD!C22516,SOLICITUDES!$J$2:$J$1048576)","v":0},0,{"$f":"SUMIF(SOLICITUDES!$C$2:$C$1048576,BD!C22516,SOLICITUDES!$K$2:$K$1048576)","v":0},0]
[null,null,"T8000",15,13200,240,-76.49252322760708,2.5045700813151104,7.5,7.5,3,3,{"$f":"SUMIF(SOLICITUDES!$C$2:$C$1048576,BD!C22517,SOLICITUDES!$I$2:$I$1048576)","v":0},0,{"$f":"SUMIF(SOLICITUDES!$C$2:$C$1048576,BD!C22517,SOLICITUDES!$J$2:$J$1048576)","v":0},0,{"$f":"SUMIF(SOLICITUDES!$C$2:$C$1048576,BD!C22517,SOLICITUDES!$K$2:$K$1048576)","v":0},0]
[null,null,"T5875",5,13200,240,-76.448422422775749,2.4649773800537433,2.5,2.5,1,1,{"$f":"SUMIF(SOLICITUDES!$C$2:$C$1048576,BD!C22518,SOLICITUDES!$I$2:$I$1048576)","v":0},0,{"$f":"SUMIF(SOLICITUDES!$C$2:$C$1048576,BD!C22518,SOLICITUDES!$J$2:$J$1048576)","v":0},0,{"$f":"SUMIF(SOLICITUDES!$C$2:$C$1048576,BD!C22518,SOLICITUDES!$K$2:$K$1048576)","v":0},0]
[null,null,"T6805",15,13200,240,-76.47025042132239,2.4888431032324583,7.5,7.5,3,3,{"$f":"SUMIF(SOLICITUDES!$C$2:$C$1048576,BD!C22519,SOLICITUDES!$I$2:$I$1048576)","v":0},0,{"$f":"SUMIF(SOLICITUDES!$C$2:$C$1048576,BD!C22519,SOLICITUDES!$J$2:$J$1048576)","v":0},0,{"$f":"SUMIF(SOLICITUDES!$C$2:$C$1048576,BD!C22519,SOLICITUDES!$K$2:$K$1048576)","v":0},0]
[null,null,"T8036",15,13200,240,-76.496543546117053,2.5017866882110273,7.5,7.5,3,3,{"$f":"SUMIF(SOLICITUDES!$C$2:$C$1048576,BD!C22520,SOLICITUDES!$I$2:$I$1048576)","v":0},0,{"$f":"SUMIF(SOLICITUDES!$C$2:$C$1048576,BD!C22520,SOLICITUDES!$J$2:$J$1048576)","v":0},0,{"$f":"SUMIF(SOLICITUDES!$C$2:$C$1048576,BD!C22520,SOLICITUDES!$K$2:$K$1048576)","v":0},0]
[null,null,"T5889",25,13200,240,-76.450938467269793,2.4680079719639583,12.5,12.5,5,5,{"$f":"SUMIF(SOLICITUDES!$C$2:$C$1048576,BD!C22521,SOLICITUDES!$I$2:$I$1048576)","v":0},0,{"$f":"SUMIF(SOLICITUDES!$C$2:$C$1048576,BD!C22521,SOLICITUDES!$J$2:$J$1048576)","v":0},0,{"$f":"SUMIF(SOLICITUDES!$C$2:$C$1048576,BD!C22521,SOLICITUDES!$K$2:$K$1048576)","v":0},0]
[null,null,"T6814",10,13200,240,-76.472857544515563,2.4894230731762437,5,5,2,2,{"$f":"SUMIF(SOLICITUDES!$C$2:$C$1048576,BD!C22522,SOLICITUDES!$I$2:$I$1048576)","v":0},0,{"$f":"SUMIF(SOLICITUDES!$C$2:$C$1048576,BD!C22522,SOLICITUDES!$J$2:$J$1048576)","v":0},0,{"$f":"SUMIF(SOLICITUDES!$C$2:$C$1048576,BD!C22522,SOLICITUDES!$K$2:$K$1048576)","v":0},0]
[null,null,"T5892",15,13200,240,-76.446486695563365,2.4708091504827854,7.5,7.5,3,3,{"$f":"SUMIF(SOLICITUDES!$C$2:$C$1048576,BD!C22523,SOLICITUDES!$I$2:$I$1048576)","v":0},0,{"$f":"SUMIF(SOLICITUDES!$C$2:$C$1048576,BD!C22523,SOLICITUDES!$J$2:$J$1048576)","v":0},0,{"$f":"SUMIF(SOLICITUDES!$C$2:$C$1048576,BD!C22523,SOLICITUDES!$K$2:$K$1048576)","v":0},0]
[null,null,"T5874",15,13200,240,-76.445708960983993,2.4613137128419242,7.5,7.5,3,3,{"$f":"SUMIF(SOLICITUDES!$C$2:$C$1048576,BD!C22524,SOLICITUDES!$I$2:$I$1048576)","v":0},0,{"$f":"SUMIF(SOLICITUDES!$C$2:$C$1048576,BD!C22524,SOLICITUDES!$J$2:$J$1048576)","v":0},0,{"$f":"SUMIF(SOLICITUDES!$C$2:$C$1048576,BD!C22524,SOLICITUDES!$K$2:$K$1048576)","v":0},0]
[null,null,"T5890",15,13200,240,-76.442452026892852,2.4660054472322863,7.5,7.5,3,3,{"$f":"SUMIF(SOLICITUDES!$C$2:$C$1048576,BD!C22525,SOLICITUDES!$I$2:$I$1048576)","v":0},0,{"$f":"SUMIF(SOLICITUDES!$C$2:$C$1048576,BD!C22525,SOLICITUDES!$J$2:$J$1048576)","v":0},0,{"$f":"SUMIF(SOLICITUDES!$C$2:$C$1048576,BD!C22525,SOLICITUDES!$K$2:$K$1048576)","v":0},0]
[null,null,"T6836",10,13200,240,-76.47376902048785,2.4820715136746228,5,5,2,2,{"$f":"SUMIF(SOLICITUDES!$C$2:$C$1048576,BD!C22526,SOLICITUDES!$I$2:$I$1048576)","v":0},0,{"$f":"SUMIF(SOLICITUDES!$C$2:$C$1048576,BD!C22526,SOLICITUDES!$J$2:$J$1048576)","v":0},0,{"$f":"SUMIF(SOLICITUDES!$C$2:$C$1048576,BD!C22526,SOLICITUDES!$K$2:$K$1048576)","v":0},0]
[null,null,"T6829",10,13200,240,-76.467771776871189,2.4825479746982455,5,5,2,2,{"$f":"SUMIF(SOLICITUDES!$C$2:$C$1048576,BD!C22527,SOLICITUDES!$I$2:$I$1048576)","v":0},0,{"$f":"SUMIF(SOLICITUDES!$C$2:$C$1048576,BD!C22527,SOLICITUDES!$J$2:$J$1048576)","v":0},0,{"$f":"SUMIF(SOLICITUDES!$C$2:$C$1048576,BD!C22527,SOLICITUDES!$K$2:$K$1048576)","v":0},0]
[null,null,"T5878",10,13200,240,-76.443571273037804,2.4756548195216905,5,5,2,2,{"$f":"SUMIF(SOLICITUDES!$C$2:$C$1048576,BD!C22528,SOLICITUDES!$I$2:$I$1048576)","v":0},0,{"$f":"SUMIF(SOLICITUDES!$C$2:$C$1048576,BD!C22528,SOLICITUDES!$J$2:$J$1048576)","v":0},0,{"$f":"SUMIF(SOLICITUDES!$C$2:$C$1048576,BD!C22528,SOLICITUDES!$K$2:$K$1048576)","v":0},0]
[null,null,"T6809",5,13200,240,-76.464940273986088,2.4810365039859135,2.5,2.5,1,1,{"$f":"SUMIF(SOLICITUDES!$C$2:$C$1048576,BD!C22529,SOLICITUDES!$I$2:$I$1048576)","v":0},0,{"$f":"SUMIF(SOLICITUDES!$C$2:$C$1048576,BD!C22529,SOLICITUDES!$J$2:$J$1048576)","v":0},0,{"$f":"SUMIF(SOLICITUDES!$C$2:$C$1048576,BD!C22529,SOLICITUDES!$K$2:$K$1048576)","v":0},0]
[null,null,"T6815",5,13200,240,-76.47968169246839,2.4834556878868397,2.5,2.5,1,1,{"$f":"SUMIF(SOLICITUDES!$C$2:$C$1048576,BD!C22530,SOLICITUDES!$I$2:$I$1048576)","v":0},0,{"$f":"SUMIF(SOLICITUDES!$C$2:$C$1048576,BD!C22530,SOLICITUDES!$J$2:$J$1048576)","v":0},0,{"$f":"SUMIF(SOLICITUDES!$C$2:$C$1048576,BD!C22530,SOLICITUDES!$K$2:$K$1048576)","v":0},0]
[null,null,"T6794",10,13200,240,-76.426752395865435,2.4693978976318327,5,{"$f":"D22531*0.5-M22531","v":5},2,2,{"$f":"SUMIF(SOLICITUDES!$C$2:$C$1048576,BD!C22531,SOLICITUDES!$I$2:$I$1048576)","v":0},{"$f":"M22531/D22531","v":0},{"$f":"SUMIF(SOLICITUDES!$C$2:$C$1048576,BD!C22531,SOLICITUDES!$J$2:$J$1048576)","v":0},0,{"$f":"SUMIF(SOLICITUDES!$C$2:$C$1048576,BD!C22531,SOLICITUDES!$K$2:$K$1048576)","v":0},0]
[null,null,"T5884",15,13200,240,-76.457137039402042,2.4598450875670541,{"$f":"D22532*0.5","v":7.5},7.5,{"$f":"0.2*D22532","v":3},{"$f":"0.2*D22532","v":3},{"$f":"SUMIF(SOLICITUDES!$C$2:$C$1048576,BD!C22532,SOLICITUDES!$I$2:$I$1048576)","v":0},0,{"$f":"SUMIF(SOLICITUDES!$C$2:$C$1048576,BD!C22532,SOLICITUDES!$J$2:$J$1048576)","v":0},{"$f":"O22532/(2*K22532)","v":0},{"$f":"SUMIF(SOLICITUDES!$C$2:$C$1048576,BD!C22532,SOLICITUDES!$K$2:$K$1048576)","v":0},{"$f":"Q22532/(2*L22532)","v":0}]
[null,null,"T5881",10,13200,240,-76.437299317002029,2.4680014292402443,5,5,2,2,{"$f":"SUMIF(SOLICITUDES!$C$2:$C$1048576,BD!C22533,SOLICITUDES!$I$2:$I$1048576)","v":0},0,{"$f":"SUMIF(SOLICITUDES!$C$2:$C$1048576,BD!C22533,SOLICITUDES!$J$2:$J$1048576)","v":0},0,{"$f":"SUMIF(SOLICITUDES!$C$2:$C$1048576,BD!C22533,SOLICITUDES!$K$2:$K$1048576)","v":0},0]
[null,null,"T40364",10,13200,120,-76.455729824370579,2.4546139369797833,5,5,2,2,{"$f":"SUMIF(SOLICITUDES!$C$2:$C$1048576,BD!C22534,SOLICITUDES!$I$2:$I$1048576)","v":0},0,{"$f":"SUMIF(SOLICITUDES!$C$2:$C$1048576,BD!C22534,SOLICITUDES!$J$2:$J$1048576)","v":0},0,{"$f":"SUMIF(SOLICITUDES!$C$2:$C$1048576,BD!C22534,SOLICITUDES!$K$2:$K$1048576)","v":0},0]
[null,null,"T5876",15,13200,240,-76.448633010802524,2.4569744391195587,7.5,7.5,3,3,{"$f":"SUMIF(SOLICITUDES!$C$2:$C$1048576,BD!C22535,SOLICITUDES!$I$2:$I$1048576)","v":0},0,{"$f":"SUMIF(SOLICITUDES!$C$2:$C$1048576,BD!C22535,SOLICITUDES!$J$2:$J$1048576)","v":0},0,{"$f":"SUMIF(SOLICITUDES!$C$2:$C$1048576,BD!C22535,SOLICITUDES!$K$2:$K$1048576)","v":0},0]
[null,null,"T6806",5,13200,240,-76.468935303229415,2.4744188679850292,2.5,2.5,1,1,{"$f":"SUMIF(SOLICITUDES!$C$2:$C$1048576,BD!C22536,SOLICITUDES!$I$2:$I$1048576)","v":0},0,{"$f":"SUMIF(SOLICITUDES!$C$2:$C$1048576,BD!C22536,SOLICITUDES!$J$2:$J$1048576)","v":0},0,{"$f":"SUMIF(SOLICITUDES!$C$2:$C$1048576,BD!C22536,SOLICITUDES!$K$2:$K$1048576)","v":0},0]
[null,null,"T5877",15,13200,240,-76.431239814155859,2.4723230515363825,7.5,7.5,3,3,{"$f":"SUMIF(SOLICITUDES!$C$2:$C$1048576,BD!C22537,SOLICITUDES!$I$2:$I$1048576)","v":0},0,{"$f":"SUMIF(SOLICITUDES!$C$2:$C$1048576,BD!C22537,SOLICITUDES!$J$2:$J$1048576)","v":0},0,{"$f":"SUMIF(SOLICITUDES!$C$2:$C$1048576,BD!C22537,SOLICITUDES!$K$2:$K$1048576)","v":0},0]
[null,null,"T5888",10,13200,240,-76.434856847440116,2.461697309725662,5,5,2,2,{"$f":"SUMIF(SOLICITUDES!$C$2:$C$1048576,BD!C22538,SOLICITUDES!$I$2:$I$1048576)","v":0},0,{"$f":"SUMIF(SOLICITUDES!$C$2:$C$1048576,BD!C22538,SOLICITUDES!$J$2:$J$1048576)","v":0},0,{"$f":"SUMIF(SOLICITUDES!$C$2:$C$1048576,BD!C22538,SOLICITUDES!$K$2:$K$1048576)","v":0},0]
[null,null,"T6820",15,13200,240,-76.421862057427276,2.4678852534772719,7.5,7.5,3,3,{"$f":"SUMIF(SOLICITUDES!$C$2:$C$1048576,BD!C22539,SOLICITUDES!$I$2:$I$1048576)","v":0},0,{"$f":"SUMIF(SOLICITUDES!$C$2:$C$1048576,BD!C22539,SOLICITUDES!$J$2:$J$1048576)","v":0},0,{"$f":"SUMIF(SOLICITUDES!$C$2:$C$1048576,BD!C22539,SOLICITUDES!$K$2:$K$1048576)","v":0},0]
[null,null,"T6795",10,13200,240,-76.449291613779067,2.4521548571053611,5,5,2,2,{"$f":"SUMIF(SOLICITUDES!$C$2:$C$1048576,BD!C22540,SOLICITUDES!$I$2:$I$1048576)","v":0},0,{"$f":"SUMIF(SOLICITUDES!$C$2:$C$1048576,BD!C22540,SOLICITUDES!$J$2:$J$1048576)","v":0},0,{"$f":"SUMIF(SOLICITUDES!$C$2:$C$1048576,BD!C22540,SOLICITUDES!$K$2:$K$1048576)","v":0},0]
[null,null,"T6828",15,13200,240,-76.428521234295076,2.4740830275714645,7.5,7.5,3,3,{"$f":"SUMIF(SOLICITUDES!$C$2:$C$1048576,BD!C22541,SOLICITUDES!$I$2:$I$1048576)","v":0},0,{"$f":"SUMIF(SOLICITUDES!$C$2:$C$1048576,BD!C22541,SOLICITUDES!$J$2:$J$1048576)","v":0},0,{"$f":"SUMIF(SOLICITUDES!$C$2:$C$1048576,BD!C22541,SOLICITUDES!$K$2:$K$1048576)","v":0},0]
[null,null,"T6821",10,13200,240,-76.415411782039996,2.4757493829362729,5,5,2,2,{"$f":"SUMIF(SOLICITUDES!$C$2:$C$1048576,BD!C22542,SOLICITUDES!$I$2:$I$1048576)","v":0},0,{"$f":"SUMIF(SOLICITUDES!$C$2:$C$1048576,BD!C22542,SOLICITUDES!$J$2:$J$1048576)","v":0},0,{"$f":"SUMIF(SOLICITUDES!$C$2:$C$1048576,BD!C22542,SOLICITUDES!$K$2:$K$1048576)","v":0},0]
[null,null,"T6801",5,13200,240,-76.430209480440212,2.4598954563901354,2.5,2.5,1,1,{"$f":"SUMIF(SOLICITUDES!$C$2:$C$1048576,BD!C22543,SOLICITUDES!$I$2:$I$1048576)","v":0},0,{"$f":"SUMIF(SOLICITUDES!$C$2:$C$1048576,BD!C22543,SOLICITUDES!$J$2:$J$1048576)","v":0},0,{"$f":"SUMIF(SOLICITUDES!$C$2:$C$1048576,BD!C22543,SOLICITUDES!$K$2:$K$1048576)","v":0},0]
[null,null,"T5882",10,13200,240,-76.458159391491193,2.465343747106187,5,5,2,2,{"$f":"SUMIF(SOLICITUDES!$C$2:$C$1048576,BD!C22544,SOLICITUDES!$I$2:$I$1048576)","v":0},0,{"$f":"SUMIF(SOLICITUDES!$C$2:$C$1048576,BD!C22544,SOLICITUDES!$J$2:$J$1048576)","v":0},0,{"$f":"SUMIF(SOLICITUDES!$C$2:$C$1048576,BD!C22544,SOLICITUDES!$K$2:$K$1048576)","v":0},0]
[null,null,"T6837",10,13200,240,-76.415380892772703,2.4654314106970143,5,5,2,2,{"$f":"SUMIF(SOLICITUDES!$C$2:$C$1048576,BD!C22545,SOLICITUDES!$I$2:$I$1048576)","v":0},0,{"$f":"SUMIF(SOLICITUDES!$C$2:$C$1048576,BD!C22545,SOLICITUDES!$J$2:$J$1048576)","v":0},0,{"$f":"SUMIF(SOLICITUDES!$C$2:$C$1048576,BD!C22545,SOLICITUDES!$K$2:$K$1048576)","v":0},0]
[null,null,"T6824",10,13200,240,-76.43260310210168,2.4741754662563289,5,5,2,2,{"$f":"SUMIF(SOLICITUDES!$C$2:$C$1048576,BD!C22546,SOLICITUDES!$I$2:$I$1048576)","v":0},0,{"$f":"SUMIF(SOLICITUDES!$C$2:$C$1048576,BD!C22546,SOLICITUDES!$J$2:$J$1048576)","v":0},0,{"$f":"SUMIF(SOLICITUDES!$C$2:$C$1048576,BD!C22546,SOLICITUDES!$K$2:$K$1048576)","v":0},0]
[null,null,"T6793",5,13200,240,-76.424590620422421,2.4590426498521833,2.5,2.5,1,1,{"$f":"SUMIF(SOLICITUDES!$C$2:$C$1048576,BD!C22547,SOLICITUDES!$I$2:$I$1048576)","v":0},0,{"$f":"SUMIF(SOLICITUDES!$C$2:$C$1048576,BD!C22547,SOLICITUDES!$J$2:$J$1048576)","v":0},0,{"$f":"SUMIF(SOLICITUDES!$C$2:$C$1048576,BD!C22547,SOLICITUDES!$K$2:$K$1048576)","v":0},0]
[null,null,"T6838",10,13200,240,-76.410049818539335,2.4644882512105641,5,5,2,2,{"$f":"SUMIF(SOLICITUDES!$C$2:$C$1048576,BD!C22548,SOLICITUDES!$I$2:$I$1048576)","v":0},0,{"$f":"SUMIF(SOLICITUDES!$C$2:$C$1048576,BD!C22548,SOLICITUDES!$J$2:$J$1048576)","v":0},0,{"$f":"SUMIF(SOLICITUDES!$C$2:$C$1048576,BD!C22548,SOLICITUDES!$K$2:$K$1048576)","v":0},0]
[null,null,"T3761",150,13200,208,-76.603329948156954,2.4345577559420484,75,75,30,30,{"$f":"SUMIF(SOLICITUDES!$C$2:$C$1048576,BD!C22549,SOLICITUDES!$I$2:$I$1048576)","v":0},0,{"$f":"SUMIF(SOLICITUDES!$C$2:$C$1048576,BD!C22549,SOLICITUDES!$J$2:$J$1048576)","v":0},0,{"$f":"SUMIF(SOLICITUDES!$C$2:$C$1048576,BD!C22549,SOLICITUDES!$K$2:$K$1048576)","v":0},0]
[null,null,"T3785",225,13200,208,-76.600353639638257,2.4354610065451117,112.5,112.5,45,45,{"$f":"SUMIF(SOLICITUDES!$C$2:$C$1048576,BD!C22550,SOLICITUDES!$I$2:$I$1048576)","v":0},0,{"$f":"SUMIF(SOLICITUDES!$C$2:$C$1048576,BD!C22550,SOLICITUDES!$J$2:$J$1048576)","v":0},0,{"$f":"SUMIF(SOLICITUDES!$C$2:$C$1048576,BD!C22550,SOLICITUDES!$K$2:$K$1048576)","v":0},0]
[null,null,"T3736",75,13200,208,-76.605585118591605,2.4389716462531075,37.5,37.5,15,15,{"$f":"SUMIF(SOLICITUDES!$C$2:$C$1048576,BD!C22551,SOLICITUDES!$I$2:$I$1048576)","v":0},0,{"$f":"SUMIF(SOLICITUDES!$C$2:$C$1048576,BD!C22551,SOLICITUDES!$J$2:$J$1048576)","v":0},0,{"$f":"SUMIF(SOLICITUDES!$C$2:$C$1048576,BD!C22551,SOLICITUDES!$K$2:$K$1048576)","v":0},0]
[null,null,"T3791",30,13200,208,-76.601963506803997,2.4340779712864631,15,15,6,6,{"$f":"SUMIF(SOLICITUDES!$C$2:$C$1048576,BD!C22552,SOLICITUDES!$I$2:$I$1048576)","v":0},0,{"$f":"SUMIF(SOLICITUDES!$C$2:$C$1048576,BD!C22552,SOLICITUDES!$J$2:$J$1048576)","v":0},0,{"$f":"SUMIF(SOLICITUDES!$C$2:$C$1048576,BD!C22552,SOLICITUDES!$K$2:$K$1048576)","v":0},0]
[null,null,"T3789",112.5,13200,214,-76.603428969233832,2.4342231872371096,56.25,56.25,22.5,22.5,{"$f":"SUMIF(SOLICITUDES!$C$2:$C$1048576,BD!C22553,SOLICITUDES!$I$2:$I$1048576)","v":0},0,{"$f":"SUMIF(SOLICITUDES!$C$2:$C$1048576,BD!C22553,SOLICITUDES!$J$2:$J$1048576)","v":0},0,{"$f":"SUMIF(SOLICITUDES!$C$2:$C$1048576,BD!C22553,SOLICITUDES!$K$2:$K$1048576)","v":0},0]
[null,null,"T3768",75,13200,208,-76.604813096879809,2.4355620808003189,37.5,37.5,15,15,{"$f":"SUMIF(SOLICITUDES!$C$2:$C$1048576,BD!C22554,SOLICITUDES!$I$2:$I$1048576)","v":0},0,{"$f":"SUMIF(SOLICITUDES!$C$2:$C$1048576,BD!C22554,SOLICITUDES!$J$2:$J$1048576)","v":0},0,{"$f":"SUMIF(SOLICITUDES!$C$2:$C$1048576,BD!C22554,SOLICITUDES!$K$2:$K$1048576)","v":0},0]
[null,null,"T3748",50,13200,240,-76.606331894663782,2.4391719336328896,25,25,10,10,{"$f":"SUMIF(SOLICITUDES!$C$2:$C$1048576,BD!C22555,SOLICITUDES!$I$2:$I$1048576)","v":0},0,{"$f":"SUMIF(SOLICITUDES!$C$2:$C$1048576,BD!C22555,SOLICITUDES!$J$2:$J$1048576)","v":0},0,{"$f":"SUMIF(SOLICITUDES!$C$2:$C$1048576,BD!C22555,SOLICITUDES!$K$2:$K$1048576)","v":0},0]
[null,null,"T3784",45,13200,208,-76.600371982460459,2.4344481817341599,22.5,22.5,9,9,{"$f":"SUMIF(SOLICITUDES!$C$2:$C$1048576,BD!C22556,SOLICITUDES!$I$2:$I$1048576)","v":0},0,{"$f":"SUMIF(SOLICITUDES!$C$2:$C$1048576,BD!C22556,SOLICITUDES!$J$2:$J$1048576)","v":0},0,{"$f":"SUMIF(SOLICITUDES!$C$2:$C$1048576,BD!C22556,SOLICITUDES!$K$2:$K$1048576)","v":0},0]
[null,null,"T3731",45,13200,208,-76.605002093181525,2.4350376428091205,22.5,22.5,9,9,{"$f":"SUMIF(SOLICITUDES!$C$2:$C$1048576,BD!C22557,SOLICITUDES!$I$2:$I$1048576)","v":0},0,{"$f":"SUMIF(SOLICITUDES!$C$2:$C$1048576,BD!C22557,SOLICITUDES!$J$2:$J$1048576)","v":0},0,{"$f":"SUMIF(SOLICITUDES!$C$2:$C$1048576,BD!C22557,SOLICITUDES!$K$2:$K$1048576)","v":0},0]
[null,null,"T28708",0.5,13200,240,-76.606852711573083,2.4393428650540301,0.25,0.25,0.1,0.1,{"$f":"SUMIF(SOLICITUDES!$C$2:$C$1048576,BD!C22558,SOLICITUDES!$I$2:$I$1048576)","v":0},0,{"$f":"SUMIF(SOLICITUDES!$C$2:$C$1048576,BD!C22558,SOLICITUDES!$J$2:$J$1048576)","v":0},0,{"$f":"SUMIF(SOLICITUDES!$C$2:$C$1048576,BD!C22558,SOLICITUDES!$K$2:$K$1048576)","v":0},0]
[null,null,"T11598",75,13200,208,-76.606424143177492,2.4393291993144359,37.5,37.5,15,15,{"$f":"SUMIF(SOLICITUDES!$C$2:$C$1048576,BD!C22559,SOLICITUDES!$I$2:$I$1048576)","v":0},0,{"$f":"SUMIF(SOLICITUDES!$C$2:$C$1048576,BD!C22559,SOLICITUDES!$J$2:$J$1048576)","v":0},0,{"$f":"SUMIF(SOLICITUDES!$C$2:$C$1048576,BD!C22559,SOLICITUDES!$K$2:$K$1048576)","v":0},0]
[null,null,"T3741",112.5,13200,208,-76.606412150315464,2.4393607939027424,56.25,56.25,22.5,22.5,{"$f":"SUMIF(SOLICITUDES!$C$2:$C$1048576,BD!C22560,SOLICITUDES!$I$2:$I$1048576)","v":0},0,{"$f":"SUMIF(SOLICITUDES!$C$2:$C$1048576,BD!C22560,SOLICITUDES!$J$2:$J$1048576)","v":0},0,{"$f":"SUMIF(SOLICITUDES!$C$2:$C$1048576,BD!C22560,SOLICITUDES!$K$2:$K$1048576)","v":0},0]
[null,null,"T3779",112.5,13200,208,-76.59989484510217,2.4362114325353432,56.25,56.25,22.5,22.5,{"$f":"SUMIF(SOLICITUDES!$C$2:$C$1048576,BD!C22561,SOLICITUDES!$I$2:$I$1048576)","v":0},0,{"$f":"SUMIF(SOLICITUDES!$C$2:$C$1048576,BD!C22561,SOLICITUDES!$J$2:$J$1048576)","v":0},0,{"$f":"SUMIF(SOLICITUDES!$C$2:$C$1048576,BD!C22561,SOLICITUDES!$K$2:$K$1048576)","v":0},0]
[null,null,"T3756",45,13200,208,-76.600038949072086,2.4354880247708564,22.5,22.5,9,9,{"$f":"SUMIF(SOLICITUDES!$C$2:$C$1048576,BD!C22562,SOLICITUDES!$I$2:$I$1048576)","v":0},0,{"$f":"SUMIF(SOLICITUDES!$C$2:$C$1048576,BD!C22562,SOLICITUDES!$J$2:$J$1048576)","v":0},0,{"$f":"SUMIF(SOLICITUDES!$C$2:$C$1048576,BD!C22562,SOLICITUDES!$K$2:$K$1048576)","v":0},0]
[null,null,"T3737",112.5,13200,208,-76.606673123655,2.4386645588842923,56.25,56.25,22.5,22.5,{"$f":"SUMIF(SOLICITUDES!$C$2:$C$1048576,BD!C22563,SOLICITUDES!$I$2:$I$1048576)","v":0},0,{"$f":"SUMIF(SOLICITUDES!$C$2:$C$1048576,BD!C22563,SOLICITUDES!$J$2:$J$1048576)","v":0},0,{"$f":"SUMIF(SOLICITUDES!$C$2:$C$1048576,BD!C22563,SOLICITUDES!$K$2:$K$1048576)","v":0},0]
[null,null,"T3740",225,13200,208,-76.607212234097474,2.4396504665983154,112.5,112.5,45,45,{"$f":"SUMIF(SOLICITUDES!$C$2:$C$1048576,BD!C22564,SOLICITUDES!$I$2:$I$1048576)","v":0},0,{"$f":"SUMIF(SOLICITUDES!$C$2:$C$1048576,BD!C22564,SOLICITUDES!$J$2:$J$1048576)","v":0},0,{"$f":"SUMIF(SOLICITUDES!$C$2:$C$1048576,BD!C22564,SOLICITUDES!$K$2:$K$1048576)","v":0},0]
[null,null,"T3776",112.5,13200,208,-76.599357939460688,2.4362429756099435,56.25,56.25,22.5,22.5,{"$f":"SUMIF(SOLICITUDES!$C$2:$C$1048576,BD!C22565,SOLICITUDES!$I$2:$I$1048576)","v":0},0,{"$f":"SUMIF(SOLICITUDES!$C$2:$C$1048576,BD!C22565,SOLICITUDES!$J$2:$J$1048576)","v":0},0,{"$f":"SUMIF(SOLICITUDES!$C$2:$C$1048576,BD!C22565,SOLICITUDES!$K$2:$K$1048576)","v":0},0]
[null,null,"T31916",112.5,13200,214,-76.599609417351999,2.4350923187478086,56.25,56.25,22.5,22.5,{"$f":"SUMIF(SOLICITUDES!$C$2:$C$1048576,BD!C22566,SOLICITUDES!$I$2:$I$1048576)","v":0},0,{"$f":"SUMIF(SOLICITUDES!$C$2:$C$1048576,BD!C22566,SOLICITUDES!$J$2:$J$1048576)","v":0},0,{"$f":"SUMIF(SOLICITUDES!$C$2:$C$1048576,BD!C22566,SOLICITUDES!$K$2:$K$1048576)","v":0},0]
[null,null,"T3758",112.5,13200,208,-76.598600256677571,2.4359125398417216,56.25,56.25,22.5,22.5,{"$f":"SUMIF(SOLICITUDES!$C$2:$C$1048576,BD!C22567,SOLICITUDES!$I$2:$I$1048576)","v":0},0,{"$f":"SUMIF(SOLICITUDES!$C$2:$C$1048576,BD!C22567,SOLICITUDES!$J$2:$J$1048576)","v":0},0,{"$f":"SUMIF(SOLICITUDES!$C$2:$C$1048576,BD!C22567,SOLICITUDES!$K$2:$K$1048576)","v":0},0]
[null,null,"T3744",112.5,13200,208,-76.606718527579645,2.4373894860254346,56.25,56.25,22.5,22.5,{"$f":"SUMIF(SOLICITUDES!$C$2:$C$1048576,BD!C22568,SOLICITUDES!$I$2:$I$1048576)","v":0},0,{"$f":"SUMIF(SOLICITUDES!$C$2:$C$1048576,BD!C22568,SOLICITUDES!$J$2:$J$1048576)","v":0},0,{"$f":"SUMIF(SOLICITUDES!$C$2:$C$1048576,BD!C22568,SOLICITUDES!$K$2:$K$1048576)","v":0},0]
[null,null,"T3725",112.5,13200,208,-76.607401757653079,2.4376248481782712,56.25,56.25,22.5,22.5,{"$f":"SUMIF(SOLICITUDES!$C$2:$C$1048576,BD!C22569,SOLICITUDES!$I$2:$I$1048576)","v":0},0,{"$f":"SUMIF(SOLICITUDES!$C$2:$C$1048576,BD!C22569,SOLICITUDES!$J$2:$J$1048576)","v":0},0,{"$f":"SUMIF(SOLICITUDES!$C$2:$C$1048576,BD!C22569,SOLICITUDES!$K$2:$K$1048576)","v":0},0]
[null,null,"T42186",30,13200,220,-76.599510353186091,2.4349567827632765,15,15,6,6,{"$f":"SUMIF(SOLICITUDES!$C$2:$C$1048576,BD!C22570,SOLICITUDES!$I$2:$I$1048576)","v":0},0,{"$f":"SUMIF(SOLICITUDES!$C$2:$C$1048576,BD!C22570,SOLICITUDES!$J$2:$J$1048576)","v":0},0,{"$f":"SUMIF(SOLICITUDES!$C$2:$C$1048576,BD!C22570,SOLICITUDES!$K$2:$K$1048576)","v":0},0]
[null,null,"T3726",45,13200,208,-76.607833684283122,2.4380065020907744,22.5,22.5,9,9,{"$f":"SUMIF(SOLICITUDES!$C$2:$C$1048576,BD!C22571,SOLICITUDES!$I$2:$I$1048576)","v":0},0,{"$f":"SUMIF(SOLICITUDES!$C$2:$C$1048576,BD!C22571,SOLICITUDES!$J$2:$J$1048576)","v":0},0,{"$f":"SUMIF(SOLICITUDES!$C$2:$C$1048576,BD!C22571,SOLICITUDES!$K$2:$K$1048576)","v":0},0]
[null,null,"T3739",225,13200,208,-76.608110908299849,2.4399483853777495,112.5,112.5,45,45,{"$f":"SUMIF(SOLICITUDES!$C$2:$C$1048576,BD!C22572,SOLICITUDES!$I$2:$I$1048576)","v":0},0,{"$f":"SUMIF(SOLICITUDES!$C$2:$C$1048576,BD!C22572,SOLICITUDES!$J$2:$J$1048576)","v":0},0,{"$f":"SUMIF(SOLICITUDES!$C$2:$C$1048576,BD!C22572,SOLICITUDES!$K$2:$K$1048576)","v":0},0]
[null,null,"T16860",45,13200,208,-76.608695640285973,2.4399494186890962,22.5,22.5,9,9,{"$f":"SUMIF(SOLICITUDES!$C$2:$C$1048576,BD!C22573,SOLICITUDES!$I$2:$I$1048576)","v":0},0,{"$f":"SUMIF(SOLICITUDES!$C$2:$C$1048576,BD!C22573,SOLICITUDES!$J$2:$J$1048576)","v":0},0,{"$f":"SUMIF(SOLICITUDES!$C$2:$C$1048576,BD!C22573,SOLICITUDES!$K$2:$K$1048576)","v":0},0]
[null,null,"T3747",75,13200,208,-76.608350366920945,2.4393375929545935,37.5,37.5,15,15,{"$f":"SUMIF(SOLICITUDES!$C$2:$C$1048576,BD!C22574,SOLICITUDES!$I$2:$I$1048576)","v":0},0,{"$f":"SUMIF(SOLICITUDES!$C$2:$C$1048576,BD!C22574,SOLICITUDES!$J$2:$J$1048576)","v":0},0,{"$f":"SUMIF(SOLICITUDES!$C$2:$C$1048576,BD!C22574,SOLICITUDES!$K$2:$K$1048576)","v":0},0]
[null,null,"T42352",45,13200,214,-76.609152501597663,2.4400895961986118,22.5,22.5,9,9,{"$f":"SUMIF(SOLICITUDES!$C$2:$C$1048576,BD!C22575,SOLICITUDES!$I$2:$I$1048576)","v":0},0,{"$f":"SUMIF(SOLICITUDES!$C$2:$C$1048576,BD!C22575,SOLICITUDES!$J$2:$J$1048576)","v":0},0,{"$f":"SUMIF(SOLICITUDES!$C$2:$C$1048576,BD!C22575,SOLICITUDES!$K$2:$K$1048576)","v":0},0]
[null,null,"T3721",112.5,13200,214,-76.609010226596851,2.4402208267743681,56.25,56.25,22.5,22.5,{"$f":"SUMIF(SOLICITUDES!$C$2:$C$1048576,BD!C22576,SOLICITUDES!$I$2:$I$1048576)","v":0},0,{"$f":"SUMIF(SOLICITUDES!$C$2:$C$1048576,BD!C22576,SOLICITUDES!$J$2:$J$1048576)","v":0},0,{"$f":"SUMIF(SOLICITUDES!$C$2:$C$1048576,BD!C22576,SOLICITUDES!$K$2:$K$1048576)","v":0},0]
[null,null,"T3774",45,13200,208,-76.598132922902238,2.435369783776236,22.5,22.5,9,9,{"$f":"SUMIF(SOLICITUDES!$C$2:$C$1048576,BD!C22577,SOLICITUDES!$I$2:$I$1048576)","v":0},0,{"$f":"SUMIF(SOLICITUDES!$C$2:$C$1048576,BD!C22577,SOLICITUDES!$J$2:$J$1048576)","v":0},0,{"$f":"SUMIF(SOLICITUDES!$C$2:$C$1048576,BD!C22577,SOLICITUDES!$K$2:$K$1048576)","v":0},0]
[null,null,"T3738",112.5,13200,208,-76.607860573579941,2.436829213207834,56.25,56.25,22.5,22.5,{"$f":"SUMIF(SOLICITUDES!$C$2:$C$1048576,BD!C22578,SOLICITUDES!$I$2:$I$1048576)","v":0},0,{"$f":"SUMIF(SOLICITUDES!$C$2:$C$1048576,BD!C22578,SOLICITUDES!$J$2:$J$1048576)","v":0},0,{"$f":"SUMIF(SOLICITUDES!$C$2:$C$1048576,BD!C22578,SOLICITUDES!$K$2:$K$1048576)","v":0},0]
[null,null,"T29423",112.5,13200,214,-76.609242002586143,2.439576817595321,56.25,56.25,22.5,22.5,{"$f":"SUMIF(SOLICITUDES!$C$2:$C$1048576,BD!C22579,SOLICITUDES!$I$2:$I$1048576)","v":0},0,{"$f":"SUMIF(SOLICITUDES!$C$2:$C$1048576,BD!C22579,SOLICITUDES!$J$2:$J$1048576)","v":0},0,{"$f":"SUMIF(SOLICITUDES!$C$2:$C$1048576,BD!C22579,SOLICITUDES!$K$2:$K$1048576)","v":0},0]
[null,null,"T3745",75,13200,208,-76.606727869567536,2.436403778704999,37.5,37.5,15,15,{"$f":"SUMIF(SOLICITUDES!$C$2:$C$1048576,BD!C22580,SOLICITUDES!$I$2:$I$1048576)","v":0},0,{"$f":"SUMIF(SOLICITUDES!$C$2:$C$1048576,BD!C22580,SOLICITUDES!$J$2:$J$1048576)","v":0},0,{"$f":"SUMIF(SOLICITUDES!$C$2:$C$1048576,BD!C22580,SOLICITUDES!$K$2:$K$1048576)","v":0},0]
[null,null,"T3743",75,13200,208,-76.607861019339879,2.4355450700336312,37.5,37.5,15,15,{"$f":"SUMIF(SOLICITUDES!$C$2:$C$1048576,BD!C22581,SOLICITUDES!$I$2:$I$1048576)","v":0},0,{"$f":"SUMIF(SOLICITUDES!$C$2:$C$1048576,BD!C22581,SOLICITUDES!$J$2:$J$1048576)","v":0},0,{"$f":"SUMIF(SOLICITUDES!$C$2:$C$1048576,BD!C22581,SOLICITUDES!$K$2:$K$1048576)","v":0},0]
[null,null,"T3750",45,13200,208,-76.610394721141446,2.4405287760719632,22.5,22.5,9,9,{"$f":"SUMIF(SOLICITUDES!$C$2:$C$1048576,BD!C22582,SOLICITUDES!$I$2:$I$1048576)","v":0},0,{"$f":"SUMIF(SOLICITUDES!$C$2:$C$1048576,BD!C22582,SOLICITUDES!$J$2:$J$1048576)","v":0},0,{"$f":"SUMIF(SOLICITUDES!$C$2:$C$1048576,BD!C22582,SOLICITUDES!$K$2:$K$1048576)","v":0},0]
[null,null,"T3724",30,13200,208,-76.608908990269967,2.4378272146692606,15,15,6,6,{"$f":"SUMIF(SOLICITUDES!$C$2:$C$1048576,BD!C22583,SOLICITUDES!$I$2:$I$1048576)","v":0},0,{"$f":"SUMIF(SOLICITUDES!$C$2:$C$1048576,BD!C22583,SOLICITUDES!$J$2:$J$1048576)","v":0},0,{"$f":"SUMIF(SOLICITUDES!$C$2:$C$1048576,BD!C22583,SOLICITUDES!$K$2:$K$1048576)","v":0},0]
[null,null,"T5094",75,13200,208,-76.603662187560161,2.4408332064735827,37.5,37.5,15,15,{"$f":"SUMIF(SOLICITUDES!$C$2:$C$1048576,BD!C22584,SOLICITUDES!$I$2:$I$1048576)","v":0},0,{"$f":"SUMIF(SOLICITUDES!$C$2:$C$1048576,BD!C22584,SOLICITUDES!$J$2:$J$1048576)","v":0},0,{"$f":"SUMIF(SOLICITUDES!$C$2:$C$1048576,BD!C22584,SOLICITUDES!$K$2:$K$1048576)","v":0},0]
[null,null,"T22883",5,13200,240,-76.852352369278137,2.9119421417585345,2.5,2.5,1,1,{"$f":"SUMIF(SOLICITUDES!$C$2:$C$1048576,BD!C22585,SOLICITUDES!$I$2:$I$1048576)","v":0},0,{"$f":"SUMIF(SOLICITUDES!$C$2:$C$1048576,BD!C22585,SOLICITUDES!$J$2:$J$1048576)","v":0},0,{"$f":"SUMIF(SOLICITUDES!$C$2:$C$1048576,BD!C22585,SOLICITUDES!$K$2:$K$1048576)","v":0},0]
[null,null,"T22893",15,13200,240,-76.810968979113071,2.8984911193001652,7.5,7.5,3,3,{"$f":"SUMIF(SOLICITUDES!$C$2:$C$1048576,BD!C22586,SOLICITUDES!$I$2:$I$1048576)","v":0},0,{"$f":"SUMIF(SOLICITUDES!$C$2:$C$1048576,BD!C22586,SOLICITUDES!$J$2:$J$1048576)","v":0},0,{"$f":"SUMIF(SOLICITUDES!$C$2:$C$1048576,BD!C22586,SOLICITUDES!$K$2:$K$1048576)","v":0},0]
[null,null,"T22889",5,13200,240,-76.831457096971619,2.8932857152534566,2.5,2.5,1,1,{"$f":"SUMIF(SOLICITUDES!$C$2:$C$1048576,BD!C22587,SOLICITUDES!$I$2:$I$1048576)","v":0},0,{"$f":"SUMIF(SOLICITUDES!$C$2:$C$1048576,BD!C22587,SOLICITUDES!$J$2:$J$1048576)","v":0},0,{"$f":"SUMIF(SOLICITUDES!$C$2:$C$1048576,BD!C22587,SOLICITUDES!$K$2:$K$1048576)","v":0},0]
[null,null,"T22890",5,13200,240,-76.834411578165088,2.8961473697569993,2.5,2.5,1,1,{"$f":"SUMIF(SOLICITUDES!$C$2:$C$1048576,BD!C22588,SOLICITUDES!$I$2:$I$1048576)","v":0},0,{"$f":"SUMIF(SOLICITUDES!$C$2:$C$1048576,BD!C22588,SOLICITUDES!$J$2:$J$1048576)","v":0},0,{"$f":"SUMIF(SOLICITUDES!$C$2:$C$1048576,BD!C22588,SOLICITUDES!$K$2:$K$1048576)","v":0},0]
[null,null,"T22884",5,13200,240,-76.859171873797834,2.9133957102195218,2.5,2.5,1,1,{"$f":"SUMIF(SOLICITUDES!$C$2:$C$1048576,BD!C22589,SOLICITUDES!$I$2:$I$1048576)","v":0},0,{"$f":"SUMIF(SOLICITUDES!$C$2:$C$1048576,BD!C22589,SOLICITUDES!$J$2:$J$1048576)","v":0},0,{"$f":"SUMIF(SOLICITUDES!$C$2:$C$1048576,BD!C22589,SOLICITUDES!$K$2:$K$1048576)","v":0},0]
[null,null,"T22923",5,13200,240,-76.843115779445156,2.8952018077339945,2.5,2.5,1,1,{"$f":"SUMIF(SOLICITUDES!$C$2:$C$1048576,BD!C22590,SOLICITUDES!$I$2:$I$1048576)","v":0},0,{"$f":"SUMIF(SOLICITUDES!$C$2:$C$1048576,BD!C22590,SOLICITUDES!$J$2:$J$1048576)","v":0},0,{"$f":"SUMIF(SOLICITUDES!$C$2:$C$1048576,BD!C22590,SOLICITUDES!$K$2:$K$1048576)","v":0},0]
[null,null,"T22888",5,13200,240,-76.833599189428824,2.8830914035978727,2.5,2.5,1,1,{"$f":"SUMIF(SOLICITUDES!$C$2:$C$1048576,BD!C22591,SOLICITUDES!$I$2:$I$1048576)","v":0},0,{"$f":"SUMIF(SOLICITUDES!$C$2:$C$1048576,BD!C22591,SOLICITUDES!$J$2:$J$1048576)","v":0},0,{"$f":"SUMIF(SOLICITUDES!$C$2:$C$1048576,BD!C22591,SOLICITUDES!$K$2:$K$1048576)","v":0},0]
[null,null,"T22894",5,13200,240,-76.827545976913711,2.888336780012966,2.5,2.5,1,1,{"$f":"SUMIF(SOLICITUDES!$C$2:$C$1048576,BD!C22592,SOLICITUDES!$I$2:$I$1048576)","v":0},0,{"$f":"SUMIF(SOLICITUDES!$C$2:$C$1048576,BD!C22592,SOLICITUDES!$J$2:$J$1048576)","v":0},0,{"$f":"SUMIF(SOLICITUDES!$C$2:$C$1048576,BD!C22592,SOLICITUDES!$K$2:$K$1048576)","v":0},0]
[null,null,"T22895",10,13200,240,-76.824008388188133,2.8891180225079909,5,5,2,2,{"$f":"SUMIF(SOLICITUDES!$C$2:$C$1048576,BD!C22593,SOLICITUDES!$I$2:$I$1048576)","v":0},0,{"$f":"SUMIF(SOLICITUDES!$C$2:$C$1048576,BD!C22593,SOLICITUDES!$J$2:$J$1048576)","v":0},0,{"$f":"SUMIF(SOLICITUDES!$C$2:$C$1048576,BD!C22593,SOLICITUDES!$K$2:$K$1048576)","v":0},0]
[null,null,"T22885",10,13200,240,-76.863837066430321,2.9173665673865168,5,5,2,2,{"$f":"SUMIF(SOLICITUDES!$C$2:$C$1048576,BD!C22594,SOLICITUDES!$I$2:$I$1048576)","v":0},0,{"$f":"SUMIF(SOLICITUDES!$C$2:$C$1048576,BD!C22594,SOLICITUDES!$J$2:$J$1048576)","v":0},0,{"$f":"SUMIF(SOLICITUDES!$C$2:$C$1048576,BD!C22594,SOLICITUDES!$K$2:$K$1048576)","v":0},0]
[null,null,"T22831",5,13200,240,-76.836426176053223,2.8801786964111482,2.5,{"$f":"D22595*0.5-M22595","v":2.5},1,1,{"$f":"SUMIF(SOLICITUDES!$C$2:$C$1048576,BD!C22595,SOLICITUDES!$I$2:$I$1048576)","v":0},{"$f":"M22595/D22595","v":0},{"$f":"SUMIF(SOLICITUDES!$C$2:$C$1048576,BD!C22595,SOLICITUDES!$J$2:$J$1048576)","v":0},0,{"$f":"SUMIF(SOLICITUDES!$C$2:$C$1048576,BD!C22595,SOLICITUDES!$K$2:$K$1048576)","v":0},0]
[null,null,"T22896",10,13200,240,-76.819131435639974,2.8862243834636949,{"$f":"D22596*0.5","v":5},5,{"$f":"0.2*D22596","v":2},{"$f":"0.2*D22596","v":2},{"$f":"SUMIF(SOLICITUDES!$C$2:$C$1048576,BD!C22596,SOLICITUDES!$I$2:$I$1048576)","v":0},0,{"$f":"SUMIF(SOLICITUDES!$C$2:$C$1048576,BD!C22596,SOLICITUDES!$J$2:$J$1048576)","v":0},{"$f":"O22596/(2*K22596)","v":0},{"$f":"SUMIF(SOLICITUDES!$C$2:$C$1048576,BD!C22596,SOLICITUDES!$K$2:$K$1048576)","v":0},{"$f":"Q22596/(2*L22596)","v":0}]
[null,null,"T22833",5,13200,240,-76.832918650044789,2.879321804526469,2.5,2.5,1,1,{"$f":"SUMIF(SOLICITUDES!$C$2:$C$1048576,BD!C22597,SOLICITUDES!$I$2:$I$1048576)","v":0},0,{"$f":"SUMIF(SOLICITUDES!$C$2:$C$1048576,BD!C22597,SOLICITUDES!$J$2:$J$1048576)","v":0},0,{"$f":"SUMIF(SOLICITUDES!$C$2:$C$1048576,BD!C22597,SOLICITUDES!$K$2:$K$1048576)","v":0},0]
[null,null,"T22832",5,13200,240,-76.842470294404748,2.8797313189710483,2.5,2.5,1,1,{"$f":"SUMIF(SOLICITUDES!$C$2:$C$1048576,BD!C22598,SOLICITUDES!$I$2:$I$1048576)","v":0},0,{"$f":"SUMIF(SOLICITUDES!$C$2:$C$1048576,BD!C22598,SOLICITUDES!$J$2:$J$1048576)","v":0},0,{"$f":"SUMIF(SOLICITUDES!$C$2:$C$1048576,BD!C22598,SOLICITUDES!$K$2:$K$1048576)","v":0},0]
[null,null,"T22899",10,13200,240,-76.81900749385477,2.8917143669181509,5,5,2,2,{"$f":"SUMIF(SOLICITUDES!$C$2:$C$1048576,BD!C22599,SOLICITUDES!$I$2:$I$1048576)","v":0},0,{"$f":"SUMIF(SOLICITUDES!$C$2:$C$1048576,BD!C22599,SOLICITUDES!$J$2:$J$1048576)","v":0},0,{"$f":"SUMIF(SOLICITUDES!$C$2:$C$1048576,BD!C22599,SOLICITUDES!$K$2:$K$1048576)","v":0},0]
[null,null,"T22897",5,13200,240,-76.823852419595113,2.8849104136098704,2.5,2.5,1,1,{"$f":"SUMIF(SOLICITUDES!$C$2:$C$1048576,BD!C22600,SOLICITUDES!$I$2:$I$1048576)","v":0},0,{"$f":"SUMIF(SOLICITUDES!$C$2:$C$1048576,BD!C22600,SOLICITUDES!$J$2:$J$1048576)","v":0},0,{"$f":"SUMIF(SOLICITUDES!$C$2:$C$1048576,BD!C22600,SOLICITUDES!$K$2:$K$1048576)","v":0},0]
[null,null,"T22898",5,13200,240,-76.815838755015761,2.8841689521833298,2.5,2.5,1,1,{"$f":"SUMIF(SOLICITUDES!$C$2:$C$1048576,BD!C22601,SOLICITUDES!$I$2:$I$1048576)","v":0},0,{"$f":"SUMIF(SOLICITUDES!$C$2:$C$1048576,BD!C22601,SOLICITUDES!$J$2:$J$1048576)","v":0},0,{"$f":"SUMIF(SOLICITUDES!$C$2:$C$1048576,BD!C22601,SOLICITUDES!$K$2:$K$1048576)","v":0},0]
[null,null,"T22900",10,13200,240,-76.81262679743682,2.8890480331324442,5,5,2,2,{"$f":"SUMIF(SOLICITUDES!$C$2:$C$1048576,BD!C22602,SOLICITUDES!$I$2:$I$1048576)","v":0},0,{"$f":"SUMIF(SOLICITUDES!$C$2:$C$1048576,BD!C22602,SOLICITUDES!$J$2:$J$1048576)","v":0},0,{"$f":"SUMIF(SOLICITUDES!$C$2:$C$1048576,BD!C22602,SOLICITUDES!$K$2:$K$1048576)","v":0},0]
[null,null,"T22824",5,13200,240,-76.843728839705832,2.8738065055439042,2.5,2.5,1,1,{"$f":"SUMIF(SOLICITUDES!$C$2:$C$1048576,BD!C22603,SOLICITUDES!$I$2:$I$1048576)","v":0},0,{"$f":"SUMIF(SOLICITUDES!$C$2:$C$1048576,BD!C22603,SOLICITUDES!$J$2:$J$1048576)","v":0},0,{"$f":"SUMIF(SOLICITUDES!$C$2:$C$1048576,BD!C22603,SOLICITUDES!$K$2:$K$1048576)","v":0},0]
[null,null,"T22830",5,13200,240,-76.841685363457074,2.8837655059344525,2.5,2.5,1,1,{"$f":"SUMIF(SOLICITUDES!$C$2:$C$1048576,BD!C22604,SOLICITUDES!$I$2:$I$1048576)","v":0},0,{"$f":"SUMIF(SOLICITUDES!$C$2:$C$1048576,BD!C22604,SOLICITUDES!$J$2:$J$1048576)","v":0},0,{"$f":"SUMIF(SOLICITUDES!$C$2:$C$1048576,BD!C22604,SOLICITUDES!$K$2:$K$1048576)","v":0},0]
[null,null,"T22829",10,13200,240,-76.84933755052603,2.8830296446024493,5,5,2,2,{"$f":"SUMIF(SOLICITUDES!$C$2:$C$1048576,BD!C22605,SOLICITUDES!$I$2:$I$1048576)","v":0},0,{"$f":"SUMIF(SOLICITUDES!$C$2:$C$1048576,BD!C22605,SOLICITUDES!$J$2:$J$1048576)","v":0},0,{"$f":"SUMIF(SOLICITUDES!$C$2:$C$1048576,BD!C22605,SOLICITUDES!$K$2:$K$1048576)","v":0},0]
[null,null,"T22825",5,13200,240,-76.850538880868243,2.8751156188090476,2.5,2.5,1,1,{"$f":"SUMIF(SOLICITUDES!$C$2:$C$1048576,BD!C22606,SOLICITUDES!$I$2:$I$1048576)","v":0},0,{"$f":"SUMIF(SOLICITUDES!$C$2:$C$1048576,BD!C22606,SOLICITUDES!$J$2:$J$1048576)","v":0},0,{"$f":"SUMIF(SOLICITUDES!$C$2:$C$1048576,BD!C22606,SOLICITUDES!$K$2:$K$1048576)","v":0},0]
[null,null,"T22821",5,13200,240,-76.841338704790772,2.8694971537425706,2.5,2.5,1,1,{"$f":"SUMIF(SOLICITUDES!$C$2:$C$1048576,BD!C22607,SOLICITUDES!$I$2:$I$1048576)","v":0},0,{"$f":"SUMIF(SOLICITUDES!$C$2:$C$1048576,BD!C22607,SOLICITUDES!$J$2:$J$1048576)","v":0},0,{"$f":"SUMIF(SOLICITUDES!$C$2:$C$1048576,BD!C22607,SOLICITUDES!$K$2:$K$1048576)","v":0},0]
[null,null,"T22828",10,13200,240,-76.854312026740402,2.878183859782756,5,5,2,2,{"$f":"SUMIF(SOLICITUDES!$C$2:$C$1048576,BD!C22608,SOLICITUDES!$I$2:$I$1048576)","v":0},0,{"$f":"SUMIF(SOLICITUDES!$C$2:$C$1048576,BD!C22608,SOLICITUDES!$J$2:$J$1048576)","v":0},0,{"$f":"SUMIF(SOLICITUDES!$C$2:$C$1048576,BD!C22608,SOLICITUDES!$K$2:$K$1048576)","v":0},0]
[null,null,"T22820",5,13200,240,-76.83957076053764,2.8718329564057412,2.5,2.5,1,1,{"$f":"SUMIF(SOLICITUDES!$C$2:$C$1048576,BD!C22609,SOLICITUDES!$I$2:$I$1048576)","v":0},0,{"$f":"SUMIF(SOLICITUDES!$C$2:$C$1048576,BD!C22609,SOLICITUDES!$J$2:$J$1048576)","v":0},0,{"$f":"SUMIF(SOLICITUDES!$C$2:$C$1048576,BD!C22609,SOLICITUDES!$K$2:$K$1048576)","v":0},0]
[null,null,"T22823",5,13200,240,-76.845293363996717,2.8680077960987109,2.5,2.5,1,1,{"$f":"SUMIF(SOLICITUDES!$C$2:$C$1048576,BD!C22610,SOLICITUDES!$I$2:$I$1048576)","v":0},0,{"$f":"SUMIF(SOLICITUDES!$C$2:$C$1048576,BD!C22610,SOLICITUDES!$J$2:$J$1048576)","v":0},0,{"$f":"SUMIF(SOLICITUDES!$C$2:$C$1048576,BD!C22610,SOLICITUDES!$K$2:$K$1048576)","v":0},0]
[null,null,"T22822",5,13200,240,-76.843372489818563,2.8646923482973969,2.5,2.5,1,1,{"$f":"SUMIF(SOLICITUDES!$C$2:$C$1048576,BD!C22611,SOLICITUDES!$I$2:$I$1048576)","v":0},0,{"$f":"SUMIF(SOLICITUDES!$C$2:$C$1048576,BD!C22611,SOLICITUDES!$J$2:$J$1048576)","v":0},0,{"$f":"SUMIF(SOLICITUDES!$C$2:$C$1048576,BD!C22611,SOLICITUDES!$K$2:$K$1048576)","v":0},0]
[null,null,"T22827",5,13200,240,-76.859865339456377,2.8796821043319296,2.5,2.5,1,1,{"$f":"SUMIF(SOLICITUDES!$C$2:$C$1048576,BD!C22612,SOLICITUDES!$I$2:$I$1048576)","v":0},0,{"$f":"SUMIF(SOLICITUDES!$C$2:$C$1048576,BD!C22612,SOLICITUDES!$J$2:$J$1048576)","v":0},0,{"$f":"SUMIF(SOLICITUDES!$C$2:$C$1048576,BD!C22612,SOLICITUDES!$K$2:$K$1048576)","v":0},0]
[null,null,"T22836",5,13200,240,-76.856388877335306,2.8889046639958069,2.5,2.5,1,1,{"$f":"SUMIF(SOLICITUDES!$C$2:$C$1048576,BD!C22613,SOLICITUDES!$I$2:$I$1048576)","v":0},0,{"$f":"SUMIF(SOLICITUDES!$C$2:$C$1048576,BD!C22613,SOLICITUDES!$J$2:$J$1048576)","v":0},0,{"$f":"SUMIF(SOLICITUDES!$C$2:$C$1048576,BD!C22613,SOLICITUDES!$K$2:$K$1048576)","v":0},0]
[null,null,"T22835",5,13200,240,-76.853857065388411,2.8915672673547985,2.5,2.5,1,1,{"$f":"SUMIF(SOLICITUDES!$C$2:$C$1048576,BD!C22614,SOLICITUDES!$I$2:$I$1048576)","v":0},0,{"$f":"SUMIF(SOLICITUDES!$C$2:$C$1048576,BD!C22614,SOLICITUDES!$J$2:$J$1048576)","v":0},0,{"$f":"SUMIF(SOLICITUDES!$C$2:$C$1048576,BD!C22614,SOLICITUDES!$K$2:$K$1048576)","v":0},0]
[null,null,"T5101",5,13200,240,-76.427001613062771,2.5645929442991355,2.5,2.5,1,1,{"$f":"SUMIF(SOLICITUDES!$C$2:$C$1048576,BD!C22615,SOLICITUDES!$I$2:$I$1048576)","v":0},0,{"$f":"SUMIF(SOLICITUDES!$C$2:$C$1048576,BD!C22615,SOLICITUDES!$J$2:$J$1048576)","v":0},0,{"$f":"SUMIF(SOLICITUDES!$C$2:$C$1048576,BD!C22615,SOLICITUDES!$K$2:$K$1048576)","v":0},0]
[null,null,"T5112",37.5,13200,240,-76.427123473841604,2.5546819529272762,18.75,18.75,7.5,7.5,{"$f":"SUMIF(SOLICITUDES!$C$2:$C$1048576,BD!C22616,SOLICITUDES!$I$2:$I$1048576)","v":0},0,{"$f":"SUMIF(SOLICITUDES!$C$2:$C$1048576,BD!C22616,SOLICITUDES!$J$2:$J$1048576)","v":0},0,{"$f":"SUMIF(SOLICITUDES!$C$2:$C$1048576,BD!C22616,SOLICITUDES!$K$2:$K$1048576)","v":0},0]
[null,null,"T5103",10,13200,240,-76.418780826460122,2.5519918654888132,5,5,2,2,{"$f":"SUMIF(SOLICITUDES!$C$2:$C$1048576,BD!C22617,SOLICITUDES!$I$2:$I$1048576)","v":0},0,{"$f":"SUMIF(SOLICITUDES!$C$2:$C$1048576,BD!C22617,SOLICITUDES!$J$2:$J$1048576)","v":0},0,{"$f":"SUMIF(SOLICITUDES!$C$2:$C$1048576,BD!C22617,SOLICITUDES!$K$2:$K$1048576)","v":0},0]
[null,null,"T5107",10,13200,240,-76.428428244771837,2.5705829298226979,5,5,2,2,{"$f":"SUMIF(SOLICITUDES!$C$2:$C$1048576,BD!C22618,SOLICITUDES!$I$2:$I$1048576)","v":0},0,{"$f":"SUMIF(SOLICITUDES!$C$2:$C$1048576,BD!C22618,SOLICITUDES!$J$2:$J$1048576)","v":0},0,{"$f":"SUMIF(SOLICITUDES!$C$2:$C$1048576,BD!C22618,SOLICITUDES!$K$2:$K$1048576)","v":0},0]
[null,null,"T5698",15,13200,240,-76.420384443157346,2.5458525923415967,7.5,7.5,3,3,{"$f":"SUMIF(SOLICITUDES!$C$2:$C$1048576,BD!C22619,SOLICITUDES!$I$2:$I$1048576)","v":0},0,{"$f":"SUMIF(SOLICITUDES!$C$2:$C$1048576,BD!C22619,SOLICITUDES!$J$2:$J$1048576)","v":0},0,{"$f":"SUMIF(SOLICITUDES!$C$2:$C$1048576,BD!C22619,SOLICITUDES!$K$2:$K$1048576)","v":0},0]
[null,null,"T5114",37.5,13200,240,-76.431330275381555,2.557080409415617,18.75,18.75,7.5,7.5,{"$f":"SUMIF(SOLICITUDES!$C$2:$C$1048576,BD!C22620,SOLICITUDES!$I$2:$I$1048576)","v":0},0,{"$f":"SUMIF(SOLICITUDES!$C$2:$C$1048576,BD!C22620,SOLICITUDES!$J$2:$J$1048576)","v":0},0,{"$f":"SUMIF(SOLICITUDES!$C$2:$C$1048576,BD!C22620,SOLICITUDES!$K$2:$K$1048576)","v":0},0]
[null,null,"T5100",15,13200,240,-76.425684057683128,2.5562094277120702,7.5,7.5,3,3,{"$f":"SUMIF(SOLICITUDES!$C$2:$C$1048576,BD!C22621,SOLICITUDES!$I$2:$I$1048576)","v":0},0,{"$f":"SUMIF(SOLICITUDES!$C$2:$C$1048576,BD!C22621,SOLICITUDES!$J$2:$J$1048576)","v":0},0,{"$f":"SUMIF(SOLICITUDES!$C$2:$C$1048576,BD!C22621,SOLICITUDES!$K$2:$K$1048576)","v":0},0]
[null,null,"T5609",25,13200,240,-76.43752913810637,2.5494966003945252,12.5,12.5,5,5,{"$f":"SUMIF(SOLICITUDES!$C$2:$C$1048576,BD!C22622,SOLICITUDES!$I$2:$I$1048576)","v":0},0,{"$f":"SUMIF(SOLICITUDES!$C$2:$C$1048576,BD!C22622,SOLICITUDES!$J$2:$J$1048576)","v":0},0,{"$f":"SUMIF(SOLICITUDES!$C$2:$C$1048576,BD!C22622,SOLICITUDES!$K$2:$K$1048576)","v":0},0]
[null,null,"T5604",5,13200,240,-76.44005792459258,2.5452295669431906,2.5,2.5,1,1,{"$f":"SUMIF(SOLICITUDES!$C$2:$C$1048576,BD!C22623,SOLICITUDES!$I$2:$I$1048576)","v":0},0,{"$f":"SUMIF(SOLICITUDES!$C$2:$C$1048576,BD!C22623,SOLICITUDES!$J$2:$J$1048576)","v":0},0,{"$f":"SUMIF(SOLICITUDES!$C$2:$C$1048576,BD!C22623,SOLICITUDES!$K$2:$K$1048576)","v":0},0]
[null,null,"T5606",10,13200,240,-76.450570709848989,2.5413372945214543,5,5,2,2,{"$f":"SUMIF(SOLICITUDES!$C$2:$C$1048576,BD!C22624,SOLICITUDES!$I$2:$I$1048576)","v":0},0,{"$f":"SUMIF(SOLICITUDES!$C$2:$C$1048576,BD!C22624,SOLICITUDES!$J$2:$J$1048576)","v":0},0,{"$f":"SUMIF(SOLICITUDES!$C$2:$C$1048576,BD!C22624,SOLICITUDES!$K$2:$K$1048576)","v":0},0]
[null,null,"T5610",10,13200,240,-76.431442334526977,2.536030689933821,5,5,2,2,{"$f":"SUMIF(SOLICITUDES!$C$2:$C$1048576,BD!C22625,SOLICITUDES!$I$2:$I$1048576)","v":0},0,{"$f":"SUMIF(SOLICITUDES!$C$2:$C$1048576,BD!C22625,SOLICITUDES!$J$2:$J$1048576)","v":0},0,{"$f":"SUMIF(SOLICITUDES!$C$2:$C$1048576,BD!C22625,SOLICITUDES!$K$2:$K$1048576)","v":0},0]
[null,null,"T5603",15,13200,240,-76.44555009285294,2.5484244190954537,7.5,7.5,3,3,{"$f":"SUMIF(SOLICITUDES!$C$2:$C$1048576,BD!C22626,SOLICITUDES!$I$2:$I$1048576)","v":0},0,{"$f":"SUMIF(SOLICITUDES!$C$2:$C$1048576,BD!C22626,SOLICITUDES!$J$2:$J$1048576)","v":0},0,{"$f":"SUMIF(SOLICITUDES!$C$2:$C$1048576,BD!C22626,SOLICITUDES!$K$2:$K$1048576)","v":0},0]
[null,null,"T5105",37.5,13200,240,-76.434348775629445,2.5623901802607536,18.75,18.75,7.5,7.5,{"$f":"SUMIF(SOLICITUDES!$C$2:$C$1048576,BD!C22627,SOLICITUDES!$I$2:$I$1048576)","v":0},0,{"$f":"SUMIF(SOLICITUDES!$C$2:$C$1048576,BD!C22627,SOLICITUDES!$J$2:$J$1048576)","v":0},0,{"$f":"SUMIF(SOLICITUDES!$C$2:$C$1048576,BD!C22627,SOLICITUDES!$K$2:$K$1048576)","v":0},0]
[null,null,"T5102",5,13200,240,-76.411570542073619,2.5503513229206765,2.5,2.5,1,1,{"$f":"SUMIF(SOLICITUDES!$C$2:$C$1048576,BD!C22628,SOLICITUDES!$I$2:$I$1048576)","v":0},0,{"$f":"SUMIF(SOLICITUDES!$C$2:$C$1048576,BD!C22628,SOLICITUDES!$J$2:$J$1048576)","v":0},0,{"$f":"SUMIF(SOLICITUDES!$C$2:$C$1048576,BD!C22628,SOLICITUDES!$K$2:$K$1048576)","v":0},0]
[null,null,"T5600",10,13200,240,-76.439605351944749,2.5622027871210142,5,5,2,2,{"$f":"SUMIF(SOLICITUDES!$C$2:$C$1048576,BD!C22629,SOLICITUDES!$I$2:$I$1048576)","v":0},0,{"$f":"SUMIF(SOLICITUDES!$C$2:$C$1048576,BD!C22629,SOLICITUDES!$J$2:$J$1048576)","v":0},0,{"$f":"SUMIF(SOLICITUDES!$C$2:$C$1048576,BD!C22629,SOLICITUDES!$K$2:$K$1048576)","v":0},0]
[null,null,"T5599",10,13200,220,-76.444089436870968,2.5565081008176325,5,5,2,2,{"$f":"SUMIF(SOLICITUDES!$C$2:$C$1048576,BD!C22630,SOLICITUDES!$I$2:$I$1048576)","v":0},0,{"$f":"SUMIF(SOLICITUDES!$C$2:$C$1048576,BD!C22630,SOLICITUDES!$J$2:$J$1048576)","v":0},0,{"$f":"SUMIF(SOLICITUDES!$C$2:$C$1048576,BD!C22630,SOLICITUDES!$K$2:$K$1048576)","v":0},0]
[null,null,"T5113",15,13200,240,-76.403993551276443,2.545247212599401,7.5,7.5,3,3,{"$f":"SUMIF(SOLICITUDES!$C$2:$C$1048576,BD!C22631,SOLICITUDES!$I$2:$I$1048576)","v":0},0,{"$f":"SUMIF(SOLICITUDES!$C$2:$C$1048576,BD!C22631,SOLICITUDES!$J$2:$J$1048576)","v":0},0,{"$f":"SUMIF(SOLICITUDES!$C$2:$C$1048576,BD!C22631,SOLICITUDES!$K$2:$K$1048576)","v":0},0]
[null,null,"T5588",10,13200,240,-76.462595353536301,2.5348412435030783,5,5,2,2,{"$f":"SUMIF(SOLICITUDES!$C$2:$C$1048576,BD!C22632,SOLICITUDES!$I$2:$I$1048576)","v":0},0,{"$f":"SUMIF(SOLICITUDES!$C$2:$C$1048576,BD!C22632,SOLICITUDES!$J$2:$J$1048576)","v":0},0,{"$f":"SUMIF(SOLICITUDES!$C$2:$C$1048576,BD!C22632,SOLICITUDES!$K$2:$K$1048576)","v":0},0]
[null,null,"T5106",5,13200,240,-76.409033632217202,2.5528910695725675,2.5,2.5,1,1,{"$f":"SUMIF(SOLICITUDES!$C$2:$C$1048576,BD!C22633,SOLICITUDES!$I$2:$I$1048576)","v":0},0,{"$f":"SUMIF(SOLICITUDES!$C$2:$C$1048576,BD!C22633,SOLICITUDES!$J$2:$J$1048576)","v":0},0,{"$f":"SUMIF(SOLICITUDES!$C$2:$C$1048576,BD!C22633,SOLICITUDES!$K$2:$K$1048576)","v":0},0]
[null,null,"T5585",30,13200,208,-76.468172793349538,2.5287669905233696,15,15,6,6,{"$f":"SUMIF(SOLICITUDES!$C$2:$C$1048576,BD!C22634,SOLICITUDES!$I$2:$I$1048576)","v":0},0,{"$f":"SUMIF(SOLICITUDES!$C$2:$C$1048576,BD!C22634,SOLICITUDES!$J$2:$J$1048576)","v":0},0,{"$f":"SUMIF(SOLICITUDES!$C$2:$C$1048576,BD!C22634,SOLICITUDES!$K$2:$K$1048576)","v":0},0]
[null,null,"T5591",45,13200,208,-76.466501752805485,2.5282367312721972,22.5,22.5,9,9,{"$f":"SUMIF(SOLICITUDES!$C$2:$C$1048576,BD!C22635,SOLICITUDES!$I$2:$I$1048576)","v":0},0,{"$f":"SUMIF(SOLICITUDES!$C$2:$C$1048576,BD!C22635,SOLICITUDES!$J$2:$J$1048576)","v":0},0,{"$f":"SUMIF(SOLICITUDES!$C$2:$C$1048576,BD!C22635,SOLICITUDES!$K$2:$K$1048576)","v":0},0]
[null,null,"T5608",45,13200,208,-76.469350142403712,2.5298526677806281,22.5,18.7,9,9,{"$f":"SUMIF(SOLICITUDES!$C$2:$C$1048576,BD!C22636,SOLICITUDES!$I$2:$I$1048576)","v":3.8},8.4444444444444447E-2,{"$f":"SUMIF(SOLICITUDES!$C$2:$C$1048576,BD!C22636,SOLICITUDES!$J$2:$J$1048576)","v":0},0,{"$f":"SUMIF(SOLICITUDES!$C$2:$C$1048576,BD!C22636,SOLICITUDES!$K$2:$K$1048576)","v":3.8},0.21111111111111111]
[null,null,"T5116",5,13200,240,-76.398248845952907,2.5437701107036399,2.5,2.5,1,1,{"$f":"SUMIF(SOLICITUDES!$C$2:$C$1048576,BD!C22637,SOLICITUDES!$I$2:$I$1048576)","v":0},0,{"$f":"SUMIF(SOLICITUDES!$C$2:$C$1048576,BD!C22637,SOLICITUDES!$J$2:$J$1048576)","v":0},0,{"$f":"SUMIF(SOLICITUDES!$C$2:$C$1048576,BD!C22637,SOLICITUDES!$K$2:$K$1048576)","v":0},0]
[null,null,"T5586",25,13200,240,-76.453442715233166,2.5521902722238212,12.5,12.5,5,5,{"$f":"SUMIF(SOLICITUDES!$C$2:$C$1048576,BD!C22638,SOLICITUDES!$I$2:$I$1048576)","v":0},0,{"$f":"SUMIF(SOLICITUDES!$C$2:$C$1048576,BD!C22638,SOLICITUDES!$J$2:$J$1048576)","v":0},0,{"$f":"SUMIF(SOLICITUDES!$C$2:$C$1048576,BD!C22638,SOLICITUDES!$K$2:$K$1048576)","v":0},0]
[null,null,"T5601",15,13200,240,-76.459196246455718,2.5543452832738245,7.5,7.5,3,3,{"$f":"SUMIF(SOLICITUDES!$C$2:$C$1048576,BD!C22639,SOLICITUDES!$I$2:$I$1048576)","v":0},0,{"$f":"SUMIF(SOLICITUDES!$C$2:$C$1048576,BD!C22639,SOLICITUDES!$J$2:$J$1048576)","v":0},0,{"$f":"SUMIF(SOLICITUDES!$C$2:$C$1048576,BD!C22639,SOLICITUDES!$K$2:$K$1048576)","v":0},0]
[null,null,"T5607",10,13200,240,-76.441359574222204,2.5675119921252292,5,5,2,2,{"$f":"SUMIF(SOLICITUDES!$C$2:$C$1048576,BD!C22640,SOLICITUDES!$I$2:$I$1048576)","v":0},0,{"$f":"SUMIF(SOLICITUDES!$C$2:$C$1048576,BD!C22640,SOLICITUDES!$J$2:$J$1048576)","v":0},0,{"$f":"SUMIF(SOLICITUDES!$C$2:$C$1048576,BD!C22640,SOLICITUDES!$K$2:$K$1048576)","v":0},0]
[null,null,"T5602",25,13200,240,-76.447581195481206,2.5686364484384416,12.5,12.5,5,5,{"$f":"SUMIF(SOLICITUDES!$C$2:$C$1048576,BD!C22641,SOLICITUDES!$I$2:$I$1048576)","v":0},0,{"$f":"SUMIF(SOLICITUDES!$C$2:$C$1048576,BD!C22641,SOLICITUDES!$J$2:$J$1048576)","v":0},0,{"$f":"SUMIF(SOLICITUDES!$C$2:$C$1048576,BD!C22641,SOLICITUDES!$K$2:$K$1048576)","v":0},0]
[null,null,"T5098",10,13200,240,-76.398116777615485,2.5383714508850113,5,5,2,2,{"$f":"SUMIF(SOLICITUDES!$C$2:$C$1048576,BD!C22642,SOLICITUDES!$I$2:$I$1048576)","v":0},0,{"$f":"SUMIF(SOLICITUDES!$C$2:$C$1048576,BD!C22642,SOLICITUDES!$J$2:$J$1048576)","v":0},0,{"$f":"SUMIF(SOLICITUDES!$C$2:$C$1048576,BD!C22642,SOLICITUDES!$K$2:$K$1048576)","v":0},0]
[null,null,"T5613",15,13200,240,-76.462170818592725,2.557575087149961,7.5,7.5,3,3,{"$f":"SUMIF(SOLICITUDES!$C$2:$C$1048576,BD!C22643,SOLICITUDES!$I$2:$I$1048576)","v":0},0,{"$f":"SUMIF(SOLICITUDES!$C$2:$C$1048576,BD!C22643,SOLICITUDES!$J$2:$J$1048576)","v":0},0,{"$f":"SUMIF(SOLICITUDES!$C$2:$C$1048576,BD!C22643,SOLICITUDES!$K$2:$K$1048576)","v":0},0]
[null,null,"T5111",15,13200,240,-76.394444565674519,2.5455043624482556,7.5,7.5,3,3,{"$f":"SUMIF(SOLICITUDES!$C$2:$C$1048576,BD!C22644,SOLICITUDES!$I$2:$I$1048576)","v":0},0,{"$f":"SUMIF(SOLICITUDES!$C$2:$C$1048576,BD!C22644,SOLICITUDES!$J$2:$J$1048576)","v":0},0,{"$f":"SUMIF(SOLICITUDES!$C$2:$C$1048576,BD!C22644,SOLICITUDES!$K$2:$K$1048576)","v":0},0]
[null,null,"T6151",15,13200,240,-76.467770838583306,2.5231692027408767,7.5,7.5,3,3,{"$f":"SUMIF(SOLICITUDES!$C$2:$C$1048576,BD!C22645,SOLICITUDES!$I$2:$I$1048576)","v":0},0,{"$f":"SUMIF(SOLICITUDES!$C$2:$C$1048576,BD!C22645,SOLICITUDES!$J$2:$J$1048576)","v":0},0,{"$f":"SUMIF(SOLICITUDES!$C$2:$C$1048576,BD!C22645,SOLICITUDES!$K$2:$K$1048576)","v":0},0]
[null,null,"T5592",10,13200,240,-76.465426455773766,2.5625450476247424,5,5,2,2,{"$f":"SUMIF(SOLICITUDES!$C$2:$C$1048576,BD!C22646,SOLICITUDES!$I$2:$I$1048576)","v":0},0,{"$f":"SUMIF(SOLICITUDES!$C$2:$C$1048576,BD!C22646,SOLICITUDES!$J$2:$J$1048576)","v":0},0,{"$f":"SUMIF(SOLICITUDES!$C$2:$C$1048576,BD!C22646,SOLICITUDES!$K$2:$K$1048576)","v":0},0]
[null,null,"T5587",25,13200,240,-76.472587259180557,2.5294563714056046,12.5,12.5,5,5,{"$f":"SUMIF(SOLICITUDES!$C$2:$C$1048576,BD!C22647,SOLICITUDES!$I$2:$I$1048576)","v":0},0,{"$f":"SUMIF(SOLICITUDES!$C$2:$C$1048576,BD!C22647,SOLICITUDES!$J$2:$J$1048576)","v":0},0,{"$f":"SUMIF(SOLICITUDES!$C$2:$C$1048576,BD!C22647,SOLICITUDES!$K$2:$K$1048576)","v":0},0]
[null,null,"T5594",10,13200,240,-76.452612881209717,2.5576427076269432,5,5,2,2,{"$f":"SUMIF(SOLICITUDES!$C$2:$C$1048576,BD!C22648,SOLICITUDES!$I$2:$I$1048576)","v":0},0,{"$f":"SUMIF(SOLICITUDES!$C$2:$C$1048576,BD!C22648,SOLICITUDES!$J$2:$J$1048576)","v":0},0,{"$f":"SUMIF(SOLICITUDES!$C$2:$C$1048576,BD!C22648,SOLICITUDES!$K$2:$K$1048576)","v":0},0]
[null,null,"T5097",5,13200,240,-76.396777692713897,2.537150007237623,2.5,2.5,1,1,{"$f":"SUMIF(SOLICITUDES!$C$2:$C$1048576,BD!C22649,SOLICITUDES!$I$2:$I$1048576)","v":0},0,{"$f":"SUMIF(SOLICITUDES!$C$2:$C$1048576,BD!C22649,SOLICITUDES!$J$2:$J$1048576)","v":0},0,{"$f":"SUMIF(SOLICITUDES!$C$2:$C$1048576,BD!C22649,SOLICITUDES!$K$2:$K$1048576)","v":0},0]
[null,null,"T5612",25,13200,240,-76.449340209578338,2.5754196049321889,12.5,12.5,5,5,{"$f":"SUMIF(SOLICITUDES!$C$2:$C$1048576,BD!C22650,SOLICITUDES!$I$2:$I$1048576)","v":0},0,{"$f":"SUMIF(SOLICITUDES!$C$2:$C$1048576,BD!C22650,SOLICITUDES!$J$2:$J$1048576)","v":0},0,{"$f":"SUMIF(SOLICITUDES!$C$2:$C$1048576,BD!C22650,SOLICITUDES!$K$2:$K$1048576)","v":0},0]
[null,null,"T5593",10,13200,240,-76.465161385881274,2.5652088232328936,5,5,2,2,{"$f":"SUMIF(SOLICITUDES!$C$2:$C$1048576,BD!C22651,SOLICITUDES!$I$2:$I$1048576)","v":0},0,{"$f":"SUMIF(SOLICITUDES!$C$2:$C$1048576,BD!C22651,SOLICITUDES!$J$2:$J$1048576)","v":0},0,{"$f":"SUMIF(SOLICITUDES!$C$2:$C$1048576,BD!C22651,SOLICITUDES!$K$2:$K$1048576)","v":0},0]
[null,null,"T5598",15,13200,240,-76.469098850503812,2.5670916171061551,7.5,7.5,3,3,{"$f":"SUMIF(SOLICITUDES!$C$2:$C$1048576,BD!C22652,SOLICITUDES!$I$2:$I$1048576)","v":0},0,{"$f":"SUMIF(SOLICITUDES!$C$2:$C$1048576,BD!C22652,SOLICITUDES!$J$2:$J$1048576)","v":0},0,{"$f":"SUMIF(SOLICITUDES!$C$2:$C$1048576,BD!C22652,SOLICITUDES!$K$2:$K$1048576)","v":0},0]
[null,null,"T5590",15,13200,240,-76.461349790729798,2.5259241858358452,7.5,7.5,3,3,{"$f":"SUMIF(SOLICITUDES!$C$2:$C$1048576,BD!C22653,SOLICITUDES!$I$2:$I$1048576)","v":0},0,{"$f":"SUMIF(SOLICITUDES!$C$2:$C$1048576,BD!C22653,SOLICITUDES!$J$2:$J$1048576)","v":0},0,{"$f":"SUMIF(SOLICITUDES!$C$2:$C$1048576,BD!C22653,SOLICITUDES!$K$2:$K$1048576)","v":0},0]
[null,null,"T5605",15,13200,240,-76.473441772353141,2.5650920177528014,7.5,7.5,3,3,{"$f":"SUMIF(SOLICITUDES!$C$2:$C$1048576,BD!C22654,SOLICITUDES!$I$2:$I$1048576)","v":0},0,{"$f":"SUMIF(SOLICITUDES!$C$2:$C$1048576,BD!C22654,SOLICITUDES!$J$2:$J$1048576)","v":0},0,{"$f":"SUMIF(SOLICITUDES!$C$2:$C$1048576,BD!C22654,SOLICITUDES!$K$2:$K$1048576)","v":0},0]
[null,null,"T6027",15,13200,240,-76.477353100885864,2.528436716784249,7.5,7.5,3,3,{"$f":"SUMIF(SOLICITUDES!$C$2:$C$1048576,BD!C22655,SOLICITUDES!$I$2:$I$1048576)","v":0},0,{"$f":"SUMIF(SOLICITUDES!$C$2:$C$1048576,BD!C22655,SOLICITUDES!$J$2:$J$1048576)","v":0},0,{"$f":"SUMIF(SOLICITUDES!$C$2:$C$1048576,BD!C22655,SOLICITUDES!$K$2:$K$1048576)","v":0},0]
[null,null,"T5109",10,13200,240,-76.390727956903831,2.5347232380028148,5,5,2,2,{"$f":"SUMIF(SOLICITUDES!$C$2:$C$1048576,BD!C22656,SOLICITUDES!$I$2:$I$1048576)","v":0},0,{"$f":"SUMIF(SOLICITUDES!$C$2:$C$1048576,BD!C22656,SOLICITUDES!$J$2:$J$1048576)","v":0},0,{"$f":"SUMIF(SOLICITUDES!$C$2:$C$1048576,BD!C22656,SOLICITUDES!$K$2:$K$1048576)","v":0},0]
[null,null,"T5611",10,13200,240,-76.447914456239459,2.5855741096625962,5,5,2,2,{"$f":"SUMIF(SOLICITUDES!$C$2:$C$1048576,BD!C22657,SOLICITUDES!$I$2:$I$1048576)","v":0},0,{"$f":"SUMIF(SOLICITUDES!$C$2:$C$1048576,BD!C22657,SOLICITUDES!$J$2:$J$1048576)","v":0},0,{"$f":"SUMIF(SOLICITUDES!$C$2:$C$1048576,BD!C22657,SOLICITUDES!$K$2:$K$1048576)","v":0},0]
[null,null,"T6022",10,13200,240,-76.480401415870176,2.5279317292045773,5,5,2,2,{"$f":"SUMIF(SOLICITUDES!$C$2:$C$1048576,BD!C22658,SOLICITUDES!$I$2:$I$1048576)","v":0},0,{"$f":"SUMIF(SOLICITUDES!$C$2:$C$1048576,BD!C22658,SOLICITUDES!$J$2:$J$1048576)","v":0},0,{"$f":"SUMIF(SOLICITUDES!$C$2:$C$1048576,BD!C22658,SOLICITUDES!$K$2:$K$1048576)","v":0},0]
[null,null,"T5596",15,13200,240,-76.480125533687954,2.5412338496419147,7.5,{"$f":"D22659*0.5-M22659","v":7.5},3,3,{"$f":"SUMIF(SOLICITUDES!$C$2:$C$1048576,BD!C22659,SOLICITUDES!$I$2:$I$1048576)","v":0},{"$f":"M22659/D22659","v":0},{"$f":"SUMIF(SOLICITUDES!$C$2:$C$1048576,BD!C22659,SOLICITUDES!$J$2:$J$1048576)","v":0},0,{"$f":"SUMIF(SOLICITUDES!$C$2:$C$1048576,BD!C22659,SOLICITUDES!$K$2:$K$1048576)","v":0},0]
[null,null,"T6028",10,13200,240,-76.471394659919397,2.541618578780469,{"$f":"D22660*0.5","v":5},5,{"$f":"0.2*D22660","v":2},{"$f":"0.2*D22660","v":2},{"$f":"SUMIF(SOLICITUDES!$C$2:$C$1048576,BD!C22660,SOLICITUDES!$I$2:$I$1048576)","v":0},0,{"$f":"SUMIF(SOLICITUDES!$C$2:$C$1048576,BD!C22660,SOLICITUDES!$J$2:$J$1048576)","v":0},{"$f":"O22660/(2*K22660)","v":0},{"$f":"SUMIF(SOLICITUDES!$C$2:$C$1048576,BD!C22660,SOLICITUDES!$K$2:$K$1048576)","v":0},{"$f":"Q22660/(2*L22660)","v":0}]
[null,null,"T40300",10,13200,240,-76.47284745093279,2.4333799354065802,5,5,2,2,{"$f":"SUMIF(SOLICITUDES!$C$2:$C$1048576,BD!C22661,SOLICITUDES!$I$2:$I$1048576)","v":0},0,{"$f":"SUMIF(SOLICITUDES!$C$2:$C$1048576,BD!C22661,SOLICITUDES!$J$2:$J$1048576)","v":0},0,{"$f":"SUMIF(SOLICITUDES!$C$2:$C$1048576,BD!C22661,SOLICITUDES!$K$2:$K$1048576)","v":0},0]
[null,null,"T30864",10,13200,240,-76.47481779381566,2.4206562769325366,5,5,2,2,{"$f":"SUMIF(SOLICITUDES!$C$2:$C$1048576,BD!C22662,SOLICITUDES!$I$2:$I$1048576)","v":0},0,{"$f":"SUMIF(SOLICITUDES!$C$2:$C$1048576,BD!C22662,SOLICITUDES!$J$2:$J$1048576)","v":0},0,{"$f":"SUMIF(SOLICITUDES!$C$2:$C$1048576,BD!C22662,SOLICITUDES!$K$2:$K$1048576)","v":0},0]
[null,null,"T20841",5,13200,240,-76.50122155181117,2.4649157731301301,2.5,2.5,1,1,{"$f":"SUMIF(SOLICITUDES!$C$2:$C$1048576,BD!C22663,SOLICITUDES!$I$2:$I$1048576)","v":0},0,{"$f":"SUMIF(SOLICITUDES!$C$2:$C$1048576,BD!C22663,SOLICITUDES!$J$2:$J$1048576)","v":0},0,{"$f":"SUMIF(SOLICITUDES!$C$2:$C$1048576,BD!C22663,SOLICITUDES!$K$2:$K$1048576)","v":0},0]
[null,null,"T3613",10,13200,240,-76.518890200237536,2.4508839112737051,5,5,2,2,{"$f":"SUMIF(SOLICITUDES!$C$2:$C$1048576,BD!C22664,SOLICITUDES!$I$2:$I$1048576)","v":0},0,{"$f":"SUMIF(SOLICITUDES!$C$2:$C$1048576,BD!C22664,SOLICITUDES!$J$2:$J$1048576)","v":0},0,{"$f":"SUMIF(SOLICITUDES!$C$2:$C$1048576,BD!C22664,SOLICITUDES!$K$2:$K$1048576)","v":0},0]
[null,null,"T6802",10,13200,240,-76.490089312067681,2.4785069415206804,5,5,2,2,{"$f":"SUMIF(SOLICITUDES!$C$2:$C$1048576,BD!C22665,SOLICITUDES!$I$2:$I$1048576)","v":0},0,{"$f":"SUMIF(SOLICITUDES!$C$2:$C$1048576,BD!C22665,SOLICITUDES!$J$2:$J$1048576)","v":0},0,{"$f":"SUMIF(SOLICITUDES!$C$2:$C$1048576,BD!C22665,SOLICITUDES!$K$2:$K$1048576)","v":0},0]
[null,null,"T40303",10,13200,240,-76.468095319709505,2.4300183617385951,5,5,2,2,{"$f":"SUMIF(SOLICITUDES!$C$2:$C$1048576,BD!C22666,SOLICITUDES!$I$2:$I$1048576)","v":0},0,{"$f":"SUMIF(SOLICITUDES!$C$2:$C$1048576,BD!C22666,SOLICITUDES!$J$2:$J$1048576)","v":0},0,{"$f":"SUMIF(SOLICITUDES!$C$2:$C$1048576,BD!C22666,SOLICITUDES!$K$2:$K$1048576)","v":0},0]
[null,null,"T42403",10,13200,240,-76.511134627890954,2.46049103095296,5,5,2,2,{"$f":"SUMIF(SOLICITUDES!$C$2:$C$1048576,BD!C22667,SOLICITUDES!$I$2:$I$1048576)","v":0},0,{"$f":"SUMIF(SOLICITUDES!$C$2:$C$1048576,BD!C22667,SOLICITUDES!$J$2:$J$1048576)","v":0},0,{"$f":"SUMIF(SOLICITUDES!$C$2:$C$1048576,BD!C22667,SOLICITUDES!$K$2:$K$1048576)","v":0},0]
[null,null,"T6810",10,13200,240,-76.490374292245932,2.4845478794649374,5,5,2,2,{"$f":"SUMIF(SOLICITUDES!$C$2:$C$1048576,BD!C22668,SOLICITUDES!$I$2:$I$1048576)","v":0},0,{"$f":"SUMIF(SOLICITUDES!$C$2:$C$1048576,BD!C22668,SOLICITUDES!$J$2:$J$1048576)","v":0},0,{"$f":"SUMIF(SOLICITUDES!$C$2:$C$1048576,BD!C22668,SOLICITUDES!$K$2:$K$1048576)","v":0},0]
[null,null,"T42402",10,13200,240,-76.505565736236974,2.4658875946338714,5,5,2,2,{"$f":"SUMIF(SOLICITUDES!$C$2:$C$1048576,BD!C22669,SOLICITUDES!$I$2:$I$1048576)","v":0},0,{"$f":"SUMIF(SOLICITUDES!$C$2:$C$1048576,BD!C22669,SOLICITUDES!$J$2:$J$1048576)","v":0},0,{"$f":"SUMIF(SOLICITUDES!$C$2:$C$1048576,BD!C22669,SOLICITUDES!$K$2:$K$1048576)","v":0},0]
[null,null,"T29639",5,13200,240,-76.496988324597382,2.474706225260316,2.5,2.5,1,1,{"$f":"SUMIF(SOLICITUDES!$C$2:$C$1048576,BD!C22670,SOLICITUDES!$I$2:$I$1048576)","v":0},0,{"$f":"SUMIF(SOLICITUDES!$C$2:$C$1048576,BD!C22670,SOLICITUDES!$J$2:$J$1048576)","v":0},0,{"$f":"SUMIF(SOLICITUDES!$C$2:$C$1048576,BD!C22670,SOLICITUDES!$K$2:$K$1048576)","v":0},0]
[null,null,"T29640",5,13200,240,-76.501223639245936,2.4747828079559504,2.5,2.5,1,1,{"$f":"SUMIF(SOLICITUDES!$C$2:$C$1048576,BD!C22671,SOLICITUDES!$I$2:$I$1048576)","v":0},0,{"$f":"SUMIF(SOLICITUDES!$C$2:$C$1048576,BD!C22671,SOLICITUDES!$J$2:$J$1048576)","v":0},0,{"$f":"SUMIF(SOLICITUDES!$C$2:$C$1048576,BD!C22671,SOLICITUDES!$K$2:$K$1048576)","v":0},0]
[null,null,"T6041",15,13200,240,-76.395028801325154,2.5118019438085284,7.5,7.5,3,3,{"$f":"SUMIF(SOLICITUDES!$C$2:$C$1048576,BD!C22672,SOLICITUDES!$I$2:$I$1048576)","v":0},0,{"$f":"SUMIF(SOLICITUDES!$C$2:$C$1048576,BD!C22672,SOLICITUDES!$J$2:$J$1048576)","v":0},0,{"$f":"SUMIF(SOLICITUDES!$C$2:$C$1048576,BD!C22672,SOLICITUDES!$K$2:$K$1048576)","v":0},0]
[null,null,"T6052",15,13200,240,-76.391613363846091,2.5094851579670232,7.5,7.5,3,3,{"$f":"SUMIF(SOLICITUDES!$C$2:$C$1048576,BD!C22673,SOLICITUDES!$I$2:$I$1048576)","v":0},0,{"$f":"SUMIF(SOLICITUDES!$C$2:$C$1048576,BD!C22673,SOLICITUDES!$J$2:$J$1048576)","v":0},0,{"$f":"SUMIF(SOLICITUDES!$C$2:$C$1048576,BD!C22673,SOLICITUDES!$K$2:$K$1048576)","v":0},0]
[null,null,"T6050",15,13200,240,-76.389625609730871,2.5108314722219007,7.5,7.5,3,3,{"$f":"SUMIF(SOLICITUDES!$C$2:$C$1048576,BD!C22674,SOLICITUDES!$I$2:$I$1048576)","v":0},0,{"$f":"SUMIF(SOLICITUDES!$C$2:$C$1048576,BD!C22674,SOLICITUDES!$J$2:$J$1048576)","v":0},0,{"$f":"SUMIF(SOLICITUDES!$C$2:$C$1048576,BD!C22674,SOLICITUDES!$K$2:$K$1048576)","v":0},0]
[null,null,"T6044",15,13200,240,-76.392037632099289,2.5062479623786409,7.5,7.5,3,3,{"$f":"SUMIF(SOLICITUDES!$C$2:$C$1048576,BD!C22675,SOLICITUDES!$I$2:$I$1048576)","v":0},0,{"$f":"SUMIF(SOLICITUDES!$C$2:$C$1048576,BD!C22675,SOLICITUDES!$J$2:$J$1048576)","v":0},0,{"$f":"SUMIF(SOLICITUDES!$C$2:$C$1048576,BD!C22675,SOLICITUDES!$K$2:$K$1048576)","v":0},0]
[null,null,"T6043",15,13200,240,-76.396669858595828,2.519633085096125,7.5,7.5,3,3,{"$f":"SUMIF(SOLICITUDES!$C$2:$C$1048576,BD!C22676,SOLICITUDES!$I$2:$I$1048576)","v":0},0,{"$f":"SUMIF(SOLICITUDES!$C$2:$C$1048576,BD!C22676,SOLICITUDES!$J$2:$J$1048576)","v":0},0,{"$f":"SUMIF(SOLICITUDES!$C$2:$C$1048576,BD!C22676,SOLICITUDES!$K$2:$K$1048576)","v":0},0]
[null,null,"T6038",75,13200,208,-76.382783252870269,2.5111714241897376,37.5,37.5,15,15,{"$f":"SUMIF(SOLICITUDES!$C$2:$C$1048576,BD!C22677,SOLICITUDES!$I$2:$I$1048576)","v":0},0,{"$f":"SUMIF(SOLICITUDES!$C$2:$C$1048576,BD!C22677,SOLICITUDES!$J$2:$J$1048576)","v":0},0,{"$f":"SUMIF(SOLICITUDES!$C$2:$C$1048576,BD!C22677,SOLICITUDES!$K$2:$K$1048576)","v":0},0]
[null,null,"T6049",25,13200,240,-76.384896551542639,2.510331564388415,12.5,12.5,5,5,{"$f":"SUMIF(SOLICITUDES!$C$2:$C$1048576,BD!C22678,SOLICITUDES!$I$2:$I$1048576)","v":0},0,{"$f":"SUMIF(SOLICITUDES!$C$2:$C$1048576,BD!C22678,SOLICITUDES!$J$2:$J$1048576)","v":0},0,{"$f":"SUMIF(SOLICITUDES!$C$2:$C$1048576,BD!C22678,SOLICITUDES!$K$2:$K$1048576)","v":0},0]
[null,null,"T1706",25,13200,240,-76.568867950163138,2.4816327741153588,12.5,12.5,5,5,{"$f":"SUMIF(SOLICITUDES!$C$2:$C$1048576,BD!C22679,SOLICITUDES!$I$2:$I$1048576)","v":0},0,{"$f":"SUMIF(SOLICITUDES!$C$2:$C$1048576,BD!C22679,SOLICITUDES!$J$2:$J$1048576)","v":0},0,{"$f":"SUMIF(SOLICITUDES!$C$2:$C$1048576,BD!C22679,SOLICITUDES!$K$2:$K$1048576)","v":0},0]
[null,null,"T1202",112.5,13200,208,-76.570387112145497,2.4825376770845913,56.25,56.25,22.5,22.5,{"$f":"SUMIF(SOLICITUDES!$C$2:$C$1048576,BD!C22680,SOLICITUDES!$I$2:$I$1048576)","v":0},0,{"$f":"SUMIF(SOLICITUDES!$C$2:$C$1048576,BD!C22680,SOLICITUDES!$J$2:$J$1048576)","v":0},0,{"$f":"SUMIF(SOLICITUDES!$C$2:$C$1048576,BD!C22680,SOLICITUDES!$K$2:$K$1048576)","v":0},0]
[null,null,"T1239",112.5,13200,208,-76.570000651983904,2.4821305825950231,56.25,56.25,22.5,22.5,{"$f":"SUMIF(SOLICITUDES!$C$2:$C$1048576,BD!C22681,SOLICITUDES!$I$2:$I$1048576)","v":0},0,{"$f":"SUMIF(SOLICITUDES!$C$2:$C$1048576,BD!C22681,SOLICITUDES!$J$2:$J$1048576)","v":0},0,{"$f":"SUMIF(SOLICITUDES!$C$2:$C$1048576,BD!C22681,SOLICITUDES!$K$2:$K$1048576)","v":0},0]
[null,null,"T1707",45,13200,208,-76.568742089301495,2.4816146377850679,22.5,22.5,9,9,{"$f":"SUMIF(SOLICITUDES!$C$2:$C$1048576,BD!C22682,SOLICITUDES!$I$2:$I$1048576)","v":0},0,{"$f":"SUMIF(SOLICITUDES!$C$2:$C$1048576,BD!C22682,SOLICITUDES!$J$2:$J$1048576)","v":0},0,{"$f":"SUMIF(SOLICITUDES!$C$2:$C$1048576,BD!C22682,SOLICITUDES!$K$2:$K$1048576)","v":0},0]
[null,null,"T1219",112.5,13200,208,-76.569532944131495,2.482555427908097,56.25,56.25,22.5,22.5,{"$f":"SUMIF(SOLICITUDES!$C$2:$C$1048576,BD!C22683,SOLICITUDES!$I$2:$I$1048576)","v":0},0,{"$f":"SUMIF(SOLICITUDES!$C$2:$C$1048576,BD!C22683,SOLICITUDES!$J$2:$J$1048576)","v":0},0,{"$f":"SUMIF(SOLICITUDES!$C$2:$C$1048576,BD!C22683,SOLICITUDES!$K$2:$K$1048576)","v":0},0]
[null,null,"T5408",37.5,13200,220,-76.567766595351983,2.4803956818498731,18.75,18.75,7.5,7.5,{"$f":"SUMIF(SOLICITUDES!$C$2:$C$1048576,BD!C22684,SOLICITUDES!$I$2:$I$1048576)","v":0},0,{"$f":"SUMIF(SOLICITUDES!$C$2:$C$1048576,BD!C22684,SOLICITUDES!$J$2:$J$1048576)","v":0},0,{"$f":"SUMIF(SOLICITUDES!$C$2:$C$1048576,BD!C22684,SOLICITUDES!$K$2:$K$1048576)","v":0},0]
[null,null,"T1238",112.5,13200,208,-76.56954180192659,2.4828990794118497,56.25,56.25,22.5,22.5,{"$f":"SUMIF(SOLICITUDES!$C$2:$C$1048576,BD!C22685,SOLICITUDES!$I$2:$I$1048576)","v":0},0,{"$f":"SUMIF(SOLICITUDES!$C$2:$C$1048576,BD!C22685,SOLICITUDES!$J$2:$J$1048576)","v":0},0,{"$f":"SUMIF(SOLICITUDES!$C$2:$C$1048576,BD!C22685,SOLICITUDES!$K$2:$K$1048576)","v":0},0]
[null,null,"T16161",30,13200,208,-76.57155419865731,2.4820838338675215,15,15,6,6,{"$f":"SUMIF(SOLICITUDES!$C$2:$C$1048576,BD!C22686,SOLICITUDES!$I$2:$I$1048576)","v":0},0,{"$f":"SUMIF(SOLICITUDES!$C$2:$C$1048576,BD!C22686,SOLICITUDES!$J$2:$J$1048576)","v":0},0,{"$f":"SUMIF(SOLICITUDES!$C$2:$C$1048576,BD!C22686,SOLICITUDES!$K$2:$K$1048576)","v":0},0]
[null,null,"T25458",800,13200,456,-76.570668641961561,2.4821326427519752,400,400,160,160,{"$f":"SUMIF(SOLICITUDES!$C$2:$C$1048576,BD!C22687,SOLICITUDES!$I$2:$I$1048576)","v":0},0,{"$f":"SUMIF(SOLICITUDES!$C$2:$C$1048576,BD!C22687,SOLICITUDES!$J$2:$J$1048576)","v":0},0,{"$f":"SUMIF(SOLICITUDES!$C$2:$C$1048576,BD!C22687,SOLICITUDES!$K$2:$K$1048576)","v":0},0]
[null,null,"T1217",75,13200,208,-76.569784388106072,2.483369416838507,37.5,37.5,15,15,{"$f":"SUMIF(SOLICITUDES!$C$2:$C$1048576,BD!C22688,SOLICITUDES!$I$2:$I$1048576)","v":0},0,{"$f":"SUMIF(SOLICITUDES!$C$2:$C$1048576,BD!C22688,SOLICITUDES!$J$2:$J$1048576)","v":0},0,{"$f":"SUMIF(SOLICITUDES!$C$2:$C$1048576,BD!C22688,SOLICITUDES!$K$2:$K$1048576)","v":0},0]
[null,null,"T1249",112.5,13200,208,-76.570638417363895,2.4837133879155924,56.25,56.25,22.5,22.5,{"$f":"SUMIF(SOLICITUDES!$C$2:$C$1048576,BD!C22689,SOLICITUDES!$I$2:$I$1048576)","v":0},0,{"$f":"SUMIF(SOLICITUDES!$C$2:$C$1048576,BD!C22689,SOLICITUDES!$J$2:$J$1048576)","v":0},0,{"$f":"SUMIF(SOLICITUDES!$C$2:$C$1048576,BD!C22689,SOLICITUDES!$K$2:$K$1048576)","v":0},0]
[null,null,"T16162",500,13200,214,-76.571389317605991,2.4824191192131151,250,250,100,100,{"$f":"SUMIF(SOLICITUDES!$C$2:$C$1048576,BD!C22690,SOLICITUDES!$I$2:$I$1048576)","v":0},0,{"$f":"SUMIF(SOLICITUDES!$C$2:$C$1048576,BD!C22690,SOLICITUDES!$J$2:$J$1048576)","v":0},0,{"$f":"SUMIF(SOLICITUDES!$C$2:$C$1048576,BD!C22690,SOLICITUDES!$K$2:$K$1048576)","v":0},0]
[null,null,"T16163",225,13200,214,-76.571358350097881,2.482419156220947,112.5,112.5,45,45,{"$f":"SUMIF(SOLICITUDES!$C$2:$C$1048576,BD!C22691,SOLICITUDES!$I$2:$I$1048576)","v":0},0,{"$f":"SUMIF(SOLICITUDES!$C$2:$C$1048576,BD!C22691,SOLICITUDES!$J$2:$J$1048576)","v":0},0,{"$f":"SUMIF(SOLICITUDES!$C$2:$C$1048576,BD!C22691,SOLICITUDES!$K$2:$K$1048576)","v":0},0]
[null,null,"T5542",25,13200,208,-76.565470965654697,2.4773269016174915,12.5,12.5,5,5,{"$f":"SUMIF(SOLICITUDES!$C$2:$C$1048576,BD!C22692,SOLICITUDES!$I$2:$I$1048576)","v":0},0,{"$f":"SUMIF(SOLICITUDES!$C$2:$C$1048576,BD!C22692,SOLICITUDES!$J$2:$J$1048576)","v":0},0,{"$f":"SUMIF(SOLICITUDES!$C$2:$C$1048576,BD!C22692,SOLICITUDES!$K$2:$K$1048576)","v":0},0]
[null,null,"T1224",75,13200,208,-76.570881236205125,2.4835506993840197,37.5,37.5,15,15,{"$f":"SUMIF(SOLICITUDES!$C$2:$C$1048576,BD!C22693,SOLICITUDES!$I$2:$I$1048576)","v":0},0,{"$f":"SUMIF(SOLICITUDES!$C$2:$C$1048576,BD!C22693,SOLICITUDES!$J$2:$J$1048576)","v":0},0,{"$f":"SUMIF(SOLICITUDES!$C$2:$C$1048576,BD!C22693,SOLICITUDES!$K$2:$K$1048576)","v":0},0]
[null,null,"T1705",112.5,13200,214,-76.564336243613127,2.4820560295517158,56.25,56.25,22.5,22.5,{"$f":"SUMIF(SOLICITUDES!$C$2:$C$1048576,BD!C22694,SOLICITUDES!$I$2:$I$1048576)","v":0},0,{"$f":"SUMIF(SOLICITUDES!$C$2:$C$1048576,BD!C22694,SOLICITUDES!$J$2:$J$1048576)","v":0},0,{"$f":"SUMIF(SOLICITUDES!$C$2:$C$1048576,BD!C22694,SOLICITUDES!$K$2:$K$1048576)","v":0},0]
[null,null,"T1189",112.5,13200,208,-76.571429698849315,2.4835599647074544,56.25,56.25,22.5,22.5,{"$f":"SUMIF(SOLICITUDES!$C$2:$C$1048576,BD!C22695,SOLICITUDES!$I$2:$I$1048576)","v":0},0,{"$f":"SUMIF(SOLICITUDES!$C$2:$C$1048576,BD!C22695,SOLICITUDES!$J$2:$J$1048576)","v":0},0,{"$f":"SUMIF(SOLICITUDES!$C$2:$C$1048576,BD!C22695,SOLICITUDES!$K$2:$K$1048576)","v":0},0]
[null,null,"T1188",75,13200,208,-76.571105857957349,2.4839758209122755,37.5,37.5,15,15,{"$f":"SUMIF(SOLICITUDES!$C$2:$C$1048576,BD!C22696,SOLICITUDES!$I$2:$I$1048576)","v":0},0,{"$f":"SUMIF(SOLICITUDES!$C$2:$C$1048576,BD!C22696,SOLICITUDES!$J$2:$J$1048576)","v":0},0,{"$f":"SUMIF(SOLICITUDES!$C$2:$C$1048576,BD!C22696,SOLICITUDES!$K$2:$K$1048576)","v":0},0]
[null,null,"T1213",45,13200,208,-76.570638315280917,2.4839846819695541,22.5,22.5,9,9,{"$f":"SUMIF(SOLICITUDES!$C$2:$C$1048576,BD!C22697,SOLICITUDES!$I$2:$I$1048576)","v":0},0,{"$f":"SUMIF(SOLICITUDES!$C$2:$C$1048576,BD!C22697,SOLICITUDES!$J$2:$J$1048576)","v":0},0,{"$f":"SUMIF(SOLICITUDES!$C$2:$C$1048576,BD!C22697,SOLICITUDES!$K$2:$K$1048576)","v":0},0]
[null,null,"T1210",75,13200,208,-76.569811123981779,2.4839662715887627,37.5,37.5,15,15,{"$f":"SUMIF(SOLICITUDES!$C$2:$C$1048576,BD!C22698,SOLICITUDES!$I$2:$I$1048576)","v":0},0,{"$f":"SUMIF(SOLICITUDES!$C$2:$C$1048576,BD!C22698,SOLICITUDES!$J$2:$J$1048576)","v":0},0,{"$f":"SUMIF(SOLICITUDES!$C$2:$C$1048576,BD!C22698,SOLICITUDES!$K$2:$K$1048576)","v":0},0]
[null,null,"T41504",75,13200,226,-76.563014805520865,2.4825547095228564,37.5,37.5,15,15,{"$f":"SUMIF(SOLICITUDES!$C$2:$C$1048576,BD!C22699,SOLICITUDES!$I$2:$I$1048576)","v":0},0,{"$f":"SUMIF(SOLICITUDES!$C$2:$C$1048576,BD!C22699,SOLICITUDES!$J$2:$J$1048576)","v":0},0,{"$f":"SUMIF(SOLICITUDES!$C$2:$C$1048576,BD!C22699,SOLICITUDES!$K$2:$K$1048576)","v":0},0]
[null,null,"T1710",50,13200,240,-76.564075394915974,2.4823181748273297,25,25,10,10,{"$f":"SUMIF(SOLICITUDES!$C$2:$C$1048576,BD!C22700,SOLICITUDES!$I$2:$I$1048576)","v":0},0,{"$f":"SUMIF(SOLICITUDES!$C$2:$C$1048576,BD!C22700,SOLICITUDES!$J$2:$J$1048576)","v":0},0,{"$f":"SUMIF(SOLICITUDES!$C$2:$C$1048576,BD!C22700,SOLICITUDES!$K$2:$K$1048576)","v":0},0]
[null,null,"T5557",37.5,13200,208,-76.563434112186243,2.4752326947339429,18.75,18.75,7.5,7.5,{"$f":"SUMIF(SOLICITUDES!$C$2:$C$1048576,BD!C22701,SOLICITUDES!$I$2:$I$1048576)","v":0},0,{"$f":"SUMIF(SOLICITUDES!$C$2:$C$1048576,BD!C22701,SOLICITUDES!$J$2:$J$1048576)","v":0},0,{"$f":"SUMIF(SOLICITUDES!$C$2:$C$1048576,BD!C22701,SOLICITUDES!$K$2:$K$1048576)","v":0},0]
[null,null,"T3278",25,13200,240,-76.562213929585425,2.4830861146463956,12.5,12.5,5,5,{"$f":"SUMIF(SOLICITUDES!$C$2:$C$1048576,BD!C22702,SOLICITUDES!$I$2:$I$1048576)","v":0},0,{"$f":"SUMIF(SOLICITUDES!$C$2:$C$1048576,BD!C22702,SOLICITUDES!$J$2:$J$1048576)","v":0},0,{"$f":"SUMIF(SOLICITUDES!$C$2:$C$1048576,BD!C22702,SOLICITUDES!$K$2:$K$1048576)","v":0},0]
[null,null,"T41998",0.5,13200,240,-76.56225911520211,2.4824983243967829,0.25,0.25,0.1,0.1,{"$f":"SUMIF(SOLICITUDES!$C$2:$C$1048576,BD!C22703,SOLICITUDES!$I$2:$I$1048576)","v":0},0,{"$f":"SUMIF(SOLICITUDES!$C$2:$C$1048576,BD!C22703,SOLICITUDES!$J$2:$J$1048576)","v":0},0,{"$f":"SUMIF(SOLICITUDES!$C$2:$C$1048576,BD!C22703,SOLICITUDES!$K$2:$K$1048576)","v":0},0]
[null,null,"T5540",75,13200,208,-76.562909403425749,2.4749746739762233,37.5,37.5,15,15,{"$f":"SUMIF(SOLICITUDES!$C$2:$C$1048576,BD!C22704,SOLICITUDES!$I$2:$I$1048576)","v":0},0,{"$f":"SUMIF(SOLICITUDES!$C$2:$C$1048576,BD!C22704,SOLICITUDES!$J$2:$J$1048576)","v":0},0,{"$f":"SUMIF(SOLICITUDES!$C$2:$C$1048576,BD!C22704,SOLICITUDES!$K$2:$K$1048576)","v":0},0]
[null,null,"T1708",75,13200,208,-76.562303353777935,2.4843341029055273,37.5,37.5,15,15,{"$f":"SUMIF(SOLICITUDES!$C$2:$C$1048576,BD!C22705,SOLICITUDES!$I$2:$I$1048576)","v":0},0,{"$f":"SUMIF(SOLICITUDES!$C$2:$C$1048576,BD!C22705,SOLICITUDES!$J$2:$J$1048576)","v":0},0,{"$f":"SUMIF(SOLICITUDES!$C$2:$C$1048576,BD!C22705,SOLICITUDES!$K$2:$K$1048576)","v":0},0]
[null,null,"T42587",0.5,13200,120,-76.687024872342818,2.9918939445552981,0.25,0.25,0.1,0.1,{"$f":"SUMIF(SOLICITUDES!$C$2:$C$1048576,BD!C22706,SOLICITUDES!$I$2:$I$1048576)","v":0},0,{"$f":"SUMIF(SOLICITUDES!$C$2:$C$1048576,BD!C22706,SOLICITUDES!$J$2:$J$1048576)","v":0},0,{"$f":"SUMIF(SOLICITUDES!$C$2:$C$1048576,BD!C22706,SOLICITUDES!$K$2:$K$1048576)","v":0},0]
[null,null,"T13689",50,13200,240,-76.68784462938315,2.9940833227323607,25,25,10,10,{"$f":"SUMIF(SOLICITUDES!$C$2:$C$1048576,BD!C22707,SOLICITUDES!$I$2:$I$1048576)","v":0},0,{"$f":"SUMIF(SOLICITUDES!$C$2:$C$1048576,BD!C22707,SOLICITUDES!$J$2:$J$1048576)","v":0},0,{"$f":"SUMIF(SOLICITUDES!$C$2:$C$1048576,BD!C22707,SOLICITUDES!$K$2:$K$1048576)","v":0},0]
[null,null,"T18808",25,13200,220,-76.688680497101231,2.9565010853337133,12.5,12.5,5,5,{"$f":"SUMIF(SOLICITUDES!$C$2:$C$1048576,BD!C22708,SOLICITUDES!$I$2:$I$1048576)","v":0},0,{"$f":"SUMIF(SOLICITUDES!$C$2:$C$1048576,BD!C22708,SOLICITUDES!$J$2:$J$1048576)","v":0},0,{"$f":"SUMIF(SOLICITUDES!$C$2:$C$1048576,BD!C22708,SOLICITUDES!$K$2:$K$1048576)","v":0},0]
[null,null,"T13680",37.5,13200,220,-76.689299615840426,2.9566275654725369,18.75,18.75,7.5,7.5,{"$f":"SUMIF(SOLICITUDES!$C$2:$C$1048576,BD!C22709,SOLICITUDES!$I$2:$I$1048576)","v":0},0,{"$f":"SUMIF(SOLICITUDES!$C$2:$C$1048576,BD!C22709,SOLICITUDES!$J$2:$J$1048576)","v":0},0,{"$f":"SUMIF(SOLICITUDES!$C$2:$C$1048576,BD!C22709,SOLICITUDES!$K$2:$K$1048576)","v":0},0]
[null,null,"T12153",45,13200,214,-76.687608587954074,2.9939112353319244,22.5,22.5,9,9,{"$f":"SUMIF(SOLICITUDES!$C$2:$C$1048576,BD!C22710,SOLICITUDES!$I$2:$I$1048576)","v":0},0,{"$f":"SUMIF(SOLICITUDES!$C$2:$C$1048576,BD!C22710,SOLICITUDES!$J$2:$J$1048576)","v":0},0,{"$f":"SUMIF(SOLICITUDES!$C$2:$C$1048576,BD!C22710,SOLICITUDES!$K$2:$K$1048576)","v":0},0]
[null,null,"T18809",37.5,13200,220,-76.688273709876952,2.9570717866525156,18.75,18.75,7.5,7.5,{"$f":"SUMIF(SOLICITUDES!$C$2:$C$1048576,BD!C22711,SOLICITUDES!$I$2:$I$1048576)","v":0},0,{"$f":"SUMIF(SOLICITUDES!$C$2:$C$1048576,BD!C22711,SOLICITUDES!$J$2:$J$1048576)","v":0},0,{"$f":"SUMIF(SOLICITUDES!$C$2:$C$1048576,BD!C22711,SOLICITUDES!$K$2:$K$1048576)","v":0},0]
[null,null,"T41410",25,13200,240,-76.689565851914779,2.9567768763725719,12.5,12.5,5,5,{"$f":"SUMIF(SOLICITUDES!$C$2:$C$1048576,BD!C22712,SOLICITUDES!$I$2:$I$1048576)","v":0},0,{"$f":"SUMIF(SOLICITUDES!$C$2:$C$1048576,BD!C22712,SOLICITUDES!$J$2:$J$1048576)","v":0},0,{"$f":"SUMIF(SOLICITUDES!$C$2:$C$1048576,BD!C22712,SOLICITUDES!$K$2:$K$1048576)","v":0},0]
[null,null,"T12142",25,13200,240,-76.687662900970224,2.9936474172671983,12.5,12.5,5,5,{"$f":"SUMIF(SOLICITUDES!$C$2:$C$1048576,BD!C22713,SOLICITUDES!$I$2:$I$1048576)","v":0},0,{"$f":"SUMIF(SOLICITUDES!$C$2:$C$1048576,BD!C22713,SOLICITUDES!$J$2:$J$1048576)","v":0},0,{"$f":"SUMIF(SOLICITUDES!$C$2:$C$1048576,BD!C22713,SOLICITUDES!$K$2:$K$1048576)","v":0},0]
[null,null,"T51666",25,13200,240,-76.689980216243569,2.9573381193117139,12.5,12.5,5,5,{"$f":"SUMIF(SOLICITUDES!$C$2:$C$1048576,BD!C22714,SOLICITUDES!$I$2:$I$1048576)","v":0},0,{"$f":"SUMIF(SOLICITUDES!$C$2:$C$1048576,BD!C22714,SOLICITUDES!$J$2:$J$1048576)","v":0},0,{"$f":"SUMIF(SOLICITUDES!$C$2:$C$1048576,BD!C22714,SOLICITUDES!$K$2:$K$1048576)","v":0},0]
[null,null,"T12146",50,13200,240,-76.6877182006087,2.9933112164229563,25,25,10,10,{"$f":"SUMIF(SOLICITUDES!$C$2:$C$1048576,BD!C22715,SOLICITUDES!$I$2:$I$1048576)","v":0},0,{"$f":"SUMIF(SOLICITUDES!$C$2:$C$1048576,BD!C22715,SOLICITUDES!$J$2:$J$1048576)","v":0},0,{"$f":"SUMIF(SOLICITUDES!$C$2:$C$1048576,BD!C22715,SOLICITUDES!$K$2:$K$1048576)","v":0},0]
[null,null,"T13708",25,13200,240,-76.687715493196791,2.9595733036696208,12.5,12.5,5,5,{"$f":"SUMIF(SOLICITUDES!$C$2:$C$1048576,BD!C22716,SOLICITUDES!$I$2:$I$1048576)","v":0},0,{"$f":"SUMIF(SOLICITUDES!$C$2:$C$1048576,BD!C22716,SOLICITUDES!$J$2:$J$1048576)","v":0},0,{"$f":"SUMIF(SOLICITUDES!$C$2:$C$1048576,BD!C22716,SOLICITUDES!$K$2:$K$1048576)","v":0},0]
[null,null,"T16080",37.5,13200,240,-76.68894122723556,2.9940388241931766,18.75,18.75,7.5,7.5,{"$f":"SUMIF(SOLICITUDES!$C$2:$C$1048576,BD!C22717,SOLICITUDES!$I$2:$I$1048576)","v":0},0,{"$f":"SUMIF(SOLICITUDES!$C$2:$C$1048576,BD!C22717,SOLICITUDES!$J$2:$J$1048576)","v":0},0,{"$f":"SUMIF(SOLICITUDES!$C$2:$C$1048576,BD!C22717,SOLICITUDES!$K$2:$K$1048576)","v":0},0]
[null,null,"T25833",25,13200,240,-76.688818117720444,2.9915810193407761,12.5,12.5,5,5,{"$f":"SUMIF(SOLICITUDES!$C$2:$C$1048576,BD!C22718,SOLICITUDES!$I$2:$I$1048576)","v":0},0,{"$f":"SUMIF(SOLICITUDES!$C$2:$C$1048576,BD!C22718,SOLICITUDES!$J$2:$J$1048576)","v":0},0,{"$f":"SUMIF(SOLICITUDES!$C$2:$C$1048576,BD!C22718,SOLICITUDES!$K$2:$K$1048576)","v":0},0]
[null,null,"T3525",75,13200,220,-76.592579850867452,2.5001893770455168,37.5,37.5,15,15,{"$f":"SUMIF(SOLICITUDES!$C$2:$C$1048576,BD!C22719,SOLICITUDES!$I$2:$I$1048576)","v":0},0,{"$f":"SUMIF(SOLICITUDES!$C$2:$C$1048576,BD!C22719,SOLICITUDES!$J$2:$J$1048576)","v":0},0,{"$f":"SUMIF(SOLICITUDES!$C$2:$C$1048576,BD!C22719,SOLICITUDES!$K$2:$K$1048576)","v":0},0]
[null,null,"T21139",112.5,13200,214,-76.592929155024521,2.5001156251162637,56.25,56.25,22.5,22.5,{"$f":"SUMIF(SOLICITUDES!$C$2:$C$1048576,BD!C22720,SOLICITUDES!$I$2:$I$1048576)","v":0},0,{"$f":"SUMIF(SOLICITUDES!$C$2:$C$1048576,BD!C22720,SOLICITUDES!$J$2:$J$1048576)","v":0},0,{"$f":"SUMIF(SOLICITUDES!$C$2:$C$1048576,BD!C22720,SOLICITUDES!$K$2:$K$1048576)","v":0},0]

{"sheet":"CONSULTA","index":1,"n_rows":51,"n_cols":9,"rows_kept":51,"cut":false,"hidden":false,"merged":[[3,1,4,9],[9,1,9,2],[10,1,10,2],[11,1,11,2],[12,1,12,2],[50,6,50,9],[5,5,5,9],[28,1,30,5],[13,1,13,2],[14,1,14,2],[16,1,16,2],[17,1,17,2],[18,1,18,2],[8,1,8,3],[21,1,21,5],[22,1,24,5],[22,6,24,6],[25,1,27,5],[20,1,20,9],[15,1,15,2]]}
["MATRICULA\nTRASFORMADOR","T28305"]
[]
[]
[null,"RESULTADO DE LA CONSULTA DE LA DISPONIBILIDAD DE LA RED\n EN EL PUNTO DE CONEXIÓN "]
[]
[null,"FECHA DE CONSULTA",null,{"$f":"TODAY()","v":"2023-08-26"}]
[null,"FECHA DE ACTUALIZACIÓN ",null,{"$f":"TODAY()-10","v":"2023-08-16"}]
[]
[null,"DATOS DEL PUNTO DE CONEXIÓN "]
[null,"CÓDIGO TRAFO",null,{"$f":"VLOOKUP($B$1,BD!C3:R22720,1,FALSE)","v":"T28305"}]
[null,"POTENCIA  NOMINAL [kVA]",null,{"$f":"VLOOKUP($B$1,BD!C3:R22720,2,FALSE)","v":15}]
[null,"TENSIÓN \nPRIMARIA\n[V]",null,{"$f":"VLOOKUP($B$1,BD!C3:R22720,3,FALSE)","v":13200}]
[null,"TENSIÓN \nSECUNDARIA\n[V]",null,{"$f":"VLOOKUP($B$1,BD!C3:R22720,4,FALSE)","v":240}]
[null,"LONGITUD",null,{"$f":"VLOOKUP($B$1,BD!C3:R22720,5,FALSE)","v":-76.541521386326906}]
[null,"LATITUD",null,{"$f":"VLOOKUP($B$1,BD!C3:R22720,6,FALSE)","v":2.5908425579577621}]
[null,"CAPACIDAD \nMAXIMA A CONECTAR ",null,{"$f":"VLOOKUP($B$1,BD!C3:R22720,7,FALSE)","v":7.5}]
[null,"VALOR DE  CAPACIDAD \nDISPONIBLE (CD) [KW]",null,{"$f":"VLOOKUP($B$1,BD!C3:R22720,8,FALSE)","v":3.5}]
[null,"(50%PAHMD24H) [kWh]",null,{"$f":"VLOOKUP($B$1,BD!C3:R22720,9,FALSE)","v":3}]
[null,"(50%PAHMD12H)  [kWh]",null,{"$f":"VLOOKUP($B$1,BD!C3:R22720,10,FALSE)","v":3}]
[]
[null,"ESTÁNDARES TÉCNICOS DE DISPONIBILIDAD DEL SISTEMA EN EL NIVEL DE TENSIÓN 1"]
[null,null,null,null,null,null,"VALOR",null,"PORCENTAJE"]
[null,"VALOR DE LA SUMATORIA DE LA POTENCIA MÁXIMA DECLARADA DE LOS GD Y AGPE INSTALADOS EN EL MISMO CIRCUITO O TRANSFORMADOR, DE AUTOGENERACIÓN \n(SPMAXD) [kW]",null,null,null,null,{"$f":"VLOOKUP($B$1,BD!C3:R22720,11,FALSE)","v":4}]
[null,null,null,null,null,null,null,null,{"$f":"VLOOKUP($B$1,BD!C3:R22720,12,FALSE)","v":0.26666666666666666}]
[]
[null,"LA CANTIDAD TOTAL DE ENERGÍA EN UNA HORA QUE PUEDEN ENTREGAR TODOS LOS GD Y AGPE A LA RED, CONECTADOS AL MISMO CIRCUITO O TRANSFORMADOR DEL NIVEL DE TENSIÓN 1, CUYO SISTEMA DE PRODUCCIÓN DE ENERGÍA SEA DISTINTO AL COMPUESTO POR UN SISTEMA FOTOVOLTAICO SIN CAPACIDAD DE ALMACENAMIENTO\n(E24H) [kWh]"]
[null,null,null,null,null,null,{"$f":"VLOOKUP($B$1,BD!C3:R22720,13,FALSE)","v":0},null,{"$f":"VLOOKUP($B$1,BD!C3:R22720,14,FALSE)","v":0}]
[]
[null,"LA CANTIDAD TOTAL DE ENERGÍA EN UNA HORA QUE PUEDEN ENTREGAR TODOS LOS GD Y AGPE A LA RED, CONECTADOS AL  MISMO CIRCUITO O TRANSFORMADOR DEL NIVEL DE TENSIÓN 1, CUYO SISTEMA DE  PRODUCCIÓN DE ENERGÍA SEA EL COMPUESTO POR UN SISTEMA  FOTOVOLTAICO SIN CAPACIDAD DE  ALMACENAMIENTO\n(E12H) [kWh]"]
[null,null,null,null,null,null,{"$f":"VLOOKUP($B$1,BD!C3:R22720,15,FALSE)","v":4},null,{"$f":"VLOOKUP($B$1,BD!C3:R22720,16,FALSE)","v":0.66666666666666663}]
[]
[]
[]
[]
[]
[]
[]
[]
[]
[]
[]
[]
[]
[]
[]
[]
[]
[]
[]
[]
[null,null,null,null,null,null,{"$f":"NOW()","v":"2023-08-26T10:04:43.630"}]

{"sheet":"SOLICITUDES","index":2,"n_rows":56,"n_cols":11,"rows_kept":56,"cut":false,"hidden":true,"merged":[]}
["NUMERO DE\nSOLICITUD","ESTADO","CODIGO DE\n TRASFORMADOR","TIPO DE GENERACIÓN","TIPO DE TECNOLOGÍA\n UTILIZADA","CAPACIDAD NOMINAL"," POTENCIA\n MÁXIMA DECLARADA\n[MW]"," POTENCIA\n MÁXIMA DECLARADA\n[kW]"," POTENCIA\n MÁXIMA DECLARADA\n(REPORTE)","E24H","E12H"]
[1,"EN OPERACIÓN","T13617",null,"SOLAR",2.97,0,{"$f":"G2","v":0},{"$f":"IFERROR(_xlfn.IFS(B2=\"SOLICITUD APROBADA\",H2,B2=\"CONEXIÓN APROBADA\",H2,B2=\"EN OPERACIÓN\",H2,B2=\"EN SUBSANACIÓN\",H2),\" 0 \")","v":0},{"$f":"IF(E2<>\"SOLAR\",H2,0)","v":0},{"$f":"IF(E2=\"SOLAR\",I2,0)","v":0}]
[2,"EN OPERACIÓN","T9473",null,"SOLAR",2.97,0,{"$f":"G3","v":0},{"$f":"IFERROR(_xlfn.IFS(B3=\"SOLICITUD APROBADA\",H3,B3=\"CONEXIÓN APROBADA\",H3,B3=\"EN OPERACIÓN\",H3,B3=\"EN SUBSANACIÓN\",H3),\" 0 \")","v":0},{"$f":"IF(E3<>\"SOLAR\",H3,0)","v":0},{"$f":"IF(E3=\"SOLAR\",I3,0)","v":0}]
[3,"EN OPERACIÓN","T22340",null,"SOLAR",2.97,0,0,{"$f":"IFERROR(_xlfn.IFS(B4=\"SOLICITUD APROBADA\",H4,B4=\"CONEXIÓN APROBADA\",H4,B4=\"EN OPERACIÓN\",H4,B4=\"EN SUBSANACIÓN\",H4),\" 0 \")","v":0},0,0]
[4,"EN OPERACIÓN","T18201",null,"SOLAR",8.16,0,0,{"$f":"IFERROR(_xlfn.IFS(B5=\"SOLICITUD APROBADA\",H5,B5=\"CONEXIÓN APROBADA\",H5,B5=\"EN OPERACIÓN\",H5,B5=\"EN SUBSANACIÓN\",H5),\" 0 \")","v":0},0,0]
[5,"EN OPERACIÓN","T15378",null,"SOLAR",480,317.52,317.52,{"$f":"IFERROR(_xlfn.IFS(B6=\"SOLICITUD APROBADA\",H6,B6=\"CONEXIÓN APROBADA\",H6,B6=\"EN OPERACIÓN\",H6,B6=\"EN SUBSANACIÓN\",H6),\" 0 \")","v":317.52},0,317.52]
[6,"CONEXIÓN RECHAZADA","T26453",null,"SOLAR",25.85,25.85,25.85,{"$f":"IFERROR(_xlfn.IFS(B7=\"SOLICITUD APROBADA\",H7,B7=\"CONEXIÓN APROBADA\",H7,B7=\"EN OPERACIÓN\",H7,B7=\"EN SUBSANACIÓN\",H7),\" 0 \")","v":" 0 "},0," 0 "]
[7,"CONEXIÓN RECHAZADA","T26452",null,"SOLAR",25.85,25.85,25.85,{"$f":"IFERROR(_xlfn.IFS(B8=\"SOLICITUD APROBADA\",H8,B8=\"CONEXIÓN APROBADA\",H8,B8=\"EN OPERACIÓN\",H8,B8=\"EN SUBSANACIÓN\",H8),\" 0 \")","v":" 0 "},0," 0 "]
[8,"CONEXIÓN RECHAZADA","T8788",null,"SOLAR",43.2,43.2,43.2,{"$f":"IFERROR(_xlfn.IFS(B9=\"SOLICITUD APROBADA\",H9,B9=\"CONEXIÓN APROBADA\",H9,B9=\"EN OPERACIÓN\",H9,B9=\"EN SUBSANACIÓN\",H9),\" 0 \")","v":" 0 "},0," 0 "]
[9,"EN OPERACIÓN","T12205",null,"SOLAR",21.6,0,0,{"$f":"IFERROR(_xlfn.IFS(B10=\"SOLICITUD APROBADA\",H10,B10=\"CONEXIÓN APROBADA\",H10,B10=\"EN OPERACIÓN\",H10,B10=\"EN SUBSANACIÓN\",H10),\" 0 \")","v":0},0,0]
[10,"CONEXIÓN RECHAZADA","T2164",null,"SOLAR",6,0,0,{"$f":"IFERROR(_xlfn.IFS(B11=\"SOLICITUD APROBADA\",H11,B11=\"CONEXIÓN APROBADA\",H11,B11=\"EN OPERACIÓN\",H11,B11=\"EN SUBSANACIÓN\",H11),\" 0 \")","v":" 0 "},0," 0 "]
[11,"CONEXIÓN RECHAZADA","T8160",null,"SOLAR",600,0,0,{"$f":"IFERROR(_xlfn.IFS(B12=\"SOLICITUD APROBADA\",H12,B12=\"CONEXIÓN APROBADA\",H12,B12=\"EN OPERACIÓN\",H12,B12=\"EN SUBSANACIÓN\",H12),\" 0 \")","v":" 0 "},0," 0 "]
[12,"EN OPERACIÓN","T7582",null,"SOLAR",120,120,120,{"$f":"IFERROR(_xlfn.IFS(B13=\"SOLICITUD APROBADA\",H13,B13=\"CONEXIÓN APROBADA\",H13,B13=\"EN OPERACIÓN\",H13,B13=\"EN SUBSANACIÓN\",H13),\" 0 \")","v":120},0,120]
[13,"EN OPERACIÓN","T40268",null,"SOLAR",120,120,120,{"$f":"IFERROR(_xlfn.IFS(B14=\"SOLICITUD APROBADA\",H14,B14=\"CONEXIÓN APROBADA\",H14,B14=\"EN OPERACIÓN\",H14,B14=\"EN SUBSANACIÓN\",H14),\" 0 \")","v":120},0,120]
[14,"EN OPERACIÓN","T41518",null,"SOLAR",2880,0,0,{"$f":"IFERROR(_xlfn.IFS(B15=\"SOLICITUD APROBADA\",H15,B15=\"CONEXIÓN APROBADA\",H15,B15=\"EN OPERACIÓN\",H15,B15=\"EN SUBSANACIÓN\",H15),\" 0 \")","v":0},0,0]
[15,"EN OPERACIÓN","T7143",null,"SOLAR",6,6,6,{"$f":"IFERROR(_xlfn.IFS(B16=\"SOLICITUD APROBADA\",H16,B16=\"CONEXIÓN APROBADA\",H16,B16=\"EN OPERACIÓN\",H16,B16=\"EN SUBSANACIÓN\",H16),\" 0 \")","v":6},0,6]
[16,"CONEXIÓN APROBADA","T7421",null,"SOLAR",5,5,5,{"$f":"IFERROR(_xlfn.IFS(B17=\"SOLICITUD APROBADA\",H17,B17=\"CONEXIÓN APROBADA\",H17,B17=\"EN OPERACIÓN\",H17,B17=\"EN SUBSANACIÓN\",H17),\" 0 \")","v":5},0,5]
[17,"CONEXIÓN APROBADA","T12007",null,"SOLAR",15,15,15,{"$f":"IFERROR(_xlfn.IFS(B18=\"SOLICITUD APROBADA\",H18,B18=\"CONEXIÓN APROBADA\",H18,B18=\"EN OPERACIÓN\",H18,B18=\"EN SUBSANACIÓN\",H18),\" 0 \")","v":15},0,15]
[18,"EN OPERACIÓN","T10626",null,"SOLAR",30,30,30,{"$f":"IFERROR(_xlfn.IFS(B19=\"SOLICITUD APROBADA\",H19,B19=\"CONEXIÓN APROBADA\",H19,B19=\"EN OPERACIÓN\",H19,B19=\"EN SUBSANACIÓN\",H19),\" 0 \")","v":30},0,30]
[19,"EN OPERACIÓN","T8169",null,"SOLAR",10,10,10,{"$f":"IFERROR(_xlfn.IFS(B20=\"SOLICITUD APROBADA\",H20,B20=\"CONEXIÓN APROBADA\",H20,B20=\"EN OPERACIÓN\",H20,B20=\"EN SUBSANACIÓN\",H20),\" 0 \")","v":10},0,10]
[20,"CONEXIÓN APROBADA","T13623",null,"SOLAR",10,10,10,{"$f":"IFERROR(_xlfn.IFS(B21=\"SOLICITUD APROBADA\",H21,B21=\"CONEXIÓN APROBADA\",H21,B21=\"EN OPERACIÓN\",H21,B21=\"EN SUBSANACIÓN\",H21),\" 0 \")","v":10},0,10]
[21,"EN OPERACIÓN","T5152",null,"SOLAR",3.8,3.8,3.8,{"$f":"IFERROR(_xlfn.IFS(B22=\"SOLICITUD APROBADA\",H22,B22=\"CONEXIÓN APROBADA\",H22,B22=\"EN OPERACIÓN\",H22,B22=\"EN SUBSANACIÓN\",H22),\" 0 \")","v":3.8},0,3.8]
[22,"EN OPERACIÓN"," T12632",null,"SOLAR",3.8,3.8,3.8,{"$f":"IFERROR(_xlfn.IFS(B23=\"SOLICITUD APROBADA\",H23,B23=\"CONEXIÓN APROBADA\",H23,B23=\"EN OPERACIÓN\",H23,B23=\"EN SUBSANACIÓN\",H23),\" 0 \")","v":3.8},0,3.8]
[23,"EN OPERACIÓN","T10463",null,"SOLAR",10,10,10,{"$f":"IFERROR(_xlfn.IFS(B24=\"SOLICITUD APROBADA\",H24,B24=\"CONEXIÓN APROBADA\",H24,B24=\"EN OPERACIÓN\",H24,B24=\"EN SUBSANACIÓN\",H24),\" 0 \")","v":10},0,10]
[24,"EN OPERACIÓN"," T12300",null,"SOLAR",10,10,10,{"$f":"IFERROR(_xlfn.IFS(B25=\"SOLICITUD APROBADA\",H25,B25=\"CONEXIÓN APROBADA\",H25,B25=\"EN OPERACIÓN\",H25,B25=\"EN SUBSANACIÓN\",H25),\" 0 \")","v":10},0,10]
[25,"EN OPERACIÓN"," T8076",null,"SOLAR",3.8,3.8,3.8,{"$f":"IFERROR(_xlfn.IFS(B26=\"SOLICITUD APROBADA\",H26,B26=\"CONEXIÓN APROBADA\",H26,B26=\"EN OPERACIÓN\",H26,B26=\"EN SUBSANACIÓN\",H26),\" 0 \")","v":3.8},0,3.8]
[26,"CONEXIÓN APROBADA","T5608",null,"SOLAR",3.8,3.8,3.8,{"$f":"IFERROR(_xlfn.IFS(B27=\"SOLICITUD APROBADA\",H27,B27=\"CONEXIÓN APROBADA\",H27,B27=\"EN OPERACIÓN\",H27,B27=\"EN SUBSANACIÓN\",H27),\" 0 \")","v":3.8},0,3.8]
[27,"EN OPERACIÓN","T9924",null,"SOLAR",3.8,3.8,3.8,{"$f":"IFERROR(_xlfn.IFS(B28=\"SOLICITUD APROBADA\",H28,B28=\"CONEXIÓN APROBADA\",H28,B28=\"EN OPERACIÓN\",H28,B28=\"EN SUBSANACIÓN\",H28),\" 0 \")","v":3.8},0,3.8]
[28,"EN OPERACIÓN","T17168",null,"SOLAR",5,5,5,{"$f":"IFERROR(_xlfn.IFS(B29=\"SOLICITUD APROBADA\",H29,B29=\"CONEXIÓN APROBADA\",H29,B29=\"EN OPERACIÓN\",H29,B29=\"EN SUBSANACIÓN\",H29),\" 0 \")","v":5},0,5]
[29,"EN OPERACIÓN","T7753",null,"SOLAR",10,10,10,{"$f":"IFERROR(_xlfn.IFS(B30=\"SOLICITUD APROBADA\",H30,B30=\"CONEXIÓN APROBADA\",H30,B30=\"EN OPERACIÓN\",H30,B30=\"EN SUBSANACIÓN\",H30),\" 0 \")","v":10},0,10]
[30,"EN OPERACIÓN","T15378",null,"SOLAR",3.8,3.8,3.8,{"$f":"IFERROR(_xlfn.IFS(B31=\"SOLICITUD APROBADA\",H31,B31=\"CONEXIÓN APROBADA\",H31,B31=\"EN OPERACIÓN\",H31,B31=\"EN SUBSANACIÓN\",H31),\" 0 \")","v":3.8},0,3.8]
[31,"EN OPERACIÓN","T15377",null,"SOLAR",312,145,145,{"$f":"IFERROR(_xlfn.IFS(B32=\"SOLICITUD APROBADA\",H32,B32=\"CONEXIÓN APROBADA\",H32,B32=\"EN OPERACIÓN\",H32,B32=\"EN SUBSANACIÓN\",H32),\" 0 \")","v":145},0,145]
[32,"CONEXIÓN APROBADA","T1466",null,"SOLAR",3.2,1.2,1.2,{"$f":"IFERROR(_xlfn.IFS(B33=\"SOLICITUD APROBADA\",H33,B33=\"CONEXIÓN APROBADA\",H33,B33=\"EN OPERACIÓN\",H33,B33=\"EN SUBSANACIÓN\",H33),\" 0 \")","v":1.2},0,1.2]
[33,"CONEXIÓN APROBADA","T31007",null,"SOLAR",20,15,15,{"$f":"IFERROR(_xlfn.IFS(B34=\"SOLICITUD APROBADA\",H34,B34=\"CONEXIÓN APROBADA\",H34,B34=\"EN OPERACIÓN\",H34,B34=\"EN SUBSANACIÓN\",H34),\" 0 \")","v":15},0,15]
[34,"EN OPERACIÓN",2090406,null,"Otro",3750,3000,3000,{"$f":"IFERROR(_xlfn.IFS(B35=\"SOLICITUD APROBADA\",H35,B35=\"CONEXIÓN APROBADA\",H35,B35=\"EN OPERACIÓN\",H35,B35=\"EN SUBSANACIÓN\",H35),\" 0 \")","v":3000},3000,0]
[35,"EN OPERACIÓN",57170813,null,"SOLAR",950,875,875,{"$f":"IFERROR(_xlfn.IFS(B36=\"SOLICITUD APROBADA\",H36,B36=\"CONEXIÓN APROBADA\",H36,B36=\"EN OPERACIÓN\",H36,B36=\"EN SUBSANACIÓN\",H36),\" 0 \")","v":875},0,875]
[36,"EN OPERACIÓN",93206894,null,"SOLAR",1980,1670,1670,{"$f":"IFERROR(_xlfn.IFS(B37=\"SOLICITUD APROBADA\",H37,B37=\"CONEXIÓN APROBADA\",H37,B37=\"EN OPERACIÓN\",H37,B37=\"EN SUBSANACIÓN\",H37),\" 0 \")","v":1670},0,1670]
[37,"EN OPERACIÓN",2075652,null,"SOLAR",1570,1400,1400,{"$f":"IFERROR(_xlfn.IFS(B38=\"SOLICITUD APROBADA\",H38,B38=\"CONEXIÓN APROBADA\",H38,B38=\"EN OPERACIÓN\",H38,B38=\"EN SUBSANACIÓN\",H38),\" 0 \")","v":1400},0,1400]
[38,"EN OPERACIÓN","T1822",null,"SOLAR",4.5,4.5,4.5,{"$f":"IFERROR(_xlfn.IFS(B39=\"SOLICITUD APROBADA\",H39,B39=\"CONEXIÓN APROBADA\",H39,B39=\"EN OPERACIÓN\",H39,B39=\"EN SUBSANACIÓN\",H39),\" 0 \")","v":4.5},0,4.5]
[39,"EN SUBSANACIÓN","T28305",null,"SOLAR",4,4,4,{"$f":"IFERROR(_xlfn.IFS(B40=\"SOLICITUD APROBADA\",H40,B40=\"CONEXIÓN APROBADA\",H40,B40=\"EN OPERACIÓN\",H40,B40=\"EN SUBSANACIÓN\",H40),\" 0 \")","v":4},0,4]
[40,"CONEXIÓN APROBADA","T1738",null,"SOLAR",3,2,2,{"$f":"IFERROR(_xlfn.IFS(B41=\"SOLICITUD APROBADA\",H41,B41=\"CONEXIÓN APROBADA\",H41,B41=\"EN OPERACIÓN\",H41,B41=\"EN SUBSANACIÓN\",H41),\" 0 \")","v":2},0,2]
[41,"CONEXIÓN APROBADA",8981298,null,"SOLAR",60,60,60,{"$f":"IFERROR(_xlfn.IFS(B42=\"SOLICITUD APROBADA\",H42,B42=\"CONEXIÓN APROBADA\",H42,B42=\"EN OPERACIÓN\",H42,B42=\"EN SUBSANACIÓN\",H42),\" 0 \")","v":60},0,60]
[42,"CONEXIÓN APROBADA","T2275",null,"SOLAR",1.5,0.9,0.9,{"$f":"IFERROR(_xlfn.IFS(B43=\"SOLICITUD APROBADA\",H43,B43=\"CONEXIÓN APROBADA\",H43,B43=\"EN OPERACIÓN\",H43,B43=\"EN SUBSANACIÓN\",H43),\" 0 \")","v":0.9},0,0.9]
[43,"EN OPERACIÓN","T2833",null,"SOLAR",11.4,10.35,10.35,{"$f":"IFERROR(_xlfn.IFS(B44=\"SOLICITUD APROBADA\",H44,B44=\"CONEXIÓN APROBADA\",H44,B44=\"EN OPERACIÓN\",H44,B44=\"EN SUBSANACIÓN\",H44),\" 0 \")","v":10.35},0,10.35]
[44,"EN OPERACIÓN","T1826",null,"SOLAR",3.3,3.3,3.3,{"$f":"IFERROR(_xlfn.IFS(B45=\"SOLICITUD APROBADA\",H45,B45=\"CONEXIÓN APROBADA\",H45,B45=\"EN OPERACIÓN\",H45,B45=\"EN SUBSANACIÓN\",H45),\" 0 \")","v":3.3},0,3.3]
[45,"EN SUBSANACIÓN",898156703,null,"SOLAR",125,100,100,{"$f":"IFERROR(_xlfn.IFS(B46=\"SOLICITUD APROBADA\",H46,B46=\"CONEXIÓN APROBADA\",H46,B46=\"EN OPERACIÓN\",H46,B46=\"EN SUBSANACIÓN\",H46),\" 0 \")","v":100},0,100]
[46,"CONEXIÓN APROBADA"," T2849",null,"SOLAR",13.5,0,0,{"$f":"IFERROR(_xlfn.IFS(B47=\"SOLICITUD APROBADA\",H47,B47=\"CONEXIÓN APROBADA\",H47,B47=\"EN OPERACIÓN\",H47,B47=\"EN SUBSANACIÓN\",H47),\" 0 \")","v":0},0,0]
[47,"CONEXIÓN APROBADA"," T2849",null,"SOLAR",10.7,0,0,{"$f":"IFERROR(_xlfn.IFS(B48=\"SOLICITUD APROBADA\",H48,B48=\"CONEXIÓN APROBADA\",H48,B48=\"EN OPERACIÓN\",H48,B48=\"EN SUBSANACIÓN\",H48),\" 0 \")","v":0},0,0]
[48,"CONEXIÓN APROBADA","T2808",null,"SOLAR",10.7,0,0,{"$f":"IFERROR(_xlfn.IFS(B49=\"SOLICITUD APROBADA\",H49,B49=\"CONEXIÓN APROBADA\",H49,B49=\"EN OPERACIÓN\",H49,B49=\"EN SUBSANACIÓN\",H49),\" 0 \")","v":0},0,0]
[49,"CONEXIÓN APROBADA","T7068",null,"SOLAR",20,8,8,{"$f":"IFERROR(_xlfn.IFS(B50=\"SOLICITUD APROBADA\",H50,B50=\"CONEXIÓN APROBADA\",H50,B50=\"EN OPERACIÓN\",H50,B50=\"EN SUBSANACIÓN\",H50),\" 0 \")","v":8},0,8]
[50,"CONEXIÓN APROBADA","T12441",null,"SOLAR",5,5,5,{"$f":"IFERROR(_xlfn.IFS(B51=\"SOLICITUD APROBADA\",H51,B51=\"CONEXIÓN APROBADA\",H51,B51=\"EN OPERACIÓN\",H51,B51=\"EN SUBSANACIÓN\",H51),\" 0 \")","v":5},0,5]
[51,"CONEXIÓN APROBADA","T7649",null,"SOLAR",5,5,5,{"$f":"IFERROR(_xlfn.IFS(B52=\"SOLICITUD APROBADA\",H52,B52=\"CONEXIÓN APROBADA\",H52,B52=\"EN OPERACIÓN\",H52,B52=\"EN SUBSANACIÓN\",H52),\" 0 \")","v":5},0,5]
[52,"CONEXIÓN APROBADA","T16354",null,"SOLAR",5,5,5,{"$f":"IFERROR(_xlfn.IFS(B53=\"SOLICITUD APROBADA\",H53,B53=\"CONEXIÓN APROBADA\",H53,B53=\"EN OPERACIÓN\",H53,B53=\"EN SUBSANACIÓN\",H53),\" 0 \")","v":5},0,5]
[53,"CONEXIÓN APROBADA","T12845",null,"SOLAR",5,5,5,{"$f":"IFERROR(_xlfn.IFS(B54=\"SOLICITUD APROBADA\",H54,B54=\"CONEXIÓN APROBADA\",H54,B54=\"EN OPERACIÓN\",H54,B54=\"EN SUBSANACIÓN\",H54),\" 0 \")","v":5},0,5]
[54,"CONEXIÓN APROBADA","T11758",null,"SOLAR",5,5,5,{"$f":"IFERROR(_xlfn.IFS(B55=\"SOLICITUD APROBADA\",H55,B55=\"CONEXIÓN APROBADA\",H55,B55=\"EN OPERACIÓN\",H55,B55=\"EN SUBSANACIÓN\",H55),\" 0 \")","v":5},0,5]
[55,"CONEXIÓN APROBADA","T8756",null,"SOLAR",30,30,30,{"$f":"IFERROR(_xlfn.IFS(B56=\"SOLICITUD APROBADA\",H56,B56=\"CONEXIÓN APROBADA\",H56,B56=\"EN OPERACIÓN\",H56,B56=\"EN SUBSANACIÓN\",H56),\" 0 \")","v":30},0,30]

{"sheet":"LISTAS","index":3,"n_rows":9,"n_cols":4,"rows_kept":9,"cut":false,"hidden":true,"merged":[]}
["ESTADOS","TIPO DE TECNOLOGÍA UTILIZADA",null,"biomasa, los pequeños aprovechamientos"]
["SOLICITUD APROBADA","BIOMASA",null,"hidroeléctricos, la eólica, la geotérmica, la solar, los mares, hidrógeno verde y"]
["CONEXIÓN APROBADA","PCH",null,"azul,"]
["CONEXIÓN RECHAZADA","EOLICA"]
["SOLICITANTE DESISTE","GEOTERMICA"]
["EN OPERACIÓN","SOLAR"]
["EN CONSTRUCCIÓN","MARES "]
["EN SUBSANACIÓN","HIDROGENO VERDE"]
[null,"HIDROGENO AZUL"]